{"text_format":"1","workbook":"xlsx","n_sheets":35,"sheets":["EF","BD","Validacion","Balanza","F3","F9-IDP","F9-EDP","F9-IAO","F10","F11","F13","F18A","F19A","F21","F22","F23","F1","F1A","F1LDF","F6","F6A","F2","F4A1","F4A2","F5","F7","F7A","F7B","F8","F8B","F12","F16","F17","F18","F19"],"not_rendered":{"charts":0,"images":0,"macros":1,"external_links":1,"defined_names":19,"comments":0,"pivot_tables":0},"unopened":[],"bounds":{"document_bytes":16777216,"sheet_cells":100000,"rows_first":2000,"rows_last":500,"rows_between":2000,"halvings":0,"cell_chars":16384,"cell_head_chars":4096},"cells_cut":0,"cells_raw":0,"read":"whole","date_system":"1900"}

{"sheet":"EF","index":0,"n_rows":112,"n_cols":9,"rows_kept":112,"cut":false,"hidden":true,"merged":[]}
["Fin","Función","Sub-función","Dimención del indicador","Tipo","Tipo de programa","Frecuencia","Tipo de indicador","Nivel de MIR"]
["1. Gobierno","1.1. Legislación","1.1.1 Legislación","Eficacia","Estatégico","MIR","Mensual","Cantidad","FIN"]
["1. Gobierno","1.1. Legislación","1.1.2 Fiscalización","Eficiencia","Gestión","Indicador de gestión","Bimestral","Porcentaje","PROPÓSITO"]
["1. Gobierno","1.2. Justicia","1.2.1 Impartición de justicia","Econocmía",null,null,"Trimestral","Tasa","COMPONENTE"]
["1. Gobierno","1.2. Justicia","1.2.2 Procuración de justicia","Calidad",null,null,"Cuatrimestral","Razón","ACTIVIDAD"]
["1. Gobierno","1.2. Justicia","1.2.3 Reclusión y readaptación social",null,null,null,"Semestral","Promedio","INDICADOR DE GESTIÓN"]
["1. Gobierno","1.2. Justicia","1.2.4 Derechos humanos",null,null,null,"Anual","Tasa de variación"]
["1. Gobierno","1.3. Coordinación política de gobierno","1.3.1 Presidencia / Gubernatura",null,null,null,"Bienal"]
["1. Gobierno","1.3. Coordinación política de gobierno","1.3.2 Política interior"]
["1. Gobierno","1.3. Coordinación política de gobierno","1.3.3 Preservación y cuidado del patrimonio público"]
["1. Gobierno","1.3. Coordinación política de gobierno","1.3.4 Función pública"]
["1. Gobierno","1.3. Coordinación política de gobierno","1.3.5 Asuntos jurídicos"]
["1. Gobierno","1.3. Coordinación política de gobierno","1.3.6 Organización de procesos electorales"]
["1. Gobierno","1.3. Coordinación política de gobierno","1.3.7 Población"]
["1. Gobierno","1.3. Coordinación política de gobierno","1.3.8 Territorio"]
["1. Gobierno","1.3. Coordinación política de gobierno","1.3.9 Otros"]
["1. Gobierno","1.4. Relaciones exteriores","1.4.1 Relaciones exteriores"]
["1. Gobierno","1.5. Asuntos financieros y hacendarios","1.5.1 Asuntos financieros"]
["1. Gobierno","1.5. Asuntos financieros y hacendarios","1.5.2 Asuntos hacendarios"]
["1. Gobierno","1.6 Seguridad nacional","1.6.1 Defensa"]
["1. Gobierno","1.6 Seguridad nacional","1.6.2 Marina"]
["1. Gobierno","1.6 Seguridad nacional","1.6.3 Inteligencia para la preservación de la seguridad nacional"]
["1. Gobierno","1.7. Asuntos de orden público y seguridad interior","1.7.1 Policía"]
["1. Gobierno","1.7. Asuntos de orden público y seguridad interior","1.7.2 Protección civil"]
["1. Gobierno","1.7. Asuntos de orden público y seguridad interior","1.7.3 Otros asuntos de orden público y seguridad"]
["1. Gobierno","1.7. Asuntos de orden público y seguridad interior","1.7.4 Sistema nacional de seguridad pública"]
["1. Gobierno","1.8. Otros servicios generales","1.8.1 Servicios registrales, administrativos y patrimoniales"]
["1. Gobierno","1.8. Otros servicios generales","1.8.2 Servicios estadísticos"]
["1. Gobierno","1.8. Otros servicios generales","1.8.3 Servicios de comunicación y medios"]
["1. Gobierno","1.8. Otros servicios generales","1.8.4 Acceso a la información pública gubernamental"]
["1. Gobierno","1.8. Otros servicios generales","1.8.5 Otros"]
["2. Desarrollo social","2.1. Protección ambiental","2.1.1 Ordenación de desechos"]
["2. Desarrollo social","2.1. Protección ambiental","2.1.2 Administración del agua"]
["2. Desarrollo social","2.1. Protección ambiental","2.1.3 Ordenación de aguas residuales, drenaje y alcantarillado"]
["2. Desarrollo social","2.1. Protección ambiental","2.1.4 Reducción de la contaminación"]
["2. Desarrollo social","2.1. Protección ambiental","2.1.5 Protección de la diversidad biológica y del paisaje"]
["2. Desarrollo social","2.1. Protección ambiental","2.1.6 Otros de protección ambiental"]
["2. Desarrollo social","2.2. Vivienda y servicios a la comunidad","2.2.1 Urbanización"]
["2. Desarrollo social","2.2. Vivienda y servicios a la comunidad","2.2.2 Desarrollo comunitario"]
["2. Desarrollo social","2.2. Vivienda y servicios a la comunidad","2.2.3 Abastecimiento de agua"]
["2. Desarrollo social","2.2. Vivienda y servicios a la comunidad","2.2.4 Alumbrado público"]
["2. Desarrollo social","2.2. Vivienda y servicios a la comunidad","2.2.5 Vivienda"]
["2. Desarrollo social","2.2. Vivienda y servicios a la comunidad","2.2.6 Servicios comunales"]
["2. Desarrollo social","2.2. Vivienda y servicios a la comunidad","2.2.7 Desarrollo regional"]
["2. Desarrollo social","2.3. Salud","2.3.1 Prestación de servicios de aalud a la comunidad"]
["2. Desarrollo social","2.3. Salud","2.3.2 Prestación de servicios de salud a la persona"]
["2. Desarrollo social","2.3. Salud","2.3.3 Generación de recursos para la salud"]
["2. Desarrollo social","2.3. Salud","2.3.4 Rectoría del sistema de salud"]
["2. Desarrollo social","2.3. Salud","2.3.5 Protección social en salud"]
["2. Desarrollo social","2.4. Recreación cultura y otras manifestaciones sociales","2.4.1 Deporte y recreación"]
["2. Desarrollo social","2.4. Recreación cultura y otras manifestaciones sociales","2.4.2 Cultura"]
["2. Desarrollo social","2.4. Recreación cultura y otras manifestaciones sociales","2.4.3 Radio, televisión y editoriales"]
["2. Desarrollo social","2.4. Recreación cultura y otras manifestaciones sociales","2.4.4 Asuntos religiosos y otras manifestaciones sociales"]
["2. Desarrollo social","2.5. Educación","2.5.1 Educación básica"]
["2. Desarrollo social","2.5. Educación","2.5.2 Educación media superior"]
["2. Desarrollo social","2.5. Educación","2.5.3 Educación superior"]
["2. Desarrollo social","2.5. Educación","2.5.4 Posgrado"]
["2. Desarrollo social","2.5. Educación","2.5.5 Educación para adultos"]
["2. Desarrollo social","2.5. Educación","2.5.6 Otros servicios educativos y actividades inherentes"]
["2. Desarrollo social","2.6. Protección social","2.6.1 Enfermedad e incapacidad"]
["2. Desarrollo social","2.6. Protección social","2.6.2 Edad avanzada"]
["2. Desarrollo social","2.6. Protección social","2.6.3 Familia e hijos"]
["2. Desarrollo social","2.6. Protección social","2.6.4 Desempleo"]
["2. Desarrollo social","2.6. Protección social","2.6.5 Alimentación y nutrición"]
["2. Desarrollo social","2.6. Protección social","2.6.6 Apoyo social para la vivienda"]
["2. Desarrollo social","2.6. Protección social","2.6.7 Indígenas"]
["2. Desarrollo social","2.6. Protección social","2.6.8 Otros grupos vulnerables"]
["2. Desarrollo social","2.6. Protección social","2.6.9 Otros de seguridad social y asistencia social"]
["2. Desarrollo social","2.7. Otros asuntos sociales","2.7.1 Otros asuntos sociales"]
["3. Desarrollo económico","3.1. Asuntos económicos comerciales y laborales generales","3.1.1 Asuntos económicos y comerciales en general"]
["3. Desarrollo económico","3.1. Asuntos económicos comerciales y laborales generales","3.1.2 Asuntos laborales generales"]
["3. Desarrollo económico","3.2. Agropecuaria silvicultura pesca y caza","3.2.1 Agropecuaria"]
["3. Desarrollo económico","3.2. Agropecuaria silvicultura pesca y caza","3.2.2 Silvicultura"]
["3. Desarrollo económico","3.2. Agropecuaria silvicultura pesca y caza","3.2.3 Acuacultura, pesca y caza"]
["3. Desarrollo económico","3.2. Agropecuaria silvicultura pesca y caza","3.2.4 Agroindustrial"]
["3. Desarrollo económico","3.2. Agropecuaria silvicultura pesca y caza","3.2.5 Hidroagrícola"]
["3. Desarrollo económico","3.2. Agropecuaria silvicultura pesca y caza","3.2.6 Apoyo financiero a la banca y seguro agropecuario"]
["3. Desarrollo económico","3.3. Combustibles y energía","3.3.1 Carbón y otros combustibles minerales sólidos"]
["3. Desarrollo económico","3.3. Combustibles y energía","3.3.2 Petróleo y gas natural (Hidrocarburos)"]
["3. Desarrollo económico","3.3. Combustibles y energía","3.3.3 Combustibles nucleares"]
["3. Desarrollo económico","3.3. Combustibles y energía","3.3.4 Otros combustibles"]
["3. Desarrollo económico","3.3. Combustibles y energía","3.3.5 Electricidad"]
["3. Desarrollo económico","3.3. Combustibles y energía","3.3.6 Energía no eléctrica"]
["3. Desarrollo económico","3.4. Minería manufacturas y construcción","3.4.1 Extracción de recursos minerales excepto los combustibles minerales"]
["3. Desarrollo económico","3.4. Minería manufacturas y construcción","3.4.2 Manufacturas"]
["3. Desarrollo económico","3.4. Minería manufacturas y construcción","3.4.3 Construcción"]
["3. Desarrollo económico","3.5. Transporte","3.5.1 Transporte por carretera"]
["3. Desarrollo económico","3.5. Transporte","3.5.2 Transporte por agua y puertos"]
["3. Desarrollo económico","3.5. Transporte","3.5.3 Transporte por ferrocarril"]
["3. Desarrollo económico","3.5. Transporte","3.5.4 Transporte aéreo"]
["3. Desarrollo económico","3.5. Transporte","3.5.5 Transporte por oleoductos y gasoductos y otros sistemas de transporte"]
["3. Desarrollo económico","3.5. Transporte","3.5.6 Otros relacionados con transporte"]
["3. Desarrollo económico","3.6. Comunicaciones","3.6.1 Comunicaciones"]
["3. Desarrollo económico","3.7. Turismo","3.7.1 Turismo"]
["3. Desarrollo económico","3.7. Turismo","3.7.2 Hoteles y restaurantes"]
["3. Desarrollo económico","3.8. Ciencia tecnología e innovación","3.8.1 Investigación científica"]
["3. Desarrollo económico","3.8. Ciencia tecnología e innovación","3.8.2 Desarrollo tecnológico"]
["3. Desarrollo económico","3.8. Ciencia tecnología e innovación","3.8.3 Servicios científicos y tecnológicos"]
["3. Desarrollo económico","3.8. Ciencia tecnología e innovación","3.8.4 Innovación"]
["3. Desarrollo económico","3.9. Otras industrias y otros asuntos económicos","3.9.1 Comercio, distribución, almacenamiento y depósito"]
["3. Desarrollo económico","3.9. Otras industrias y otros asuntos económicos","3.9.2 Otras industrias"]
["3. Desarrollo económico","3.9. Otras industrias y otros asuntos económicos","3.9.3 Otros asuntos económicos"]
["4. Otros no clasificadas en funciones anteriores","4.1. Transacciones de la deuda financiera y costo financiero deuda","4.1.1 Deuda pública interna"]
["4. Otros no clasificadas en funciones anteriores","4.1. Transacciones de la deuda financiera y costo financiero deuda","4.1.2 Deuda pública externa"]
["4. Otros no clasificadas en funciones anteriores","4.2. Transferencias, participaciones y aportaciones entre diferentes niveles y ordenes de gobierno","4.2.1 Transferencias entre diferentes niveles y ordenes de gobierno"]
["4. Otros no clasificadas en funciones anteriores","4.2. Transferencias, participaciones y aportaciones entre diferentes niveles y ordenes de gobierno","4.2.2 Participaciones entre diferentes niveles y ordenes de gobierno"]
["4. Otros no clasificadas en funciones anteriores","4.2. Transferencias, participaciones y aportaciones entre diferentes niveles y ordenes de gobierno","4.2.3 Aportaciones entre diferentes niveles y ordenes de gobierno"]
["4. Otros no clasificadas en funciones anteriores","4.3. Saneamiento del sistema financiero","4.3.1 Saneamiento del sistema financiero"]
["4. Otros no clasificadas en funciones anteriores","4.3. Saneamiento del sistema financiero","4.3.2 Apoyos IPAB"]
["4. Otros no clasificadas en funciones anteriores","4.3. Saneamiento del sistema financiero","4.3.3 Banca de desarrollo"]
["4. Otros no clasificadas en funciones anteriores","4.3. Saneamiento del sistema financiero","4.3.4 Apoyo a los programas de reestructura en unidades de inversión (UDIS)"]
["4. Otros no clasificadas en funciones anteriores","4.4. Adeudos de ejercicios fiscales anteriores","4.4.1 Adeudos de ejercicios fiscales anteriores"]

{"sheet":"BD","index":1,"n_rows":2073,"n_cols":41,"rows_kept":2073,"cut":false,"hidden":true,"merged":[]}
[null,null,null,null,null,null,"F1-F1LDF"]
[{"$f":"MID(G2,1,1)","v":"1"},{"$f":"MID(G2,2,1)","v":"0"},{"$f":"MID(G2,3,1)","v":"0"},{"$f":"MID(G2,4,1)","v":"0"},{"$f":"MID(G2,5,1)","v":"0"},null,10000,{"$f":"'F1'!AF106","v":417965686.44}]
["1","1","0","0","0",{"$f":"MID(G3,7,1)","v":""},11000,{"$f":"'F1'!AF46","v":9813839.1699999999}]
["1","1","1","0","0","",11100,{"$f":"'F1'!AF8","v":7450262.5300000003}]
["1","1","1","1","0","",11110,{"$f":"'F1'!AF9","v":127717.12}]
["1","1","1","2","0","",11120,{"$f":"'F1'!AF10","v":6197553.6100000003}]
["1","1","1","3","0","",11130,{"$f":"'F1'!AF11","v":0}]
["1","1","1","4","0","",11140,{"$f":"'F1'!AF12","v":0}]
["1","1","1","5","0","",11150,{"$f":"'F1'!AF13","v":0}]
["1","1","1","6","0","",11160,{"$f":"'F1'!AF14","v":0}]
["1","1","1","9","0","",11190,{"$f":"'F1'!AF15","v":1124991.8}]
["1","1","2","0","0","",11200,{"$f":"'F1'!AF16","v":2363576.64}]
["1","1","2","1","0","",11210,{"$f":"'F1'!AF17","v":2200000}]
["1","1","2","2","0","",11220,{"$f":"'F1'!AF18","v":153076.64000000001}]
["1","1","2","3","0","",11230,{"$f":"'F1'!AF19","v":0}]
["1","1","2","4","0","",11240,{"$f":"'F1'!AF20","v":7500}]
["1","1","2","5","0","",11250,{"$f":"'F1'!AF21","v":0}]
["1","1","2","6","0","",11260,{"$f":"'F1'!AF22","v":3000}]
["1","1","2","9","0","",11290,{"$f":"'F1'!AF23","v":0}]
["1","1","3","0","0","",11300,{"$f":"'F1'!AF24","v":0}]
["1","1","3","1","0","",11310,{"$f":"'F1'!AF25","v":0}]
["1","1","3","2","0","",11320,{"$f":"'F1'!AF26","v":0}]
["1","1","3","3","0","",11330,{"$f":"'F1'!AF27","v":0}]
["1","1","3","4","0","",11340,{"$f":"'F1'!AF28","v":0}]
["1","1","3","9","0","",11390,{"$f":"'F1'!AF29","v":0}]
["1","1","4","0","0","",11400,{"$f":"'F1'!AF30","v":0}]
["1","1","4","1","0","",11410,{"$f":"'F1'!AF31","v":0}]
["1","1","4","2","0","",11420,{"$f":"'F1'!AF32","v":0}]
["1","1","4","3","0","",11430,{"$f":"'F1'!AF33","v":0}]
["1","1","4","4","0","",11440,{"$f":"'F1'!AF34","v":0}]
["1","1","4","5","0","",11450,{"$f":"'F1'!AF35","v":0}]
["1","1","5","0","0","",11500,{"$f":"'F1'!AF36","v":0}]
["1","1","5","1","0","",11510,{"$f":"'F1'!AF37","v":0}]
[{"$f":"MID(G34,1,1)","v":"1"},{"$f":"MID(G34,2,1)","v":"1"},{"$f":"MID(G34,3,1)","v":"6"},{"$f":"MID(G34,4,1)","v":"0"},{"$f":"MID(G34,5,1)","v":"0"},"",11600,{"$f":"'F1'!AF38","v":0}]
["1","1","6","1","0","",11610,{"$f":"'F1'!AF39","v":0}]
["1","1","6","2","0","",11620,{"$f":"'F1'!AF40","v":0}]
["1","1","9","0","0","",11900,{"$f":"'F1'!AF41","v":0}]
["1","1","9","1","0","",11910,{"$f":"'F1'!AF42","v":0}]
["1","1","9","2","0","",11920,{"$f":"'F1'!AF43","v":0}]
["1","1","9","3","0","",11930,{"$f":"'F1'!AF44","v":0}]
["1","1","9","4","0","",11940,{"$f":"'F1'!AF45","v":0}]
["1","2","0","0","0","",12000,{"$f":"'F1'!AF105","v":408151847.26999998}]
["1","2","1","0","0","",12100,{"$f":"'F1'!AF48","v":5000}]
["1","2","1","1","0","",12110,{"$f":"'F1'!AF49","v":0}]
["1","2","1","2","0","",12120,{"$f":"'F1'!AF50","v":0}]
["1","2","1","3","0","",12130,{"$f":"'F1'!AF51","v":5000}]
["1","2","1","4","0","",12140,{"$f":"'F1'!AF52","v":0}]
["1","2","2","0","0","",12200,{"$f":"'F1'!AF53","v":0}]
["1","2","2","1","0","",12210,{"$f":"'F1'!AF54","v":0}]
["1","2","2","2","0","",12220,{"$f":"'F1'!AF55","v":0}]
["1","2","2","3","0","",12230,{"$f":"'F1'!AF56","v":0}]
["1","2","2","4","0","",12240,{"$f":"'F1'!AF57","v":0}]
["1","2","2","9","0","",12290,{"$f":"'F1'!AF58","v":0}]
["1","2","3","0","0","",12300,{"$f":"'F1'!AF59","v":405125396.81999999}]
["1","2","3","1","0","",12310,{"$f":"'F1'!AF60","v":20637321.66}]
["1","2","3","2","0","",12320,{"$f":"'F1'!AF61","v":0}]
["1","2","3","3","0","",12330,{"$f":"'F1'!AF62","v":374983667.39999998}]
["1","2","3","4","0","",12340,{"$f":"'F1'!AF63","v":0}]
["1","2","3","5","0","",12350,{"$f":"'F1'!AF64","v":9504407.7599999998}]
["1","2","3","6","0","",12360,{"$f":"'F1'!AF65","v":0}]
["1","2","3","9","0","",12390,{"$f":"'F1'!AF66","v":0}]
["1","2","4","0","0","",12400,{"$f":"'F1'!AF67","v":10856576.17}]
["1","2","4","1","0","",12410,{"$f":"'F1'!AF68","v":1448312.61}]
["1","2","4","2","0","",12420,{"$f":"'F1'!AF69","v":120647.76}]
["1","2","4","3","0","",12430,{"$f":"'F1'!AF70","v":166020}]
[{"$f":"MID(G66,1,1)","v":"1"},{"$f":"MID(G66,2,1)","v":"2"},{"$f":"MID(G66,3,1)","v":"4"},{"$f":"MID(G66,4,1)","v":"4"},{"$f":"MID(G66,5,1)","v":"0"},"",12440,{"$f":"'F1'!AF71","v":2705860}]
["1","2","4","5","0",{"$f":"MID(G67,7,1)","v":""},12450,{"$f":"'F1'!AF72","v":173090.5}]
["1","2","4","6","0","",12460,{"$f":"'F1'!AF73","v":6242645.2999999998}]
["1","2","4","7","0","",12470,{"$f":"'F1'!AF74","v":0}]
["1","2","4","8","0","",12480,{"$f":"'F1'!AF75","v":0}]
["1","2","5","0","0","",12500,{"$f":"'F1'!AF76","v":235805.26}]
["1","2","5","1","0","",12510,{"$f":"'F1'!AF77","v":178485.26}]
["1","2","5","2","0","",12520,{"$f":"'F1'!AF78","v":0}]
["1","2","5","3","0","",12530,{"$f":"'F1'!AF79","v":0}]
["1","2","5","4","0","",12540,{"$f":"'F1'!AF80","v":0}]
["1","2","5","9","0","",12590,{"$f":"'F1'!AF81","v":57320}]
["1","2","6","0","0","",12600,{"$f":"'F1'!AF82","v":-8070930.9799999995}]
["1","2","6","1","0","",12610,{"$f":"'F1'!AF83","v":-6166845.7599999998}]
["1","2","6","2","0","",12620,{"$f":"'F1'!AF84","v":-1904085.22}]
["1","2","6","3","0","",12630,{"$f":"'F1'!AF85","v":0}]
["1","2","6","4","0","",12640,{"$f":"'F1'!AF86","v":0}]
["1","2","6","5","0","",12650,{"$f":"'F1'!AF87","v":0}]
["1","2","7","0","0","",12700,{"$f":"'F1'!AF88","v":0}]
["1","2","7","1","0","",12710,{"$f":"'F1'!AF89","v":0}]
["1","2","7","2","0","",12720,{"$f":"'F1'!AF90","v":0}]
["1","2","7","3","0","",12730,{"$f":"'F1'!AF91","v":0}]
["1","2","7","4","0","",12740,{"$f":"'F1'!AF92","v":0}]
["1","2","7","5","0","",12750,{"$f":"'F1'!AF93","v":0}]
["1","2","7","9","0","",12790,{"$f":"'F1'!AF94","v":0}]
["1","2","8","0","0","",12800,{"$f":"'F1'!AF95","v":0}]
["1","2","8","1","0","",12810,{"$f":"'F1'!AF96","v":0}]
["1","2","8","2","0","",12820,{"$f":"'F1'!AF97","v":0}]
["1","2","8","3","0","",12830,{"$f":"'F1'!AF98","v":0}]
["1","2","8","4","0","",12840,{"$f":"'F1'!AF99","v":0}]
["1","2","8","9","0","",12890,{"$f":"'F1'!AF100","v":0}]
["1","2","9","0","0","",12900,{"$f":"'F1'!AF101","v":0}]
["1","2","9","1","0","",12910,{"$f":"'F1'!AF102","v":0}]
["1","2","9","2","0","",12920,{"$f":"'F1'!AF103","v":0}]
["1","2","9","3","0","",12930,{"$f":"'F1'!AF104","v":0}]
[{"$f":"MID(G100,1,1)","v":"2"},{"$f":"MID(G100,2,1)","v":"0"},{"$f":"MID(G100,3,1)","v":"0"},{"$f":"MID(G100,4,1)","v":"0"},"0","",20000,{"$f":"'F1'!BM80","v":8882980.5800000001}]
["2","1","0","0","0","",21000,{"$f":"'F1'!BM48","v":3795420.8}]
["2","1","1","0","0","",21100,{"$f":"'F1'!BM8","v":3795420.8}]
["2","1","1","1","0","",21110,{"$f":"'F1'!BM9","v":0}]
["2","1","1","2","0","",21120,{"$f":"'F1'!BM10","v":1552865.16}]
["2","1","1","3","0","",21130,{"$f":"'F1'!BM11","v":0}]
["2","1","1","4","0","",21140,{"$f":"'F1'!BM12","v":0}]
["2","1","1","5","0","",21150,{"$f":"'F1'!BM13","v":0}]
["2","1","1","6","0","",21160,{"$f":"'F1'!BM14","v":0}]
["2","1","1","7","0","",21170,{"$f":"'F1'!BM15","v":2242555.64}]
["2","1","1","8","0","",21180,{"$f":"'F1'!BM16","v":0}]
["2","1","1","9","0","",21190,{"$f":"'F1'!BM17","v":0}]
["2","1","2","0","0","",21200,{"$f":"'F1'!BM18","v":0}]
["2","1","2","1","0","",21210,{"$f":"'F1'!BM19","v":0}]
["2","1","2","2","0","",21220,{"$f":"'F1'!BM20","v":0}]
["2","1","2","9","0","",21290,{"$f":"'F1'!BM21","v":0}]
["2","1","3","0","0","",21300,{"$f":"'F1'!BM22","v":0}]
["2","1","3","1","0","",21310,{"$f":"'F1'!BM23","v":0}]
["2","1","3","2","0","",21320,{"$f":"'F1'!BM24","v":0}]
["2","1","3","3","0","",21330,{"$f":"'F1'!BM25","v":0}]
["2","1","4","0","0","",21400,{"$f":"'F1'!BM26","v":0}]
["2","1","4","1","0","",21410,{"$f":"'F1'!BM27","v":0}]
["2","1","4","2","0","",21420,{"$f":"'F1'!BM28","v":0}]
["2","1","5","0","0","",21500,{"$f":"'F1'!BM29","v":0}]
["2","1","5","1","0","",21510,{"$f":"'F1'!BM30","v":0}]
["2","1","5","2","0","",21520,{"$f":"'F1'!BM31","v":0}]
["2","1","5","9","0","",21590,{"$f":"'F1'!BM32","v":0}]
["2","1","6","0","0","",21600,{"$f":"'F1'!BM33","v":0}]
["2","1","6","1","0","",21610,{"$f":"'F1'!BM34","v":0}]
["2","1","6","2","0","",21620,{"$f":"'F1'!BM35","v":0}]
["2","1","6","3",{"$f":"MID(G130,5,1)","v":"0"},"",21630,{"$f":"'F1'!BM36","v":0}]
["2","1","6","4","0",{"$f":"MID(G131,7,1)","v":""},21640,{"$f":"'F1'!BM37","v":0}]
[{"$f":"MID(G132,1,1)","v":"2"},{"$f":"MID(G132,2,1)","v":"1"},{"$f":"MID(G132,3,1)","v":"6"},{"$f":"MID(G132,4,1)","v":"5"},"0","",21650,{"$f":"'F1'!BM38","v":0}]
["2","1","6","6","0","",21660,{"$f":"'F1'!BM39","v":0}]
["2","1","7","0","0","",21700,{"$f":"'F1'!BM40","v":0}]
["2","1","7","1","0","",21710,{"$f":"'F1'!BM41","v":0}]
["2","1","7","2","0","",21720,{"$f":"'F1'!BM42","v":0}]
["2","1","7","9","0","",21790,{"$f":"'F1'!BM43","v":0}]
["2","1","9","0","0","",21900,{"$f":"'F1'!BM44","v":0}]
["2","1","9","1","0","",21910,{"$f":"'F1'!BM45","v":0}]
["2","1","9","2","0","",21920,{"$f":"'F1'!BM46","v":0}]
["2","1","9","9","0","",21990,{"$f":"'F1'!BM47","v":0}]
["2","2","0","0","0","",22000,{"$f":"'F1'!BM79","v":5087559.78}]
["2","2","1","0","0","",22100,{"$f":"'F1'!BM50","v":5087559.78}]
["2","2","1","1","0","",22110,{"$f":"'F1'!BM51","v":0}]
["2","2","1","2","0","",22120,{"$f":"'F1'!BM52","v":5087559.78}]
["2","2","2","0","0","",22200,{"$f":"'F1'!BM53","v":0}]
["2","2","2","1","0","",22210,{"$f":"'F1'!BM54","v":0}]
["2","2","2","2","0","",22220,{"$f":"'F1'!BM55","v":0}]
["2","2","2","9","0","",22290,{"$f":"'F1'!BM56","v":0}]
["2","2","3","0","0","",22300,{"$f":"'F1'!BM57","v":0}]
["2","2","3","1","0","",22310,{"$f":"'F1'!BM58","v":0}]
["2","2","3","2","0","",22320,{"$f":"'F1'!BM59","v":0}]
["2","2","3","3","0","",22330,{"$f":"'F1'!BM60","v":0}]
["2","2","3","4","0","",22340,{"$f":"'F1'!BM61","v":0}]
["2","2","3","5","0","",22350,{"$f":"'F1'!BM62","v":0}]
["2","2","4","0","0","",22400,{"$f":"'F1'!BM63","v":0}]
["2","2","4","1","0","",22410,{"$f":"'F1'!BM64","v":0}]
["2","2","4","2","0","",22420,{"$f":"'F1'!BM65","v":0}]
["2","2","4","9","0","",22490,{"$f":"'F1'!BM66","v":0}]
["2","2","5","0","0","",22500,{"$f":"'F1'!BM67","v":0}]
["2","2","5","1","0","",22510,{"$f":"'F1'!BM68","v":0}]
["2","2","5","2",{"$f":"MID(G162,5,1)","v":"0"},"",22520,{"$f":"'F1'!BM69","v":0}]
["2","2","5","3","0","",22530,{"$f":"'F1'!BM70","v":0}]
[{"$f":"MID(G164,1,1)","v":"2"},{"$f":"MID(G164,2,1)","v":"2"},{"$f":"MID(G164,3,1)","v":"5"},{"$f":"MID(G164,4,1)","v":"4"},"0","",22540,{"$f":"'F1'!BM71","v":0}]
["2","2","5","5","0","",22550,{"$f":"'F1'!BM72","v":0}]
["2","2","5","6","0","",22560,{"$f":"'F1'!BM73","v":0}]
["2","2","6","0","0","",22600,{"$f":"'F1'!BM74","v":0}]
["2","2","6","1","0","",22610,{"$f":"'F1'!BM75","v":0}]
["2","2","6","2","0","",22620,{"$f":"'F1'!BM76","v":0}]
["2","2","6","3","0","",22630,{"$f":"'F1'!BM77","v":0}]
["2","2","6","9","0","",22690,{"$f":"'F1'!BM78","v":0}]
["3","0","0","0","0","",30000,{"$f":"'F1'!BM104","v":409082705.86000001}]
["3","1","0","0","0","",31000,{"$f":"'F1'!BM82","v":0}]
["3","1","1","0","0","",31100,{"$f":"'F1'!BM83","v":0}]
["3","1","2","0","0","",31200,{"$f":"'F1'!BM84","v":0}]
["3","1","3","0","0","",31300,{"$f":"'F1'!BM85","v":0}]
["3","2","0","0","0","",32000,{"$f":"'F1'!BM86","v":409082705.86000001}]
["3","2","1","0","0","",32100,{"$f":"'F1'!BM87","v":15577832.050000001}]
["3","2","2","0","0","",32200,{"$f":"'F1'!BM88","v":315444602.75}]
["3","2","3","0","0","",32300,{"$f":"'F1'!BM89","v":77719390}]
["3","2","3","1","0","",32310,{"$f":"'F1'!BM90","v":71385689}]
["3","2","3","2","0","",32320,{"$f":"'F1'!BM91","v":6333701}]
["3","2","3","3","0","",32330,{"$f":"'F1'!BM92","v":0}]
["3","2","3","9","0","",32390,{"$f":"'F1'!BM93","v":0}]
["3","2","4","0","0","",32400,{"$f":"'F1'!BM94","v":0}]
["3","2","4","1","0","",32410,{"$f":"'F1'!BM95","v":0}]
["3","2","4","2","0","",32420,{"$f":"'F1'!BM96","v":0}]
["3","2","4","3","0","",32430,{"$f":"'F1'!BM97","v":0}]
["3","2","5","0","0","",32500,{"$f":"'F1'!BM98","v":340881.06}]
["3","2","5","1","0","",32510,{"$f":"'F1'!BM99","v":0}]
["3","2","5","2",{"$f":"MID(G191,5,1)","v":"0"},"",32520,{"$f":"'F1'!BM100","v":340881.06}]
["3","3","0","0","0","",33000,{"$f":"'F1'!BM101","v":0}]
["3","3","1","0","0","",33100,{"$f":"'F1'!BM102","v":0}]
["3","3","2","0","0","",33200,{"$f":"'F1'!BM103","v":0}]
[null,null,null,null,null,null,"F6"]
[{"$f":"MID(G196,1,1)","v":"4"},{"$f":"MID(G196,2,1)","v":"0"},{"$f":"MID(G196,3,1)","v":"0"},{"$f":"MID(G196,4,1)","v":"0"},"0",{"$f":"MID(G196,7,1)","v":""},40000,{"$f":"'F6'!AX184","v":41167320.840000004}]
[{"$f":"MID(G197,1,1)","v":"4"},{"$f":"MID(G197,2,1)","v":"1"},{"$f":"MID(G197,3,1)","v":"0"},{"$f":"MID(G197,4,1)","v":"0"},{"$f":"MID(G197,5,1)","v":"0"},{"$f":"MID(G197,7,1)","v":""},41000,{"$f":"'F6'!AX7","v":8169035.5200000005}]
["4","1","1","0",{"$f":"MID(G198,5,1)","v":"0"},"",41100,{"$f":"'F6'!AX8","v":2967353.3}]
["4","1","1","1",{"$f":"MID(G199,5,1)","v":"0"},"",41110,{"$f":"'F6'!AX9","v":0}]
["4","1","1","1",{"$f":"MID(G200,5,1)","v":"0"},"1","41110-1",{"$f":"'F6'!AX10","v":0}]
[{"$f":"MID(G201,1,1)","v":"4"},{"$f":"MID(G201,2,1)","v":"1"},{"$f":"MID(G201,3,1)","v":"1"},{"$f":"MID(G201,4,1)","v":"2"},{"$f":"MID(G201,5,1)","v":"0"},"",41120,{"$f":"'F6'!AX11","v":2884685.67}]
["4","1","1","2",{"$f":"MID(G202,5,1)","v":"0"},"1","41120-1",{"$f":"'F6'!AX12","v":2233728.81}]
["4","1","1","2",{"$f":"MID(G203,5,1)","v":"0"},"2","41120-2",{"$f":"'F6'!AX13","v":650956.86}]
["4","1","1","2",{"$f":"MID(G204,5,1)","v":"0"},"3","41120-3",{"$f":"'F6'!AX14","v":0}]
["4","1","1","3",{"$f":"MID(G205,5,1)","v":"0"},"",41130,{"$f":"'F6'!AX15","v":0}]
["4","1","1","4",{"$f":"MID(G206,5,1)","v":"0"},"",41140,{"$f":"'F6'!AX16","v":0}]
["4","1","1","5",{"$f":"MID(G207,5,1)","v":"0"},"",41150,{"$f":"'F6'!AX17","v":0}]
["4","1","1","6",{"$f":"MID(G208,5,1)","v":"0"},"",41160,{"$f":"'F6'!AX18","v":0}]
["4","1","1","7",{"$f":"MID(G209,5,1)","v":"0"},"",41170,{"$f":"'F6'!AX19","v":221.31}]
["4","1","1","7",{"$f":"MID(G210,5,1)","v":"0"},"1","41170-1",{"$f":"'F6'!AX20","v":0}]
["4","1","1","7",{"$f":"MID(G211,5,1)","v":"0"},"2","41170-2",{"$f":"'F6'!AX21","v":0}]
["4","1","1","7",{"$f":"MID(G212,5,1)","v":"0"},"3","41170-3",{"$f":"'F6'!AX22","v":0}]
["4","1","1","7",{"$f":"MID(G213,5,1)","v":"0"},"4","41170-4",{"$f":"'F6'!AX23","v":221.31}]
["4","1","1","7",{"$f":"MID(G214,5,1)","v":"0"},"5","41170-5",{"$f":"'F6'!AX24","v":0}]
["4","1","1","8",{"$f":"MID(G215,5,1)","v":"0"},"",41180,{"$f":"'F6'!AX25","v":0}]
["4","1","1","8",{"$f":"MID(G216,5,1)","v":"0"},"1","41180-1",{"$f":"'F6'!AX26","v":0}]
["4","1","1","9",{"$f":"MID(G217,5,1)","v":"0"},"",41190,{"$f":"'F6'!AX27","v":82446.320000000007}]
["4","1","1","9",{"$f":"MID(G218,5,1)","v":"0"},"1","41190-1",{"$f":"'F6'!AX28","v":82446.320000000007}]
["4","1","2","0",{"$f":"MID(G219,5,1)","v":"0"},"",41200,{"$f":"'F6'!AX29","v":0}]
["4","1","2","1",{"$f":"MID(G220,5,1)","v":"0"},"",41210,{"$f":"'F6'!AX30","v":0}]
["4","1","2","2",{"$f":"MID(G221,5,1)","v":"0"},"",41220,{"$f":"'F6'!AX31","v":0}]
["4","1","2","3",{"$f":"MID(G222,5,1)","v":"0"},"",41230,{"$f":"'F6'!AX32","v":0}]
["4","1","2","4",{"$f":"MID(G223,5,1)","v":"0"},"",41240,{"$f":"'F6'!AX33","v":0}]
["4","1","2","9",{"$f":"MID(G224,5,1)","v":"0"},"",41290,{"$f":"'F6'!AX34","v":0}]
["4","1","3","0",{"$f":"MID(G225,5,1)","v":"0"},"",41300,{"$f":"'F6'!AX35","v":20229}]
["4","1","3","1",{"$f":"MID(G226,5,1)","v":"0"},"",41310,{"$f":"'F6'!AX36","v":20229}]
["4","1","3","1",{"$f":"MID(G227,5,1)","v":"0"},"1","41310-1",{"$f":"'F6'!AX37","v":20229}]
["4","1","3","2",{"$f":"MID(G228,5,1)","v":"0"},"",41320,{"$f":"'F6'!AX38","v":0}]
["4","1","3","2",{"$f":"MID(G229,5,1)","v":"0"},"1","41320-1",{"$f":"'F6'!AX39","v":0}]
["4","1","4","0",{"$f":"MID(G230,5,1)","v":"0"},"",41400,{"$f":"'F6'!AX40","v":4710921.1000000006}]
["4","1","4","1",{"$f":"MID(G231,5,1)","v":"0"},"",41410,{"$f":"'F6'!AX41","v":7959.25}]
["4","1","4","1",{"$f":"MID(G232,5,1)","v":"0"},"1","41410-1",{"$f":"'F6'!AX42","v":0}]
["4","1","4","1",{"$f":"MID(G233,5,1)","v":"0"},"2","41410-2",{"$f":"'F6'!AX43","v":0}]
["4","1","4","1",{"$f":"MID(G234,5,1)","v":"0"},"3","41410-3",{"$f":"'F6'!AX44","v":3247}]
["4","1","4","1",{"$f":"MID(G235,5,1)","v":"0"},"4","41410-4",{"$f":"'F6'!AX45","v":4712.25}]
["4","1","4","2",{"$f":"MID(G236,5,1)","v":"0"},"",41420,{"$f":"'F6'!AX46","v":0}]
["4","1","4","3",{"$f":"MID(G237,5,1)","v":"0"},"",41430,{"$f":"'F6'!AX47","v":4439654.8500000006}]
["4","1","4","3",{"$f":"MID(G238,5,1)","v":"0"},"1","41430-1",{"$f":"'F6'!AX48","v":324391.81}]
["4","1","4","3",{"$f":"MID(G239,5,1)","v":"0"},"2","41430-2",{"$f":"'F6'!AX49","v":17138}]
["4","1","4","3",{"$f":"MID(G240,5,1)","v":"0"},"3","41430-3",{"$f":"'F6'!AX50","v":34644.230000000003}]
["4","1","4","3",{"$f":"MID(G241,5,1)","v":"0"},"4","41430-4",{"$f":"'F6'!AX51","v":0}]
["4","1","4","3",{"$f":"MID(G242,5,1)","v":"0"},"5","41430-5",{"$f":"'F6'!AX52","v":17411}]
["4","1","4","3",{"$f":"MID(G243,5,1)","v":"0"},"6","41430-6",{"$f":"'F6'!AX53","v":15860}]
["4","1","4","3",{"$f":"MID(G244,5,1)","v":"0"},"7","41430-7",{"$f":"'F6'!AX54","v":0}]
["4","1","4","3",{"$f":"MID(G245,5,1)","v":"0"},"8","41430-8",{"$f":"'F6'!AX55","v":9598}]
["4","1","4","3",{"$f":"MID(G246,5,1)","v":"0"},"9","41430-9",{"$f":"'F6'!AX56","v":0}]
["4","1","4","3",{"$f":"MID(G247,5,1)","v":"0"},"1","41430-10",{"$f":"'F6'!AX57","v":3324697.01}]
["4","1","4","3",{"$f":"MID(G248,5,1)","v":"0"},"1","41430-11",{"$f":"'F6'!AX58","v":173368.02}]
["4","1","4","3",{"$f":"MID(G249,5,1)","v":"0"},"1","41430-12",{"$f":"'F6'!AX59","v":260447}]
["4","1","4","3",{"$f":"MID(G250,5,1)","v":"0"},"1","41430-13",{"$f":"'F6'!AX60","v":80266.55}]
["4","1","4","3",{"$f":"MID(G251,5,1)","v":"0"},"1","41430-14",{"$f":"'F6'!AX61","v":181833.23}]
["4","1","4","4",{"$f":"MID(G252,5,1)","v":"0"},"",41440,{"$f":"'F6'!AX62","v":263307}]
["4","1","4","4",{"$f":"MID(G253,5,1)","v":"0"},"1","41440-1",{"$f":"'F6'!AX63","v":15351}]
["4","1","4","4",{"$f":"MID(G254,5,1)","v":"0"},"2","41440-2",{"$f":"'F6'!AX64","v":0}]
["4","1","4","4",{"$f":"MID(G255,5,1)","v":"0"},"3","41440-3",{"$f":"'F6'!AX65","v":0}]
["4","1","4","4",{"$f":"MID(G256,5,1)","v":"0"},"4","41440-4",{"$f":"'F6'!AX66","v":0}]
["4","1","4","4",{"$f":"MID(G257,5,1)","v":"0"},"5","41440-5",{"$f":"'F6'!AX67","v":247956}]
["4","1","4","5",{"$f":"MID(G258,5,1)","v":"0"},"",41450,{"$f":"'F6'!AX68","v":0}]
["4","1","4","5",{"$f":"MID(G259,5,1)","v":"0"},"1","41450-1",{"$f":"'F6'!AX69","v":0}]
["4","1","4","9",{"$f":"MID(G260,5,1)","v":"0"},"",41490,{"$f":"'F6'!AX70","v":0}]
["4","1","4","9",{"$f":"MID(G261,5,1)","v":"0"},{"$f":"MID(G261,7,1)","v":"1"},"41490-1",{"$f":"'F6'!AX71","v":0}]
["4","1","5","0",{"$f":"MID(G262,5,1)","v":"0"},"",41500,{"$f":"'F6'!AX72","v":236390}]
["4","1","5","1",{"$f":"MID(G263,5,1)","v":"0"},"",41510,{"$f":"'F6'!AX73","v":236390}]
["4","1","5","1",{"$f":"MID(G264,5,1)","v":"0"},"1","41510-1",{"$f":"'F6'!AX74","v":0}]
[{"$f":"MID(G265,1,1)","v":"4"},{"$f":"MID(G265,2,1)","v":"1"},{"$f":"MID(G265,3,1)","v":"5"},{"$f":"MID(G265,4,1)","v":"1"},{"$f":"MID(G265,5,1)","v":"0"},"2","41510-2",{"$f":"'F6'!AX75","v":236390}]
["4","1","5","2",{"$f":"MID(G266,5,1)","v":"0"},"",41520,{"$f":"'F6'!AX76","v":0}]
["4","1","5","3",{"$f":"MID(G267,5,1)","v":"0"},"",41530,{"$f":"'F6'!AX77","v":0}]
["4","1","5","4",{"$f":"MID(G268,5,1)","v":"0"},"",41540,{"$f":"'F6'!AX78","v":0}]
["4","1","5","4",{"$f":"MID(G269,5,1)","v":"0"},"1","41540-1",{"$f":"'F6'!AX79","v":0}]
["4","1","5","9",{"$f":"MID(G270,5,1)","v":"0"},"",41590,{"$f":"'F6'!AX80","v":0}]
["4","1","6","0",{"$f":"MID(G271,5,1)","v":"0"},"",41600,{"$f":"'F6'!AX81","v":234142.12}]
["4","1","6","1",{"$f":"MID(G272,5,1)","v":"0"},"",41610,{"$f":"'F6'!AX82","v":0}]
["4","1","6","2",{"$f":"MID(G273,5,1)","v":"0"},"",41620,{"$f":"'F6'!AX83","v":0}]
["4","1","6","2",{"$f":"MID(G274,5,1)","v":"0"},"1","41620-1",{"$f":"'F6'!AX84","v":0}]
["4","1","6","3",{"$f":"MID(G275,5,1)","v":"0"},"",41630,{"$f":"'F6'!AX85","v":0}]
["4","1","6","3",{"$f":"MID(G276,5,1)","v":"0"},"1","41630-1",{"$f":"'F6'!AX86","v":0}]
["4","1","6","4",{"$f":"MID(G277,5,1)","v":"0"},"",41640,{"$f":"'F6'!AX87","v":0}]
["4","1","6","4",{"$f":"MID(G278,5,1)","v":"0"},"1","41640-1",{"$f":"'F6'!AX88","v":0}]
["4","1","6","5",{"$f":"MID(G279,5,1)","v":"0"},"",41650,{"$f":"'F6'!AX89","v":0}]
["4","1","6","4",{"$f":"MID(G280,5,1)","v":"0"},"1","41640-1",{"$f":"'F6'!AX90","v":0}]
["4","1","6","6",{"$f":"MID(G281,5,1)","v":"0"},"",41660,{"$f":"'F6'!AX91","v":0}]
["4","1","6","4",{"$f":"MID(G282,5,1)","v":"0"},"1","41640-1",{"$f":"'F6'!AX92","v":0}]
["4","1","6","7",{"$f":"MID(G283,5,1)","v":"0"},"",41670,{"$f":"'F6'!AX93","v":0}]
["4","1","6","8",{"$f":"MID(G284,5,1)","v":"0"},"",41680,{"$f":"'F6'!AX94","v":0}]
["4","1","6","8",{"$f":"MID(G285,5,1)","v":"0"},"1","41680-1",{"$f":"'F6'!AX95","v":0}]
["4","1","6","8",{"$f":"MID(G286,5,1)","v":"0"},"2","41680-2",{"$f":"'F6'!AX96","v":0}]
["4","1","6","8",{"$f":"MID(G287,5,1)","v":"0"},"3","41680-3",{"$f":"'F6'!AX97","v":0}]
["4","1","6","8",{"$f":"MID(G288,5,1)","v":"0"},"4","41680-4",{"$f":"'F6'!AX98","v":0}]
["4","1","6","8",{"$f":"MID(G289,5,1)","v":"0"},"5","41680-5",{"$f":"'F6'!AX99","v":0}]
["4","1","6","9",{"$f":"MID(G290,5,1)","v":"0"},"",41690,{"$f":"'F6'!AX100","v":234142.12}]
["4","1","6","9",{"$f":"MID(G291,5,1)","v":"0"},"1","41690-1",{"$f":"'F6'!AX101","v":234142.12}]
["4","1","7","0",{"$f":"MID(G292,5,1)","v":"0"},"",41700,{"$f":"'F6'!AX102","v":0}]
["4","1","7","1",{"$f":"MID(G293,5,1)","v":"0"},"",41710,{"$f":"'F6'!AX103","v":0}]
["4","1","7","1",{"$f":"MID(G294,5,1)","v":"0"},"1","41710-1",{"$f":"'F6'!AX104","v":0}]
["4","1","7","2",{"$f":"MID(G295,5,1)","v":"0"},"",41720,{"$f":"'F6'!AX105","v":0}]
["4","1","7","3",{"$f":"MID(G296,5,1)","v":"0"},"",41730,{"$f":"'F6'!AX106","v":0}]
["4","1","7","3",{"$f":"MID(G297,5,1)","v":"0"},"1","41730-1",{"$f":"'F6'!AX107","v":0}]
["4","1","7","4",{"$f":"MID(G298,5,1)","v":"0"},"",41740,{"$f":"'F6'!AX108","v":0}]
["4","1","7","5",{"$f":"MID(G299,5,1)","v":"0"},"",41750,{"$f":"'F6'!AX109","v":0}]
["4","1","7","6",{"$f":"MID(G300,5,1)","v":"0"},"",41760,{"$f":"'F6'!AX110","v":0}]
["4","1","7","7",{"$f":"MID(G301,5,1)","v":"0"},"",41770,{"$f":"'F6'!AX111","v":0}]
["4","1","7","7",{"$f":"MID(G302,5,1)","v":"0"},"1","41770-1",{"$f":"'F6'!AX112","v":0}]
["4","1","7","8",{"$f":"MID(G303,5,1)","v":"0"},"",41780,{"$f":"'F6'!AX113","v":0}]
["4","2","0","0",{"$f":"MID(G304,5,1)","v":"0"},"",42000,{"$f":"'F6'!AX117","v":32998285.32}]
["4","2","1","0",{"$f":"MID(G305,5,1)","v":"0"},"",42100,{"$f":"'F6'!AX118","v":32998285.32}]
["4","2","1","1",{"$f":"MID(G306,5,1)","v":"0"},"",42110,{"$f":"'F6'!AX119","v":21011174.580000002}]
["4","2","1","1",{"$f":"MID(G307,5,1)","v":"0"},"1","42110-1",{"$f":"'F6'!AX120","v":14603299.289999999}]
["4","2","1","1",{"$f":"MID(G308,5,1)","v":"0"},"2","42110-2",{"$f":"'F6'!AX121","v":4437061.3}]
["4","2","1","1",{"$f":"MID(G309,5,1)","v":"0"},"3","42110-3",{"$f":"'F6'!AX122","v":436104.37}]
["4","2","1","1",{"$f":"MID(G310,5,1)","v":"0"},"4","42110-4",{"$f":"'F6'!AX123","v":1.68}]
["4","2","1","1",{"$f":"MID(G311,5,1)","v":"0"},"5","42110-5",{"$f":"'F6'!AX124","v":0}]
["4","2","1","1",{"$f":"MID(G312,5,1)","v":"0"},"6","42110-6",{"$f":"'F6'!AX125","v":459814.68}]
["4","2","1","1",{"$f":"MID(G313,5,1)","v":"0"},"7","42110-7",{"$f":"'F6'!AX126","v":0}]
["4","2","1","1",{"$f":"MID(G314,5,1)","v":"0"},"8","42110-8",{"$f":"'F6'!AX127","v":0}]
["4","2","1","1",{"$f":"MID(G315,5,1)","v":"0"},"9","42110-9",{"$f":"'F6'!AX128","v":405954.14}]
["4","2","1","1",{"$f":"MID(G316,5,1)","v":"0"},"1","42110-10",{"$f":"'F6'!AX129","v":589400.46}]
["4","2","1","1",{"$f":"MID(G317,5,1)","v":"0"},"1","42110-11",{"$f":"'F6'!AX130","v":0}]
["4","2","1","1",{"$f":"MID(G318,5,1)","v":"0"},"1","42110-12",{"$f":"'F6'!AX131","v":79538.66}]
["4","2","1","2",{"$f":"MID(G319,5,1)","v":"0"},"",42120,{"$f":"'F6'!AX132","v":11503752.1}]
["4","2","1","2",{"$f":"MID(G320,5,1)","v":"0"},"1","42120-1",{"$f":"'F6'!AX133","v":6716090.5}]
["4","2","1","2",{"$f":"MID(G321,5,1)","v":"0"},"2","42120-2",{"$f":"'F6'!AX134","v":4787661.5999999996}]
["4","2","1","3",{"$f":"MID(G322,5,1)","v":"0"},{"$f":"MID(G322,7,1)","v":""},42130,{"$f":"'F6'!AX135","v":57442.5}]
["4","2","1","3",{"$f":"MID(G323,5,1)","v":"0"},"1","42130-1",{"$f":"'F6'!AX136","v":0}]
["4","2","1","3",{"$f":"MID(G324,5,1)","v":"0"},"2","42130-2",{"$f":"'F6'!AX137","v":0}]
["4","2","1","3",{"$f":"MID(G325,5,1)","v":"0"},"3","42130-3",{"$f":"'F6'!AX138","v":0}]
[{"$f":"MID(G326,1,1)","v":"4"},{"$f":"MID(G326,2,1)","v":"2"},{"$f":"MID(G326,3,1)","v":"1"},{"$f":"MID(G326,4,1)","v":"3"},{"$f":"MID(G326,5,1)","v":"0"},"4","42130-456",{"$f":"'F6'!AX139","v":57442.5}]
["4","2","1","4",{"$f":"MID(G327,5,1)","v":"0"},"",42140,{"$f":"'F6'!AX140","v":425916.14}]
["4","2","1","4",{"$f":"MID(G328,5,1)","v":"0"},"1","42140-1",{"$f":"'F6'!AX141","v":6.57}]
["4","2","1","4",{"$f":"MID(G329,5,1)","v":"0"},"2","42140-2",{"$f":"'F6'!AX142","v":60894.3}]
["4","2","1","4",{"$f":"MID(G330,5,1)","v":"0"},"3","42140-3",{"$f":"'F6'!AX143","v":365015.27}]
["4","2","1","4",{"$f":"MID(G331,5,1)","v":"0"},"4","42140-4",{"$f":"'F6'!AX144","v":0}]
["4","2","1","4",{"$f":"MID(G332,5,1)","v":"0"},"5","42140-5",{"$f":"'F6'!AX145","v":0}]
["4","2","1","5",{"$f":"MID(G333,5,1)","v":"0"},"",42150,{"$f":"'F6'!AX146","v":0}]
["4","2","1","5",{"$f":"MID(G334,5,1)","v":"0"},"1","42150-1",{"$f":"'F6'!AX147","v":0}]
["4","2","1","5",{"$f":"MID(G335,5,1)","v":"0"},"2","42150-2",{"$f":"'F6'!AX148","v":0}]
["4","2","2","0",{"$f":"MID(G336,5,1)","v":"0"},"",42200,{"$f":"'F6'!AX149","v":0}]
["4","2","2","1",{"$f":"MID(G337,5,1)","v":"0"},"",42210,{"$f":"'F6'!AX150","v":0}]
["4","2","2","1",{"$f":"MID(G338,5,1)","v":"0"},"1","42210-12",{"$f":"'F6'!AX151","v":0}]
["4","2","2","2",{"$f":"MID(G339,5,1)","v":"0"},"",42220,{"$f":"'F6'!AX152","v":0}]
["4","2","2","3",{"$f":"MID(G340,5,1)","v":"0"},"",42230,{"$f":"'F6'!AX153","v":0}]
["4","2","2","3",{"$f":"MID(G341,5,1)","v":"0"},"1","42230-12",{"$f":"'F6'!AX154","v":0}]
["4","2","2","4",{"$f":"MID(G342,5,1)","v":"0"},"",42240,{"$f":"'F6'!AX155","v":0}]
["4","2","2","5",{"$f":"MID(G343,5,1)","v":"0"},"",42250,{"$f":"'F6'!AX156","v":0}]
["4","2","2","5",{"$f":"MID(G344,5,1)","v":"0"},"1","42250-1",{"$f":"'F6'!AX157","v":0}]
["4","2","2","6",{"$f":"MID(G345,5,1)","v":"0"},"",42260,{"$f":"'F6'!AX158","v":0}]
["4","2","2","7",{"$f":"MID(G346,5,1)","v":"0"},"",42270,{"$f":"'F6'!AX159","v":0}]
["4","2","2","7",{"$f":"MID(G347,5,1)","v":"0"},"1","42270-1",{"$f":"'F6'!AX160","v":0}]
["4","3","0","0",{"$f":"MID(G348,5,1)","v":"0"},"",43000,{"$f":"'F6'!AX161","v":0}]
["4","3","1","0",{"$f":"MID(G349,5,1)","v":"0"},"",43100,{"$f":"'F6'!AX162","v":0}]
["4","3","1","1",{"$f":"MID(G350,5,1)","v":"0"},"",43110,{"$f":"'F6'!AX163","v":0}]
["4","3","1","9",{"$f":"MID(G351,5,1)","v":"0"},"",43190,{"$f":"'F6'!AX164","v":0}]
["4","3","2","0",{"$f":"MID(G352,5,1)","v":"0"},"",43200,{"$f":"'F6'!AX165","v":0}]
["4","3","2","1",{"$f":"MID(G353,5,1)","v":"0"},"",43210,{"$f":"'F6'!AX166","v":0}]
["4","3","2","2",{"$f":"MID(G354,5,1)","v":"0"},"",43220,{"$f":"'F6'!AX167","v":0}]
["4","3","2","3",{"$f":"MID(G355,5,1)","v":"0"},"",43230,{"$f":"'F6'!AX168","v":0}]
["4","3","2","4",{"$f":"MID(G356,5,1)","v":"0"},"",43240,{"$f":"'F6'!AX169","v":0}]
["4","3","2","5",{"$f":"MID(G357,5,1)","v":"0"},"",43250,{"$f":"'F6'!AX170","v":0}]
["4","3","3","0",{"$f":"MID(G358,5,1)","v":"0"},"",43300,{"$f":"'F6'!AX171","v":0}]
["4","3","3","1",{"$f":"MID(G359,5,1)","v":"0"},"",43310,{"$f":"'F6'!AX172","v":0}]
["4","3","4","0",{"$f":"MID(G360,5,1)","v":"0"},"",43400,{"$f":"'F6'!AX173","v":0}]
["4","3","4","1",{"$f":"MID(G361,5,1)","v":"0"},"",43410,{"$f":"'F6'!AX174","v":0}]
["4","3","9","0",{"$f":"MID(G362,5,1)","v":"0"},"",43900,{"$f":"'F6'!AX175","v":0}]
["4","3","9","1",{"$f":"MID(G363,5,1)","v":"0"},"",43910,{"$f":"'F6'!AX176","v":0}]
["4","3","9","2",{"$f":"MID(G364,5,1)","v":"0"},"",43920,{"$f":"'F6'!AX177","v":0}]
["4","3","9","3",{"$f":"MID(G365,5,1)","v":"0"},"",43930,{"$f":"'F6'!AX178","v":0}]
["4","3","9","4",{"$f":"MID(G366,5,1)","v":"0"},"",43940,{"$f":"'F6'!AX179","v":0}]
["4","3","9","5",{"$f":"MID(G367,5,1)","v":"0"},"",43950,{"$f":"'F6'!AX180","v":0}]
["4","3","9","6",{"$f":"MID(G368,5,1)","v":"0"},"",43960,{"$f":"'F6'!AX181","v":0}]
["4","3","9","7",{"$f":"MID(G369,5,1)","v":"0"},"",43970,{"$f":"'F6'!AX182","v":0}]
["4","3","9","9",{"$f":"MID(G370,5,1)","v":"0"},"",43990,{"$f":"'F6'!AX183","v":0}]
["5","0","0","0",{"$f":"MID(G371,5,1)","v":"0"},"",50000,{"$f":"'F6'!AX539","v":25589488.789999999}]
["5","1","0","0",{"$f":"MID(G372,5,1)","v":"0"},"",51000,{"$f":"'F6'!AX186","v":22428273.689999998}]
["5","1","1","0",{"$f":"MID(G373,5,1)","v":"0"},"",51100,{"$f":"'F6'!AX187","v":11351335.800000001}]
["5","1","1","1",{"$f":"MID(G374,5,1)","v":"0"},"",51110,{"$f":"'F6'!AX188","v":8457691.370000001}]
["5","1","1","1",{"$f":"MID(G375,5,1)","v":"0"},"1","51110-1",{"$f":"'F6'!AX189","v":716165}]
["5","1","1","1",{"$f":"MID(G376,5,1)","v":"0"},"2","51110-2",{"$f":"'F6'!AX190","v":0}]
["5","1","1","1",{"$f":"MID(G377,5,1)","v":"0"},"3","51110-3",{"$f":"'F6'!AX191","v":7741526.3700000001}]
["5","1","1","1",{"$f":"MID(G378,5,1)","v":"0"},"4","51110-4",{"$f":"'F6'!AX192","v":0}]
["5","1","1","2",{"$f":"MID(G379,5,1)","v":"0"},"",51120,{"$f":"'F6'!AX193","v":2568775.4300000002}]
["5","1","1","2",{"$f":"MID(G380,5,1)","v":"0"},"1","51120-1",{"$f":"'F6'!AX194","v":0}]
["5","1","1","2",{"$f":"MID(G381,5,1)","v":"0"},"2","51120-2",{"$f":"'F6'!AX195","v":2568775.4300000002}]
["5","1","1","2",{"$f":"MID(G382,5,1)","v":"0"},"3","51120-3",{"$f":"'F6'!AX196","v":0}]
["5","1","1","2",{"$f":"MID(G383,5,1)","v":"0"},"4","51120-4",{"$f":"'F6'!AX197","v":0}]
["5","1","1","3",{"$f":"MID(G384,5,1)","v":"0"},"",51130,{"$f":"'F6'!AX198","v":321744}]
["5","1","1","3",{"$f":"MID(G385,5,1)","v":"0"},{"$f":"MID(G385,7,1)","v":"1"},"51130-1",{"$f":"'F6'!AX199","v":0}]
["5","1","1","3",{"$f":"MID(G386,5,1)","v":"0"},"2","51130-2",{"$f":"'F6'!AX200","v":4847}]
["5","1","1","3",{"$f":"MID(G387,5,1)","v":"0"},"3","51130-3",{"$f":"'F6'!AX201","v":316897}]
["5","1","1","3",{"$f":"MID(G388,5,1)","v":"0"},"4","51130-4",{"$f":"'F6'!AX202","v":0}]
[{"$f":"MID(G389,1,1)","v":"5"},{"$f":"MID(G389,2,1)","v":"1"},{"$f":"MID(G389,3,1)","v":"1"},{"$f":"MID(G389,4,1)","v":"3"},{"$f":"MID(G389,5,1)","v":"0"},"5","51130-5",{"$f":"'F6'!AX203","v":0}]
["5","1","1","3",{"$f":"MID(G390,5,1)","v":"0"},"6","51130-6",{"$f":"'F6'!AX204","v":0}]
["5","1","1","3",{"$f":"MID(G391,5,1)","v":"0"},"7","51130-7",{"$f":"'F6'!AX205","v":0}]
["5","1","1","3",{"$f":"MID(G392,5,1)","v":"0"},"8","51130-8",{"$f":"'F6'!AX206","v":0}]
["5","1","1","4",{"$f":"MID(G393,5,1)","v":"0"},"",51140,{"$f":"'F6'!AX207","v":0}]
["5","1","1","4",{"$f":"MID(G394,5,1)","v":"0"},"1","51140-1",{"$f":"'F6'!AX208","v":0}]
["5","1","1","4",{"$f":"MID(G395,5,1)","v":"0"},"2","51140-2",{"$f":"'F6'!AX209","v":0}]
["5","1","1","4",{"$f":"MID(G396,5,1)","v":"0"},"3","51140-3",{"$f":"'F6'!AX210","v":0}]
["5","1","1","4",{"$f":"MID(G397,5,1)","v":"0"},"4","51140-4",{"$f":"'F6'!AX211","v":0}]
["5","1","1","5",{"$f":"MID(G398,5,1)","v":"0"},"",51150,{"$f":"'F6'!AX212","v":3125}]
["5","1","1","5",{"$f":"MID(G399,5,1)","v":"0"},"1","51150-1",{"$f":"'F6'!AX213","v":0}]
["5","1","1","5",{"$f":"MID(G400,5,1)","v":"0"},"2","51150-2",{"$f":"'F6'!AX214","v":3125}]
["5","1","1","5",{"$f":"MID(G401,5,1)","v":"0"},"3","51150-3",{"$f":"'F6'!AX215","v":0}]
["5","1","1","5",{"$f":"MID(G402,5,1)","v":"0"},"4","51150-4",{"$f":"'F6'!AX216","v":0}]
["5","1","1","5",{"$f":"MID(G403,5,1)","v":"0"},"5","51150-5",{"$f":"'F6'!AX217","v":0}]
["5","1","1","5",{"$f":"MID(G404,5,1)","v":"0"},"6","51150-6",{"$f":"'F6'!AX218","v":0}]
["5","1","1","6",{"$f":"MID(G405,5,1)","v":"0"},"",51160,{"$f":"'F6'!AX219","v":0}]
["5","1","1","6",{"$f":"MID(G406,5,1)","v":"0"},"1","51160-1",{"$f":"'F6'!AX220","v":0}]
["5","1","1","6",{"$f":"MID(G407,5,1)","v":"0"},"2","51160-2",{"$f":"'F6'!AX221","v":0}]
["5","1","2","0",{"$f":"MID(G408,5,1)","v":"0"},"",51200,{"$f":"'F6'!AX222","v":4885619.29}]
["5","1","2","1",{"$f":"MID(G409,5,1)","v":"0"},"",51210,{"$f":"'F6'!AX223","v":305484.88}]
["5","1","2","1",{"$f":"MID(G410,5,1)","v":"0"},"1","51210-1",{"$f":"'F6'!AX224","v":237457.11}]
["5","1","2","1",{"$f":"MID(G411,5,1)","v":"0"},"2","51210-2",{"$f":"'F6'!AX225","v":3503}]
["5","1","2","1",{"$f":"MID(G412,5,1)","v":"0"},"3","51210-3",{"$f":"'F6'!AX226","v":0}]
["5","1","2","1",{"$f":"MID(G413,5,1)","v":"0"},"4","51210-4",{"$f":"'F6'!AX227","v":5856}]
["5","1","2","1",{"$f":"MID(G414,5,1)","v":"0"},"5","51210-5",{"$f":"'F6'!AX228","v":0}]
["5","1","2","1",{"$f":"MID(G415,5,1)","v":"0"},"6","51210-6",{"$f":"'F6'!AX229","v":58668.77}]
["5","1","2","1",{"$f":"MID(G416,5,1)","v":"0"},"7","51210-7",{"$f":"'F6'!AX230","v":0}]
["5","1","2","1",{"$f":"MID(G417,5,1)","v":"0"},"8","51210-8",{"$f":"'F6'!AX231","v":0}]
["5","1","2","2",{"$f":"MID(G418,5,1)","v":"0"},"",51220,{"$f":"'F6'!AX232","v":120865.38}]
["5","1","2","2",{"$f":"MID(G419,5,1)","v":"0"},"1","51220-1",{"$f":"'F6'!AX233","v":120865.38}]
["5","1","2","2",{"$f":"MID(G420,5,1)","v":"0"},"2","51220-2",{"$f":"'F6'!AX234","v":0}]
["5","1","2","2",{"$f":"MID(G421,5,1)","v":"0"},"3","51220-3",{"$f":"'F6'!AX235","v":0}]
["5","1","2","3",{"$f":"MID(G422,5,1)","v":"0"},"",51230,{"$f":"'F6'!AX236","v":0}]
["5","1","2","3",{"$f":"MID(G423,5,1)","v":"0"},"1","51230-1",{"$f":"'F6'!AX237","v":0}]
["5","1","2","3",{"$f":"MID(G424,5,1)","v":"0"},"2","51230-2",{"$f":"'F6'!AX238","v":0}]
["5","1","2","3",{"$f":"MID(G425,5,1)","v":"0"},"3","51230-3",{"$f":"'F6'!AX239","v":0}]
["5","1","2","3",{"$f":"MID(G426,5,1)","v":"0"},"4","51230-4",{"$f":"'F6'!AX240","v":0}]
["5","1","2","3",{"$f":"MID(G427,5,1)","v":"0"},"5","51230-5",{"$f":"'F6'!AX241","v":0}]
["5","1","2","3",{"$f":"MID(G428,5,1)","v":"0"},"6","51230-6",{"$f":"'F6'!AX242","v":0}]
["5","1","2","3",{"$f":"MID(G429,5,1)","v":"0"},"7","51230-7",{"$f":"'F6'!AX243","v":0}]
["5","1","2","3",{"$f":"MID(G430,5,1)","v":"0"},"8","51230-8",{"$f":"'F6'!AX244","v":0}]
["5","1","2","3",{"$f":"MID(G431,5,1)","v":"0"},"9","51230-9",{"$f":"'F6'!AX245","v":0}]
["5","1","2","4",{"$f":"MID(G432,5,1)","v":"0"},"",51240,{"$f":"'F6'!AX246","v":0}]
["5","1","2","4",{"$f":"MID(G433,5,1)","v":"0"},"1","51240-1",{"$f":"'F6'!AX247","v":0}]
["5","1","2","4",{"$f":"MID(G434,5,1)","v":"0"},"2","51240-2",{"$f":"'F6'!AX248","v":0}]
["5","1","2","4",{"$f":"MID(G435,5,1)","v":"0"},"3","51240-3",{"$f":"'F6'!AX249","v":0}]
["5","1","2","4",{"$f":"MID(G436,5,1)","v":"0"},"4","51240-4",{"$f":"'F6'!AX250","v":0}]
["5","1","2","4",{"$f":"MID(G437,5,1)","v":"0"},"5","51240-5",{"$f":"'F6'!AX251","v":0}]
["5","1","2","4",{"$f":"MID(G438,5,1)","v":"0"},"6","51240-6",{"$f":"'F6'!AX252","v":0}]
["5","1","2","4",{"$f":"MID(G439,5,1)","v":"0"},"7","51240-7",{"$f":"'F6'!AX253","v":0}]
["5","1","2","4",{"$f":"MID(G440,5,1)","v":"0"},"8","51240-8",{"$f":"'F6'!AX254","v":0}]
["5","1","2","4",{"$f":"MID(G441,5,1)","v":"0"},"9","51240-9",{"$f":"'F6'!AX255","v":0}]
["5","1","2","5",{"$f":"MID(G442,5,1)","v":"0"},"",51250,{"$f":"'F6'!AX256","v":460377.77}]
["5","1","2","5",{"$f":"MID(G443,5,1)","v":"0"},"1","51250-1",{"$f":"'F6'!AX257","v":186252.44}]
["5","1","2","5",{"$f":"MID(G444,5,1)","v":"0"},"2","51250-2",{"$f":"'F6'!AX258","v":8714.81}]
["5","1","2","5",{"$f":"MID(G445,5,1)","v":"0"},"3","51250-3",{"$f":"'F6'!AX259","v":265410.52}]
["5","1","2","5",{"$f":"MID(G446,5,1)","v":"0"},"4","51250-4",{"$f":"'F6'!AX260","v":0}]
["5","1","2","5",{"$f":"MID(G447,5,1)","v":"0"},"5","51250-5",{"$f":"'F6'!AX261","v":0}]
["5","1","2","5",{"$f":"MID(G448,5,1)","v":"0"},"6","51250-6",{"$f":"'F6'!AX262","v":0}]
["5","1","2","5",{"$f":"MID(G449,5,1)","v":"0"},{"$f":"MID(G449,7,1)","v":"7"},"51250-7",{"$f":"'F6'!AX263","v":0}]
["5","1","2","6",{"$f":"MID(G450,5,1)","v":"0"},"",51260,{"$f":"'F6'!AX264","v":2428837.14}]
["5","1","2","6",{"$f":"MID(G451,5,1)","v":"0"},"1","51260-1",{"$f":"'F6'!AX265","v":2428837.14}]
["5","1","2","6",{"$f":"MID(G452,5,1)","v":"0"},"2","51260-2",{"$f":"'F6'!AX266","v":0}]
[{"$f":"MID(G453,1,1)","v":"5"},{"$f":"MID(G453,2,1)","v":"1"},{"$f":"MID(G453,3,1)","v":"2"},{"$f":"MID(G453,4,1)","v":"7"},{"$f":"MID(G453,5,1)","v":"0"},"",51270,{"$f":"'F6'!AX267","v":50463.12}]
["5","1","2","7",{"$f":"MID(G454,5,1)","v":"0"},"1","51270-1",{"$f":"'F6'!AX268","v":27685.72}]
["5","1","2","7",{"$f":"MID(G455,5,1)","v":"0"},"2","51270-2",{"$f":"'F6'!AX269","v":0}]
["5","1","2","7",{"$f":"MID(G456,5,1)","v":"0"},"3","51270-3",{"$f":"'F6'!AX270","v":22777.4}]
["5","1","2","7",{"$f":"MID(G457,5,1)","v":"0"},"4","51270-4",{"$f":"'F6'!AX271","v":0}]
["5","1","2","7",{"$f":"MID(G458,5,1)","v":"0"},"5","51270-5",{"$f":"'F6'!AX272","v":0}]
["5","1","2","8",{"$f":"MID(G459,5,1)","v":"0"},"",51280,{"$f":"'F6'!AX273","v":198109.25}]
["5","1","2","8",{"$f":"MID(G460,5,1)","v":"0"},"1","51280-1",{"$f":"'F6'!AX274","v":0}]
["5","1","2","8",{"$f":"MID(G461,5,1)","v":"0"},"2","51280-2",{"$f":"'F6'!AX275","v":198109.25}]
["5","1","2","8",{"$f":"MID(G462,5,1)","v":"0"},"3","51280-3",{"$f":"'F6'!AX276","v":0}]
["5","1","2","9",{"$f":"MID(G463,5,1)","v":"0"},"",51290,{"$f":"'F6'!AX277","v":1321481.75}]
["5","1","2","9",{"$f":"MID(G464,5,1)","v":"0"},"1","51290-1",{"$f":"'F6'!AX278","v":118252.15}]
["5","1","2","9",{"$f":"MID(G465,5,1)","v":"0"},"2","51290-2",{"$f":"'F6'!AX279","v":0}]
["5","1","2","9",{"$f":"MID(G466,5,1)","v":"0"},"3","51290-3",{"$f":"'F6'!AX280","v":21381.99}]
["5","1","2","9",{"$f":"MID(G467,5,1)","v":"0"},"4","51290-4",{"$f":"'F6'!AX281","v":0}]
["5","1","2","9",{"$f":"MID(G468,5,1)","v":"0"},"5","51290-5",{"$f":"'F6'!AX282","v":0}]
["5","1","2","9",{"$f":"MID(G469,5,1)","v":"0"},"6","51290-6",{"$f":"'F6'!AX283","v":493793.21}]
["5","1","2","9",{"$f":"MID(G470,5,1)","v":"0"},"7","51290-7",{"$f":"'F6'!AX284","v":0}]
["5","1","2","9",{"$f":"MID(G471,5,1)","v":"0"},"8","51290-8",{"$f":"'F6'!AX285","v":688054.4}]
["5","1","2","9",{"$f":"MID(G472,5,1)","v":"0"},"9","51290-9",{"$f":"'F6'!AX286","v":0}]
["5","1","3","0",{"$f":"MID(G473,5,1)","v":"0"},"",51300,{"$f":"'F6'!AX287","v":6191318.5999999996}]
["5","1","3","1",{"$f":"MID(G474,5,1)","v":"0"},"",51310,{"$f":"'F6'!AX288","v":3665869.29}]
["5","1","3","1",{"$f":"MID(G475,5,1)","v":"0"},"1","51310-1",{"$f":"'F6'!AX289","v":3531888}]
["5","1","3","1",{"$f":"MID(G476,5,1)","v":"0"},"2","51310-2",{"$f":"'F6'!AX290","v":2320.54}]
["5","1","3","1",{"$f":"MID(G477,5,1)","v":"0"},"3","51310-3",{"$f":"'F6'!AX291","v":5976}]
["5","1","3","1",{"$f":"MID(G478,5,1)","v":"0"},"4","51310-4",{"$f":"'F6'!AX292","v":56969}]
["5","1","3","1",{"$f":"MID(G479,5,1)","v":"0"},"5","51310-5",{"$f":"'F6'!AX293","v":400}]
["5","1","3","1",{"$f":"MID(G480,5,1)","v":"0"},"6","51310-6",{"$f":"'F6'!AX294","v":0}]
["5","1","3","1",{"$f":"MID(G481,5,1)","v":"0"},"7","51310-7",{"$f":"'F6'!AX295","v":66925.67}]
["5","1","3","1",{"$f":"MID(G482,5,1)","v":"0"},"8","51310-8",{"$f":"'F6'!AX296","v":1390.08}]
["5","1","3","1",{"$f":"MID(G483,5,1)","v":"0"},"9","51310-9",{"$f":"'F6'!AX297","v":0}]
["5","1","3","2",{"$f":"MID(G484,5,1)","v":"0"},"",51320,{"$f":"'F6'!AX298","v":275136}]
["5","1","3","2",{"$f":"MID(G485,5,1)","v":"0"},"1","51320-1",{"$f":"'F6'!AX299","v":0}]
["5","1","3","2",{"$f":"MID(G486,5,1)","v":"0"},"2","51320-2",{"$f":"'F6'!AX300","v":49700}]
["5","1","3","2",{"$f":"MID(G487,5,1)","v":"0"},"3","51320-3",{"$f":"'F6'!AX301","v":5568}]
["5","1","3","2",{"$f":"MID(G488,5,1)","v":"0"},"4","51320-4",{"$f":"'F6'!AX302","v":0}]
["5","1","3","2",{"$f":"MID(G489,5,1)","v":"0"},"5","51320-5",{"$f":"'F6'!AX303","v":6380}]
["5","1","3","2",{"$f":"MID(G490,5,1)","v":"0"},"6","51320-6",{"$f":"'F6'!AX304","v":213488}]
["5","1","3","2",{"$f":"MID(G491,5,1)","v":"0"},"7","51320-7",{"$f":"'F6'!AX305","v":0}]
["5","1","3","2",{"$f":"MID(G492,5,1)","v":"0"},"8","51320-8",{"$f":"'F6'!AX306","v":0}]
["5","1","3","2",{"$f":"MID(G493,5,1)","v":"0"},"9","51320-9",{"$f":"'F6'!AX307","v":0}]
["5","1","3","3",{"$f":"MID(G494,5,1)","v":"0"},"",51330,{"$f":"'F6'!AX308","v":104052}]
["5","1","3","3",{"$f":"MID(G495,5,1)","v":"0"},"1","51330-1",{"$f":"'F6'!AX309","v":0}]
["5","1","3","3",{"$f":"MID(G496,5,1)","v":"0"},"2","51330-2",{"$f":"'F6'!AX310","v":28768}]
["5","1","3","3",{"$f":"MID(G497,5,1)","v":"0"},"3","51330-3",{"$f":"'F6'!AX311","v":0}]
["5","1","3","3",{"$f":"MID(G498,5,1)","v":"0"},"4","51330-4",{"$f":"'F6'!AX312","v":0}]
["5","1","3","3",{"$f":"MID(G499,5,1)","v":"0"},"5","51330-5",{"$f":"'F6'!AX313","v":0}]
["5","1","3","3",{"$f":"MID(G500,5,1)","v":"0"},"6","51330-6",{"$f":"'F6'!AX314","v":0}]
["5","1","3","3",{"$f":"MID(G501,5,1)","v":"0"},"7","51330-7",{"$f":"'F6'!AX315","v":0}]
["5","1","3","3",{"$f":"MID(G502,5,1)","v":"0"},"8","51330-8",{"$f":"'F6'!AX316","v":0}]
["5","1","3","3",{"$f":"MID(G503,5,1)","v":"0"},"9","51330-9",{"$f":"'F6'!AX317","v":75284}]
["5","1","3","4",{"$f":"MID(G504,5,1)","v":"0"},"",51340,{"$f":"'F6'!AX318","v":47530.039999999994}]
["5","1","3","4",{"$f":"MID(G505,5,1)","v":"0"},"1","51340-1",{"$f":"'F6'!AX319","v":4150.9399999999996}]
["5","1","3","4",{"$f":"MID(G506,5,1)","v":"0"},"2","51340-2",{"$f":"'F6'!AX320","v":0}]
["5","1","3","4",{"$f":"MID(G507,5,1)","v":"0"},"3","51340-3",{"$f":"'F6'!AX321","v":0}]
["5","1","3","4",{"$f":"MID(G508,5,1)","v":"0"},"4","51340-4",{"$f":"'F6'!AX322","v":23516.1}]
["5","1","3","4",{"$f":"MID(G509,5,1)","v":"0"},"5","51340-5",{"$f":"'F6'!AX323","v":11743}]
["5","1","3","4",{"$f":"MID(G510,5,1)","v":"0"},"6","51340-6",{"$f":"'F6'!AX324","v":0}]
["5","1","3","4",{"$f":"MID(G511,5,1)","v":"0"},"7","51340-7",{"$f":"'F6'!AX325","v":8120}]
["5","1","3","4",{"$f":"MID(G512,5,1)","v":"0"},"8","51340-8",{"$f":"'F6'!AX326","v":0}]
["5","1","3","4",{"$f":"MID(G513,5,1)","v":"0"},{"$f":"MID(G513,7,1)","v":"9"},"51340-9",{"$f":"'F6'!AX327","v":0}]
["5","1","3","5",{"$f":"MID(G514,5,1)","v":"0"},"",51350,{"$f":"'F6'!AX328","v":878866.75}]
["5","1","3","5",{"$f":"MID(G515,5,1)","v":"0"},"1","51350-1",{"$f":"'F6'!AX329","v":522764.2}]
["5","1","3","5",{"$f":"MID(G516,5,1)","v":"0"},"2","51350-2",{"$f":"'F6'!AX330","v":21460}]
[{"$f":"MID(G517,1,1)","v":"5"},{"$f":"MID(G517,2,1)","v":"1"},{"$f":"MID(G517,3,1)","v":"3"},{"$f":"MID(G517,4,1)","v":"5"},{"$f":"MID(G517,5,1)","v":"0"},"3","51350-3",{"$f":"'F6'!AX331","v":2088}]
["5","1","3","5",{"$f":"MID(G518,5,1)","v":"0"},"4","51350-4",{"$f":"'F6'!AX332","v":0}]
["5","1","3","5",{"$f":"MID(G519,5,1)","v":"0"},"5","51350-5",{"$f":"'F6'!AX333","v":49983.98}]
["5","1","3","5",{"$f":"MID(G520,5,1)","v":"0"},"6","51350-6",{"$f":"'F6'!AX334","v":0}]
["5","1","3","5",{"$f":"MID(G521,5,1)","v":"0"},"7","51350-7",{"$f":"'F6'!AX335","v":282570.57}]
["5","1","3","5",{"$f":"MID(G522,5,1)","v":"0"},"8","51350-8",{"$f":"'F6'!AX336","v":0}]
["5","1","3","5",{"$f":"MID(G523,5,1)","v":"0"},"9","51350-9",{"$f":"'F6'!AX337","v":0}]
["5","1","3","6",{"$f":"MID(G524,5,1)","v":"0"},"",51360,{"$f":"'F6'!AX338","v":0}]
["5","1","3","6",{"$f":"MID(G525,5,1)","v":"0"},"1","51360-1",{"$f":"'F6'!AX339","v":0}]
["5","1","3","6",{"$f":"MID(G526,5,1)","v":"0"},"2","51360-2",{"$f":"'F6'!AX340","v":0}]
["5","1","3","6",{"$f":"MID(G527,5,1)","v":"0"},"3","51360-3",{"$f":"'F6'!AX341","v":0}]
["5","1","3","6",{"$f":"MID(G528,5,1)","v":"0"},"4","51360-4",{"$f":"'F6'!AX342","v":0}]
["5","1","3","6",{"$f":"MID(G529,5,1)","v":"0"},"5","51360-5",{"$f":"'F6'!AX343","v":0}]
["5","1","3","6",{"$f":"MID(G530,5,1)","v":"0"},"6","51360-6",{"$f":"'F6'!AX344","v":0}]
["5","1","3","6",{"$f":"MID(G531,5,1)","v":"0"},"7","51360-7",{"$f":"'F6'!AX345","v":0}]
["5","1","3","7",{"$f":"MID(G532,5,1)","v":"0"},"",51370,{"$f":"'F6'!AX346","v":120755.97}]
["5","1","3","7",{"$f":"MID(G533,5,1)","v":"0"},"1","51370-1",{"$f":"'F6'!AX347","v":16009}]
["5","1","3","7",{"$f":"MID(G534,5,1)","v":"0"},"2","51370-2",{"$f":"'F6'!AX348","v":0}]
["5","1","3","7",{"$f":"MID(G535,5,1)","v":"0"},"3","51370-3",{"$f":"'F6'!AX349","v":0}]
["5","1","3","7",{"$f":"MID(G536,5,1)","v":"0"},"4","51370-4",{"$f":"'F6'!AX350","v":0}]
["5","1","3","7",{"$f":"MID(G537,5,1)","v":"0"},"5","51370-5",{"$f":"'F6'!AX351","v":94746.97}]
["5","1","3","7",{"$f":"MID(G538,5,1)","v":"0"},"6","51370-6",{"$f":"'F6'!AX352","v":0}]
["5","1","3","7",{"$f":"MID(G539,5,1)","v":"0"},"7","51370-7",{"$f":"'F6'!AX353","v":0}]
["5","1","3","7",{"$f":"MID(G540,5,1)","v":"0"},"8","51370-8",{"$f":"'F6'!AX354","v":0}]
["5","1","3","7",{"$f":"MID(G541,5,1)","v":"0"},"9","51370-9",{"$f":"'F6'!AX355","v":10000}]
["5","1","3","8",{"$f":"MID(G542,5,1)","v":"0"},"",51380,{"$f":"'F6'!AX356","v":518520.32000000001}]
["5","1","3","8",{"$f":"MID(G543,5,1)","v":"0"},"1","51380-1",{"$f":"'F6'!AX357","v":0}]
["5","1","3","8",{"$f":"MID(G544,5,1)","v":"0"},"2","51380-2",{"$f":"'F6'!AX358","v":518520.32000000001}]
["5","1","3","8",{"$f":"MID(G545,5,1)","v":"0"},"3","51380-3",{"$f":"'F6'!AX359","v":0}]
["5","1","3","8",{"$f":"MID(G546,5,1)","v":"0"},"4","51380-4",{"$f":"'F6'!AX360","v":0}]
["5","1","3","8",{"$f":"MID(G547,5,1)","v":"0"},"5","51380-5",{"$f":"'F6'!AX361","v":0}]
["5","1","3","9",{"$f":"MID(G548,5,1)","v":"0"},"",51390,{"$f":"'F6'!AX362","v":580588.23}]
["5","1","3","9",{"$f":"MID(G549,5,1)","v":"0"},"1","51390-1",{"$f":"'F6'!AX363","v":0}]
["5","1","3","9",{"$f":"MID(G550,5,1)","v":"0"},"2","51390-2",{"$f":"'F6'!AX364","v":580575.41}]
["5","1","3","9",{"$f":"MID(G551,5,1)","v":"0"},"3","51390-3",{"$f":"'F6'!AX365","v":0}]
["5","1","3","9",{"$f":"MID(G552,5,1)","v":"0"},"4","51390-4",{"$f":"'F6'!AX366","v":12.82}]
["5","1","3","9",{"$f":"MID(G553,5,1)","v":"0"},"5","51390-5",{"$f":"'F6'!AX367","v":0}]
["5","1","3","9",{"$f":"MID(G554,5,1)","v":"0"},"6","51390-6",{"$f":"'F6'!AX368","v":0}]
["5","1","3","9",{"$f":"MID(G555,5,1)","v":"0"},"7","51390-7",{"$f":"'F6'!AX369","v":0}]
["5","1","3","9",{"$f":"MID(G556,5,1)","v":"0"},"8","51390-8",{"$f":"'F6'!AX370","v":0}]
["5","1","3","9",{"$f":"MID(G557,5,1)","v":"0"},"9","51390-9",{"$f":"'F6'!AX371","v":0}]
["5","2","0","0",{"$f":"MID(G558,5,1)","v":"0"},"",52000,{"$f":"'F6'!AX372","v":3161215.0999999996}]
["5","2","1","0",{"$f":"MID(G559,5,1)","v":"0"},"",52100,{"$f":"'F6'!AX373","v":0}]
["5","2","1","1",{"$f":"MID(G560,5,1)","v":"0"},"",52110,{"$f":"'F6'!AX374","v":0}]
["5","2","1","1",{"$f":"MID(G561,5,1)","v":"0"},"1","52110-1",{"$f":"'F6'!AX375","v":0}]
["5","2","1","1",{"$f":"MID(G562,5,1)","v":"0"},"2","52110-2",{"$f":"'F6'!AX376","v":0}]
["5","2","1","1",{"$f":"MID(G563,5,1)","v":"0"},"3","52110-3",{"$f":"'F6'!AX377","v":0}]
["5","2","1","1",{"$f":"MID(G564,5,1)","v":"0"},"4","52110-4",{"$f":"'F6'!AX378","v":0}]
["5","2","1","1",{"$f":"MID(G565,5,1)","v":"0"},"5","52110-5",{"$f":"'F6'!AX379","v":0}]
["5","2","1","1",{"$f":"MID(G566,5,1)","v":"0"},"6","52110-6",{"$f":"'F6'!AX380","v":0}]
["5","2","1","1",{"$f":"MID(G567,5,1)","v":"0"},"7","52110-7",{"$f":"'F6'!AX381","v":0}]
["5","2","1","1",{"$f":"MID(G568,5,1)","v":"0"},"8","52110-8",{"$f":"'F6'!AX382","v":0}]
["5","2","1","1",{"$f":"MID(G569,5,1)","v":"0"},"9","52110-9",{"$f":"'F6'!AX383","v":0}]
["5","2","1","2",{"$f":"MID(G570,5,1)","v":"0"},"",52120,{"$f":"'F6'!AX384","v":0}]
["5","2","2","0",{"$f":"MID(G571,5,1)","v":"0"},"",52200,{"$f":"'F6'!AX385","v":1026835}]
["5","2","2","1",{"$f":"MID(G572,5,1)","v":"0"},"",52210,{"$f":"'F6'!AX386","v":1026835}]
["5","2","2","1",{"$f":"MID(G573,5,1)","v":"0"},"1","52210-1",{"$f":"'F6'!AX387","v":1026835}]
["5","2","2","1",{"$f":"MID(G574,5,1)","v":"0"},"2","52210-2",{"$f":"'F6'!AX388","v":0}]
["5","2","2","1",{"$f":"MID(G575,5,1)","v":"0"},"3","52210-3",{"$f":"'F6'!AX389","v":0}]
["5","2","2","2",{"$f":"MID(G576,5,1)","v":"0"},"1","52220-12",{"$f":"'F6'!AX390","v":0}]
["5","2","3","0",{"$f":"MID(G577,5,1)","v":"0"},{"$f":"MID(G577,7,1)","v":""},52300,{"$f":"'F6'!AX391","v":0}]
["5","2","3","1",{"$f":"MID(G578,5,1)","v":"0"},"",52310,{"$f":"'F6'!AX392","v":0}]
["5","2","3","1",{"$f":"MID(G579,5,1)","v":"0"},"1","52310-1",{"$f":"'F6'!AX393","v":0}]
["5","2","3","1",{"$f":"MID(G580,5,1)","v":"0"},"2","52310-2",{"$f":"'F6'!AX394","v":0}]
[{"$f":"MID(G581,1,1)","v":"5"},{"$f":"MID(G581,2,1)","v":"2"},{"$f":"MID(G581,3,1)","v":"3"},{"$f":"MID(G581,4,1)","v":"1"},{"$f":"MID(G581,5,1)","v":"0"},"3","52310-3",{"$f":"'F6'!AX395","v":0}]
["5","2","3","1",{"$f":"MID(G582,5,1)","v":"0"},"4","52310-4",{"$f":"'F6'!AX396","v":0}]
["5","2","3","1",{"$f":"MID(G583,5,1)","v":"0"},"5","52310-5",{"$f":"'F6'!AX397","v":0}]
["5","2","3","1",{"$f":"MID(G584,5,1)","v":"0"},"6","52310-6",{"$f":"'F6'!AX398","v":0}]
["5","2","3","1",{"$f":"MID(G585,5,1)","v":"0"},"7","52310-7",{"$f":"'F6'!AX399","v":0}]
["5","2","3","1",{"$f":"MID(G586,5,1)","v":"0"},"8","52310-8",{"$f":"'F6'!AX400","v":0}]
["5","2","3","2",{"$f":"MID(G587,5,1)","v":"0"},"",52320,{"$f":"'F6'!AX401","v":0}]
["5","2","3","2",{"$f":"MID(G588,5,1)","v":"0"},"1","52320-1",{"$f":"'F6'!AX402","v":0}]
["5","2","4","0",{"$f":"MID(G589,5,1)","v":"0"},"",52400,{"$f":"'F6'!AX403","v":1297007.8399999999}]
["5","2","4","1",{"$f":"MID(G590,5,1)","v":"0"},"",52410,{"$f":"'F6'!AX404","v":356255.63}]
["5","2","4","1",{"$f":"MID(G591,5,1)","v":"0"},"1","52410-1",{"$f":"'F6'!AX405","v":356255.63}]
["5","2","4","2",{"$f":"MID(G592,5,1)","v":"0"},"",52420,{"$f":"'F6'!AX406","v":2000}]
["5","2","4","2",{"$f":"MID(G593,5,1)","v":"0"},"1","52420-1",{"$f":"'F6'!AX407","v":2000}]
["5","2","4","3",{"$f":"MID(G594,5,1)","v":"0"},"",52430,{"$f":"'F6'!AX408","v":938752.21}]
["5","2","4","3",{"$f":"MID(G595,5,1)","v":"0"},"1","52430-1",{"$f":"'F6'!AX409","v":831975.21}]
["5","2","4","3",{"$f":"MID(G596,5,1)","v":"0"},"2","52430-2",{"$f":"'F6'!AX410","v":0}]
["5","2","4","3",{"$f":"MID(G597,5,1)","v":"0"},"3","52430-3",{"$f":"'F6'!AX411","v":106777}]
["5","2","4","3",{"$f":"MID(G598,5,1)","v":"0"},"4","52430-4",{"$f":"'F6'!AX412","v":0}]
["5","2","4","3",{"$f":"MID(G599,5,1)","v":"0"},"5","52430-5",{"$f":"'F6'!AX413","v":0}]
["5","2","4","4",{"$f":"MID(G600,5,1)","v":"0"},"",52440,{"$f":"'F6'!AX414","v":0}]
["5","2","4","4",{"$f":"MID(G601,5,1)","v":"0"},"1","52440-1",{"$f":"'F6'!AX415","v":0}]
["5","2","5","0",{"$f":"MID(G602,5,1)","v":"0"},"",52500,{"$f":"'F6'!AX416","v":837372.26}]
["5","2","5","1",{"$f":"MID(G603,5,1)","v":"0"},"",52510,{"$f":"'F6'!AX417","v":837372.26}]
["5","2","5","1",{"$f":"MID(G604,5,1)","v":"0"},"1","52510-1",{"$f":"'F6'!AX418","v":837372.26}]
["5","2","5","2",{"$f":"MID(G605,5,1)","v":"0"},"",52520,{"$f":"'F6'!AX419","v":0}]
["5","2","5","2",{"$f":"MID(G606,5,1)","v":"0"},"1","52520-1",{"$f":"'F6'!AX420","v":0}]
["5","2","5","9",{"$f":"MID(G607,5,1)","v":"0"},"",52590,{"$f":"'F6'!AX421","v":0}]
["5","2","5","9",{"$f":"MID(G608,5,1)","v":"0"},"1","52590-1",{"$f":"'F6'!AX422","v":0}]
["5","2","6","0",{"$f":"MID(G609,5,1)","v":"0"},"",52600,{"$f":"'F6'!AX423","v":0}]
["5","2","6","1",{"$f":"MID(G610,5,1)","v":"0"},"",52610,{"$f":"'F6'!AX424","v":0}]
["5","2","6","1",{"$f":"MID(G611,5,1)","v":"0"},"1","52610-1",{"$f":"'F6'!AX425","v":0}]
["5","2","6","1",{"$f":"MID(G612,5,1)","v":"0"},"2","52610-2",{"$f":"'F6'!AX426","v":0}]
["5","2","6","1",{"$f":"MID(G613,5,1)","v":"0"},"3","52610-3",{"$f":"'F6'!AX427","v":0}]
["5","2","6","2",{"$f":"MID(G614,5,1)","v":"0"},"",52620,{"$f":"'F6'!AX428","v":0}]
["5","2","6","1",{"$f":"MID(G615,5,1)","v":"0"},"1","52610-1",{"$f":"'F6'!AX429","v":0}]
["5","2","6","1",{"$f":"MID(G616,5,1)","v":"0"},"2","52610-2",{"$f":"'F6'!AX430","v":0}]
["5","2","6","1",{"$f":"MID(G617,5,1)","v":"0"},"3","52610-3",{"$f":"'F6'!AX431","v":0}]
["5","2","6","1",{"$f":"MID(G618,5,1)","v":"0"},"4","52610-4",{"$f":"'F6'!AX432","v":0}]
["5","2","7","0",{"$f":"MID(G619,5,1)","v":"0"},"",52700,{"$f":"'F6'!AX433","v":0}]
["5","2","7","1",{"$f":"MID(G620,5,1)","v":"0"},"",52710,{"$f":"'F6'!AX434","v":0}]
["5","2","7","1",{"$f":"MID(G621,5,1)","v":"0"},"1","52710-1",{"$f":"'F6'!AX435","v":0}]
["5","2","8","0",{"$f":"MID(G622,5,1)","v":"0"},"",52800,{"$f":"'F6'!AX436","v":0}]
["5","2","8","1",{"$f":"MID(G623,5,1)","v":"0"},"",52810,{"$f":"'F6'!AX437","v":0}]
["5","2","8","1",{"$f":"MID(G624,5,1)","v":"0"},"1","52810-1",{"$f":"'F6'!AX438","v":0}]
["5","2","8","2",{"$f":"MID(G625,5,1)","v":"0"},"",52820,{"$f":"'F6'!AX439","v":0}]
["5","2","8","2",{"$f":"MID(G626,5,1)","v":"0"},"1","52820-1",{"$f":"'F6'!AX440","v":0}]
["5","2","8","3",{"$f":"MID(G627,5,1)","v":"0"},"",52830,{"$f":"'F6'!AX441","v":0}]
["5","2","8","3",{"$f":"MID(G628,5,1)","v":"0"},"1","52830-1",{"$f":"'F6'!AX442","v":0}]
["5","2","8","4",{"$f":"MID(G629,5,1)","v":"0"},"",52840,{"$f":"'F6'!AX443","v":0}]
["5","2","8","4",{"$f":"MID(G630,5,1)","v":"0"},"1","52840-1",{"$f":"'F6'!AX444","v":0}]
["5","2","8","5",{"$f":"MID(G631,5,1)","v":"0"},"",52850,{"$f":"'F6'!AX445","v":0}]
["5","2","8","5",{"$f":"MID(G632,5,1)","v":"0"},"1","52850-1",{"$f":"'F6'!AX446","v":0}]
["5","2","9","0",{"$f":"MID(G633,5,1)","v":"0"},"",52900,{"$f":"'F6'!AX447","v":0}]
["5","2","9","1",{"$f":"MID(G634,5,1)","v":"0"},"",52910,{"$f":"'F6'!AX448","v":0}]
["5","2","9","1",{"$f":"MID(G635,5,1)","v":"0"},"1","52910-1",{"$f":"'F6'!AX449","v":0}]
["5","2","9","1",{"$f":"MID(G636,5,1)","v":"0"},"2","52910-2",{"$f":"'F6'!AX450","v":0}]
["5","2","9","2",{"$f":"MID(G637,5,1)","v":"0"},"",52920,{"$f":"'F6'!AX451","v":0}]
["5","2","9","2",{"$f":"MID(G638,5,1)","v":"0"},"1","52920-1",{"$f":"'F6'!AX452","v":0}]
["5","3","0","0",{"$f":"MID(G639,5,1)","v":"0"},"",53000,{"$f":"'F6'!AX453","v":0}]
["5","3","1","0",{"$f":"MID(G640,5,1)","v":"0"},"",53100,{"$f":"'F6'!AX454","v":0}]
["5","3","1","1",{"$f":"MID(G641,5,1)","v":"0"},{"$f":"MID(G641,7,1)","v":""},53110,{"$f":"'F6'!AX455","v":0}]
["5","3","1","1",{"$f":"MID(G642,5,1)","v":"0"},"1","53110-1",{"$f":"'F6'!AX456","v":0}]
["5","3","1","1",{"$f":"MID(G643,5,1)","v":"0"},"2","53110-2",{"$f":"'F6'!AX457","v":0}]
["5","3","1","1",{"$f":"MID(G644,5,1)","v":"0"},"3","53110-3",{"$f":"'F6'!AX458","v":0}]
[{"$f":"MID(G645,1,1)","v":"5"},{"$f":"MID(G645,2,1)","v":"3"},{"$f":"MID(G645,3,1)","v":"1"},{"$f":"MID(G645,4,1)","v":"2"},{"$f":"MID(G645,5,1)","v":"0"},"",53120,{"$f":"'F6'!AX459","v":0}]
["5","3","1","2",{"$f":"MID(G646,5,1)","v":"0"},"1","53120-1",{"$f":"'F6'!AX460","v":0}]
["5","3","1","2",{"$f":"MID(G647,5,1)","v":"0"},"2","53120-2",{"$f":"'F6'!AX461","v":0}]
["5","3","1","2",{"$f":"MID(G648,5,1)","v":"0"},"3","53120-3",{"$f":"'F6'!AX462","v":0}]
["5","3","2","0",{"$f":"MID(G649,5,1)","v":"0"},"",53200,{"$f":"'F6'!AX463","v":0}]
["5","3","2","1",{"$f":"MID(G650,5,1)","v":"0"},"",53210,{"$f":"'F6'!AX464","v":0}]
["5","3","2","1",{"$f":"MID(G651,5,1)","v":"0"},"1","53210-1",{"$f":"'F6'!AX465","v":0}]
["5","3","2","1",{"$f":"MID(G652,5,1)","v":"0"},"2","53210-2",{"$f":"'F6'!AX466","v":0}]
["5","3","2","1",{"$f":"MID(G653,5,1)","v":"0"},"3","53210-3",{"$f":"'F6'!AX467","v":0}]
["5","3","2","1",{"$f":"MID(G654,5,1)","v":"0"},"4","53210-4",{"$f":"'F6'!AX468","v":0}]
["5","3","2","2",{"$f":"MID(G655,5,1)","v":"0"},"",53220,{"$f":"'F6'!AX469","v":0}]
["5","3","2","2",{"$f":"MID(G656,5,1)","v":"0"},"1","53220-1",{"$f":"'F6'!AX470","v":0}]
["5","3","3","0",{"$f":"MID(G657,5,1)","v":"0"},"",53300,{"$f":"'F6'!AX471","v":0}]
["5","3","3","1",{"$f":"MID(G658,5,1)","v":"0"},"",53310,{"$f":"'F6'!AX472","v":0}]
["5","3","3","1",{"$f":"MID(G659,5,1)","v":"0"},"1","53310-1",{"$f":"'F6'!AX473","v":0}]
["5","3","3","2",{"$f":"MID(G660,5,1)","v":"0"},"",53320,{"$f":"'F6'!AX474","v":0}]
["5","3","3","2",{"$f":"MID(G661,5,1)","v":"0"},"1","53320-1",{"$f":"'F6'!AX475","v":0}]
["5","3","3","2",{"$f":"MID(G662,5,1)","v":"0"},"2","53320-2",{"$f":"'F6'!AX476","v":0}]
["5","4","0","0",{"$f":"MID(G663,5,1)","v":"0"},"",54000,{"$f":"'F6'!AX477","v":0}]
["5","4","1","0",{"$f":"MID(G664,5,1)","v":"0"},"",54100,{"$f":"'F6'!AX478","v":0}]
["5","4","1","1",{"$f":"MID(G665,5,1)","v":"0"},"",54110,{"$f":"'F6'!AX479","v":0}]
["5","4","1","1",{"$f":"MID(G666,5,1)","v":"0"},"1","54110-1",{"$f":"'F6'!AX480","v":0}]
["5","4","1","1",{"$f":"MID(G667,5,1)","v":"0"},"2","54110-2",{"$f":"'F6'!AX481","v":0}]
["5","4","1","1",{"$f":"MID(G668,5,1)","v":"0"},"3","54110-3",{"$f":"'F6'!AX482","v":0}]
["5","4","1","2",{"$f":"MID(G669,5,1)","v":"0"},"",54120,{"$f":"'F6'!AX483","v":0}]
["5","4","1","2",{"$f":"MID(G670,5,1)","v":"0"},"1","54120-1",{"$f":"'F6'!AX484","v":0}]
["5","4","1","2",{"$f":"MID(G671,5,1)","v":"0"},"2","54120-2",{"$f":"'F6'!AX485","v":0}]
["5","4","1","2",{"$f":"MID(G672,5,1)","v":"0"},"3","54120-3",{"$f":"'F6'!AX486","v":0}]
["5","4","1","2",{"$f":"MID(G673,5,1)","v":"0"},"4","54120-4",{"$f":"'F6'!AX487","v":0}]
["5","4","1","2",{"$f":"MID(G674,5,1)","v":"0"},"5","54120-5",{"$f":"'F6'!AX488","v":0}]
["5","4","2","0",{"$f":"MID(G675,5,1)","v":"0"},"",54200,{"$f":"'F6'!AX489","v":0}]
["5","4","2","1",{"$f":"MID(G676,5,1)","v":"0"},"",54210,{"$f":"'F6'!AX490","v":0}]
["5","4","2","1",{"$f":"MID(G677,5,1)","v":"0"},"1","54210-1",{"$f":"'F6'!AX491","v":0}]
["5","4","2","2",{"$f":"MID(G678,5,1)","v":"0"},"",54220,{"$f":"'F6'!AX492","v":0}]
["5","4","2","2",{"$f":"MID(G679,5,1)","v":"0"},"1","54220-1",{"$f":"'F6'!AX493","v":0}]
["5","4","3","0",{"$f":"MID(G680,5,1)","v":"0"},"",54300,{"$f":"'F6'!AX494","v":0}]
["5","4","3","1",{"$f":"MID(G681,5,1)","v":"0"},"",54310,{"$f":"'F6'!AX495","v":0}]
["5","4","3","1",{"$f":"MID(G682,5,1)","v":"0"},"1","54310-1",{"$f":"'F6'!AX496","v":0}]
["5","4","3","2",{"$f":"MID(G683,5,1)","v":"0"},"",54320,{"$f":"'F6'!AX497","v":0}]
["5","4","3","2",{"$f":"MID(G684,5,1)","v":"0"},"1","54320-1",{"$f":"'F6'!AX498","v":0}]
["5","4","4","0",{"$f":"MID(G685,5,1)","v":"0"},"",54400,{"$f":"'F6'!AX499","v":0}]
["5","4","4","1",{"$f":"MID(G686,5,1)","v":"0"},"",54410,{"$f":"'F6'!AX500","v":0}]
["5","4","4","1",{"$f":"MID(G687,5,1)","v":"0"},"1","54410-1",{"$f":"'F6'!AX501","v":0}]
["5","4","5","0",{"$f":"MID(G688,5,1)","v":"0"},"",54500,{"$f":"'F6'!AX502","v":0}]
["5","4","5","1",{"$f":"MID(G689,5,1)","v":"0"},"",54510,{"$f":"'F6'!AX503","v":0}]
["5","4","5","1",{"$f":"MID(G690,5,1)","v":"0"},"1","54510-1",{"$f":"'F6'!AX504","v":0}]
["5","4","5","2",{"$f":"MID(G691,5,1)","v":"0"},"",54520,{"$f":"'F6'!AX505","v":0}]
["5","4","5","2",{"$f":"MID(G692,5,1)","v":"0"},"1","54520-1",{"$f":"'F6'!AX506","v":0}]
["5","5","0","0",{"$f":"MID(G693,5,1)","v":"0"},"",55000,{"$f":"'F6'!AX507","v":0}]
["5","5","1","0",{"$f":"MID(G694,5,1)","v":"0"},"",55100,{"$f":"'F6'!AX508","v":0}]
["5","5","1","1",{"$f":"MID(G695,5,1)","v":"0"},"",55110,{"$f":"'F6'!AX509","v":0}]
["5","5","1","2",{"$f":"MID(G696,5,1)","v":"0"},"",55120,{"$f":"'F6'!AX510","v":0}]
["5","5","1","3",{"$f":"MID(G697,5,1)","v":"0"},"",55130,{"$f":"'F6'!AX511","v":0}]
["5","5","1","4",{"$f":"MID(G698,5,1)","v":"0"},"",55140,{"$f":"'F6'!AX512","v":0}]
["5","5","1","5",{"$f":"MID(G699,5,1)","v":"0"},"",55150,{"$f":"'F6'!AX513","v":0}]
["5","5","1","6",{"$f":"MID(G700,5,1)","v":"0"},"",55160,{"$f":"'F6'!AX514","v":0}]
["5","5","1","7",{"$f":"MID(G701,5,1)","v":"0"},"",55170,{"$f":"'F6'!AX515","v":0}]
["5","5","1","8",{"$f":"MID(G702,5,1)","v":"0"},"",55180,{"$f":"'F6'!AX516","v":0}]
["5","5","2","0",{"$f":"MID(G703,5,1)","v":"0"},"",55200,{"$f":"'F6'!AX517","v":0}]
["5","5","2","1",{"$f":"MID(G704,5,1)","v":"0"},"",55210,{"$f":"'F6'!AX518","v":0}]
["5","5","2","2",{"$f":"MID(G705,5,1)","v":"0"},{"$f":"MID(G705,7,1)","v":""},55220,{"$f":"'F6'!AX519","v":0}]
["5","5","3","0",{"$f":"MID(G706,5,1)","v":"0"},"",55300,{"$f":"'F6'!AX520","v":0}]
["5","5","3","1",{"$f":"MID(G707,5,1)","v":"0"},"",55310,{"$f":"'F6'!AX521","v":0}]
["5","5","3","2",{"$f":"MID(G708,5,1)","v":"0"},"",55320,{"$f":"'F6'!AX522","v":0}]
[{"$f":"MID(G709,1,1)","v":"5"},{"$f":"MID(G709,2,1)","v":"5"},{"$f":"MID(G709,3,1)","v":"3"},{"$f":"MID(G709,4,1)","v":"3"},{"$f":"MID(G709,5,1)","v":"0"},"",55330,{"$f":"'F6'!AX523","v":0}]
["5","5","3","4",{"$f":"MID(G710,5,1)","v":"0"},"",55340,{"$f":"'F6'!AX524","v":0}]
["5","5","3","5",{"$f":"MID(G711,5,1)","v":"0"},"",55350,{"$f":"'F6'!AX525","v":0}]
["5","5","9","0",{"$f":"MID(G712,5,1)","v":"0"},"",55900,{"$f":"'F6'!AX526","v":0}]
["5","5","9","1",{"$f":"MID(G713,5,1)","v":"0"},"",55910,{"$f":"'F6'!AX527","v":0}]
["5","5","9","2",{"$f":"MID(G714,5,1)","v":"0"},"",55920,{"$f":"'F6'!AX528","v":0}]
["5","5","9","3",{"$f":"MID(G715,5,1)","v":"0"},"",55930,{"$f":"'F6'!AX529","v":0}]
["5","5","9","4",{"$f":"MID(G716,5,1)","v":"0"},"",55940,{"$f":"'F6'!AX530","v":0}]
["5","5","9","5",{"$f":"MID(G717,5,1)","v":"0"},"",55950,{"$f":"'F6'!AX531","v":0}]
["5","5","9","6",{"$f":"MID(G718,5,1)","v":"0"},"",55960,{"$f":"'F6'!AX532","v":0}]
["5","5","9","7",{"$f":"MID(G719,5,1)","v":"0"},"",55970,{"$f":"'F6'!AX533","v":0}]
["5","5","9","8",{"$f":"MID(G720,5,1)","v":"0"},"",55980,{"$f":"'F6'!AX534","v":0}]
["5","5","9","9",{"$f":"MID(G721,5,1)","v":"0"},"",55990,{"$f":"'F6'!AX535","v":0}]
["5","6","0","0",{"$f":"MID(G722,5,1)","v":"0"},"",56000,{"$f":"'F6'!AX536","v":0}]
["5","6","1","0",{"$f":"MID(G723,5,1)","v":"0"},"",56100,{"$f":"'F6'!AX537","v":0}]
["5","6","1","1",{"$f":"MID(G724,5,1)","v":"0"},"",56110,{"$f":"'F6'!AX538","v":0}]
["6","1","0","0","0","",61000,{"$f":"'F6'!AX540","v":15577832.050000004}]
[null,null,null,null,null,null,"F2"]
[null,null,null,null,null,null,"Hacienda pública / patrimonio contribuido neto de 20XN-1",{"$f":"'F2'!C6","v":0},{"$f":"'F2'!D6","v":0},{"$f":"'F2'!E6","v":0},{"$f":"'F2'!F6","v":0},{"$f":"'F2'!G6","v":0}]
[null,null,null,null,null,null,"Aportaciones",{"$f":"'F2'!C7","v":0},{"$f":"'F2'!D7","v":0},{"$f":"'F2'!E7","v":0},{"$f":"'F2'!F7","v":0},{"$f":"'F2'!G7","v":0}]
[null,null,null,null,null,null,"Donaciones de capital",{"$f":"'F2'!C8","v":0},{"$f":"'F2'!D8","v":0},{"$f":"'F2'!E8","v":0},{"$f":"'F2'!F8","v":0},{"$f":"'F2'!G8","v":0}]
[null,null,null,null,null,null,"Actualización de la hacienda pública/patrimonio",{"$f":"'F2'!C9","v":0},{"$f":"'F2'!D9","v":0},{"$f":"'F2'!E9","v":0},{"$f":"'F2'!F9","v":0},{"$f":"'F2'!G9","v":0}]
[null,null,null,null,null,null,"Hacienda pública / patrimonio generado neto de 20XN-1",{"$f":"'F2'!C10","v":0},{"$f":"'F2'!D10","v":370873696.81},{"$f":"'F2'!E10","v":22631177.000000007},{"$f":"'F2'!F10","v":0},{"$f":"'F2'!G10","v":393504873.81}]
[null,null,null,null,null,null,"Resultados del ejercicio (ahorro/desahorro)",{"$f":"'F2'!C11","v":0},{"$f":"'F2'!D11","v":0},{"$f":"'F2'!E11","v":22631177.000000007},{"$f":"'F2'!F11","v":0},{"$f":"'F2'!G11","v":22631177.000000007}]
[null,null,null,null,null,null,"Resultados de ejercicios anteriores",{"$f":"'F2'!C12","v":0},{"$f":"'F2'!D12","v":292813425.75},{"$f":"'F2'!E12","v":0},{"$f":"'F2'!F12","v":0},{"$f":"'F2'!G12","v":292813425.75}]
[null,null,null,null,null,null,"Revalúos",{"$f":"'F2'!C13","v":0},{"$f":"'F2'!D13","v":77719390},{"$f":"'F2'!E13","v":0},{"$f":"'F2'!F13","v":0},{"$f":"'F2'!G13","v":77719390}]
[null,null,null,null,null,null,"Reservas",{"$f":"'F2'!C14","v":0},{"$f":"'F2'!D14","v":0},{"$f":"'F2'!E14","v":0},{"$f":"'F2'!F14","v":0},{"$f":"'F2'!G14","v":0}]
[null,null,null,null,null,null,"Rectificaciones de resultados de ejercicios anteriores",{"$f":"'F2'!C15","v":0},{"$f":"'F2'!D15","v":340881.06},{"$f":"'F2'!E15","v":0},{"$f":"'F2'!F15","v":0},{"$f":"'F2'!G15","v":340881.06}]
[null,null,null,null,null,null,"Exceso o insuficiencia en la actualización de la Hacienda pública/patrimonio neto 20XN-1",{"$f":"'F2'!C16","v":0},{"$f":"'F2'!D16","v":0},{"$f":"'F2'!E16","v":0},{"$f":"'F2'!F16","v":0},{"$f":"'F2'!G16","v":0}]
[null,null,null,null,null,null,"Resultado por posición monetaria ",{"$f":"'F2'!C17","v":0},{"$f":"'F2'!D17","v":0},{"$f":"'F2'!E17","v":0},{"$f":"'F2'!F17","v":0},{"$f":"'F2'!G17","v":0}]
[null,null,null,null,null,null,"Resultado por tenencia de activos no monetarios",{"$f":"'F2'!C18","v":0},{"$f":"'F2'!D18","v":0},{"$f":"'F2'!E18","v":0},{"$f":"'F2'!F18","v":0},{"$f":"'F2'!G18","v":0}]
[null,null,null,null,null,null,"Hacienda pública / patrimonio neto final de 20XN-1",{"$f":"'F2'!C19","v":0},{"$f":"'F2'!D19","v":370873696.81},{"$f":"'F2'!E19","v":22631177.000000007},{"$f":"'F2'!F19","v":0},{"$f":"'F2'!G19","v":393504873.81}]
[null,null,null,null,null,null,"Cambios en la hacienda pública/patrimonio contribuido neto de 20XN",{"$f":"'F2'!C20","v":0},{"$f":"'F2'!D20","v":0},{"$f":"'F2'!E20","v":0},{"$f":"'F2'!F20","v":0},{"$f":"'F2'!G20","v":0}]
[null,null,null,null,null,null,"Aportaciones",{"$f":"'F2'!C21","v":0},{"$f":"'F2'!D21","v":0},{"$f":"'F2'!E21","v":0},{"$f":"'F2'!F21","v":0},{"$f":"'F2'!G21","v":0}]
[null,null,null,null,null,null,"Donaciones de capital",{"$f":"'F2'!C22","v":0},{"$f":"'F2'!D22","v":0},{"$f":"'F2'!E22","v":0},{"$f":"'F2'!F22","v":0},{"$f":"'F2'!G22","v":0}]
[null,null,null,null,null,null,"Actualización de la hacienda pública/patrimonio",{"$f":"'F2'!C23","v":0},{"$f":"'F2'!D23","v":0},{"$f":"'F2'!E23","v":0},{"$f":"'F2'!F23","v":0},{"$f":"'F2'!G23","v":0}]
[null,null,null,null,null,null,"Variaciones de la hacienda pública/patrimonio generado neto de 20XN",{"$f":"'F2'!C24","v":0},{"$f":"'F2'!D24","v":22631177},{"$f":"'F2'!E24","v":-7053344.9500000067},{"$f":"'F2'!F24","v":0},{"$f":"'F2'!G24","v":15577832.049999993}]
[null,null,null,null,null,null,"Resultados del ejercicio (ahorro/desahorro)",{"$f":"'F2'!C25","v":0},{"$f":"'F2'!D25","v":0},{"$f":"'F2'!E25","v":15577832.050000001},{"$f":"'F2'!F25","v":0},{"$f":"'F2'!G25","v":15577832.050000001}]
[null,null,null,null,null,null,"Resultados de ejercicios anteriores",{"$f":"'F2'!C26","v":0},{"$f":"'F2'!D26","v":22631177},{"$f":"'F2'!E26","v":-22631177.000000007},{"$f":"'F2'!F26","v":0},{"$f":"'F2'!G26","v":0}]
[null,null,null,null,null,null,"Revalúos",{"$f":"'F2'!C27","v":0},{"$f":"'F2'!D27","v":0},{"$f":"'F2'!E27","v":0},{"$f":"'F2'!F27","v":0},{"$f":"'F2'!G27","v":0}]
[null,null,null,null,null,null,"Reservas",{"$f":"'F2'!C28","v":0},{"$f":"'F2'!D28","v":0},{"$f":"'F2'!E28","v":0},{"$f":"'F2'!F28","v":0},{"$f":"'F2'!G28","v":0}]
[null,null,null,null,null,null,"Rectificaciones de resultados de ejercicios anteriores",{"$f":"'F2'!C29","v":0},{"$f":"'F2'!D29","v":0},{"$f":"'F2'!E29","v":0},{"$f":"'F2'!F29","v":0},{"$f":"'F2'!G29","v":0}]
[null,null,null,null,null,null,"Cambios en el exceso o insuficiencia en la actualización de la hacienda pública/patrimonio neto de 20XN",{"$f":"'F2'!C30","v":0},{"$f":"'F2'!D30","v":0},{"$f":"'F2'!E30","v":0},{"$f":"'F2'!F30","v":0},{"$f":"'F2'!G30","v":0}]
[null,null,null,null,null,null,"Resultados por posición monetaria ",{"$f":"'F2'!C31","v":0},{"$f":"'F2'!D31","v":0},{"$f":"'F2'!E31","v":0},{"$f":"'F2'!F31","v":0},{"$f":"'F2'!G31","v":0}]
[null,null,null,null,null,null,"Resultados por terceros de activos no monetarios ",{"$f":"'F2'!C32","v":0},{"$f":"'F2'!D32","v":0},{"$f":"'F2'!E32","v":0},{"$f":"'F2'!F32","v":0},{"$f":"'F2'!G32","v":0}]
[null,null,null,null,null,null," Hacienda pública/patrimonio neto final de 20XN",{"$f":"'F2'!C33","v":0},{"$f":"'F2'!D33","v":393504873.81},{"$f":"'F2'!E33","v":15577832.050000001},{"$f":"'F2'!F33","v":0},{"$f":"'F2'!G33","v":409082705.86000001}]
[null,null,null,null,null,null,"F3"]
[null,null,null,null,null,null,"Flujos de efectivo de las actividades de operación"]
[null,null,null,null,null,null,"Origen",{"$f":"'F3'!F7","v":0}]
[null,null,null,null,null,null,"Impuestos",{"$f":"'F3'!F8","v":0}]
[null,null,null,null,null,null,"Cuotas y aportaciones de seguridad social",{"$f":"'F3'!F9","v":0}]
[null,null,null,null,null,null,"Contribuciones de mejoras",{"$f":"'F3'!F10","v":0}]
[null,null,null,null,null,null,"Derechos",{"$f":"'F3'!F11","v":0}]
[null,null,null,null,null,null,"Productos",{"$f":"'F3'!F12","v":0}]
[null,null,null,null,null,null,"Aprovechamientos",{"$f":"'F3'!F13","v":0}]
[null,null,null,null,null,null,"Ingresos por venta de bienes y prestación servicios",{"$f":"'F3'!F14","v":0}]
[null,null,null,null,null,null,"Participaciones, aportaciones, convenios, incentivos derivados de la colaboración fiscal y fondos distitntos de aportaciones",{"$f":"'F3'!F15","v":0}]
[null,null,null,null,null,null,"Transferencias, asignaciones, subsidios y subvenciones, y pensiones y jubilaciones",{"$f":"'F3'!F16","v":0}]
[null,null,null,null,null,null,"Otros origenes de operación",{"$f":"'F3'!F17","v":0}]
[null,null,null,null,null,null,"Aplicación",{"$f":"'F3'!F18","v":0}]
[null,null,null,null,null,null,"Servicios personales",{"$f":"'F3'!F19","v":0}]
[null,null,null,null,null,null,"Materiales y suministros",{"$f":"'F3'!F20","v":0}]
[null,null,null,null,null,null,"Servicios generales",{"$f":"'F3'!F21","v":0}]
[null,null,null,null,null,null,"Transferencias internas y asignaciones al sector público",{"$f":"'F3'!F22","v":0}]
[null,null,null,null,null,null,"Transferencias al resto del sector público",{"$f":"'F3'!F23","v":0}]
[null,null,null,null,null,null,"Subsidios y subvenciones ",{"$f":"'F3'!F24","v":0}]
[null,null,null,null,null,null,"Ayudas sociales",{"$f":"'F3'!F25","v":0}]
[null,null,null,null,null,null,"Pensiones y jubilaciones",{"$f":"'F3'!F26","v":0}]
[null,null,null,null,null,null,"Transferencias a fideicomisos, mandatos y contratos análogos",{"$f":"'F3'!F27","v":0}]
[null,null,null,null,null,null,"Transferencias a la seguridad ocial",{"$f":"'F3'!F28","v":0}]
[null,null,null,null,null,null,"Donativos",{"$f":"'F3'!F29","v":0}]
[null,null,null,null,null,null,"Transferencias al exterior",{"$f":"'F3'!F30","v":0}]
[null,null,null,null,null,null,"Participaciones ",{"$f":"'F3'!F31","v":0}]
[null,null,null,null,null,null,"Aportaciones ",{"$f":"'F3'!F32","v":0}]
[null,null,null,null,null,null,"Convenios",{"$f":"'F3'!F33","v":0}]
[null,null,null,null,null,null,"Otros aplicaciones de operación",{"$f":"'F3'!F34","v":0}]
[null,null,null,null,null,null,"Flujos netos de efectivo por actividades de operación",{"$f":"'F3'!F35","v":0}]
[null,null,null,null,null,null,"Flujos de efectivo de las actividades de inversión "]
[null,null,null,null,null,null,"Origen",{"$f":"'F3'!F37","v":0}]
[null,null,null,null,null,null,"Bienes inmuebles, infraestructura y construcciones en proceso",{"$f":"'F3'!F38","v":0}]
[null,null,null,null,null,null,"Bienes muebles",{"$f":"'F3'!F39","v":0}]
[null,null,null,null,null,null,"Otros Orígenes de inversión",{"$f":"'F3'!F40","v":0}]
[null,null,null,null,null,null,"Aplicación",{"$f":"'F3'!F41","v":0}]
[null,null,null,null,null,null,"Bienes inmuebles, infraestructura y construcciones en proceso",{"$f":"'F3'!F42","v":0}]
[null,null,null,null,null,null,"Bienes muebles",{"$f":"'F3'!F43","v":0}]
[null,null,null,null,null,null,"Otras aplicaciones de inversión",{"$f":"'F3'!F44","v":0}]
[null,null,null,null,null,null,"Flujos netos de efectivo por actividades de inversión",{"$f":"'F3'!F45","v":0}]
[null,null,null,null,null,null,"Flujo de efectivo de las actividades de financiamiento"]
[null,null,null,null,null,null,"Origen",{"$f":"'F3'!F47","v":0}]
[null,null,null,null,null,null,"Endeudamiento neto",{"$f":"'F3'!F48","v":0}]
[null,null,null,null,null,null,"   Interno",{"$f":"'F3'!F49","v":0}]
[null,null,null,null,null,null,"   Externo",{"$f":"'F3'!F50","v":0}]
[null,null,null,null,null,null,"Otros origenes de financiamiento ",{"$f":"'F3'!F51","v":0}]
[null,null,null,null,null,null,"Aplicación",{"$f":"'F3'!F52","v":0}]
[null,null,null,null,null,null,"Servicios de la deuda",{"$f":"'F3'!F53","v":0}]
[null,null,null,null,null,null,"   Interno",{"$f":"'F3'!F54","v":0}]
[null,null,null,null,null,null,"   Externo",{"$f":"'F3'!F55","v":0}]
[null,null,null,null,null,null,"Otras aplicaciones de finaciamiento ",{"$f":"'F3'!F56","v":0}]
[null,null,null,null,null,null,"Flujos netos de efectivo por actividades de financiamiento",{"$f":"'F3'!F57","v":0}]
[null,null,null,null,null,null,"Incremento/disminución neta en el efectivo y equivalentes al efectivo ",{"$f":"'F3'!F58","v":0}]
[null,null,null,null,null,null,"Efectivo y equivalentes al efectivo al inicio del ejercicio",{"$f":"'F3'!F59","v":0}]
[null,null,null,null,null,null,"Efectivo y equivalentes al efectivo al final del ejercicio",{"$f":"'F3'!F60","v":0}]
[null,null,null,null,null,null,"F4A1"]
[null,null,null,null,null,null,"1. Total de ingresos presupuestarios",{"$f":"F4A1!D6","v":0}]
[null,null,null,null,null,null,"2. Ingresos contables no presupuestarios",{"$f":"F4A1!D7","v":0}]
[null,null,null,null,null,null,"2.1 Ingresos financieros",{"$f":"F4A1!C8","v":0}]
[null,null,null,null,null,null,"2.2 Incremento por variaciones de inventarios",{"$f":"F4A1!C9","v":0}]
[null,null,null,null,null,null,"2.3 Disminución del exceso de estimación por pérdida o deterioro u obsolescencia",{"$f":"F4A1!C10","v":0}]
[null,null,null,null,null,null,"2.4 Disminución del exceso de provisiones",{"$f":"F4A1!C11","v":0}]
[null,null,null,null,null,null,"2.5 Otros ingresos y beneficios varios",{"$f":"F4A1!C12","v":0}]
[null,null,null,null,null,null,"2.6 Otros ingresos contables no presupuestarios",{"$f":"F4A1!C13","v":0}]
[null,null,null,null,null,null,"3. Ingresos presupuestarios no contables",{"$f":"F4A1!D14","v":0}]
[null,null,null,null,null,null,"3.1 Aprovechamientos patrimoniales",{"$f":"F4A1!C15","v":0}]
[null,null,null,null,null,null,"3.2 Ingresos derivados de financiamientos",{"$f":"F4A1!C16","v":0}]
[null,null,null,null,null,null,"3.3 Otros ingresos presupuestarios no contables",{"$f":"F4A1!C17","v":0}]
[null,null,null,null,null,null,"4. Total de ingresos contables",{"$f":"F4A1!D18","v":0}]
[null,null,null,null,null,null,"F4A2"]
[null,null,null,null,null,null,"1. Total de egresos presupuestarios",{"$f":"F4A2!D6","v":0}]
[null,null,null,null,null,null,"2. Egresos presupuestarios no contables",{"$f":"F4A2!D7","v":0}]
[null,null,null,null,null,null,"2.1 Materias primas y materiales de producción y comercialización",{"$f":"F4A2!C8","v":0}]
[null,null,null,null,null,null,"2.2 Materiales y suministros",{"$f":"F4A2!C9","v":0}]
[null,null,null,null,null,null,"2.3 Mobiliario y equipo de administración",{"$f":"F4A2!C10","v":0}]
[null,null,null,null,null,null,"2.4 Mobiliario y equipo educacional y recreativo",{"$f":"F4A2!C11","v":0}]
[null,null,null,null,null,null,"2.5 Equipo e instrumental médico y de laboratorio",{"$f":"F4A2!C12","v":0}]
[null,null,null,null,null,null,"2.6 Vehículos y equipo de transporte",{"$f":"F4A2!C13","v":0}]
[null,null,null,null,null,null,"2.7 Equipo de defensa y seguridad",{"$f":"F4A2!C14","v":0}]
[null,null,null,null,null,null,"2.8 Maquinaria, otros equipos y herramientas",{"$f":"F4A2!C15","v":0}]
[null,null,null,null,null,null,"2.9 Activos biológicos",{"$f":"F4A2!C16","v":0}]
[null,null,null,null,null,null,"2.10 Bienes inmuebles",{"$f":"F4A2!C17","v":0}]
[null,null,null,null,null,null,"2.11 Activos intangibles",{"$f":"F4A2!C18","v":0}]
[null,null,null,null,null,null,"2.12 Obras públicas en bienes de dominio público",{"$f":"F4A2!C19","v":0}]
[null,null,null,null,null,null,"2.13 Obras públicas en bienes propios",{"$f":"F4A2!C20","v":0}]
[null,null,null,null,null,null,"2.14 Acciones y participaciones de capital",{"$f":"F4A2!C21","v":0}]
[null,null,null,null,null,null,"2.15 Compra de títulos y valores",{"$f":"F4A2!C22","v":0}]
[null,null,null,null,null,null,"2.16 Concesión de préstamos",{"$f":"F4A2!C23","v":0}]
[null,null,null,null,null,null,"2.17 Inversiones en fideicomisos, mandatos y otros análogos",{"$f":"F4A2!C24","v":0}]
[null,null,null,null,null,null,"2.18 Provisiones para contingencias y otras erogaciones especiales",{"$f":"F4A2!C25","v":0}]
[null,null,null,null,null,null,"2.19 Amortización de la deuda pública",{"$f":"F4A2!C26","v":0}]
[null,null,null,null,null,null,"2.20 Adeudos de ejercicios fiscales anteriores (ADEFAS)",{"$f":"F4A2!C27","v":0}]
[null,null,null,null,null,null,"2.21 Otros egresos presupuestales no contables",{"$f":"F4A2!C28","v":0}]
[null,null,null,null,null,null,"3. Gastos contables no presupuestales",{"$f":"F4A2!D29","v":0}]
[null,null,null,null,null,null,"3.1 Estimaciones, depreciaciones, deterioros, obsolescencias y amortizaciones",{"$f":"F4A2!C30","v":0}]
[null,null,null,null,null,null,"3.2 Previsiones",{"$f":"F4A2!C31","v":0}]
[null,null,null,null,null,null,"3.3 Disminución de inventarios",{"$f":"F4A2!C32","v":0}]
[null,null,null,null,null,null,"3.4 Aumento por insuficiencia de estimaciones por pérdida o deterioro u obsolescencias",{"$f":"F4A2!C33","v":0}]
[null,null,null,null,null,null,"3.5 Aumento por insuficiencia de provisiones",{"$f":"F4A2!C34","v":0}]
[null,null,null,null,null,null,"3.6 Otros gastos",{"$f":"F4A2!C35","v":0}]
[null,null,null,null,null,null,"3.7 Otros gastos contables no presupuestales",{"$f":"F4A2!C36","v":0}]
[null,null,null,null,null,null,"4. Total de gastos contables",{"$f":"F4A2!D37","v":0}]
[null,null,null,null,null,null,"F5"]
[null,null,null,null,null,null,"Activo ",{"$f":"'F5'!E6","v":404360352.94},{"$f":"'F5'!F6","v":97897184.609999999},{"$f":"'F5'!G6","v":84291851.109999999},{"$f":"'F5'!H6","v":417965686.44},{"$f":"'F5'!I6","v":13605333.5}]
[null,null,null,null,null,null,"Activo circulante",{"$f":"'F5'!E7","v":7006188.3300000001},{"$f":"'F5'!F7","v":87099501.950000003},{"$f":"'F5'!G7","v":84291851.109999999},{"$f":"'F5'!H7","v":9813839.1700000018},{"$f":"'F5'!I7","v":2807650.8400000017}]
[null,null,null,null,null,null,"Efectivo y equivalentes",{"$f":"'F5'!E8","v":6811307.4900000002},{"$f":"'F5'!F8","v":42372388.300000004},{"$f":"'F5'!G8","v":41733433.259999998},{"$f":"'F5'!H8","v":7450262.5300000086},{"$f":"'F5'!I8","v":638955.04000000842}]
[null,null,null,null,null,null,"Derechos a recibir efectivo o equivalentes",{"$f":"'F5'!E9","v":194880.84},{"$f":"'F5'!F9","v":44367290.789999999},{"$f":"'F5'!G9","v":42198594.990000002},{"$f":"'F5'!H9","v":2363576.6400000006},{"$f":"'F5'!I9","v":2168695.8000000007}]
[null,null,null,null,null,null,"Derechos a recibir bienes o servicios",{"$f":"'F5'!E10","v":0},{"$f":"'F5'!F10","v":359822.86},{"$f":"'F5'!G10","v":359822.86},{"$f":"'F5'!H10","v":0},{"$f":"'F5'!I10","v":0}]
[null,null,null,null,null,null,"Inventarios",{"$f":"'F5'!E11","v":0},{"$f":"'F5'!F11","v":0},{"$f":"'F5'!G11","v":0},{"$f":"'F5'!H11","v":0},{"$f":"'F5'!I11","v":0}]
[null,null,null,null,null,null,"Almacenes",{"$f":"'F5'!E12","v":0},{"$f":"'F5'!F12","v":0},{"$f":"'F5'!G12","v":0},{"$f":"'F5'!H12","v":0},{"$f":"'F5'!I12","v":0}]
[null,null,null,null,null,null,"Estimación por pérdida o deterioro de activos circulantes",{"$f":"'F5'!E13","v":0},{"$f":"'F5'!F13","v":0},{"$f":"'F5'!G13","v":0},{"$f":"'F5'!H13","v":0},{"$f":"'F5'!I13","v":0}]
[null,null,null,null,null,null,"Otros activos circulantes",{"$f":"'F5'!E14","v":0},{"$f":"'F5'!F14","v":0},{"$f":"'F5'!G14","v":0},{"$f":"'F5'!H14","v":0},{"$f":"'F5'!I14","v":0}]
[null,null,null,null,null,null,"Activo no circulante",{"$f":"'F5'!E15","v":397354164.61000001},{"$f":"'F5'!F15","v":10797682.66},{"$f":"'F5'!G15","v":0},{"$f":"'F5'!H15","v":408151847.27000004},{"$f":"'F5'!I15","v":10797682.660000026}]
[null,null,null,null,null,null,"Inversiones financieras a largo plazo",{"$f":"'F5'!E16","v":5000},{"$f":"'F5'!F16","v":0},{"$f":"'F5'!G16","v":0},{"$f":"'F5'!H16","v":5000},{"$f":"'F5'!I16","v":0}]
[null,null,null,null,null,null,"Derechos a recibir efectivo o equivalentes a largo plazo",{"$f":"'F5'!E17","v":0},{"$f":"'F5'!F17","v":0},{"$f":"'F5'!G17","v":0},{"$f":"'F5'!H17","v":0},{"$f":"'F5'!I17","v":0}]
[null,null,null,null,null,null,"Bienes inmuebles, infraestructura y construcciones en proceso",{"$f":"'F5'!E18","v":394674462.90000004},{"$f":"'F5'!F18","v":10450933.92},{"$f":"'F5'!G18","v":0},{"$f":"'F5'!H18","v":405125396.82000005},{"$f":"'F5'!I18","v":10450933.920000017}]
[null,null,null,null,null,null,"Bienes muebles",{"$f":"'F5'!E19","v":10509827.43},{"$f":"'F5'!F19","v":346748.74},{"$f":"'F5'!G19","v":0},{"$f":"'F5'!H19","v":10856576.17},{"$f":"'F5'!I19","v":346748.74000000022}]
[null,null,null,null,null,null,"Activos intangibles",{"$f":"'F5'!E20","v":235805.26},{"$f":"'F5'!F20","v":0},{"$f":"'F5'!G20","v":0},{"$f":"'F5'!H20","v":235805.26},{"$f":"'F5'!I20","v":0}]
[null,null,null,null,null,null,"Depreciación, deterioro y amortización acumulada de bienes",{"$f":"'F5'!E21","v":-8070930.9799999995},{"$f":"'F5'!F21","v":0},{"$f":"'F5'!G21","v":0},{"$f":"'F5'!H21","v":-8070930.9799999995},{"$f":"'F5'!I21","v":0}]
[null,null,null,null,null,null,"Activos diferidos",{"$f":"'F5'!E22","v":0},{"$f":"'F5'!F22","v":0},{"$f":"'F5'!G22","v":0},{"$f":"'F5'!H22","v":0},{"$f":"'F5'!I22","v":0}]
[null,null,null,null,null,null,"Estimación por pérdida o deterioro de activos no circulantes",{"$f":"'F5'!E23","v":0},{"$f":"'F5'!F23","v":0},{"$f":"'F5'!G23","v":0},{"$f":"'F5'!H23","v":0},{"$f":"'F5'!I23","v":0}]
[null,null,null,null,null,null,"Otros activos no circulantes",{"$f":"'F5'!E24","v":0},{"$f":"'F5'!F24","v":0},{"$f":"'F5'!G24","v":0},{"$f":"'F5'!H24","v":0},{"$f":"'F5'!I24","v":0}]
[null,null,null,null,null,null,"F7"]
[null,null,null,null,null,null,"Impuestos",{"$f":"'F7'!C7","v":0},{"$f":"'F7'!D7","v":0},{"$f":"'F7'!E7","v":0},{"$f":"'F7'!F7","v":0},{"$f":"'F7'!G7","v":0},{"$f":"'F7'!H7","v":0}]
[null,null,null,null,null,null,"Impuestos sobre los ingresos",{"$f":"'F7'!C8","v":0},{"$f":"'F7'!D8","v":0},{"$f":"'F7'!E8","v":0},{"$f":"'F7'!F8","v":0},{"$f":"'F7'!G8","v":0},{"$f":"'F7'!H8","v":0}]
[null,null,null,null,null,null,"Impuestos sobre patrimonio",{"$f":"'F7'!C9","v":0},{"$f":"'F7'!D9","v":0},{"$f":"'F7'!E9","v":0},{"$f":"'F7'!F9","v":0},{"$f":"'F7'!G9","v":0},{"$f":"'F7'!H9","v":0}]
[null,null,null,null,null,null,"Impuestos sobre la producción, el consumo y las transacciones",{"$f":"'F7'!C10","v":0},{"$f":"'F7'!D10","v":0},{"$f":"'F7'!E10","v":0},{"$f":"'F7'!F10","v":0},{"$f":"'F7'!G10","v":0},{"$f":"'F7'!H10","v":0}]
[null,null,null,null,null,null,"Impuestos al comercio exterior",{"$f":"'F7'!C11","v":0},{"$f":"'F7'!D11","v":0},{"$f":"'F7'!E11","v":0},{"$f":"'F7'!F11","v":0},{"$f":"'F7'!G11","v":0},{"$f":"'F7'!H11","v":0}]
[null,null,null,null,null,null,"Impuestos sobre nóminas y asimilables",{"$f":"'F7'!C12","v":0},{"$f":"'F7'!D12","v":0},{"$f":"'F7'!E12","v":0},{"$f":"'F7'!F12","v":0},{"$f":"'F7'!G12","v":0},{"$f":"'F7'!H12","v":0}]
[null,null,null,null,null,null,"Impuestos ecológicos",{"$f":"'F7'!C13","v":0},{"$f":"'F7'!D13","v":0},{"$f":"'F7'!E13","v":0},{"$f":"'F7'!F13","v":0},{"$f":"'F7'!G13","v":0},{"$f":"'F7'!H13","v":0}]
[null,null,null,null,null,null,"Accesorios",{"$f":"'F7'!C14","v":0},{"$f":"'F7'!D14","v":0},{"$f":"'F7'!E14","v":0},{"$f":"'F7'!F14","v":0},{"$f":"'F7'!G14","v":0},{"$f":"'F7'!H14","v":0}]
[null,null,null,null,null,null,"Otros impuestos",{"$f":"'F7'!C15","v":0},{"$f":"'F7'!D15","v":0},{"$f":"'F7'!E15","v":0},{"$f":"'F7'!F15","v":0},{"$f":"'F7'!G15","v":0},{"$f":"'F7'!H15","v":0}]
[null,null,null,null,null,null,"Impuestos no comprendidos en la ley de ingresos vigente, causados en ejercicios fiscales anteriores pendientes de liquidar o pago",{"$f":"'F7'!C16","v":0},{"$f":"'F7'!D16","v":0},{"$f":"'F7'!E16","v":0},{"$f":"'F7'!F16","v":0},{"$f":"'F7'!G16","v":0},{"$f":"'F7'!H16","v":0}]
[null,null,null,null,null,null,"Cuotas y aportaciones de seguridad social",{"$f":"'F7'!C17","v":0},{"$f":"'F7'!D17","v":0},{"$f":"'F7'!E17","v":0},{"$f":"'F7'!F17","v":0},{"$f":"'F7'!G17","v":0},{"$f":"'F7'!H17","v":0}]
[null,null,null,null,null,null,"Aportaciones para fondos de vivienda",{"$f":"'F7'!C18","v":0},{"$f":"'F7'!D18","v":0},{"$f":"'F7'!E18","v":0},{"$f":"'F7'!F18","v":0},{"$f":"'F7'!G18","v":0},{"$f":"'F7'!H18","v":0}]
[null,null,null,null,null,null,"Cuotas para la seguridad social",{"$f":"'F7'!C19","v":0},{"$f":"'F7'!D19","v":0},{"$f":"'F7'!E19","v":0},{"$f":"'F7'!F19","v":0},{"$f":"'F7'!G19","v":0},{"$f":"'F7'!H19","v":0}]
[null,null,null,null,null,null,"Cuotas de ahorro para el retiro",{"$f":"'F7'!C20","v":0},{"$f":"'F7'!D20","v":0},{"$f":"'F7'!E20","v":0},{"$f":"'F7'!F20","v":0},{"$f":"'F7'!G20","v":0},{"$f":"'F7'!H20","v":0}]
[null,null,null,null,null,null,"Otras cuotas y aportaciones para la seguridad social",{"$f":"'F7'!C21","v":0},{"$f":"'F7'!D21","v":0},{"$f":"'F7'!E21","v":0},{"$f":"'F7'!F21","v":0},{"$f":"'F7'!G21","v":0},{"$f":"'F7'!H21","v":0}]
[null,null,null,null,null,null,"Accesorios de cuotas y aportaciones de seguridad social",{"$f":"'F7'!C22","v":0},{"$f":"'F7'!D22","v":0},{"$f":"'F7'!E22","v":0},{"$f":"'F7'!F22","v":0},{"$f":"'F7'!G22","v":0},{"$f":"'F7'!H22","v":0}]
[null,null,null,null,null,null,"Contribuciones de mejora",{"$f":"'F7'!C23","v":0},{"$f":"'F7'!D23","v":0},{"$f":"'F7'!E23","v":0},{"$f":"'F7'!F23","v":0},{"$f":"'F7'!G23","v":0},{"$f":"'F7'!H23","v":0}]
[null,null,null,null,null,null,"Contribuciones de mejoras por obras públicas",{"$f":"'F7'!C24","v":0},{"$f":"'F7'!D24","v":0},{"$f":"'F7'!E24","v":0},{"$f":"'F7'!F24","v":0},{"$f":"'F7'!G24","v":0},{"$f":"'F7'!H24","v":0}]
[null,null,null,null,null,null,"Contribuciones de mejoras no comprendidas en la ley de ingresos vigente, causadas en ejercicios fiscales anteriores pendientes de liquidación o pago",{"$f":"'F7'!C25","v":0},{"$f":"'F7'!D25","v":0},{"$f":"'F7'!E25","v":0},{"$f":"'F7'!F25","v":0},{"$f":"'F7'!G25","v":0},{"$f":"'F7'!H25","v":0}]
[null,null,null,null,null,null,"Derechos",{"$f":"'F7'!C26","v":0},{"$f":"'F7'!D26","v":0},{"$f":"'F7'!E26","v":0},{"$f":"'F7'!F26","v":0},{"$f":"'F7'!G26","v":0},{"$f":"'F7'!H26","v":0}]
[null,null,null,null,null,null,"Derechos por el uso, goce, aprovechamiento o explotación de bienes de dominio público",{"$f":"'F7'!C27","v":0},{"$f":"'F7'!D27","v":0},{"$f":"'F7'!E27","v":0},{"$f":"'F7'!F27","v":0},{"$f":"'F7'!G27","v":0},{"$f":"'F7'!H27","v":0}]
[null,null,null,null,null,null,"Derecho a los hidrocarburos (derogado)",{"$f":"'F7'!C28","v":0},{"$f":"'F7'!D28","v":0},{"$f":"'F7'!E28","v":0},{"$f":"'F7'!F28","v":0},{"$f":"'F7'!G28","v":0},{"$f":"'F7'!H28","v":0}]
[null,null,null,null,null,null,"Derechos por prestación de servicios",{"$f":"'F7'!C29","v":0},{"$f":"'F7'!D29","v":0},{"$f":"'F7'!E29","v":0},{"$f":"'F7'!F29","v":0},{"$f":"'F7'!G29","v":0},{"$f":"'F7'!H29","v":0}]
[null,null,null,null,null,null,"Otros derechos",{"$f":"'F7'!C30","v":0},{"$f":"'F7'!D30","v":0},{"$f":"'F7'!E30","v":0},{"$f":"'F7'!F30","v":0},{"$f":"'F7'!G30","v":0},{"$f":"'F7'!H30","v":0}]
[null,null,null,null,null,null,"Accesorios",{"$f":"'F7'!C31","v":0},{"$f":"'F7'!D31","v":0},{"$f":"'F7'!E31","v":0},{"$f":"'F7'!F31","v":0},{"$f":"'F7'!G31","v":0},{"$f":"'F7'!H31","v":0}]
[null,null,null,null,null,null,"Derechos no comprendidos en la ley de ingresos vigente, causados en ejercicios fiscales anteriores pendientes de liquidación o pago",{"$f":"'F7'!C32","v":0},{"$f":"'F7'!D32","v":0},{"$f":"'F7'!E32","v":0},{"$f":"'F7'!F32","v":0},{"$f":"'F7'!G32","v":0},{"$f":"'F7'!H32","v":0}]
[null,null,null,null,null,null,"Productos",{"$f":"'F7'!C33","v":0},{"$f":"'F7'!D33","v":0},{"$f":"'F7'!E33","v":0},{"$f":"'F7'!F33","v":0},{"$f":"'F7'!G33","v":0},{"$f":"'F7'!H33","v":0}]
[null,null,null,null,null,null,"Productos",{"$f":"'F7'!C34","v":0},{"$f":"'F7'!D34","v":0},{"$f":"'F7'!E34","v":0},{"$f":"'F7'!F34","v":0},{"$f":"'F7'!G34","v":0},{"$f":"'F7'!H34","v":0}]
[null,null,null,null,null,null,"Productos de capital (derogado)",{"$f":"'F7'!C35","v":0},{"$f":"'F7'!D35","v":0},{"$f":"'F7'!E35","v":0},{"$f":"'F7'!F35","v":0},{"$f":"'F7'!G35","v":0},{"$f":"'F7'!H35","v":0}]
[null,null,null,null,null,null,"Productos no comprendidos en la ley de ingresos vigente, causados en ejercicios fiscales anteriores pendientes de liquidación o pago",{"$f":"'F7'!C36","v":0},{"$f":"'F7'!D36","v":0},{"$f":"'F7'!E36","v":0},{"$f":"'F7'!F36","v":0},{"$f":"'F7'!G36","v":0},{"$f":"'F7'!H36","v":0}]
[null,null,null,null,null,null,"Aprovechamientos",{"$f":"'F7'!C37","v":0},{"$f":"'F7'!D37","v":0},{"$f":"'F7'!E37","v":0},{"$f":"'F7'!F37","v":0},{"$f":"'F7'!G37","v":0},{"$f":"'F7'!H37","v":0}]
[null,null,null,null,null,null,"Aprovechamientos",{"$f":"'F7'!C38","v":0},{"$f":"'F7'!D38","v":0},{"$f":"'F7'!E38","v":0},{"$f":"'F7'!F38","v":0},{"$f":"'F7'!G38","v":0},{"$f":"'F7'!H38","v":0}]
[null,null,null,null,null,null,"Aprovechamientos patrimoniales",{"$f":"'F7'!C39","v":0},{"$f":"'F7'!D39","v":0},{"$f":"'F7'!E39","v":0},{"$f":"'F7'!F39","v":0},{"$f":"'F7'!G39","v":0},{"$f":"'F7'!H39","v":0}]
[null,null,null,null,null,null,"Accesorios de aprovechamientos",{"$f":"'F7'!C40","v":0},{"$f":"'F7'!D40","v":0},{"$f":"'F7'!E40","v":0},{"$f":"'F7'!F40","v":0},{"$f":"'F7'!G40","v":0},{"$f":"'F7'!H40","v":0}]
[null,null,null,null,null,null,"Aprovechamientos no comprendidos en la ley de ingresos vigente, causados en ejercicios fiscales anteriores pendientes de liquidación o pago",{"$f":"'F7'!C41","v":0},{"$f":"'F7'!D41","v":0},{"$f":"'F7'!E41","v":0},{"$f":"'F7'!F41","v":0},{"$f":"'F7'!G41","v":0},{"$f":"'F7'!H41","v":0}]
[null,null,null,null,null,null,"Ingresos por venta de bienes, prestación de servicios y otros ingresos",{"$f":"'F7'!C42","v":0},{"$f":"'F7'!D42","v":0},{"$f":"'F7'!E42","v":0},{"$f":"'F7'!F42","v":0},{"$f":"'F7'!G42","v":0},{"$f":"'F7'!H42","v":0}]
[null,null,null,null,null,null,"Ingresos por venta de bienes y prestación de servicios de instituciones públicas de seguridad social",{"$f":"'F7'!C43","v":0},{"$f":"'F7'!D43","v":0},{"$f":"'F7'!E43","v":0},{"$f":"'F7'!F43","v":0},{"$f":"'F7'!G43","v":0},{"$f":"'F7'!H43","v":0}]
[null,null,null,null,null,null,"Ingresos por venta de bienes y prestación de servicios de empresas productivas del estado",{"$f":"'F7'!C44","v":0},{"$f":"'F7'!D44","v":0},{"$f":"'F7'!E44","v":0},{"$f":"'F7'!F44","v":0},{"$f":"'F7'!G44","v":0},{"$f":"'F7'!H44","v":0}]
[null,null,null,null,null,null,"Ingresos por venta de bienes y prestación de servicios de entidades paraestatales y fideicomisos no empresariales y no financieros",{"$f":"'F7'!C45","v":0},{"$f":"'F7'!D45","v":0},{"$f":"'F7'!E45","v":0},{"$f":"'F7'!F45","v":0},{"$f":"'F7'!G45","v":0},{"$f":"'F7'!H45","v":0}]
[null,null,null,null,null,null,"Ingresos por venta de bienes y prestación de servicios de entidades paraestatales empresariales y no financieros con participación estatal mayoritaria",{"$f":"'F7'!C46","v":0},{"$f":"'F7'!D46","v":0},{"$f":"'F7'!E46","v":0},{"$f":"'F7'!F46","v":0},{"$f":"'F7'!G46","v":0},{"$f":"'F7'!H46","v":0}]
[null,null,null,null,null,null,"Ingresos por venta de bienes y prestación de servicios de entidades paraestatales empresariales financieras monetarias con participación estatal mayoritaria",{"$f":"'F7'!C47","v":0},{"$f":"'F7'!D47","v":0},{"$f":"'F7'!E47","v":0},{"$f":"'F7'!F47","v":0},{"$f":"'F7'!G47","v":0},{"$f":"'F7'!H47","v":0}]
[null,null,null,null,null,null,"Ingresos por venta de bienes y prestación de servicios de entidades paraestatales empresariales financieras no monetarias con participación estatal mayoritaria",{"$f":"'F7'!C48","v":0},{"$f":"'F7'!D48","v":0},{"$f":"'F7'!E48","v":0},{"$f":"'F7'!F48","v":0},{"$f":"'F7'!G48","v":0},{"$f":"'F7'!H48","v":0}]
[null,null,null,null,null,null,"Ingresos por venta de bienes y prestación de servicios de fideicomisos financieros públicos con participación estatal mayoritaria",{"$f":"'F7'!C49","v":0},{"$f":"'F7'!D49","v":0},{"$f":"'F7'!E49","v":0},{"$f":"'F7'!F49","v":0},{"$f":"'F7'!G49","v":0},{"$f":"'F7'!H49","v":0}]
[null,null,null,null,null,null,"Ingresos por venta de bienes y prestación de servicios de los poderes legislativo y judicial, y de los órganos autónomos",{"$f":"'F7'!C50","v":0},{"$f":"'F7'!D50","v":0},{"$f":"'F7'!E50","v":0},{"$f":"'F7'!F50","v":0},{"$f":"'F7'!G50","v":0},{"$f":"'F7'!H50","v":0}]
[null,null,null,null,null,null,"Otros ingresos",{"$f":"'F7'!C51","v":0},{"$f":"'F7'!D51","v":0},{"$f":"'F7'!E51","v":0},{"$f":"'F7'!F51","v":0},{"$f":"'F7'!G51","v":0},{"$f":"'F7'!H51","v":0}]
[null,null,null,null,null,null,"Participaciones, aportaciones, convenios, incentivos derivados de la colaboración fiscal y fondos distintos de aportaciones",{"$f":"'F7'!C52","v":0},{"$f":"'F7'!D52","v":0},{"$f":"'F7'!E52","v":0},{"$f":"'F7'!F52","v":0},{"$f":"'F7'!G52","v":0},{"$f":"'F7'!H52","v":0}]
[null,null,null,null,null,null,"Participaciones",{"$f":"'F7'!C53","v":0},{"$f":"'F7'!D53","v":0},{"$f":"'F7'!E53","v":0},{"$f":"'F7'!F53","v":0},{"$f":"'F7'!G53","v":0},{"$f":"'F7'!H53","v":0}]
[null,null,null,null,null,null,"Aportaciones",{"$f":"'F7'!C54","v":0},{"$f":"'F7'!D54","v":0},{"$f":"'F7'!E54","v":0},{"$f":"'F7'!F54","v":0},{"$f":"'F7'!G54","v":0},{"$f":"'F7'!H54","v":0}]
[null,null,null,null,null,null,"Convenios",{"$f":"'F7'!C55","v":0},{"$f":"'F7'!D55","v":0},{"$f":"'F7'!E55","v":0},{"$f":"'F7'!F55","v":0},{"$f":"'F7'!G55","v":0},{"$f":"'F7'!H55","v":0}]
[null,null,null,null,null,null,"Incentivos derivados de la colaboración fiscal",{"$f":"'F7'!C56","v":0},{"$f":"'F7'!D56","v":0},{"$f":"'F7'!E56","v":0},{"$f":"'F7'!F56","v":0},{"$f":"'F7'!G56","v":0},{"$f":"'F7'!H56","v":0}]
[null,null,null,null,null,null,"Fondos distintos de aportaciones",{"$f":"'F7'!C57","v":0},{"$f":"'F7'!D57","v":0},{"$f":"'F7'!E57","v":0},{"$f":"'F7'!F57","v":0},{"$f":"'F7'!G57","v":0},{"$f":"'F7'!H57","v":0}]
[null,null,null,null,null,null,"Transferencias, asignaciones, subsidios y subvenciones, y pensiones y jubilaciones",{"$f":"'F7'!C58","v":0},{"$f":"'F7'!D58","v":0},{"$f":"'F7'!E58","v":0},{"$f":"'F7'!F58","v":0},{"$f":"'F7'!G58","v":0},{"$f":"'F7'!H58","v":0}]
[null,null,null,null,null,null,"Transferencias y asignaciones",{"$f":"'F7'!C59","v":0},{"$f":"'F7'!D59","v":0},{"$f":"'F7'!E59","v":0},{"$f":"'F7'!F59","v":0},{"$f":"'F7'!G59","v":0},{"$f":"'F7'!H59","v":0}]
[null,null,null,null,null,null,"Transferencias al resto del sector público (derogado)",{"$f":"'F7'!C60","v":0},{"$f":"'F7'!D60","v":0},{"$f":"'F7'!E60","v":0},{"$f":"'F7'!F60","v":0},{"$f":"'F7'!G60","v":0},{"$f":"'F7'!H60","v":0}]
[null,null,null,null,null,null,"Subsidios y subvenciones",{"$f":"'F7'!C61","v":0},{"$f":"'F7'!D61","v":0},{"$f":"'F7'!E61","v":0},{"$f":"'F7'!F61","v":0},{"$f":"'F7'!G61","v":0},{"$f":"'F7'!H61","v":0}]
[null,null,null,null,null,null,"Ayudas sociales (derogado)",{"$f":"'F7'!C62","v":0},{"$f":"'F7'!D62","v":0},{"$f":"'F7'!E62","v":0},{"$f":"'F7'!F62","v":0},{"$f":"'F7'!G62","v":0},{"$f":"'F7'!H62","v":0}]
[null,null,null,null,null,null,"Pensiones y jubilaciones",{"$f":"'F7'!C63","v":0},{"$f":"'F7'!D63","v":0},{"$f":"'F7'!E63","v":0},{"$f":"'F7'!F63","v":0},{"$f":"'F7'!G63","v":0},{"$f":"'F7'!H63","v":0}]
[null,null,null,null,null,null,"Transferencias a fideicomisos, mandatos y análogos (derogado)",{"$f":"'F7'!C64","v":0},{"$f":"'F7'!D64","v":0},{"$f":"'F7'!E64","v":0},{"$f":"'F7'!F64","v":0},{"$f":"'F7'!G64","v":0},{"$f":"'F7'!H64","v":0}]
[null,null,null,null,null,null,"Transferencias del fondo mexicano del petróleo para la estabilización y el desarrollo",{"$f":"'F7'!C65","v":0},{"$f":"'F7'!D65","v":0},{"$f":"'F7'!E65","v":0},{"$f":"'F7'!F65","v":0},{"$f":"'F7'!G65","v":0},{"$f":"'F7'!H65","v":0}]
[null,null,null,null,null,null,"Ingresos derivados de financiamiento",{"$f":"'F7'!C66","v":0},{"$f":"'F7'!D66","v":0},{"$f":"'F7'!E66","v":0},{"$f":"'F7'!F66","v":0},{"$f":"'F7'!G66","v":0},{"$f":"'F7'!H66","v":0}]
[null,null,null,null,null,null,"Endeudamiento interno",{"$f":"'F7'!C67","v":0},{"$f":"'F7'!D67","v":0},{"$f":"'F7'!E67","v":0},{"$f":"'F7'!F67","v":0},{"$f":"'F7'!G67","v":0},{"$f":"'F7'!H67","v":0}]
[null,null,null,null,null,null,"Endeudamiento externo",{"$f":"'F7'!C68","v":0},{"$f":"'F7'!D68","v":0},{"$f":"'F7'!E68","v":0},{"$f":"'F7'!F68","v":0},{"$f":"'F7'!G68","v":0},{"$f":"'F7'!H68","v":0}]
[null,null,null,null,null,null,"Financiamiento interno",{"$f":"'F7'!C69","v":0},{"$f":"'F7'!D69","v":0},{"$f":"'F7'!E69","v":0},{"$f":"'F7'!F69","v":0},{"$f":"'F7'!G69","v":0},{"$f":"'F7'!H69","v":0}]
[null,null,null,null,null,null,"TOTAL",{"$f":"'F7'!C70","v":0},{"$f":"'F7'!D70","v":0},{"$f":"'F7'!E70","v":0},{"$f":"'F7'!F70","v":0},{"$f":"'F7'!G70","v":0},{"$f":"'F7'!H70","v":0}]
[null,null,null,null,null,null,"F7A"]
[null,null,null,null,null,null,"Ingresos del municipio",{"$f":"F7A!D7","v":0},{"$f":"F7A!E7","v":0},{"$f":"F7A!F7","v":0},{"$f":"F7A!G7","v":0},{"$f":"F7A!H7","v":0},{"$f":"F7A!I7","v":0}]
[null,null,null,null,null,null,"Impuestos",{"$f":"F7A!D8","v":0},{"$f":"F7A!E8","v":0},{"$f":"F7A!F8","v":0},{"$f":"F7A!G8","v":0},{"$f":"F7A!H8","v":0},{"$f":"F7A!I8","v":0}]
[null,null,null,null,null,null,"Cuotas y aportaciones de seguridad social",{"$f":"F7A!D9","v":0},{"$f":"F7A!E9","v":0},{"$f":"F7A!F9","v":0},{"$f":"F7A!G9","v":0},{"$f":"F7A!H9","v":0},{"$f":"F7A!I9","v":0}]
[null,null,null,null,null,null,"Contribuciones de mejoras",{"$f":"F7A!D10","v":0},{"$f":"F7A!E10","v":0},{"$f":"F7A!F10","v":0},{"$f":"F7A!G10","v":0},{"$f":"F7A!H10","v":0},{"$f":"F7A!I10","v":0}]
[null,null,null,null,null,null,"Derechos",{"$f":"F7A!D11","v":0},{"$f":"F7A!E11","v":0},{"$f":"F7A!F11","v":0},{"$f":"F7A!G11","v":0},{"$f":"F7A!H11","v":0},{"$f":"F7A!I11","v":0}]
[null,null,null,null,null,null,"Productos",{"$f":"F7A!D12","v":0},{"$f":"F7A!E12","v":0},{"$f":"F7A!F12","v":0},{"$f":"F7A!G12","v":0},{"$f":"F7A!H12","v":0},{"$f":"F7A!I12","v":0}]
[null,null,null,null,null,null,"Aprovechamientos",{"$f":"F7A!D13","v":0},{"$f":"F7A!E13","v":0},{"$f":"F7A!F13","v":0},{"$f":"F7A!G13","v":0},{"$f":"F7A!H13","v":0},{"$f":"F7A!I13","v":0}]
[null,null,null,null,null,null,"Participaciones, aportaciones, convenios, incentivos derivados de la colaboración fiscal y fondos distintos de aportaciones",{"$f":"F7A!D14","v":0},{"$f":"F7A!E14","v":0},{"$f":"F7A!F14","v":0},{"$f":"F7A!G14","v":0},{"$f":"F7A!H14","v":0},{"$f":"F7A!I14","v":0}]
[null,null,null,null,null,null,"Transferencias, asignaciones, subsidios y subvenciones, y pensiones y jubilaciones",{"$f":"F7A!D15","v":0},{"$f":"F7A!E15","v":0},{"$f":"F7A!F15","v":0},{"$f":"F7A!G15","v":0},{"$f":"F7A!H15","v":0},{"$f":"F7A!I15","v":0}]
[null,null,null,null,null,null,"Ingresos de los entes públicos del sector paramunicipal, así como de las empresas productivas del municipio",{"$f":"F7A!D16","v":0},{"$f":"F7A!E16","v":0},{"$f":"F7A!F16","v":0},{"$f":"F7A!G16","v":0},{"$f":"F7A!H16","v":0},{"$f":"F7A!I16","v":0}]
[null,null,null,null,null,null,"Cuotas y aportaciones de seguridad social",{"$f":"F7A!D17","v":0},{"$f":"F7A!E17","v":0},{"$f":"F7A!F17","v":0},{"$f":"F7A!G17","v":0},{"$f":"F7A!H17","v":0},{"$f":"F7A!I17","v":0}]
[null,null,null,null,null,null,"Productos",{"$f":"F7A!D18","v":0},{"$f":"F7A!E18","v":0},{"$f":"F7A!F18","v":0},{"$f":"F7A!G18","v":0},{"$f":"F7A!H18","v":0},{"$f":"F7A!I18","v":0}]
[null,null,null,null,null,null,"Ingresos por ventas de bienes, prestación de  servicios y otros ingresos",{"$f":"F7A!D19","v":0},{"$f":"F7A!E19","v":0},{"$f":"F7A!F19","v":0},{"$f":"F7A!G19","v":0},{"$f":"F7A!H19","v":0},{"$f":"F7A!I19","v":0}]
[null,null,null,null,null,null,"Transferencias, asignaciones, subsidios y subvenciones, y pensiones y jubilaciones",{"$f":"F7A!D20","v":0},{"$f":"F7A!E20","v":0},{"$f":"F7A!F20","v":0},{"$f":"F7A!G20","v":0},{"$f":"F7A!H20","v":0},{"$f":"F7A!I20","v":0}]
[null,null,null,null,null,null,"Ingresos derivados de financiamiento",{"$f":"F7A!D21","v":0},{"$f":"F7A!E21","v":0},{"$f":"F7A!F21","v":0},{"$f":"F7A!G21","v":0},{"$f":"F7A!H21","v":0},{"$f":"F7A!I21","v":0}]
[null,null,null,null,null,null,"Ingresos derivados de financiamientos",{"$f":"F7A!D22","v":0},{"$f":"F7A!E22","v":0},{"$f":"F7A!F22","v":0},{"$f":"F7A!G22","v":0},{"$f":"F7A!H22","v":0},{"$f":"F7A!I22","v":0}]
[null,null,null,null,null,null,"TOTAL",{"$f":"F7A!D23","v":0},{"$f":"F7A!E23","v":0},{"$f":"F7A!F23","v":0},{"$f":"F7A!G23","v":0},{"$f":"F7A!H23","v":0},{"$f":"F7A!I23","v":0}]
[null,null,null,null,null,null,"F7B"]
[null,null,null,null,null,null,"INGRESOS DE LIBRE DISPOSICIÓN"]
[null,null,null,null,null,null,"Impuestos",{"$f":"F7B!C8","v":0},{"$f":"F7B!D8","v":0},{"$f":"F7B!E8","v":0},{"$f":"F7B!F8","v":0},{"$f":"F7B!G8","v":0},{"$f":"F7B!H8","v":0}]
[null,null,null,null,null,null,"Cuotas y aportaciones de seguridad social ",{"$f":"F7B!C9","v":0},{"$f":"F7B!D9","v":0},{"$f":"F7B!E9","v":0},{"$f":"F7B!F9","v":0},{"$f":"F7B!G9","v":0},{"$f":"F7B!H9","v":0}]
[null,null,null,null,null,null,"Contribuciones de mejoras ",{"$f":"F7B!C10","v":0},{"$f":"F7B!D10","v":0},{"$f":"F7B!E10","v":0},{"$f":"F7B!F10","v":0},{"$f":"F7B!G10","v":0},{"$f":"F7B!H10","v":0}]
[null,null,null,null,null,null,"Derechos",{"$f":"F7B!C11","v":0},{"$f":"F7B!D11","v":0},{"$f":"F7B!E11","v":0},{"$f":"F7B!F11","v":0},{"$f":"F7B!G11","v":0},{"$f":"F7B!H11","v":0}]
[null,null,null,null,null,null,"Productos",{"$f":"F7B!C12","v":0},{"$f":"F7B!D12","v":0},{"$f":"F7B!E12","v":0},{"$f":"F7B!F12","v":0},{"$f":"F7B!G12","v":0},{"$f":"F7B!H12","v":0}]
[null,null,null,null,null,null,"Aprovechamientos",{"$f":"F7B!C13","v":0},{"$f":"F7B!D13","v":0},{"$f":"F7B!E13","v":0},{"$f":"F7B!F13","v":0},{"$f":"F7B!G13","v":0},{"$f":"F7B!H13","v":0}]
[null,null,null,null,null,null,"Ingresos por ventas de bienes y servicios ",{"$f":"F7B!C14","v":0},{"$f":"F7B!D14","v":0},{"$f":"F7B!E14","v":0},{"$f":"F7B!F14","v":0},{"$f":"F7B!G14","v":0},{"$f":"F7B!H14","v":0}]
[null,null,null,null,null,null,"Participaciones",{"$f":"F7B!C15","v":0},{"$f":"F7B!D15","v":0},{"$f":"F7B!E15","v":0},{"$f":"F7B!F15","v":0},{"$f":"F7B!G15","v":0},{"$f":"F7B!H15","v":0}]
[null,null,null,null,null,null,"Fondo general de participaciones",{"$f":"F7B!C16","v":0},{"$f":"F7B!D16","v":0},{"$f":"F7B!E16","v":0},{"$f":"F7B!F16","v":0},{"$f":"F7B!G16","v":0},{"$f":"F7B!H16","v":0}]
[null,null,null,null,null,null,"Fondo de fomento municipal",{"$f":"F7B!C17","v":0},{"$f":"F7B!D17","v":0},{"$f":"F7B!E17","v":0},{"$f":"F7B!F17","v":0},{"$f":"F7B!G17","v":0},{"$f":"F7B!H17","v":0}]
[null,null,null,null,null,null,"Fondo de fiscalización y recaudación",{"$f":"F7B!C18","v":0},{"$f":"F7B!D18","v":0},{"$f":"F7B!E18","v":0},{"$f":"F7B!F18","v":0},{"$f":"F7B!G18","v":0},{"$f":"F7B!H18","v":0}]
[null,null,null,null,null,null,"Fondo de compensación",{"$f":"F7B!C19","v":0},{"$f":"F7B!D19","v":0},{"$f":"F7B!E19","v":0},{"$f":"F7B!F19","v":0},{"$f":"F7B!G19","v":0},{"$f":"F7B!H19","v":0}]
[null,null,null,null,null,null,"Fondo de extracción de hidrocarburos",{"$f":"F7B!C20","v":0},{"$f":"F7B!D20","v":0},{"$f":"F7B!E20","v":0},{"$f":"F7B!F20","v":0},{"$f":"F7B!G20","v":0},{"$f":"F7B!H20","v":0}]
[null,null,null,null,null,null,"Impuesto especial sobre producción y servicios",{"$f":"F7B!C21","v":0},{"$f":"F7B!D21","v":0},{"$f":"F7B!E21","v":0},{"$f":"F7B!F21","v":0},{"$f":"F7B!G21","v":0},{"$f":"F7B!H21","v":0}]
[null,null,null,null,null,null,"0.136% de la recaudación federal participable",{"$f":"F7B!C22","v":0},{"$f":"F7B!D22","v":0},{"$f":"F7B!E22","v":0},{"$f":"F7B!F22","v":0},{"$f":"F7B!G22","v":0},{"$f":"F7B!H22","v":0}]
[null,null,null,null,null,null,"3.17% sobre extracción del petróleo",{"$f":"F7B!C23","v":0},{"$f":"F7B!D23","v":0},{"$f":"F7B!E23","v":0},{"$f":"F7B!F23","v":0},{"$f":"F7B!G23","v":0},{"$f":"F7B!H23","v":0}]
[null,null,null,null,null,null,"Gasolinas y diésel",{"$f":"F7B!C24","v":0},{"$f":"F7B!D24","v":0},{"$f":"F7B!E24","v":0},{"$f":"F7B!F24","v":0},{"$f":"F7B!G24","v":0},{"$f":"F7B!H24","v":0}]
[null,null,null,null,null,null,"Fondo de impuesto sobre la renta",{"$f":"F7B!C25","v":0},{"$f":"F7B!D25","v":0},{"$f":"F7B!E25","v":0},{"$f":"F7B!F25","v":0},{"$f":"F7B!G25","v":0},{"$f":"F7B!H25","v":0}]
[null,null,null,null,null,null,"Fondo de estabilización de los ingresos de las entidades federativas",{"$f":"F7B!C26","v":0},{"$f":"F7B!D26","v":0},{"$f":"F7B!E26","v":0},{"$f":"F7B!F26","v":0},{"$f":"F7B!G26","v":0},{"$f":"F7B!H26","v":0}]
[null,null,null,null,null,null,"Incentivos derivados de la colaboración fiscal",{"$f":"F7B!C27","v":0},{"$f":"F7B!D27","v":0},{"$f":"F7B!E27","v":0},{"$f":"F7B!F27","v":0},{"$f":"F7B!G27","v":0},{"$f":"F7B!H27","v":0}]
[null,null,null,null,null,null,"Tenencia o uso de vehículos",{"$f":"F7B!C28","v":0},{"$f":"F7B!D28","v":0},{"$f":"F7B!E28","v":0},{"$f":"F7B!F28","v":0},{"$f":"F7B!G28","v":0},{"$f":"F7B!H28","v":0}]
[null,null,null,null,null,null,"Fondo de compensación ISAN",{"$f":"F7B!C29","v":0},{"$f":"F7B!D29","v":0},{"$f":"F7B!E29","v":0},{"$f":"F7B!F29","v":0},{"$f":"F7B!G29","v":0},{"$f":"F7B!H29","v":0}]
[null,null,null,null,null,null,"Impuesto sobre automóviles nuevos",{"$f":"F7B!C30","v":0},{"$f":"F7B!D30","v":0},{"$f":"F7B!E30","v":0},{"$f":"F7B!F30","v":0},{"$f":"F7B!G30","v":0},{"$f":"F7B!H30","v":0}]
[null,null,null,null,null,null,"Fondo de compensación de repecos-intermedios",{"$f":"F7B!C31","v":0},{"$f":"F7B!D31","v":0},{"$f":"F7B!E31","v":0},{"$f":"F7B!F31","v":0},{"$f":"F7B!G31","v":0},{"$f":"F7B!H31","v":0}]
[null,null,null,null,null,null,"Otros incentivos económicos",{"$f":"F7B!C32","v":0},{"$f":"F7B!D32","v":0},{"$f":"F7B!E32","v":0},{"$f":"F7B!F32","v":0},{"$f":"F7B!G32","v":0},{"$f":"F7B!H32","v":0}]
[null,null,null,null,null,null,"Transferencias",{"$f":"F7B!C33","v":0},{"$f":"F7B!D33","v":0},{"$f":"F7B!E33","v":0},{"$f":"F7B!F33","v":0},{"$f":"F7B!G33","v":0},{"$f":"F7B!H33","v":0}]
[null,null,null,null,null,null,"Convenios",{"$f":"F7B!C34","v":0},{"$f":"F7B!D34","v":0},{"$f":"F7B!E34","v":0},{"$f":"F7B!F34","v":0},{"$f":"F7B!G34","v":0},{"$f":"F7B!H34","v":0}]
[null,null,null,null,null,null,"Otros convenios y subsidios",{"$f":"F7B!C35","v":0},{"$f":"F7B!D35","v":0},{"$f":"F7B!E35","v":0},{"$f":"F7B!F35","v":0},{"$f":"F7B!G35","v":0},{"$f":"F7B!H35","v":0}]
[null,null,null,null,null,null,"Otros ingresos de libre disposición",{"$f":"F7B!C36","v":0},{"$f":"F7B!D36","v":0},{"$f":"F7B!E36","v":0},{"$f":"F7B!F36","v":0},{"$f":"F7B!G36","v":0},{"$f":"F7B!H36","v":0}]
[null,null,null,null,null,null,"Participaciones en ingresos locales",{"$f":"F7B!C37","v":0},{"$f":"F7B!D37","v":0},{"$f":"F7B!E37","v":0},{"$f":"F7B!F37","v":0},{"$f":"F7B!G37","v":0},{"$f":"F7B!H37","v":0}]
[null,null,null,null,null,null,"Otros ingresos de libre disposición",{"$f":"F7B!C38","v":0},{"$f":"F7B!D38","v":0},{"$f":"F7B!E38","v":0},{"$f":"F7B!F38","v":0},{"$f":"F7B!G38","v":0},{"$f":"F7B!H38","v":0}]
[null,null,null,null,null,null,"Total de ingresos de libre disposición",{"$f":"F7B!C39","v":0},{"$f":"F7B!D39","v":0},{"$f":"F7B!E39","v":0},{"$f":"F7B!F39","v":0},{"$f":"F7B!G39","v":0},{"$f":"F7B!H39","v":0}]
[null,null,null,null,null,null,"TRANSFERENCIAS FEDERALES ETIQUETADAS"]
[null,null,null,null,null,null,"Aportaciones",{"$f":"F7B!C42","v":0},{"$f":"F7B!D42","v":0},{"$f":"F7B!E42","v":0},{"$f":"F7B!F42","v":0},{"$f":"F7B!G42","v":0},{"$f":"F7B!H42","v":0}]
[null,null,null,null,null,null,"Fondo de aportaciones para la nómina educativa y gasto operativo",{"$f":"F7B!C43","v":0},{"$f":"F7B!D43","v":0},{"$f":"F7B!E43","v":0},{"$f":"F7B!F43","v":0},{"$f":"F7B!G43","v":0},{"$f":"F7B!H43","v":0}]
[null,null,null,null,null,null,"Fondo de aportaciones para los servicios de salud",{"$f":"F7B!C44","v":0},{"$f":"F7B!D44","v":0},{"$f":"F7B!E44","v":0},{"$f":"F7B!F44","v":0},{"$f":"F7B!G44","v":0},{"$f":"F7B!H44","v":0}]
[null,null,null,null,null,null,"Fondo de aportaciones para la infraestructura social",{"$f":"F7B!C45","v":0},{"$f":"F7B!D45","v":0},{"$f":"F7B!E45","v":0},{"$f":"F7B!F45","v":0},{"$f":"F7B!G45","v":0},{"$f":"F7B!H45","v":0}]
[null,null,null,null,null,null,"Fondo de aportaciones para el fortalecimiento de los municipios y de las demarcaciones territoriales del distrito federal",{"$f":"F7B!C46","v":0},{"$f":"F7B!D46","v":0},{"$f":"F7B!E46","v":0},{"$f":"F7B!F46","v":0},{"$f":"F7B!G46","v":0},{"$f":"F7B!H46","v":0}]
[null,null,null,null,null,null,"Fondo de aportaciones múltiples",{"$f":"F7B!C47","v":0},{"$f":"F7B!D47","v":0},{"$f":"F7B!E47","v":0},{"$f":"F7B!F47","v":0},{"$f":"F7B!G47","v":0},{"$f":"F7B!H47","v":0}]
[null,null,null,null,null,null,"Fondo de aportaciones para la educación tecnológica y de adultos",{"$f":"F7B!C48","v":0},{"$f":"F7B!D48","v":0},{"$f":"F7B!E48","v":0},{"$f":"F7B!F48","v":0},{"$f":"F7B!G48","v":0},{"$f":"F7B!H48","v":0}]
[null,null,null,null,null,null,"Fondo de aportaciones para la seguridad pública de los estados y del distrito federal",{"$f":"F7B!C49","v":0},{"$f":"F7B!D49","v":0},{"$f":"F7B!E49","v":0},{"$f":"F7B!F49","v":0},{"$f":"F7B!G49","v":0},{"$f":"F7B!H49","v":0}]
[null,null,null,null,null,null,"Fondo de aportaciones para el fortalecimiento de las entidades federativas",{"$f":"F7B!C50","v":0},{"$f":"F7B!D50","v":0},{"$f":"F7B!E50","v":0},{"$f":"F7B!F50","v":0},{"$f":"F7B!G50","v":0},{"$f":"F7B!H50","v":0}]
[null,null,null,null,null,null,"Convenios",{"$f":"F7B!C51","v":0},{"$f":"F7B!D51","v":0},{"$f":"F7B!E51","v":0},{"$f":"F7B!F51","v":0},{"$f":"F7B!G51","v":0},{"$f":"F7B!H51","v":0}]
[null,null,null,null,null,null,"Convenios de protección social en salud",{"$f":"F7B!C52","v":0},{"$f":"F7B!D52","v":0},{"$f":"F7B!E52","v":0},{"$f":"F7B!F52","v":0},{"$f":"F7B!G52","v":0},{"$f":"F7B!H52","v":0}]
[null,null,null,null,null,null,"Convenios de descentralización",{"$f":"F7B!C53","v":0},{"$f":"F7B!D53","v":0},{"$f":"F7B!E53","v":0},{"$f":"F7B!F53","v":0},{"$f":"F7B!G53","v":0},{"$f":"F7B!H53","v":0}]
[null,null,null,null,null,null,"Convenios de reasignación",{"$f":"F7B!C54","v":0},{"$f":"F7B!D54","v":0},{"$f":"F7B!E54","v":0},{"$f":"F7B!F54","v":0},{"$f":"F7B!G54","v":0},{"$f":"F7B!H54","v":0}]
[null,null,null,null,null,null,"Otros convenios y subsidios",{"$f":"F7B!C55","v":0},{"$f":"F7B!D55","v":0},{"$f":"F7B!E55","v":0},{"$f":"F7B!F55","v":0},{"$f":"F7B!G55","v":0},{"$f":"F7B!H55","v":0}]
[null,null,null,null,null,null,"Fondos distintos de aportaciones",{"$f":"F7B!C56","v":0},{"$f":"F7B!D56","v":0},{"$f":"F7B!E56","v":0},{"$f":"F7B!F56","v":0},{"$f":"F7B!G56","v":0},{"$f":"F7B!H56","v":0}]
[null,null,null,null,null,null,"Fondo para entidades federativas y municipios productores de hidrocarburos",{"$f":"F7B!C57","v":0},{"$f":"F7B!D57","v":0},{"$f":"F7B!E57","v":0},{"$f":"F7B!F57","v":0},{"$f":"F7B!G57","v":0},{"$f":"F7B!H57","v":0}]
[null,null,null,null,null,null,"Fondo minero",{"$f":"F7B!C58","v":0},{"$f":"F7B!D58","v":0},{"$f":"F7B!E58","v":0},{"$f":"F7B!F58","v":0},{"$f":"F7B!G58","v":0},{"$f":"F7B!H58","v":0}]
[null,null,null,null,null,null,"Transferencias, subsidios y subvenciones, y pensiones y jubilaciones",{"$f":"F7B!C59","v":0},{"$f":"F7B!D59","v":0},{"$f":"F7B!E59","v":0},{"$f":"F7B!F59","v":0},{"$f":"F7B!G59","v":0},{"$f":"F7B!H59","v":0}]
[null,null,null,null,null,null,"Otras transferencias federales etiquetadas",{"$f":"F7B!C60","v":0},{"$f":"F7B!D60","v":0},{"$f":"F7B!E60","v":0},{"$f":"F7B!F60","v":0},{"$f":"F7B!G60","v":0},{"$f":"F7B!H60","v":0}]
[null,null,null,null,null,null,"Total de transferencias federales etiquetadas",{"$f":"F7B!C61","v":0},{"$f":"F7B!D61","v":0},{"$f":"F7B!E61","v":0},{"$f":"F7B!F61","v":0},{"$f":"F7B!G61","v":0},{"$f":"F7B!H61","v":0}]
[null,null,null,null,null,null,"INGRESOS DERIVADOS DE FINANCIAMIENTO",{"$f":"F7B!C62","v":0},{"$f":"F7B!D62","v":0},{"$f":"F7B!E62","v":0},{"$f":"F7B!F62","v":0},{"$f":"F7B!G62","v":0},{"$f":"F7B!H62","v":0}]
[null,null,null,null,null,null,"Ingresos derivados de financiamiento",{"$f":"F7B!C63","v":0},{"$f":"F7B!D63","v":0},{"$f":"F7B!E63","v":0},{"$f":"F7B!F63","v":0},{"$f":"F7B!G63","v":0},{"$f":"F7B!H63","v":0}]
[null,null,null,null,null,null,"Total de ingresos ",{"$f":"F7B!C64","v":0},{"$f":"F7B!D64","v":0},{"$f":"F7B!E64","v":0},{"$f":"F7B!F64","v":0},{"$f":"F7B!G64","v":0},{"$f":"F7B!H64","v":0}]
[null,null,null,null,null,null,"DATOS INFORMATIVOS",{"$f":"F7B!C65","v":0},{"$f":"F7B!D65","v":0},{"$f":"F7B!E65","v":0},{"$f":"F7B!F65","v":0},{"$f":"F7B!G65","v":0},{"$f":"F7B!H65","v":0}]
[null,null,null,null,null,null,"Ingresos derivados de financiamientos con fuente de pago de ingresos de libre disposición",{"$f":"F7B!C66","v":0},{"$f":"F7B!D66","v":0},{"$f":"F7B!E66","v":0},{"$f":"F7B!F66","v":0},{"$f":"F7B!G66","v":0},{"$f":"F7B!H66","v":0}]
[null,null,null,null,null,null,"Ingresos derivados de financiamientos con fuente de pago de transferencias federales etiquetadas",{"$f":"F7B!C67","v":0},{"$f":"F7B!D67","v":0},{"$f":"F7B!E67","v":0},{"$f":"F7B!F67","v":0},{"$f":"F7B!G67","v":0},{"$f":"F7B!H67","v":0}]
[null,null,null,null,null,null,"Ingresos derivados de financiamiento",{"$f":"F7B!C68","v":0},{"$f":"F7B!D68","v":0},{"$f":"F7B!E68","v":0},{"$f":"F7B!F68","v":0},{"$f":"F7B!G68","v":0},{"$f":"F7B!H68","v":0}]
[null,null,null,null,null,null,"F8"]
[null,null,null,null,null,null,"Servicios personales",{"$f":"'F8'!C8","v":0},{"$f":"'F8'!D8","v":0},{"$f":"'F8'!E8","v":0},{"$f":"'F8'!F8","v":0},{"$f":"'F8'!G8","v":0},{"$f":"'F8'!H8","v":0}]
[null,null,null,null,null,null,"Remuneraciones al personal de carácter permanente",{"$f":"'F8'!C9","v":0},{"$f":"'F8'!D9","v":0},{"$f":"'F8'!E9","v":0},{"$f":"'F8'!F9","v":0},{"$f":"'F8'!G9","v":0},{"$f":"'F8'!H9","v":0}]
[null,null,null,null,null,null,"Remuneraciones al personal de carácter transitorio",{"$f":"'F8'!C10","v":0},{"$f":"'F8'!D10","v":0},{"$f":"'F8'!E10","v":0},{"$f":"'F8'!F10","v":0},{"$f":"'F8'!G10","v":0},{"$f":"'F8'!H10","v":0}]
[null,null,null,null,null,null,"Remuneraciones adicionales especiales",{"$f":"'F8'!C11","v":0},{"$f":"'F8'!D11","v":0},{"$f":"'F8'!E11","v":0},{"$f":"'F8'!F11","v":0},{"$f":"'F8'!G11","v":0},{"$f":"'F8'!H11","v":0}]
[null,null,null,null,null,null,"Seguridad social",{"$f":"'F8'!C12","v":0},{"$f":"'F8'!D12","v":0},{"$f":"'F8'!E12","v":0},{"$f":"'F8'!F12","v":0},{"$f":"'F8'!G12","v":0},{"$f":"'F8'!H12","v":0}]
[null,null,null,null,null,null,"Otras prestaciones sociales y económicas",{"$f":"'F8'!C13","v":0},{"$f":"'F8'!D13","v":0},{"$f":"'F8'!E13","v":0},{"$f":"'F8'!F13","v":0},{"$f":"'F8'!G13","v":0},{"$f":"'F8'!H13","v":0}]
[null,null,null,null,null,null,"Previsiones",{"$f":"'F8'!C14","v":0},{"$f":"'F8'!D14","v":0},{"$f":"'F8'!E14","v":0},{"$f":"'F8'!F14","v":0},{"$f":"'F8'!G14","v":0},{"$f":"'F8'!H14","v":0}]
[null,null,null,null,null,null,"Pago de estímulos a servidores públicos",{"$f":"'F8'!C15","v":0},{"$f":"'F8'!D15","v":0},{"$f":"'F8'!E15","v":0},{"$f":"'F8'!F15","v":0},{"$f":"'F8'!G15","v":0},{"$f":"'F8'!H15","v":0}]
[null,null,null,null,null,null,"Materiales y suministros",{"$f":"'F8'!C16","v":0},{"$f":"'F8'!D16","v":0},{"$f":"'F8'!E16","v":0},{"$f":"'F8'!F16","v":0},{"$f":"'F8'!G16","v":0},{"$f":"'F8'!H16","v":0}]
[null,null,null,null,null,null,"Materiales de administración, emisión de documentos y artículos oficiales",{"$f":"'F8'!C17","v":0},{"$f":"'F8'!D17","v":0},{"$f":"'F8'!E17","v":0},{"$f":"'F8'!F17","v":0},{"$f":"'F8'!G17","v":0},{"$f":"'F8'!H17","v":0}]
[null,null,null,null,null,null,"Alimentos y utensilios",{"$f":"'F8'!C18","v":0},{"$f":"'F8'!D18","v":0},{"$f":"'F8'!E18","v":0},{"$f":"'F8'!F18","v":0},{"$f":"'F8'!G18","v":0},{"$f":"'F8'!H18","v":0}]
[null,null,null,null,null,null,"Materias primas y materiales de producción y comercialización",{"$f":"'F8'!C19","v":0},{"$f":"'F8'!D19","v":0},{"$f":"'F8'!E19","v":0},{"$f":"'F8'!F19","v":0},{"$f":"'F8'!G19","v":0},{"$f":"'F8'!H19","v":0}]
[null,null,null,null,null,null,"Materiales y artículos de construcción y de reparación",{"$f":"'F8'!C20","v":0},{"$f":"'F8'!D20","v":0},{"$f":"'F8'!E20","v":0},{"$f":"'F8'!F20","v":0},{"$f":"'F8'!G20","v":0},{"$f":"'F8'!H20","v":0}]
[null,null,null,null,null,null,"Productos químicos, farmacéuticos y de laboratorio",{"$f":"'F8'!C21","v":0},{"$f":"'F8'!D21","v":0},{"$f":"'F8'!E21","v":0},{"$f":"'F8'!F21","v":0},{"$f":"'F8'!G21","v":0},{"$f":"'F8'!H21","v":0}]
[null,null,null,null,null,null,"Combustibles, lubricantes y aditivos",{"$f":"'F8'!C22","v":0},{"$f":"'F8'!D22","v":0},{"$f":"'F8'!E22","v":0},{"$f":"'F8'!F22","v":0},{"$f":"'F8'!G22","v":0},{"$f":"'F8'!H22","v":0}]
[null,null,null,null,null,null,"Vestuario, blancos, prendas de protección y artículos deportivos",{"$f":"'F8'!C23","v":0},{"$f":"'F8'!D23","v":0},{"$f":"'F8'!E23","v":0},{"$f":"'F8'!F23","v":0},{"$f":"'F8'!G23","v":0},{"$f":"'F8'!H23","v":0}]
[null,null,null,null,null,null,"Materiales y suministros de seguridad",{"$f":"'F8'!C24","v":0},{"$f":"'F8'!D24","v":0},{"$f":"'F8'!E24","v":0},{"$f":"'F8'!F24","v":0},{"$f":"'F8'!G24","v":0},{"$f":"'F8'!H24","v":0}]
[null,null,null,null,null,null,"Herramientas, refacciones y accesorios menores",{"$f":"'F8'!C25","v":0},{"$f":"'F8'!D25","v":0},{"$f":"'F8'!E25","v":0},{"$f":"'F8'!F25","v":0},{"$f":"'F8'!G25","v":0},{"$f":"'F8'!H25","v":0}]
[null,null,null,null,null,null,"Servicios generales",{"$f":"'F8'!C26","v":0},{"$f":"'F8'!D26","v":0},{"$f":"'F8'!E26","v":0},{"$f":"'F8'!F26","v":0},{"$f":"'F8'!G26","v":0},{"$f":"'F8'!H26","v":0}]
[null,null,null,null,null,null,"Servicios básicos",{"$f":"'F8'!C27","v":0},{"$f":"'F8'!D27","v":0},{"$f":"'F8'!E27","v":0},{"$f":"'F8'!F27","v":0},{"$f":"'F8'!G27","v":0},{"$f":"'F8'!H27","v":0}]
[null,null,null,null,null,null,"Servicios de arrendamiento",{"$f":"'F8'!C28","v":0},{"$f":"'F8'!D28","v":0},{"$f":"'F8'!E28","v":0},{"$f":"'F8'!F28","v":0},{"$f":"'F8'!G28","v":0},{"$f":"'F8'!H28","v":0}]
[null,null,null,null,null,null,"Servicios profesionales, científicos, técnicos y otros servicios",{"$f":"'F8'!C29","v":0},{"$f":"'F8'!D29","v":0},{"$f":"'F8'!E29","v":0},{"$f":"'F8'!F29","v":0},{"$f":"'F8'!G29","v":0},{"$f":"'F8'!H29","v":0}]
[null,null,null,null,null,null,"Servicios financieros, bancarios y comerciales",{"$f":"'F8'!C30","v":0},{"$f":"'F8'!D30","v":0},{"$f":"'F8'!E30","v":0},{"$f":"'F8'!F30","v":0},{"$f":"'F8'!G30","v":0},{"$f":"'F8'!H30","v":0}]
[null,null,null,null,null,null,"Servicios de instalación, reparación, mantenimiento y conservación",{"$f":"'F8'!C31","v":0},{"$f":"'F8'!D31","v":0},{"$f":"'F8'!E31","v":0},{"$f":"'F8'!F31","v":0},{"$f":"'F8'!G31","v":0},{"$f":"'F8'!H31","v":0}]
[null,null,null,null,null,null,"Servicios de comunicación social y publicidad",{"$f":"'F8'!C32","v":0},{"$f":"'F8'!D32","v":0},{"$f":"'F8'!E32","v":0},{"$f":"'F8'!F32","v":0},{"$f":"'F8'!G32","v":0},{"$f":"'F8'!H32","v":0}]
[null,null,null,null,null,null,"Servicios de traslado y viáticos",{"$f":"'F8'!C33","v":0},{"$f":"'F8'!D33","v":0},{"$f":"'F8'!E33","v":0},{"$f":"'F8'!F33","v":0},{"$f":"'F8'!G33","v":0},{"$f":"'F8'!H33","v":0}]
[null,null,null,null,null,null,"Servicios oficiales",{"$f":"'F8'!C34","v":0},{"$f":"'F8'!D34","v":0},{"$f":"'F8'!E34","v":0},{"$f":"'F8'!F34","v":0},{"$f":"'F8'!G34","v":0},{"$f":"'F8'!H34","v":0}]
[null,null,null,null,null,null,"Otros servicios generales",{"$f":"'F8'!C35","v":0},{"$f":"'F8'!D35","v":0},{"$f":"'F8'!E35","v":0},{"$f":"'F8'!F35","v":0},{"$f":"'F8'!G35","v":0},{"$f":"'F8'!H35","v":0}]
[null,null,null,null,null,null,"Transferencias, asignaciones, subsidios y otras ayudas",{"$f":"'F8'!C36","v":0},{"$f":"'F8'!D36","v":0},{"$f":"'F8'!E36","v":0},{"$f":"'F8'!F36","v":0},{"$f":"'F8'!G36","v":0},{"$f":"'F8'!H36","v":0}]
[null,null,null,null,null,null,"Transferencias internas y asignaciones al sector público",{"$f":"'F8'!C37","v":0},{"$f":"'F8'!D37","v":0},{"$f":"'F8'!E37","v":0},{"$f":"'F8'!F37","v":0},{"$f":"'F8'!G37","v":0},{"$f":"'F8'!H37","v":0}]
[null,null,null,null,null,null,"Transferencias al resto del sector público",{"$f":"'F8'!C38","v":0},{"$f":"'F8'!D38","v":0},{"$f":"'F8'!E38","v":0},{"$f":"'F8'!F38","v":0},{"$f":"'F8'!G38","v":0},{"$f":"'F8'!H38","v":0}]
[null,null,null,null,null,null,"Subsidios y subvenciones",{"$f":"'F8'!C39","v":0},{"$f":"'F8'!D39","v":0},{"$f":"'F8'!E39","v":0},{"$f":"'F8'!F39","v":0},{"$f":"'F8'!G39","v":0},{"$f":"'F8'!H39","v":0}]
[null,null,null,null,null,null,"Ayudas sociales",{"$f":"'F8'!C40","v":0},{"$f":"'F8'!D40","v":0},{"$f":"'F8'!E40","v":0},{"$f":"'F8'!F40","v":0},{"$f":"'F8'!G40","v":0},{"$f":"'F8'!H40","v":0}]
[null,null,null,null,null,null,"Pensiones y jubilaciones",{"$f":"'F8'!C41","v":0},{"$f":"'F8'!D41","v":0},{"$f":"'F8'!E41","v":0},{"$f":"'F8'!F41","v":0},{"$f":"'F8'!G41","v":0},{"$f":"'F8'!H41","v":0}]
[null,null,null,null,null,null,"Transferencias a fideicomisos, mandatos y otros análogos",{"$f":"'F8'!C42","v":0},{"$f":"'F8'!D42","v":0},{"$f":"'F8'!E42","v":0},{"$f":"'F8'!F42","v":0},{"$f":"'F8'!G42","v":0},{"$f":"'F8'!H42","v":0}]
[null,null,null,null,null,null,"Transferencias a la seguridad social",{"$f":"'F8'!C43","v":0},{"$f":"'F8'!D43","v":0},{"$f":"'F8'!E43","v":0},{"$f":"'F8'!F43","v":0},{"$f":"'F8'!G43","v":0},{"$f":"'F8'!H43","v":0}]
[null,null,null,null,null,null,"Donativos",{"$f":"'F8'!C44","v":0},{"$f":"'F8'!D44","v":0},{"$f":"'F8'!E44","v":0},{"$f":"'F8'!F44","v":0},{"$f":"'F8'!G44","v":0},{"$f":"'F8'!H44","v":0}]
[null,null,null,null,null,null,"Transferencias al exterior",{"$f":"'F8'!C45","v":0},{"$f":"'F8'!D45","v":0},{"$f":"'F8'!E45","v":0},{"$f":"'F8'!F45","v":0},{"$f":"'F8'!G45","v":0},{"$f":"'F8'!H45","v":0}]
[null,null,null,null,null,null,"Bienes muebles, inmuebles e intangibles",{"$f":"'F8'!C46","v":0},{"$f":"'F8'!D46","v":0},{"$f":"'F8'!E46","v":0},{"$f":"'F8'!F46","v":0},{"$f":"'F8'!G46","v":0},{"$f":"'F8'!H46","v":0}]
[null,null,null,null,null,null,"Mobiliario y equipo de administración",{"$f":"'F8'!C47","v":0},{"$f":"'F8'!D47","v":0},{"$f":"'F8'!E47","v":0},{"$f":"'F8'!F47","v":0},{"$f":"'F8'!G47","v":0},{"$f":"'F8'!H47","v":0}]
[null,null,null,null,null,null,"Mobiliario y equipo educacional y recreativo",{"$f":"'F8'!C48","v":0},{"$f":"'F8'!D48","v":0},{"$f":"'F8'!E48","v":0},{"$f":"'F8'!F48","v":0},{"$f":"'F8'!G48","v":0},{"$f":"'F8'!H48","v":0}]
[null,null,null,null,null,null,"Equipo instrumental médico y de laboratorio",{"$f":"'F8'!C49","v":0},{"$f":"'F8'!D49","v":0},{"$f":"'F8'!E49","v":0},{"$f":"'F8'!F49","v":0},{"$f":"'F8'!G49","v":0},{"$f":"'F8'!H49","v":0}]
[null,null,null,null,null,null,"Vehículos y equipo de transporte",{"$f":"'F8'!C50","v":0},{"$f":"'F8'!D50","v":0},{"$f":"'F8'!E50","v":0},{"$f":"'F8'!F50","v":0},{"$f":"'F8'!G50","v":0},{"$f":"'F8'!H50","v":0}]
[null,null,null,null,null,null,"Equipo de defensa y seguridad",{"$f":"'F8'!C51","v":0},{"$f":"'F8'!D51","v":0},{"$f":"'F8'!E51","v":0},{"$f":"'F8'!F51","v":0},{"$f":"'F8'!G51","v":0},{"$f":"'F8'!H51","v":0}]
[null,null,null,null,null,null,"Maquinaria, otros equipos y herramientas",{"$f":"'F8'!C52","v":0},{"$f":"'F8'!D52","v":0},{"$f":"'F8'!E52","v":0},{"$f":"'F8'!F52","v":0},{"$f":"'F8'!G52","v":0},{"$f":"'F8'!H52","v":0}]
[null,null,null,null,null,null,"Activos biológicos",{"$f":"'F8'!C53","v":0},{"$f":"'F8'!D53","v":0},{"$f":"'F8'!E53","v":0},{"$f":"'F8'!F53","v":0},{"$f":"'F8'!G53","v":0},{"$f":"'F8'!H53","v":0}]
[null,null,null,null,null,null,"Bienes inmuebles",{"$f":"'F8'!C54","v":0},{"$f":"'F8'!D54","v":0},{"$f":"'F8'!E54","v":0},{"$f":"'F8'!F54","v":0},{"$f":"'F8'!G54","v":0},{"$f":"'F8'!H54","v":0}]
[null,null,null,null,null,null,"Activos intangibles",{"$f":"'F8'!C55","v":0},{"$f":"'F8'!D55","v":0},{"$f":"'F8'!E55","v":0},{"$f":"'F8'!F55","v":0},{"$f":"'F8'!G55","v":0},{"$f":"'F8'!H55","v":0}]
[null,null,null,null,null,null,"Inversión pública",{"$f":"'F8'!C56","v":0},{"$f":"'F8'!D56","v":0},{"$f":"'F8'!E56","v":0},{"$f":"'F8'!F56","v":0},{"$f":"'F8'!G56","v":0},{"$f":"'F8'!H56","v":0}]
[null,null,null,null,null,null,"Obra pública en bienes de dominio público",{"$f":"'F8'!C57","v":0},{"$f":"'F8'!D57","v":0},{"$f":"'F8'!E57","v":0},{"$f":"'F8'!F57","v":0},{"$f":"'F8'!G57","v":0},{"$f":"'F8'!H57","v":0}]
[null,null,null,null,null,null,"Obra pública en bienes de dominio propios",{"$f":"'F8'!C58","v":0},{"$f":"'F8'!D58","v":0},{"$f":"'F8'!E58","v":0},{"$f":"'F8'!F58","v":0},{"$f":"'F8'!G58","v":0},{"$f":"'F8'!H58","v":0}]
[null,null,null,null,null,null,"Proyectos productivos y acciones de fomento",{"$f":"'F8'!C59","v":0},{"$f":"'F8'!D59","v":0},{"$f":"'F8'!E59","v":0},{"$f":"'F8'!F59","v":0},{"$f":"'F8'!G59","v":0},{"$f":"'F8'!H59","v":0}]
[null,null,null,null,null,null,"Inversiones financieras y otras provisiones",{"$f":"'F8'!C60","v":0},{"$f":"'F8'!D60","v":0},{"$f":"'F8'!E60","v":0},{"$f":"'F8'!F60","v":0},{"$f":"'F8'!G60","v":0},{"$f":"'F8'!H60","v":0}]
[null,null,null,null,null,null,"Inversiones para el fomento de actividades productivas",{"$f":"'F8'!C61","v":0},{"$f":"'F8'!D61","v":0},{"$f":"'F8'!E61","v":0},{"$f":"'F8'!F61","v":0},{"$f":"'F8'!G61","v":0},{"$f":"'F8'!H61","v":0}]
[null,null,null,null,null,null,"Acciones y participaciones de capital",{"$f":"'F8'!C62","v":0},{"$f":"'F8'!D62","v":0},{"$f":"'F8'!E62","v":0},{"$f":"'F8'!F62","v":0},{"$f":"'F8'!G62","v":0},{"$f":"'F8'!H62","v":0}]
[null,null,null,null,null,null,"Compra de títulos y valores",{"$f":"'F8'!C63","v":0},{"$f":"'F8'!D63","v":0},{"$f":"'F8'!E63","v":0},{"$f":"'F8'!F63","v":0},{"$f":"'F8'!G63","v":0},{"$f":"'F8'!H63","v":0}]
[null,null,null,null,null,null,"Concesión de préstamos",{"$f":"'F8'!C64","v":0},{"$f":"'F8'!D64","v":0},{"$f":"'F8'!E64","v":0},{"$f":"'F8'!F64","v":0},{"$f":"'F8'!G64","v":0},{"$f":"'F8'!H64","v":0}]
[null,null,null,null,null,null,"Inversiones en fideicomisos, mandatos y otros análogos",{"$f":"'F8'!C65","v":0},{"$f":"'F8'!D65","v":0},{"$f":"'F8'!E65","v":0},{"$f":"'F8'!F65","v":0},{"$f":"'F8'!G65","v":0},{"$f":"'F8'!H65","v":0}]
[null,null,null,null,null,null,"Otras inversiones financieras",{"$f":"'F8'!C66","v":0},{"$f":"'F8'!D66","v":0},{"$f":"'F8'!E66","v":0},{"$f":"'F8'!F66","v":0},{"$f":"'F8'!G66","v":0},{"$f":"'F8'!H66","v":0}]
[null,null,null,null,null,null,"Provisiones para contingencias y otras erogaciones especiales",{"$f":"'F8'!C67","v":0},{"$f":"'F8'!D67","v":0},{"$f":"'F8'!E67","v":0},{"$f":"'F8'!F67","v":0},{"$f":"'F8'!G67","v":0},{"$f":"'F8'!H67","v":0}]
[null,null,null,null,null,null,"Participaciones y aportaciones",{"$f":"'F8'!C68","v":0},{"$f":"'F8'!D68","v":0},{"$f":"'F8'!E68","v":0},{"$f":"'F8'!F68","v":0},{"$f":"'F8'!G68","v":0},{"$f":"'F8'!H68","v":0}]
[null,null,null,null,null,null,"Participaciones",{"$f":"'F8'!C69","v":0},{"$f":"'F8'!D69","v":0},{"$f":"'F8'!E69","v":0},{"$f":"'F8'!F69","v":0},{"$f":"'F8'!G69","v":0},{"$f":"'F8'!H69","v":0}]
[null,null,null,null,null,null,"Aportaciones",{"$f":"'F8'!C70","v":0},{"$f":"'F8'!D70","v":0},{"$f":"'F8'!E70","v":0},{"$f":"'F8'!F70","v":0},{"$f":"'F8'!G70","v":0},{"$f":"'F8'!H70","v":0}]
[null,null,null,null,null,null,"Convenios",{"$f":"'F8'!C71","v":0},{"$f":"'F8'!D71","v":0},{"$f":"'F8'!E71","v":0},{"$f":"'F8'!F71","v":0},{"$f":"'F8'!G71","v":0},{"$f":"'F8'!H71","v":0}]
[null,null,null,null,null,null,"Deuda pública",{"$f":"'F8'!C72","v":0},{"$f":"'F8'!D72","v":0},{"$f":"'F8'!E72","v":0},{"$f":"'F8'!F72","v":0},{"$f":"'F8'!G72","v":0},{"$f":"'F8'!H72","v":0}]
[null,null,null,null,null,null,"Amortización de la deuda pública",{"$f":"'F8'!C73","v":0},{"$f":"'F8'!D73","v":0},{"$f":"'F8'!E73","v":0},{"$f":"'F8'!F73","v":0},{"$f":"'F8'!G73","v":0},{"$f":"'F8'!H73","v":0}]
[null,null,null,null,null,null,"Intereses de la deuda pública",{"$f":"'F8'!C74","v":0},{"$f":"'F8'!D74","v":0},{"$f":"'F8'!E74","v":0},{"$f":"'F8'!F74","v":0},{"$f":"'F8'!G74","v":0},{"$f":"'F8'!H74","v":0}]
[null,null,null,null,null,null,"Comisiones de la deuda pública",{"$f":"'F8'!C75","v":0},{"$f":"'F8'!D75","v":0},{"$f":"'F8'!E75","v":0},{"$f":"'F8'!F75","v":0},{"$f":"'F8'!G75","v":0},{"$f":"'F8'!H75","v":0}]
[null,null,null,null,null,null,"Gastos de la deuda pública",{"$f":"'F8'!C76","v":0},{"$f":"'F8'!D76","v":0},{"$f":"'F8'!E76","v":0},{"$f":"'F8'!F76","v":0},{"$f":"'F8'!G76","v":0},{"$f":"'F8'!H76","v":0}]
[null,null,null,null,null,null,"Costo por coberturas",{"$f":"'F8'!C77","v":0},{"$f":"'F8'!D77","v":0},{"$f":"'F8'!E77","v":0},{"$f":"'F8'!F77","v":0},{"$f":"'F8'!G77","v":0},{"$f":"'F8'!H77","v":0}]
[null,null,null,null,null,null,"Apoyos financieros",{"$f":"'F8'!C78","v":0},{"$f":"'F8'!D78","v":0},{"$f":"'F8'!E78","v":0},{"$f":"'F8'!F78","v":0},{"$f":"'F8'!G78","v":0},{"$f":"'F8'!H78","v":0}]
[null,null,null,null,null,null,"Adeudos de ejercicios anteriores (adefas)",{"$f":"'F8'!C79","v":0},{"$f":"'F8'!D79","v":0},{"$f":"'F8'!E79","v":0},{"$f":"'F8'!F79","v":0},{"$f":"'F8'!G79","v":0},{"$f":"'F8'!H79","v":0}]
[null,null,null,null,null,null,"TOTAL DEL GASTO",{"$f":"'F8'!C80","v":0},{"$f":"'F8'!D80","v":0},{"$f":"'F8'!E80","v":0},{"$f":"'F8'!F80","v":0},{"$f":"'F8'!G80","v":0},{"$f":"'F8'!H80","v":0}]
[null,null,null,null,null,null,"F8B"]
[null,null,null,null,null,null,"GASTO NO ETIQUETADO"]
[null,null,null,null,null,null,"Servicios personales",{"$f":"F8B!D8","v":0},{"$f":"F8B!E8","v":0},{"$f":"F8B!F8","v":0},{"$f":"F8B!G8","v":0},{"$f":"F8B!H8","v":0},{"$f":"F8B!I8","v":0}]
[null,null,null,null,null,null,"Remuneraciones al personal de carácter permanente",{"$f":"F8B!D9","v":0},{"$f":"F8B!E9","v":0},{"$f":"F8B!F9","v":0},{"$f":"F8B!G9","v":0},{"$f":"F8B!H9","v":0},{"$f":"F8B!I9","v":0}]
[null,null,null,null,null,null,"Remuneraciones al personal de carácter transitorio",{"$f":"F8B!D10","v":0},{"$f":"F8B!E10","v":0},{"$f":"F8B!F10","v":0},{"$f":"F8B!G10","v":0},{"$f":"F8B!H10","v":0},{"$f":"F8B!I10","v":0}]
[null,null,null,null,null,null,"Remuneraciones adicionales especiales",{"$f":"F8B!D11","v":0},{"$f":"F8B!E11","v":0},{"$f":"F8B!F11","v":0},{"$f":"F8B!G11","v":0},{"$f":"F8B!H11","v":0},{"$f":"F8B!I11","v":0}]
[null,null,null,null,null,null,"Seguridad social",{"$f":"F8B!D12","v":0},{"$f":"F8B!E12","v":0},{"$f":"F8B!F12","v":0},{"$f":"F8B!G12","v":0},{"$f":"F8B!H12","v":0},{"$f":"F8B!I12","v":0}]
[null,null,null,null,null,null,"Otras prestaciones sociales y económicas",{"$f":"F8B!D13","v":0},{"$f":"F8B!E13","v":0},{"$f":"F8B!F13","v":0},{"$f":"F8B!G13","v":0},{"$f":"F8B!H13","v":0},{"$f":"F8B!I13","v":0}]
[null,null,null,null,null,null,"Previsiones",{"$f":"F8B!D14","v":0},{"$f":"F8B!E14","v":0},{"$f":"F8B!F14","v":0},{"$f":"F8B!G14","v":0},{"$f":"F8B!H14","v":0},{"$f":"F8B!I14","v":0}]
[null,null,null,null,null,null,"Pago de estímulos a servidores públicos",{"$f":"F8B!D15","v":0},{"$f":"F8B!E15","v":0},{"$f":"F8B!F15","v":0},{"$f":"F8B!G15","v":0},{"$f":"F8B!H15","v":0},{"$f":"F8B!I15","v":0}]
[null,null,null,null,null,null,"Materiales y suministros",{"$f":"F8B!D16","v":0},{"$f":"F8B!E16","v":0},{"$f":"F8B!F16","v":0},{"$f":"F8B!G16","v":0},{"$f":"F8B!H16","v":0},{"$f":"F8B!I16","v":0}]
[null,null,null,null,null,null,"Materiales de administración, emisión de documentos y artículos oficiales",{"$f":"F8B!D17","v":0},{"$f":"F8B!E17","v":0},{"$f":"F8B!F17","v":0},{"$f":"F8B!G17","v":0},{"$f":"F8B!H17","v":0},{"$f":"F8B!I17","v":0}]
[null,null,null,null,null,null,"Alimentos y utensilios",{"$f":"F8B!D18","v":0},{"$f":"F8B!E18","v":0},{"$f":"F8B!F18","v":0},{"$f":"F8B!G18","v":0},{"$f":"F8B!H18","v":0},{"$f":"F8B!I18","v":0}]
[null,null,null,null,null,null,"Materias primas y materiales de producción y comercialización",{"$f":"F8B!D19","v":0},{"$f":"F8B!E19","v":0},{"$f":"F8B!F19","v":0},{"$f":"F8B!G19","v":0},{"$f":"F8B!H19","v":0},{"$f":"F8B!I19","v":0}]
[null,null,null,null,null,null,"Materiales y artículos de construcción y de reparación",{"$f":"F8B!D20","v":0},{"$f":"F8B!E20","v":0},{"$f":"F8B!F20","v":0},{"$f":"F8B!G20","v":0},{"$f":"F8B!H20","v":0},{"$f":"F8B!I20","v":0}]
[null,null,null,null,null,null,"Productos químicos, farmacéuticos y de laboratorio",{"$f":"F8B!D21","v":0},{"$f":"F8B!E21","v":0},{"$f":"F8B!F21","v":0},{"$f":"F8B!G21","v":0},{"$f":"F8B!H21","v":0},{"$f":"F8B!I21","v":0}]
[null,null,null,null,null,null,"Combustibles, lubricantes y aditivos",{"$f":"F8B!D22","v":0},{"$f":"F8B!E22","v":0},{"$f":"F8B!F22","v":0},{"$f":"F8B!G22","v":0},{"$f":"F8B!H22","v":0},{"$f":"F8B!I22","v":0}]
[null,null,null,null,null,null,"Vestuario, blancos, prendas de protección y artículos deportivos",{"$f":"F8B!D23","v":0},{"$f":"F8B!E23","v":0},{"$f":"F8B!F23","v":0},{"$f":"F8B!G23","v":0},{"$f":"F8B!H23","v":0},{"$f":"F8B!I23","v":0}]
[null,null,null,null,null,null,"Materiales y suministros de seguridad",{"$f":"F8B!D24","v":0},{"$f":"F8B!E24","v":0},{"$f":"F8B!F24","v":0},{"$f":"F8B!G24","v":0},{"$f":"F8B!H24","v":0},{"$f":"F8B!I24","v":0}]
[null,null,null,null,null,null,"Herramientas, refacciones y accesorios menores",{"$f":"F8B!D25","v":0},{"$f":"F8B!E25","v":0},{"$f":"F8B!F25","v":0},{"$f":"F8B!G25","v":0},{"$f":"F8B!H25","v":0},{"$f":"F8B!I25","v":0}]
[null,null,null,null,null,null,"Servicios generales",{"$f":"F8B!D26","v":0},{"$f":"F8B!E26","v":0},{"$f":"F8B!F26","v":0},{"$f":"F8B!G26","v":0},{"$f":"F8B!H26","v":0},{"$f":"F8B!I26","v":0}]
[null,null,null,null,null,null,"Servicios básicos",{"$f":"F8B!D27","v":0},{"$f":"F8B!E27","v":0},{"$f":"F8B!F27","v":0},{"$f":"F8B!G27","v":0},{"$f":"F8B!H27","v":0},{"$f":"F8B!I27","v":0}]
[null,null,null,null,null,null,"Servicios de arrendamiento",{"$f":"F8B!D28","v":0},{"$f":"F8B!E28","v":0},{"$f":"F8B!F28","v":0},{"$f":"F8B!G28","v":0},{"$f":"F8B!H28","v":0},{"$f":"F8B!I28","v":0}]
[null,null,null,null,null,null,"Servicios profesionales, científicos, técnicos y otros servicios",{"$f":"F8B!D29","v":0},{"$f":"F8B!E29","v":0},{"$f":"F8B!F29","v":0},{"$f":"F8B!G29","v":0},{"$f":"F8B!H29","v":0},{"$f":"F8B!I29","v":0}]
[null,null,null,null,null,null,"Servicios financieros, bancarios y comerciales",{"$f":"F8B!D30","v":0},{"$f":"F8B!E30","v":0},{"$f":"F8B!F30","v":0},{"$f":"F8B!G30","v":0},{"$f":"F8B!H30","v":0},{"$f":"F8B!I30","v":0}]
[null,null,null,null,null,null,"Servicios de instalación, reparación, mantenimiento y conservación",{"$f":"F8B!D31","v":0},{"$f":"F8B!E31","v":0},{"$f":"F8B!F31","v":0},{"$f":"F8B!G31","v":0},{"$f":"F8B!H31","v":0},{"$f":"F8B!I31","v":0}]
[null,null,null,null,null,null,"Servicios de comunicación social y publicidad",{"$f":"F8B!D32","v":0},{"$f":"F8B!E32","v":0},{"$f":"F8B!F32","v":0},{"$f":"F8B!G32","v":0},{"$f":"F8B!H32","v":0},{"$f":"F8B!I32","v":0}]
[null,null,null,null,null,null,"Servicios de traslado y viáticos",{"$f":"F8B!D33","v":0},{"$f":"F8B!E33","v":0},{"$f":"F8B!F33","v":0},{"$f":"F8B!G33","v":0},{"$f":"F8B!H33","v":0},{"$f":"F8B!I33","v":0}]
[null,null,null,null,null,null,"Servicios oficiales",{"$f":"F8B!D34","v":0},{"$f":"F8B!E34","v":0},{"$f":"F8B!F34","v":0},{"$f":"F8B!G34","v":0},{"$f":"F8B!H34","v":0},{"$f":"F8B!I34","v":0}]
[null,null,null,null,null,null,"Otros servicios generales",{"$f":"F8B!D35","v":0},{"$f":"F8B!E35","v":0},{"$f":"F8B!F35","v":0},{"$f":"F8B!G35","v":0},{"$f":"F8B!H35","v":0},{"$f":"F8B!I35","v":0}]
[null,null,null,null,null,null,"Transferencias, asignaciones, subsidios y otras ayudas",{"$f":"F8B!D36","v":0},{"$f":"F8B!E36","v":0},{"$f":"F8B!F36","v":0},{"$f":"F8B!G36","v":0},{"$f":"F8B!H36","v":0},{"$f":"F8B!I36","v":0}]
[null,null,null,null,null,null,"Transferencias internas y asignaciones al sector público",{"$f":"F8B!D37","v":0},{"$f":"F8B!E37","v":0},{"$f":"F8B!F37","v":0},{"$f":"F8B!G37","v":0},{"$f":"F8B!H37","v":0},{"$f":"F8B!I37","v":0}]
[null,null,null,null,null,null,"Transferencias al resto del sector público",{"$f":"F8B!D38","v":0},{"$f":"F8B!E38","v":0},{"$f":"F8B!F38","v":0},{"$f":"F8B!G38","v":0},{"$f":"F8B!H38","v":0},{"$f":"F8B!I38","v":0}]
[null,null,null,null,null,null,"Subsidios y subvenciones",{"$f":"F8B!D39","v":0},{"$f":"F8B!E39","v":0},{"$f":"F8B!F39","v":0},{"$f":"F8B!G39","v":0},{"$f":"F8B!H39","v":0},{"$f":"F8B!I39","v":0}]
[null,null,null,null,null,null,"Ayudas sociales",{"$f":"F8B!D40","v":0},{"$f":"F8B!E40","v":0},{"$f":"F8B!F40","v":0},{"$f":"F8B!G40","v":0},{"$f":"F8B!H40","v":0},{"$f":"F8B!I40","v":0}]
[null,null,null,null,null,null,"Pensiones y jubilaciones",{"$f":"F8B!D41","v":0},{"$f":"F8B!E41","v":0},{"$f":"F8B!F41","v":0},{"$f":"F8B!G41","v":0},{"$f":"F8B!H41","v":0},{"$f":"F8B!I41","v":0}]
[null,null,null,null,null,null,"Transferencias a fideicomisos, mandatos y análogos",{"$f":"F8B!D42","v":0},{"$f":"F8B!E42","v":0},{"$f":"F8B!F42","v":0},{"$f":"F8B!G42","v":0},{"$f":"F8B!H42","v":0},{"$f":"F8B!I42","v":0}]
[null,null,null,null,null,null,"Transferencias a la seguridad social",{"$f":"F8B!D43","v":0},{"$f":"F8B!E43","v":0},{"$f":"F8B!F43","v":0},{"$f":"F8B!G43","v":0},{"$f":"F8B!H43","v":0},{"$f":"F8B!I43","v":0}]
[null,null,null,null,null,null,"Donativos",{"$f":"F8B!D44","v":0},{"$f":"F8B!E44","v":0},{"$f":"F8B!F44","v":0},{"$f":"F8B!G44","v":0},{"$f":"F8B!H44","v":0},{"$f":"F8B!I44","v":0}]
[null,null,null,null,null,null,"Transferencias al exterior",{"$f":"F8B!D45","v":0},{"$f":"F8B!E45","v":0},{"$f":"F8B!F45","v":0},{"$f":"F8B!G45","v":0},{"$f":"F8B!H45","v":0},{"$f":"F8B!I45","v":0}]
[null,null,null,null,null,null,"Bienes muebles, inmuebles e intangibles",{"$f":"F8B!D46","v":0},{"$f":"F8B!E46","v":0},{"$f":"F8B!F46","v":0},{"$f":"F8B!G46","v":0},{"$f":"F8B!H46","v":0},{"$f":"F8B!I46","v":0}]
[null,null,null,null,null,null,"Mobiliario y equipo de administración",{"$f":"F8B!D47","v":0},{"$f":"F8B!E47","v":0},{"$f":"F8B!F47","v":0},{"$f":"F8B!G47","v":0},{"$f":"F8B!H47","v":0},{"$f":"F8B!I47","v":0}]
[null,null,null,null,null,null,"Mobiliario y equipo educacional y recreativo",{"$f":"F8B!D48","v":0},{"$f":"F8B!E48","v":0},{"$f":"F8B!F48","v":0},{"$f":"F8B!G48","v":0},{"$f":"F8B!H48","v":0},{"$f":"F8B!I48","v":0}]
[null,null,null,null,null,null,"Equipo instrumental médico y de laboratorio",{"$f":"F8B!D49","v":0},{"$f":"F8B!E49","v":0},{"$f":"F8B!F49","v":0},{"$f":"F8B!G49","v":0},{"$f":"F8B!H49","v":0},{"$f":"F8B!I49","v":0}]
[null,null,null,null,null,null,"Vehículos y equipo de transporte",{"$f":"F8B!D50","v":0},{"$f":"F8B!E50","v":0},{"$f":"F8B!F50","v":0},{"$f":"F8B!G50","v":0},{"$f":"F8B!H50","v":0},{"$f":"F8B!I50","v":0}]
[null,null,null,null,null,null,"Equipo de defensa y seguridad",{"$f":"F8B!D51","v":0},{"$f":"F8B!E51","v":0},{"$f":"F8B!F51","v":0},{"$f":"F8B!G51","v":0},{"$f":"F8B!H51","v":0},{"$f":"F8B!I51","v":0}]
[null,null,null,null,null,null,"Maquinaria, otros equipos y herramientas",{"$f":"F8B!D52","v":0},{"$f":"F8B!E52","v":0},{"$f":"F8B!F52","v":0},{"$f":"F8B!G52","v":0},{"$f":"F8B!H52","v":0},{"$f":"F8B!I52","v":0}]
[null,null,null,null,null,null,"Activos biológicos",{"$f":"F8B!D53","v":0},{"$f":"F8B!E53","v":0},{"$f":"F8B!F53","v":0},{"$f":"F8B!G53","v":0},{"$f":"F8B!H53","v":0},{"$f":"F8B!I53","v":0}]
[null,null,null,null,null,null,"Bienes inmuebles",{"$f":"F8B!D54","v":0},{"$f":"F8B!E54","v":0},{"$f":"F8B!F54","v":0},{"$f":"F8B!G54","v":0},{"$f":"F8B!H54","v":0},{"$f":"F8B!I54","v":0}]
[null,null,null,null,null,null,"Activos intangibles",{"$f":"F8B!D55","v":0},{"$f":"F8B!E55","v":0},{"$f":"F8B!F55","v":0},{"$f":"F8B!G55","v":0},{"$f":"F8B!H55","v":0},{"$f":"F8B!I55","v":0}]
[null,null,null,null,null,null,"Inversión pública",{"$f":"F8B!D56","v":0},{"$f":"F8B!E56","v":0},{"$f":"F8B!F56","v":0},{"$f":"F8B!G56","v":0},{"$f":"F8B!H56","v":0},{"$f":"F8B!I56","v":0}]
[null,null,null,null,null,null,"Obra pública en bienes de dominio público",{"$f":"F8B!D57","v":0},{"$f":"F8B!E57","v":0},{"$f":"F8B!F57","v":0},{"$f":"F8B!G57","v":0},{"$f":"F8B!H57","v":0},{"$f":"F8B!I57","v":0}]
[null,null,null,null,null,null,"Obra pública en bienes de dominio propios",{"$f":"F8B!D58","v":0},{"$f":"F8B!E58","v":0},{"$f":"F8B!F58","v":0},{"$f":"F8B!G58","v":0},{"$f":"F8B!H58","v":0},{"$f":"F8B!I58","v":0}]
[null,null,null,null,null,null,"Proyectos productivos y acciones de fomento",{"$f":"F8B!D59","v":0},{"$f":"F8B!E59","v":0},{"$f":"F8B!F59","v":0},{"$f":"F8B!G59","v":0},{"$f":"F8B!H59","v":0},{"$f":"F8B!I59","v":0}]
[null,null,null,null,null,null,"Inversiones financieras y otras provisiones",{"$f":"F8B!D60","v":0},{"$f":"F8B!E60","v":0},{"$f":"F8B!F60","v":0},{"$f":"F8B!G60","v":0},{"$f":"F8B!H60","v":0},{"$f":"F8B!I60","v":0}]
[null,null,null,null,null,null,"Inversiones para el fomento de actividades productivas",{"$f":"F8B!D61","v":0},{"$f":"F8B!E61","v":0},{"$f":"F8B!F61","v":0},{"$f":"F8B!G61","v":0},{"$f":"F8B!H61","v":0},{"$f":"F8B!I61","v":0}]
[null,null,null,null,null,null,"Acciones y participaciones de capital",{"$f":"F8B!D62","v":0},{"$f":"F8B!E62","v":0},{"$f":"F8B!F62","v":0},{"$f":"F8B!G62","v":0},{"$f":"F8B!H62","v":0},{"$f":"F8B!I62","v":0}]
[null,null,null,null,null,null,"Compra de títulos y valores",{"$f":"F8B!D63","v":0},{"$f":"F8B!E63","v":0},{"$f":"F8B!F63","v":0},{"$f":"F8B!G63","v":0},{"$f":"F8B!H63","v":0},{"$f":"F8B!I63","v":0}]
[null,null,null,null,null,null,"Concesión de préstamos",{"$f":"F8B!D64","v":0},{"$f":"F8B!E64","v":0},{"$f":"F8B!F64","v":0},{"$f":"F8B!G64","v":0},{"$f":"F8B!H64","v":0},{"$f":"F8B!I64","v":0}]
[null,null,null,null,null,null,"Inversiones en fideicomisos, mandatos y otros análogos",{"$f":"F8B!D65","v":0},{"$f":"F8B!E65","v":0},{"$f":"F8B!F65","v":0},{"$f":"F8B!G65","v":0},{"$f":"F8B!H65","v":0},{"$f":"F8B!I65","v":0}]
[null,null,null,null,null,null,"Otras inversiones financieras",{"$f":"F8B!D66","v":0},{"$f":"F8B!E66","v":0},{"$f":"F8B!F66","v":0},{"$f":"F8B!G66","v":0},{"$f":"F8B!H66","v":0},{"$f":"F8B!I66","v":0}]
[null,null,null,null,null,null,"Provisiones para contingencias y otras erogaciones especiales",{"$f":"F8B!D67","v":0},{"$f":"F8B!E67","v":0},{"$f":"F8B!F67","v":0},{"$f":"F8B!G67","v":0},{"$f":"F8B!H67","v":0},{"$f":"F8B!I67","v":0}]
[null,null,null,null,null,null,"Participaciones y aportaciones",{"$f":"F8B!D68","v":0},{"$f":"F8B!E68","v":0},{"$f":"F8B!F68","v":0},{"$f":"F8B!G68","v":0},{"$f":"F8B!H68","v":0},{"$f":"F8B!I68","v":0}]
[null,null,null,null,null,null,"Participaciones",{"$f":"F8B!D69","v":0},{"$f":"F8B!E69","v":0},{"$f":"F8B!F69","v":0},{"$f":"F8B!G69","v":0},{"$f":"F8B!H69","v":0},{"$f":"F8B!I69","v":0}]
[null,null,null,null,null,null,"Aportaciones",{"$f":"F8B!D70","v":0},{"$f":"F8B!E70","v":0},{"$f":"F8B!F70","v":0},{"$f":"F8B!G70","v":0},{"$f":"F8B!H70","v":0},{"$f":"F8B!I70","v":0}]
[null,null,null,null,null,null,"Convenios",{"$f":"F8B!D71","v":0},{"$f":"F8B!E71","v":0},{"$f":"F8B!F71","v":0},{"$f":"F8B!G71","v":0},{"$f":"F8B!H71","v":0},{"$f":"F8B!I71","v":0}]
[null,null,null,null,null,null,"Deuda pública",{"$f":"F8B!D72","v":0},{"$f":"F8B!E72","v":0},{"$f":"F8B!F72","v":0},{"$f":"F8B!G72","v":0},{"$f":"F8B!H72","v":0},{"$f":"F8B!I72","v":0}]
[null,null,null,null,null,null,"Amortización de la deuda pública",{"$f":"F8B!D73","v":0},{"$f":"F8B!E73","v":0},{"$f":"F8B!F73","v":0},{"$f":"F8B!G73","v":0},{"$f":"F8B!H73","v":0},{"$f":"F8B!I73","v":0}]
[null,null,null,null,null,null,"Intereses de la deuda pública",{"$f":"F8B!D74","v":0},{"$f":"F8B!E74","v":0},{"$f":"F8B!F74","v":0},{"$f":"F8B!G74","v":0},{"$f":"F8B!H74","v":0},{"$f":"F8B!I74","v":0}]
[null,null,null,null,null,null,"Comisiones de la deuda pública",{"$f":"F8B!D75","v":0},{"$f":"F8B!E75","v":0},{"$f":"F8B!F75","v":0},{"$f":"F8B!G75","v":0},{"$f":"F8B!H75","v":0},{"$f":"F8B!I75","v":0}]
[null,null,null,null,null,null,"Gastos de la deuda pública",{"$f":"F8B!D76","v":0},{"$f":"F8B!E76","v":0},{"$f":"F8B!F76","v":0},{"$f":"F8B!G76","v":0},{"$f":"F8B!H76","v":0},{"$f":"F8B!I76","v":0}]
[null,null,null,null,null,null,"Costo por coberturas",{"$f":"F8B!D77","v":0},{"$f":"F8B!E77","v":0},{"$f":"F8B!F77","v":0},{"$f":"F8B!G77","v":0},{"$f":"F8B!H77","v":0},{"$f":"F8B!I77","v":0}]
[null,null,null,null,null,null,"Apoyos financieros",{"$f":"F8B!D78","v":0},{"$f":"F8B!E78","v":0},{"$f":"F8B!F78","v":0},{"$f":"F8B!G78","v":0},{"$f":"F8B!H78","v":0},{"$f":"F8B!I78","v":0}]
[null,null,null,null,null,null,"Adeudos de ejercicios fiscales anteriores (ADEFAS)",{"$f":"F8B!D79","v":0},{"$f":"F8B!E79","v":0},{"$f":"F8B!F79","v":0},{"$f":"F8B!G79","v":0},{"$f":"F8B!H79","v":0},{"$f":"F8B!I79","v":0}]
[null,null,null,null,null,null,"TOTAL DEL GASTO NO ETIQUETADO",{"$f":"F8B!D80","v":0},{"$f":"F8B!E80","v":0},{"$f":"F8B!F80","v":0},{"$f":"F8B!G80","v":0},{"$f":"F8B!H80","v":0},{"$f":"F8B!I80","v":0}]
[null,null,null,null,null,null,"GASTO ETIQUETADO"]
[null,null,null,null,null,null,"Servicios personales",{"$f":"F8B!D82","v":0},{"$f":"F8B!E82","v":0},{"$f":"F8B!F82","v":0},{"$f":"F8B!G82","v":0},{"$f":"F8B!H82","v":0},{"$f":"F8B!I82","v":0}]
[null,null,null,null,null,null,"Remuneraciones al personal de carácter permanente",{"$f":"F8B!D83","v":0},{"$f":"F8B!E83","v":0},{"$f":"F8B!F83","v":0},{"$f":"F8B!G83","v":0},{"$f":"F8B!H83","v":0},{"$f":"F8B!I83","v":0}]
[null,null,null,null,null,null,"Remuneraciones al personal de carácter transitorio",{"$f":"F8B!D84","v":0},{"$f":"F8B!E84","v":0},{"$f":"F8B!F84","v":0},{"$f":"F8B!G84","v":0},{"$f":"F8B!H84","v":0},{"$f":"F8B!I84","v":0}]
[null,null,null,null,null,null,"Remuneraciones adicionales especiales",{"$f":"F8B!D85","v":0},{"$f":"F8B!E85","v":0},{"$f":"F8B!F85","v":0},{"$f":"F8B!G85","v":0},{"$f":"F8B!H85","v":0},{"$f":"F8B!I85","v":0}]
[null,null,null,null,null,null,"Seguridad social",{"$f":"F8B!D86","v":0},{"$f":"F8B!E86","v":0},{"$f":"F8B!F86","v":0},{"$f":"F8B!G86","v":0},{"$f":"F8B!H86","v":0},{"$f":"F8B!I86","v":0}]
[null,null,null,null,null,null,"Otras prestaciones sociales y económicas",{"$f":"F8B!D87","v":0},{"$f":"F8B!E87","v":0},{"$f":"F8B!F87","v":0},{"$f":"F8B!G87","v":0},{"$f":"F8B!H87","v":0},{"$f":"F8B!I87","v":0}]
[null,null,null,null,null,null,"Previsiones",{"$f":"F8B!D88","v":0},{"$f":"F8B!E88","v":0},{"$f":"F8B!F88","v":0},{"$f":"F8B!G88","v":0},{"$f":"F8B!H88","v":0},{"$f":"F8B!I88","v":0}]
[null,null,null,null,null,null,"Pago de estímulos a servidores públicos",{"$f":"F8B!D89","v":0},{"$f":"F8B!E89","v":0},{"$f":"F8B!F89","v":0},{"$f":"F8B!G89","v":0},{"$f":"F8B!H89","v":0},{"$f":"F8B!I89","v":0}]
[null,null,null,null,null,null,"Materiales y suministros",{"$f":"F8B!D90","v":0},{"$f":"F8B!E90","v":0},{"$f":"F8B!F90","v":0},{"$f":"F8B!G90","v":0},{"$f":"F8B!H90","v":0},{"$f":"F8B!I90","v":0}]
[null,null,null,null,null,null,"Materiales de administración, emisión de documentos y artículos oficiales",{"$f":"F8B!D91","v":0},{"$f":"F8B!E91","v":0},{"$f":"F8B!F91","v":0},{"$f":"F8B!G91","v":0},{"$f":"F8B!H91","v":0},{"$f":"F8B!I91","v":0}]
[null,null,null,null,null,null,"Alimentos y utencilios",{"$f":"F8B!D92","v":0},{"$f":"F8B!E92","v":0},{"$f":"F8B!F92","v":0},{"$f":"F8B!G92","v":0},{"$f":"F8B!H92","v":0},{"$f":"F8B!I92","v":0}]
[null,null,null,null,null,null,"Materias primas y materiales de producción y comercialización",{"$f":"F8B!D93","v":0},{"$f":"F8B!E93","v":0},{"$f":"F8B!F93","v":0},{"$f":"F8B!G93","v":0},{"$f":"F8B!H93","v":0},{"$f":"F8B!I93","v":0}]
[null,null,null,null,null,null,"Materiales y artículos de construcción y de reparación",{"$f":"F8B!D94","v":0},{"$f":"F8B!E94","v":0},{"$f":"F8B!F94","v":0},{"$f":"F8B!G94","v":0},{"$f":"F8B!H94","v":0},{"$f":"F8B!I94","v":0}]
[null,null,null,null,null,null,"Productos químicos, farmacéuticos y de laboratorio",{"$f":"F8B!D95","v":0},{"$f":"F8B!E95","v":0},{"$f":"F8B!F95","v":0},{"$f":"F8B!G95","v":0},{"$f":"F8B!H95","v":0},{"$f":"F8B!I95","v":0}]
[null,null,null,null,null,null,"Combustibles, lubricantes y aditivos",{"$f":"F8B!D96","v":0},{"$f":"F8B!E96","v":0},{"$f":"F8B!F96","v":0},{"$f":"F8B!G96","v":0},{"$f":"F8B!H96","v":0},{"$f":"F8B!I96","v":0}]
[null,null,null,null,null,null,"Vestuario, blancos, prendas de protección y artículos deportivos",{"$f":"F8B!D97","v":0},{"$f":"F8B!E97","v":0},{"$f":"F8B!F97","v":0},{"$f":"F8B!G97","v":0},{"$f":"F8B!H97","v":0},{"$f":"F8B!I97","v":0}]
[null,null,null,null,null,null,"Materiales y suministros de seguridad",{"$f":"F8B!D98","v":0},{"$f":"F8B!E98","v":0},{"$f":"F8B!F98","v":0},{"$f":"F8B!G98","v":0},{"$f":"F8B!H98","v":0},{"$f":"F8B!I98","v":0}]
[null,null,null,null,null,null,"Herramientas, refacciones y accesorios menores",{"$f":"F8B!D99","v":0},{"$f":"F8B!E99","v":0},{"$f":"F8B!F99","v":0},{"$f":"F8B!G99","v":0},{"$f":"F8B!H99","v":0},{"$f":"F8B!I99","v":0}]
[null,null,null,null,null,null,"Servicios generales",{"$f":"F8B!D100","v":0},{"$f":"F8B!E100","v":0},{"$f":"F8B!F100","v":0},{"$f":"F8B!G100","v":0},{"$f":"F8B!H100","v":0},{"$f":"F8B!I100","v":0}]
[null,null,null,null,null,null,"Servicios básicos",{"$f":"F8B!D101","v":0},{"$f":"F8B!E101","v":0},{"$f":"F8B!F101","v":0},{"$f":"F8B!G101","v":0},{"$f":"F8B!H101","v":0},{"$f":"F8B!I101","v":0}]
[null,null,null,null,null,null,"Servicios de arrendamiento",{"$f":"F8B!D102","v":0},{"$f":"F8B!E102","v":0},{"$f":"F8B!F102","v":0},{"$f":"F8B!G102","v":0},{"$f":"F8B!H102","v":0},{"$f":"F8B!I102","v":0}]
[null,null,null,null,null,null,"Servicios profesionales, científicos, técnicos y otros servicios",{"$f":"F8B!D103","v":0},{"$f":"F8B!E103","v":0},{"$f":"F8B!F103","v":0},{"$f":"F8B!G103","v":0},{"$f":"F8B!H103","v":0},{"$f":"F8B!I103","v":0}]
[null,null,null,null,null,null,"Servicios financieros, bancarios y comerciales",{"$f":"F8B!D104","v":0},{"$f":"F8B!E104","v":0},{"$f":"F8B!F104","v":0},{"$f":"F8B!G104","v":0},{"$f":"F8B!H104","v":0},{"$f":"F8B!I104","v":0}]
[null,null,null,null,null,null,"Servicios de instalación, reparación, mantenimiento y conservación",{"$f":"F8B!D105","v":0},{"$f":"F8B!E105","v":0},{"$f":"F8B!F105","v":0},{"$f":"F8B!G105","v":0},{"$f":"F8B!H105","v":0},{"$f":"F8B!I105","v":0}]
[null,null,null,null,null,null,"Servicios de comunicación social y publicidad",{"$f":"F8B!D106","v":0},{"$f":"F8B!E106","v":0},{"$f":"F8B!F106","v":0},{"$f":"F8B!G106","v":0},{"$f":"F8B!H106","v":0},{"$f":"F8B!I106","v":0}]
[null,null,null,null,null,null,"Servicios de traslado y viáticos",{"$f":"F8B!D107","v":0},{"$f":"F8B!E107","v":0},{"$f":"F8B!F107","v":0},{"$f":"F8B!G107","v":0},{"$f":"F8B!H107","v":0},{"$f":"F8B!I107","v":0}]
[null,null,null,null,null,null,"Servicios oficiales",{"$f":"F8B!D108","v":0},{"$f":"F8B!E108","v":0},{"$f":"F8B!F108","v":0},{"$f":"F8B!G108","v":0},{"$f":"F8B!H108","v":0},{"$f":"F8B!I108","v":0}]
[null,null,null,null,null,null,"Otros servicios generales",{"$f":"F8B!D109","v":0},{"$f":"F8B!E109","v":0},{"$f":"F8B!F109","v":0},{"$f":"F8B!G109","v":0},{"$f":"F8B!H109","v":0},{"$f":"F8B!I109","v":0}]
[null,null,null,null,null,null,"Transferencias, asignaciones, subsidios y otras ayudas",{"$f":"F8B!D110","v":0},{"$f":"F8B!E110","v":0},{"$f":"F8B!F110","v":0},{"$f":"F8B!G110","v":0},{"$f":"F8B!H110","v":0},{"$f":"F8B!I110","v":0}]
[null,null,null,null,null,null,"Transferencias internas y asignaciones al sector público",{"$f":"F8B!D111","v":0},{"$f":"F8B!E111","v":0},{"$f":"F8B!F111","v":0},{"$f":"F8B!G111","v":0},{"$f":"F8B!H111","v":0},{"$f":"F8B!I111","v":0}]
[null,null,null,null,null,null,"Transferencias al resto del sector público",{"$f":"F8B!D112","v":0},{"$f":"F8B!E112","v":0},{"$f":"F8B!F112","v":0},{"$f":"F8B!G112","v":0},{"$f":"F8B!H112","v":0},{"$f":"F8B!I112","v":0}]
[null,null,null,null,null,null,"Subsidios y subvenciones",{"$f":"F8B!D113","v":0},{"$f":"F8B!E113","v":0},{"$f":"F8B!F113","v":0},{"$f":"F8B!G113","v":0},{"$f":"F8B!H113","v":0},{"$f":"F8B!I113","v":0}]
[null,null,null,null,null,null,"Ayudas sociales",{"$f":"F8B!D114","v":0},{"$f":"F8B!E114","v":0},{"$f":"F8B!F114","v":0},{"$f":"F8B!G114","v":0},{"$f":"F8B!H114","v":0},{"$f":"F8B!I114","v":0}]
[null,null,null,null,null,null,"Pensiones y jubilaciones",{"$f":"F8B!D115","v":0},{"$f":"F8B!E115","v":0},{"$f":"F8B!F115","v":0},{"$f":"F8B!G115","v":0},{"$f":"F8B!H115","v":0},{"$f":"F8B!I115","v":0}]
[null,null,null,null,null,null,"Transferencias a fideicomisos, mandatos y análogos",{"$f":"F8B!D116","v":0},{"$f":"F8B!E116","v":0},{"$f":"F8B!F116","v":0},{"$f":"F8B!G116","v":0},{"$f":"F8B!H116","v":0},{"$f":"F8B!I116","v":0}]
[null,null,null,null,null,null,"Transferencias a la seguridad social",{"$f":"F8B!D117","v":0},{"$f":"F8B!E117","v":0},{"$f":"F8B!F117","v":0},{"$f":"F8B!G117","v":0},{"$f":"F8B!H117","v":0},{"$f":"F8B!I117","v":0}]
[null,null,null,null,null,null,"Donativos",{"$f":"F8B!D118","v":0},{"$f":"F8B!E118","v":0},{"$f":"F8B!F118","v":0},{"$f":"F8B!G118","v":0},{"$f":"F8B!H118","v":0},{"$f":"F8B!I118","v":0}]
[null,null,null,null,null,null,"Transferencias al exterior",{"$f":"F8B!D119","v":0},{"$f":"F8B!E119","v":0},{"$f":"F8B!F119","v":0},{"$f":"F8B!G119","v":0},{"$f":"F8B!H119","v":0},{"$f":"F8B!I119","v":0}]
[null,null,null,null,null,null,"Bienes muebles, inmuebles e intangibles",{"$f":"F8B!D120","v":0},{"$f":"F8B!E120","v":0},{"$f":"F8B!F120","v":0},{"$f":"F8B!G120","v":0},{"$f":"F8B!H120","v":0},{"$f":"F8B!I120","v":0}]
[null,null,null,null,null,null,"Mobiliario y equipo de administración",{"$f":"F8B!D121","v":0},{"$f":"F8B!E121","v":0},{"$f":"F8B!F121","v":0},{"$f":"F8B!G121","v":0},{"$f":"F8B!H121","v":0},{"$f":"F8B!I121","v":0}]
[null,null,null,null,null,null,"Mobiliario y equipo educacional y recreativo",{"$f":"F8B!D122","v":0},{"$f":"F8B!E122","v":0},{"$f":"F8B!F122","v":0},{"$f":"F8B!G122","v":0},{"$f":"F8B!H122","v":0},{"$f":"F8B!I122","v":0}]
[null,null,null,null,null,null,"Equipo instrumental médico y de laboratorio",{"$f":"F8B!D123","v":0},{"$f":"F8B!E123","v":0},{"$f":"F8B!F123","v":0},{"$f":"F8B!G123","v":0},{"$f":"F8B!H123","v":0},{"$f":"F8B!I123","v":0}]
[null,null,null,null,null,null,"Vehículos y equipo de transporte",{"$f":"F8B!D124","v":0},{"$f":"F8B!E124","v":0},{"$f":"F8B!F124","v":0},{"$f":"F8B!G124","v":0},{"$f":"F8B!H124","v":0},{"$f":"F8B!I124","v":0}]
[null,null,null,null,null,null,"Equipo de defensa y seguridad",{"$f":"F8B!D125","v":0},{"$f":"F8B!E125","v":0},{"$f":"F8B!F125","v":0},{"$f":"F8B!G125","v":0},{"$f":"F8B!H125","v":0},{"$f":"F8B!I125","v":0}]
[null,null,null,null,null,null,"Maquinaria, otros equipos y herramientas",{"$f":"F8B!D126","v":0},{"$f":"F8B!E126","v":0},{"$f":"F8B!F126","v":0},{"$f":"F8B!G126","v":0},{"$f":"F8B!H126","v":0},{"$f":"F8B!I126","v":0}]
[null,null,null,null,null,null,"Activos biológicos",{"$f":"F8B!D127","v":0},{"$f":"F8B!E127","v":0},{"$f":"F8B!F127","v":0},{"$f":"F8B!G127","v":0},{"$f":"F8B!H127","v":0},{"$f":"F8B!I127","v":0}]
[null,null,null,null,null,null,"Bienes inmuebles",{"$f":"F8B!D128","v":0},{"$f":"F8B!E128","v":0},{"$f":"F8B!F128","v":0},{"$f":"F8B!G128","v":0},{"$f":"F8B!H128","v":0},{"$f":"F8B!I128","v":0}]
[null,null,null,null,null,null,"Activos intangibles",{"$f":"F8B!D129","v":0},{"$f":"F8B!E129","v":0},{"$f":"F8B!F129","v":0},{"$f":"F8B!G129","v":0},{"$f":"F8B!H129","v":0},{"$f":"F8B!I129","v":0}]
[null,null,null,null,null,null,"Inversión pública",{"$f":"F8B!D130","v":0},{"$f":"F8B!E130","v":0},{"$f":"F8B!F130","v":0},{"$f":"F8B!G130","v":0},{"$f":"F8B!H130","v":0},{"$f":"F8B!I130","v":0}]
[null,null,null,null,null,null,"Obra pública en bienes de dominio público",{"$f":"F8B!D131","v":0},{"$f":"F8B!E131","v":0},{"$f":"F8B!F131","v":0},{"$f":"F8B!G131","v":0},{"$f":"F8B!H131","v":0},{"$f":"F8B!I131","v":0}]
[null,null,null,null,null,null,"Obra pública en bienes de dominio propios",{"$f":"F8B!D132","v":0},{"$f":"F8B!E132","v":0},{"$f":"F8B!F132","v":0},{"$f":"F8B!G132","v":0},{"$f":"F8B!H132","v":0},{"$f":"F8B!I132","v":0}]
[null,null,null,null,null,null,"Proyectos productivos y acciones de fomento",{"$f":"F8B!D133","v":0},{"$f":"F8B!E133","v":0},{"$f":"F8B!F133","v":0},{"$f":"F8B!G133","v":0},{"$f":"F8B!H133","v":0},{"$f":"F8B!I133","v":0}]
[null,null,null,null,null,null,"Inversiones financieras y otras provisiones",{"$f":"F8B!D134","v":0},{"$f":"F8B!E134","v":0},{"$f":"F8B!F134","v":0},{"$f":"F8B!G134","v":0},{"$f":"F8B!H134","v":0},{"$f":"F8B!I134","v":0}]
[null,null,null,null,null,null,"Inversiones para el fomento de actividades productivas",{"$f":"F8B!D135","v":0},{"$f":"F8B!E135","v":0},{"$f":"F8B!F135","v":0},{"$f":"F8B!G135","v":0},{"$f":"F8B!H135","v":0},{"$f":"F8B!I135","v":0}]
[null,null,null,null,null,null,"Acciones y participaciones de capital",{"$f":"F8B!D136","v":0},{"$f":"F8B!E136","v":0},{"$f":"F8B!F136","v":0},{"$f":"F8B!G136","v":0},{"$f":"F8B!H136","v":0},{"$f":"F8B!I136","v":0}]
[null,null,null,null,null,null,"Compra de títulos y valores",{"$f":"F8B!D137","v":0},{"$f":"F8B!E137","v":0},{"$f":"F8B!F137","v":0},{"$f":"F8B!G137","v":0},{"$f":"F8B!H137","v":0},{"$f":"F8B!I137","v":0}]
[null,null,null,null,null,null,"Concesión de préstamos",{"$f":"F8B!D138","v":0},{"$f":"F8B!E138","v":0},{"$f":"F8B!F138","v":0},{"$f":"F8B!G138","v":0},{"$f":"F8B!H138","v":0},{"$f":"F8B!I138","v":0}]
[null,null,null,null,null,null,"Inversiones en fideicomisos, mandatos y otros análogos",{"$f":"F8B!D139","v":0},{"$f":"F8B!E139","v":0},{"$f":"F8B!F139","v":0},{"$f":"F8B!G139","v":0},{"$f":"F8B!H139","v":0},{"$f":"F8B!I139","v":0}]
[null,null,null,null,null,null,"Otras inversiones financieras",{"$f":"F8B!D140","v":0},{"$f":"F8B!E140","v":0},{"$f":"F8B!F140","v":0},{"$f":"F8B!G140","v":0},{"$f":"F8B!H140","v":0},{"$f":"F8B!I140","v":0}]
[null,null,null,null,null,null,"Provisiones para contingencias y otras erogaciones especiales",{"$f":"F8B!D141","v":0},{"$f":"F8B!E141","v":0},{"$f":"F8B!F141","v":0},{"$f":"F8B!G141","v":0},{"$f":"F8B!H141","v":0},{"$f":"F8B!I141","v":0}]
[null,null,null,null,null,null,"Participaciones y aportaciones",{"$f":"F8B!D142","v":0},{"$f":"F8B!E142","v":0},{"$f":"F8B!F142","v":0},{"$f":"F8B!G142","v":0},{"$f":"F8B!H142","v":0},{"$f":"F8B!I142","v":0}]
[null,null,null,null,null,null,"Participaciones",{"$f":"F8B!D143","v":0},{"$f":"F8B!E143","v":0},{"$f":"F8B!F143","v":0},{"$f":"F8B!G143","v":0},{"$f":"F8B!H143","v":0},{"$f":"F8B!I143","v":0}]
[null,null,null,null,null,null,"Aportaciones",{"$f":"F8B!D144","v":0},{"$f":"F8B!E144","v":0},{"$f":"F8B!F144","v":0},{"$f":"F8B!G144","v":0},{"$f":"F8B!H144","v":0},{"$f":"F8B!I144","v":0}]
[null,null,null,null,null,null,"Convenios",{"$f":"F8B!D145","v":0},{"$f":"F8B!E145","v":0},{"$f":"F8B!F145","v":0},{"$f":"F8B!G145","v":0},{"$f":"F8B!H145","v":0},{"$f":"F8B!I145","v":0}]
[null,null,null,null,null,null,"Deuda pública",{"$f":"F8B!D146","v":0},{"$f":"F8B!E146","v":0},{"$f":"F8B!F146","v":0},{"$f":"F8B!G146","v":0},{"$f":"F8B!H146","v":0},{"$f":"F8B!I146","v":0}]
[null,null,null,null,null,null,"Amortización de la deuda pública",{"$f":"F8B!D147","v":0},{"$f":"F8B!E147","v":0},{"$f":"F8B!F147","v":0},{"$f":"F8B!G147","v":0},{"$f":"F8B!H147","v":0},{"$f":"F8B!I147","v":0}]
[null,null,null,null,null,null,"Intereses de la deuda pública",{"$f":"F8B!D148","v":0},{"$f":"F8B!E148","v":0},{"$f":"F8B!F148","v":0},{"$f":"F8B!G148","v":0},{"$f":"F8B!H148","v":0},{"$f":"F8B!I148","v":0}]
[null,null,null,null,null,null,"Comisiones de la deuda pública",{"$f":"F8B!D149","v":0},{"$f":"F8B!E149","v":0},{"$f":"F8B!F149","v":0},{"$f":"F8B!G149","v":0},{"$f":"F8B!H149","v":0},{"$f":"F8B!I149","v":0}]
[null,null,null,null,null,null,"Gastos de la deuda pública",{"$f":"F8B!D150","v":0},{"$f":"F8B!E150","v":0},{"$f":"F8B!F150","v":0},{"$f":"F8B!G150","v":0},{"$f":"F8B!H150","v":0},{"$f":"F8B!I150","v":0}]
[null,null,null,null,null,null,"Costo por coberturas",{"$f":"F8B!D151","v":0},{"$f":"F8B!E151","v":0},{"$f":"F8B!F151","v":0},{"$f":"F8B!G151","v":0},{"$f":"F8B!H151","v":0},{"$f":"F8B!I151","v":0}]
[null,null,null,null,null,null,"Apoyos financieros",{"$f":"F8B!D152","v":0},{"$f":"F8B!E152","v":0},{"$f":"F8B!F152","v":0},{"$f":"F8B!G152","v":0},{"$f":"F8B!H152","v":0},{"$f":"F8B!I152","v":0}]
[null,null,null,null,null,null,"Adeudos de ejercicios fiscales anteriores (ADEFAS)",{"$f":"F8B!D153","v":0},{"$f":"F8B!E153","v":0},{"$f":"F8B!F153","v":0},{"$f":"F8B!G153","v":0},{"$f":"F8B!H153","v":0},{"$f":"F8B!I153","v":0}]
[null,null,null,null,null,null,"TOTAL DEL GASTO ETIQUETADO",{"$f":"F8B!D154","v":0},{"$f":"F8B!E154","v":0},{"$f":"F8B!F154","v":0},{"$f":"F8B!G154","v":0},{"$f":"F8B!H154","v":0},{"$f":"F8B!I154","v":0}]
[null,null,null,null,null,null,"TOTAL DE EGRESOS",{"$f":"F8B!D155","v":0},{"$f":"F8B!E155","v":0},{"$f":"F8B!F155","v":0},{"$f":"F8B!G155","v":0},{"$f":"F8B!H155","v":0},{"$f":"F8B!I155","v":0}]
[null,null,null,null,null,null,"F9-IDP"]
[null,null,null,null,null,null,"No. 1"]
[null,null,null,null,null,null,"TIPO DE OBLIGACIÓN:",{"$f":"'F9-IDP'!L$2","v":"Institución de crédito"}]
[null,null,null,null,null,null,"NOMBRE DEL ACREEDOR:",{"$f":"'F9-IDP'!J$3","v":"Sin / Registro"}]
[null,null,null,null,null,null,"MONTO DISPUESTO:",{"$f":"'F9-IDP'!J$4","v":0}]
[null,null,null,null,null,null,"FECHA DE INICIO:",{"$f":"'F9-IDP'!Z$4","v":44927}]
[null,null,null,null,null,null,"FECHA DE VENCIMIENTO:",{"$f":"'F9-IDP'!Z$5","v":45291}]
[null,null,null,null,null,null,"SALDO AL 1° DE ENERO DE 2022 A CORTO PLAZO:",{"$f":"'F9-IDP'!R$6","v":0}]
[null,null,null,null,null,null,"SALDO AL 1° DE ENERO DE 2022 A LARGO PLAZO:",{"$f":"'F9-IDP'!R$7","v":0}]
[null,null,null,null,null,null,"Largo Plazo",{"$f":"'F9-IDP'!E$10","v":0},{"$f":"'F9-IDP'!K$10","v":0},{"$f":"'F9-IDP'!Q$10","v":0},{"$f":"'F9-IDP'!W$10","v":0},{"$f":"'F9-IDP'!AC$10","v":0}]
[null,null,null,null,null,null,"ENERO",{"$f":"'F9-IDP'!E$13","v":0},{"$f":"'F9-IDP'!K$13","v":0},{"$f":"'F9-IDP'!Q$13","v":0},{"$f":"'F9-IDP'!W$13","v":0},{"$f":"'F9-IDP'!AC$13","v":0}]
[null,null,null,null,null,null,"FEBRERO",{"$f":"'F9-IDP'!E$14","v":0},{"$f":"'F9-IDP'!K$14","v":0},{"$f":"'F9-IDP'!Q$14","v":0},{"$f":"'F9-IDP'!W$14","v":0},{"$f":"'F9-IDP'!AC$14","v":0}]
[null,null,null,null,null,null,"MARZO",{"$f":"'F9-IDP'!E$15","v":0},{"$f":"'F9-IDP'!K$15","v":0},{"$f":"'F9-IDP'!Q$15","v":0},{"$f":"'F9-IDP'!W$15","v":0},{"$f":"'F9-IDP'!AC$15","v":0}]
[null,null,null,null,null,null,"ABRIL",{"$f":"'F9-IDP'!E$16","v":0},{"$f":"'F9-IDP'!K$16","v":0},{"$f":"'F9-IDP'!Q$16","v":0},{"$f":"'F9-IDP'!W$16","v":0},{"$f":"'F9-IDP'!AC$16","v":0}]
[null,null,null,null,null,null,"MAYO",{"$f":"'F9-IDP'!E$17","v":0},{"$f":"'F9-IDP'!K$17","v":0},{"$f":"'F9-IDP'!Q$17","v":0},{"$f":"'F9-IDP'!W$17","v":0},{"$f":"'F9-IDP'!AC$17","v":0}]
[null,null,null,null,null,null,"JUNIO",{"$f":"'F9-IDP'!E$18","v":0},{"$f":"'F9-IDP'!K$18","v":0},{"$f":"'F9-IDP'!Q$18","v":0},{"$f":"'F9-IDP'!W$18","v":0},{"$f":"'F9-IDP'!AC$18","v":0}]
[null,null,null,null,null,null,"JULIO",{"$f":"'F9-IDP'!E$19","v":0},{"$f":"'F9-IDP'!K$19","v":0},{"$f":"'F9-IDP'!Q$19","v":0},{"$f":"'F9-IDP'!W$19","v":0},{"$f":"'F9-IDP'!AC$19","v":0}]
[null,null,null,null,null,null,"AGOSTO",{"$f":"'F9-IDP'!E$20","v":0},{"$f":"'F9-IDP'!K$20","v":0},{"$f":"'F9-IDP'!Q$20","v":0},{"$f":"'F9-IDP'!W$20","v":0},{"$f":"'F9-IDP'!AC$20","v":0}]
[null,null,null,null,null,null,"SEPTIEMBRE",{"$f":"'F9-IDP'!E$21","v":0},{"$f":"'F9-IDP'!K$21","v":0},{"$f":"'F9-IDP'!Q$21","v":0},{"$f":"'F9-IDP'!W$21","v":0},{"$f":"'F9-IDP'!AC$21","v":0}]
[null,null,null,null,null,null,"OCTUBRE",{"$f":"'F9-IDP'!E$22","v":0},{"$f":"'F9-IDP'!K$22","v":0},{"$f":"'F9-IDP'!Q$22","v":0},{"$f":"'F9-IDP'!W$22","v":0},{"$f":"'F9-IDP'!AC$22","v":0}]
[null,null,null,null,null,null,"NOVIEMBRE",{"$f":"'F9-IDP'!E$23","v":0},{"$f":"'F9-IDP'!K$23","v":0},{"$f":"'F9-IDP'!Q$23","v":0},{"$f":"'F9-IDP'!W$23","v":0},{"$f":"'F9-IDP'!AC$23","v":0}]
[null,null,null,null,null,null,"DICIEMBRE",{"$f":"'F9-IDP'!E$24","v":0},{"$f":"'F9-IDP'!K$24","v":0},{"$f":"'F9-IDP'!Q$24","v":0},{"$f":"'F9-IDP'!W$24","v":0},{"$f":"'F9-IDP'!AC$24","v":0}]
[null,null,null,null,null,null,"SUMA",{"$f":"'F9-IDP'!E$25","v":0},{"$f":"'F9-IDP'!K$25","v":0},{"$f":"'F9-IDP'!Q$25","v":0},{"$f":"'F9-IDP'!W$25","v":0},{"$f":"'F9-IDP'!AC$25","v":0}]
[null,null,null,null,null,null,"No. 2"]
[null,null,null,null,null,null,"TIPO DE OBLIGACIÓN:",{"$f":"'F9-IDP'!AU$2","v":0}]
[null,null,null,null,null,null,"NOMBRE DEL ACREEDOR:",{"$f":"'F9-IDP'!AS$3","v":0}]
[null,null,null,null,null,null,"MONTO DISPUESTO:",{"$f":"'F9-IDP'!AS$4","v":0}]
[null,null,null,null,null,null,"FECHA DE INICIO:",{"$f":"'F9-IDP'!BI$4","v":0}]
[null,null,null,null,null,null,"FECHA DE VENCIMIENTO:",{"$f":"'F9-IDP'!BI$5","v":0}]
[null,null,null,null,null,null,"SALDO AL 1° DE ENERO DE 2022 A CORTO PLAZO:",{"$f":"'F9-IDP'!BA$6","v":0}]
[null,null,null,null,null,null,"SALDO AL 1° DE ENERO DE 2022 A LARGO PLAZO:",{"$f":"'F9-IDP'!BA$7","v":0}]
[null,null,null,null,null,null,"Largo Plazo",{"$f":"'F9-IDP'!AN$10","v":0},{"$f":"'F9-IDP'!AT$10","v":0},{"$f":"'F9-IDP'!AZ$10","v":0},{"$f":"'F9-IDP'!BF$10","v":0},{"$f":"'F9-IDP'!BL$10","v":0}]
[null,null,null,null,null,null,"ENERO",{"$f":"'F9-IDP'!AN$13","v":0},{"$f":"'F9-IDP'!AT$13","v":0},{"$f":"'F9-IDP'!AZ$13","v":0},{"$f":"'F9-IDP'!BF$13","v":0},{"$f":"'F9-IDP'!BL$13","v":0}]
[null,null,null,null,null,null,"FEBRERO",{"$f":"'F9-IDP'!AN$14","v":0},{"$f":"'F9-IDP'!AT$14","v":0},{"$f":"'F9-IDP'!AZ$14","v":0},{"$f":"'F9-IDP'!BF$14","v":0},{"$f":"'F9-IDP'!BL$14","v":0}]
[null,null,null,null,null,null,"MARZO",{"$f":"'F9-IDP'!AN$15","v":0},{"$f":"'F9-IDP'!AT$15","v":0},{"$f":"'F9-IDP'!AZ$15","v":0},{"$f":"'F9-IDP'!BF$15","v":0},{"$f":"'F9-IDP'!BL$15","v":0}]
[null,null,null,null,null,null,"ABRIL",{"$f":"'F9-IDP'!AN$16","v":0},{"$f":"'F9-IDP'!AT$16","v":0},{"$f":"'F9-IDP'!AZ$16","v":0},{"$f":"'F9-IDP'!BF$16","v":0},{"$f":"'F9-IDP'!BL$16","v":0}]
[null,null,null,null,null,null,"MAYO",{"$f":"'F9-IDP'!AN$17","v":0},{"$f":"'F9-IDP'!AT$17","v":0},{"$f":"'F9-IDP'!AZ$17","v":0},{"$f":"'F9-IDP'!BF$17","v":0},{"$f":"'F9-IDP'!BL$17","v":0}]
[null,null,null,null,null,null,"JUNIO",{"$f":"'F9-IDP'!AN$18","v":0},{"$f":"'F9-IDP'!AT$18","v":0},{"$f":"'F9-IDP'!AZ$18","v":0},{"$f":"'F9-IDP'!BF$18","v":0},{"$f":"'F9-IDP'!BL$18","v":0}]
[null,null,null,null,null,null,"JULIO",{"$f":"'F9-IDP'!AN$19","v":0},{"$f":"'F9-IDP'!AT$19","v":0},{"$f":"'F9-IDP'!AZ$19","v":0},{"$f":"'F9-IDP'!BF$19","v":0},{"$f":"'F9-IDP'!BL$19","v":0}]
[null,null,null,null,null,null,"AGOSTO",{"$f":"'F9-IDP'!AN$20","v":0},{"$f":"'F9-IDP'!AT$20","v":0},{"$f":"'F9-IDP'!AZ$20","v":0},{"$f":"'F9-IDP'!BF$20","v":0},{"$f":"'F9-IDP'!BL$20","v":0}]
[null,null,null,null,null,null,"SEPTIEMBRE",{"$f":"'F9-IDP'!AN$21","v":0},{"$f":"'F9-IDP'!AT$21","v":0},{"$f":"'F9-IDP'!AZ$21","v":0},{"$f":"'F9-IDP'!BF$21","v":0},{"$f":"'F9-IDP'!BL$21","v":0}]
[null,null,null,null,null,null,"OCTUBRE",{"$f":"'F9-IDP'!AN$22","v":0},{"$f":"'F9-IDP'!AT$22","v":0},{"$f":"'F9-IDP'!AZ$22","v":0},{"$f":"'F9-IDP'!BF$22","v":0},{"$f":"'F9-IDP'!BL$22","v":0}]
[null,null,null,null,null,null,"NOVIEMBRE",{"$f":"'F9-IDP'!AN$23","v":0},{"$f":"'F9-IDP'!AT$23","v":0},{"$f":"'F9-IDP'!AZ$23","v":0},{"$f":"'F9-IDP'!BF$23","v":0},{"$f":"'F9-IDP'!BL$23","v":0}]
[null,null,null,null,null,null,"DICIEMBRE",{"$f":"'F9-IDP'!AN$24","v":0},{"$f":"'F9-IDP'!AT$24","v":0},{"$f":"'F9-IDP'!AZ$24","v":0},{"$f":"'F9-IDP'!BF$24","v":0},{"$f":"'F9-IDP'!BL$24","v":0}]
[null,null,null,null,null,null,"SUMA",{"$f":"'F9-IDP'!AN$25","v":0},{"$f":"'F9-IDP'!AT$25","v":0},{"$f":"'F9-IDP'!AZ$25","v":0},{"$f":"'F9-IDP'!BF$25","v":0},{"$f":"'F9-IDP'!BL$25","v":0}]
[null,null,null,null,null,null,"No. 3"]
[null,null,null,null,null,null,"TIPO DE OBLIGACIÓN:",{"$f":"'F9-IDP'!CD$2","v":0}]
[null,null,null,null,null,null,"NOMBRE DEL ACREEDOR:",{"$f":"'F9-IDP'!CB$3","v":0}]
[null,null,null,null,null,null,"MONTO DISPUESTO:",{"$f":"'F9-IDP'!CB$4","v":0}]
[null,null,null,null,null,null,"FECHA DE INICIO:",{"$f":"'F9-IDP'!CR$4","v":0}]
[null,null,null,null,null,null,"FECHA DE VENCIMIENTO:",{"$f":"'F9-IDP'!CR$5","v":0}]
[null,null,null,null,null,null,"SALDO AL 1° DE ENERO DE 2022 A CORTO PLAZO:",{"$f":"'F9-IDP'!CJ$6","v":0}]
[null,null,null,null,null,null,"SALDO AL 1° DE ENERO DE 2022 A LARGO PLAZO:",{"$f":"'F9-IDP'!CJ$7","v":0}]
[null,null,null,null,null,null,"Largo Plazo",{"$f":"'F9-IDP'!BW$10","v":0},{"$f":"'F9-IDP'!CC$10","v":0},{"$f":"'F9-IDP'!CI$10","v":0},{"$f":"'F9-IDP'!CO$10","v":0},{"$f":"'F9-IDP'!CU$10","v":0}]
[null,null,null,null,null,null,"ENERO",{"$f":"'F9-IDP'!BW$13","v":0},{"$f":"'F9-IDP'!CC$13","v":0},{"$f":"'F9-IDP'!CI$13","v":0},{"$f":"'F9-IDP'!CO$13","v":0},{"$f":"'F9-IDP'!CU$13","v":0}]
[null,null,null,null,null,null,"FEBRERO",{"$f":"'F9-IDP'!BW$14","v":0},{"$f":"'F9-IDP'!CC$14","v":0},{"$f":"'F9-IDP'!CI$14","v":0},{"$f":"'F9-IDP'!CO$14","v":0},{"$f":"'F9-IDP'!CU$14","v":0}]
[null,null,null,null,null,null,"MARZO",{"$f":"'F9-IDP'!BW$15","v":0},{"$f":"'F9-IDP'!CC$15","v":0},{"$f":"'F9-IDP'!CI$15","v":0},{"$f":"'F9-IDP'!CO$15","v":0},{"$f":"'F9-IDP'!CU$15","v":0}]
[null,null,null,null,null,null,"ABRIL",{"$f":"'F9-IDP'!BW$16","v":0},{"$f":"'F9-IDP'!CC$16","v":0},{"$f":"'F9-IDP'!CI$16","v":0},{"$f":"'F9-IDP'!CO$16","v":0},{"$f":"'F9-IDP'!CU$16","v":0}]
[null,null,null,null,null,null,"MAYO",{"$f":"'F9-IDP'!BW$17","v":0},{"$f":"'F9-IDP'!CC$17","v":0},{"$f":"'F9-IDP'!CI$17","v":0},{"$f":"'F9-IDP'!CO$17","v":0},{"$f":"'F9-IDP'!CU$17","v":0}]
[null,null,null,null,null,null,"JUNIO",{"$f":"'F9-IDP'!BW$18","v":0},{"$f":"'F9-IDP'!CC$18","v":0},{"$f":"'F9-IDP'!CI$18","v":0},{"$f":"'F9-IDP'!CO$18","v":0},{"$f":"'F9-IDP'!CU$18","v":0}]
[null,null,null,null,null,null,"JULIO",{"$f":"'F9-IDP'!BW$19","v":0},{"$f":"'F9-IDP'!CC$19","v":0},{"$f":"'F9-IDP'!CI$19","v":0},{"$f":"'F9-IDP'!CO$19","v":0},{"$f":"'F9-IDP'!CU$19","v":0}]
[null,null,null,null,null,null,"AGOSTO",{"$f":"'F9-IDP'!BW$20","v":0},{"$f":"'F9-IDP'!CC$20","v":0},{"$f":"'F9-IDP'!CI$20","v":0},{"$f":"'F9-IDP'!CO$20","v":0},{"$f":"'F9-IDP'!CU$20","v":0}]
[null,null,null,null,null,null,"SEPTIEMBRE",{"$f":"'F9-IDP'!BW$21","v":0},{"$f":"'F9-IDP'!CC$21","v":0},{"$f":"'F9-IDP'!CI$21","v":0},{"$f":"'F9-IDP'!CO$21","v":0},{"$f":"'F9-IDP'!CU$21","v":0}]
[null,null,null,null,null,null,"OCTUBRE",{"$f":"'F9-IDP'!BW$22","v":0},{"$f":"'F9-IDP'!CC$22","v":0},{"$f":"'F9-IDP'!CI$22","v":0},{"$f":"'F9-IDP'!CO$22","v":0},{"$f":"'F9-IDP'!CU$22","v":0}]
[null,null,null,null,null,null,"NOVIEMBRE",{"$f":"'F9-IDP'!BW$23","v":0},{"$f":"'F9-IDP'!CC$23","v":0},{"$f":"'F9-IDP'!CI$23","v":0},{"$f":"'F9-IDP'!CO$23","v":0},{"$f":"'F9-IDP'!CU$23","v":0}]
[null,null,null,null,null,null,"DICIEMBRE",{"$f":"'F9-IDP'!BW$24","v":0},{"$f":"'F9-IDP'!CC$24","v":0},{"$f":"'F9-IDP'!CI$24","v":0},{"$f":"'F9-IDP'!CO$24","v":0},{"$f":"'F9-IDP'!CU$24","v":0}]
[null,null,null,null,null,null,"SUMA",{"$f":"'F9-IDP'!BW$25","v":0},{"$f":"'F9-IDP'!CC$25","v":0},{"$f":"'F9-IDP'!CI$25","v":0},{"$f":"'F9-IDP'!CO$25","v":0},{"$f":"'F9-IDP'!CU$25","v":0}]
[null,null,null,null,null,null,"No. 4"]
[null,null,null,null,null,null,"TIPO DE OBLIGACIÓN:",{"$f":"'F9-IDP'!DM$2","v":0}]
[null,null,null,null,null,null,"NOMBRE DEL ACREEDOR:",{"$f":"'F9-IDP'!DK$3","v":0}]
[null,null,null,null,null,null,"MONTO DISPUESTO:",{"$f":"'F9-IDP'!DK$4","v":0}]
[null,null,null,null,null,null,"FECHA DE INICIO:",{"$f":"'F9-IDP'!EA$4","v":0}]
[null,null,null,null,null,null,"FECHA DE VENCIMIENTO:",{"$f":"'F9-IDP'!EA$5","v":0}]
[null,null,null,null,null,null,"SALDO AL 1° DE ENERO DE 2022 A CORTO PLAZO:",{"$f":"'F9-IDP'!DS$6","v":0}]
[null,null,null,null,null,null,"SALDO AL 1° DE ENERO DE 2022 A LARGO PLAZO:",{"$f":"'F9-IDP'!DS$7","v":0}]
[null,null,null,null,null,null,"Largo Plazo",{"$f":"'F9-IDP'!DF$10","v":0},{"$f":"'F9-IDP'!DL$10","v":0},{"$f":"'F9-IDP'!DR$10","v":0},{"$f":"'F9-IDP'!DX$10","v":0},{"$f":"'F9-IDP'!ED$10","v":0}]
[null,null,null,null,null,null,"ENERO",{"$f":"'F9-IDP'!DF$13","v":0},{"$f":"'F9-IDP'!DL$13","v":0},{"$f":"'F9-IDP'!DR$13","v":0},{"$f":"'F9-IDP'!DX$13","v":0},{"$f":"'F9-IDP'!ED$13","v":0}]
[null,null,null,null,null,null,"FEBRERO",{"$f":"'F9-IDP'!DF$14","v":0},{"$f":"'F9-IDP'!DL$14","v":0},{"$f":"'F9-IDP'!DR$14","v":0},{"$f":"'F9-IDP'!DX$14","v":0},{"$f":"'F9-IDP'!ED$14","v":0}]
[null,null,null,null,null,null,"MARZO",{"$f":"'F9-IDP'!DF$15","v":0},{"$f":"'F9-IDP'!DL$15","v":0},{"$f":"'F9-IDP'!DR$15","v":0},{"$f":"'F9-IDP'!DX$15","v":0},{"$f":"'F9-IDP'!ED$15","v":0}]
[null,null,null,null,null,null,"ABRIL",{"$f":"'F9-IDP'!DF$16","v":0},{"$f":"'F9-IDP'!DL$16","v":0},{"$f":"'F9-IDP'!DR$16","v":0},{"$f":"'F9-IDP'!DX$16","v":0},{"$f":"'F9-IDP'!ED$16","v":0}]
[null,null,null,null,null,null,"MAYO",{"$f":"'F9-IDP'!DF$17","v":0},{"$f":"'F9-IDP'!DL$17","v":0},{"$f":"'F9-IDP'!DR$17","v":0},{"$f":"'F9-IDP'!DX$17","v":0},{"$f":"'F9-IDP'!ED$17","v":0}]
[null,null,null,null,null,null,"JUNIO",{"$f":"'F9-IDP'!DF$18","v":0},{"$f":"'F9-IDP'!DL$18","v":0},{"$f":"'F9-IDP'!DR$18","v":0},{"$f":"'F9-IDP'!DX$18","v":0},{"$f":"'F9-IDP'!ED$18","v":0}]
[null,null,null,null,null,null,"JULIO",{"$f":"'F9-IDP'!DF$19","v":0},{"$f":"'F9-IDP'!DL$19","v":0},{"$f":"'F9-IDP'!DR$19","v":0},{"$f":"'F9-IDP'!DX$19","v":0},{"$f":"'F9-IDP'!ED$19","v":0}]
[null,null,null,null,null,null,"AGOSTO",{"$f":"'F9-IDP'!DF$20","v":0},{"$f":"'F9-IDP'!DL$20","v":0},{"$f":"'F9-IDP'!DR$20","v":0},{"$f":"'F9-IDP'!DX$20","v":0},{"$f":"'F9-IDP'!ED$20","v":0}]
[null,null,null,null,null,null,"SEPTIEMBRE",{"$f":"'F9-IDP'!DF$21","v":0},{"$f":"'F9-IDP'!DL$21","v":0},{"$f":"'F9-IDP'!DR$21","v":0},{"$f":"'F9-IDP'!DX$21","v":0},{"$f":"'F9-IDP'!ED$21","v":0}]
[null,null,null,null,null,null,"OCTUBRE",{"$f":"'F9-IDP'!DF$22","v":0},{"$f":"'F9-IDP'!DL$22","v":0},{"$f":"'F9-IDP'!DR$22","v":0},{"$f":"'F9-IDP'!DX$22","v":0},{"$f":"'F9-IDP'!ED$22","v":0}]
[null,null,null,null,null,null,"NOVIEMBRE",{"$f":"'F9-IDP'!DF$23","v":0},{"$f":"'F9-IDP'!DL$23","v":0},{"$f":"'F9-IDP'!DR$23","v":0},{"$f":"'F9-IDP'!DX$23","v":0},{"$f":"'F9-IDP'!ED$23","v":0}]
[null,null,null,null,null,null,"DICIEMBRE",{"$f":"'F9-IDP'!DF$24","v":0},{"$f":"'F9-IDP'!DL$24","v":0},{"$f":"'F9-IDP'!DR$24","v":0},{"$f":"'F9-IDP'!DX$24","v":0},{"$f":"'F9-IDP'!ED$24","v":0}]
[null,null,null,null,null,null,"SUMA",{"$f":"'F9-IDP'!DF$25","v":0},{"$f":"'F9-IDP'!DL$25","v":0},{"$f":"'F9-IDP'!DR$25","v":0},{"$f":"'F9-IDP'!DX$25","v":0},{"$f":"'F9-IDP'!ED$25","v":0}]
[null,null,null,null,null,null,"No. 5"]
[null,null,null,null,null,null,"TIPO DE OBLIGACIÓN:",{"$f":"'F9-IDP'!EV$2","v":0}]
[null,null,null,null,null,null,"NOMBRE DEL ACREEDOR:",{"$f":"'F9-IDP'!ET$3","v":0}]
[null,null,null,null,null,null,"MONTO DISPUESTO:",{"$f":"'F9-IDP'!ET$4","v":0}]
[null,null,null,null,null,null,"FECHA DE INICIO:",{"$f":"'F9-IDP'!FJ$4","v":0}]
[null,null,null,null,null,null,"FECHA DE VENCIMIENTO:",{"$f":"'F9-IDP'!FJ$5","v":0}]
[null,null,null,null,null,null,"SALDO AL 1° DE ENERO DE 2022 A CORTO PLAZO:",{"$f":"'F9-IDP'!FB$6","v":0}]
[null,null,null,null,null,null,"SALDO AL 1° DE ENERO DE 2022 A LARGO PLAZO:",{"$f":"'F9-IDP'!FB$7","v":0}]
[null,null,null,null,null,null,"Largo Plazo",{"$f":"'F9-IDP'!EO$10","v":0},{"$f":"'F9-IDP'!EU$10","v":0},{"$f":"'F9-IDP'!FA$10","v":0},{"$f":"'F9-IDP'!FG$10","v":0},{"$f":"'F9-IDP'!FM$10","v":0}]
[null,null,null,null,null,null,"ENERO",{"$f":"'F9-IDP'!EO$13","v":0},{"$f":"'F9-IDP'!EU$13","v":0},{"$f":"'F9-IDP'!FA$13","v":0},{"$f":"'F9-IDP'!FG$13","v":0},{"$f":"'F9-IDP'!FM$13","v":0}]
[null,null,null,null,null,null,"FEBRERO",{"$f":"'F9-IDP'!EO$14","v":0},{"$f":"'F9-IDP'!EU$14","v":0},{"$f":"'F9-IDP'!FA$14","v":0},{"$f":"'F9-IDP'!FG$14","v":0},{"$f":"'F9-IDP'!FM$14","v":0}]
[null,null,null,null,null,null,"MARZO",{"$f":"'F9-IDP'!EO$15","v":0},{"$f":"'F9-IDP'!EU$15","v":0},{"$f":"'F9-IDP'!FA$15","v":0},{"$f":"'F9-IDP'!FG$15","v":0},{"$f":"'F9-IDP'!FM$15","v":0}]
[null,null,null,null,null,null,"ABRIL",{"$f":"'F9-IDP'!EO$16","v":0},{"$f":"'F9-IDP'!EU$16","v":0},{"$f":"'F9-IDP'!FA$16","v":0},{"$f":"'F9-IDP'!FG$16","v":0},{"$f":"'F9-IDP'!FM$16","v":0}]
[null,null,null,null,null,null,"MAYO",{"$f":"'F9-IDP'!EO$17","v":0},{"$f":"'F9-IDP'!EU$17","v":0},{"$f":"'F9-IDP'!FA$17","v":0},{"$f":"'F9-IDP'!FG$17","v":0},{"$f":"'F9-IDP'!FM$17","v":0}]
[null,null,null,null,null,null,"JUNIO",{"$f":"'F9-IDP'!EO$18","v":0},{"$f":"'F9-IDP'!EU$18","v":0},{"$f":"'F9-IDP'!FA$18","v":0},{"$f":"'F9-IDP'!FG$18","v":0},{"$f":"'F9-IDP'!FM$18","v":0}]
[null,null,null,null,null,null,"JULIO",{"$f":"'F9-IDP'!EO$19","v":0},{"$f":"'F9-IDP'!EU$19","v":0},{"$f":"'F9-IDP'!FA$19","v":0},{"$f":"'F9-IDP'!FG$19","v":0},{"$f":"'F9-IDP'!FM$19","v":0}]
[null,null,null,null,null,null,"AGOSTO",{"$f":"'F9-IDP'!EO$20","v":0},{"$f":"'F9-IDP'!EU$20","v":0},{"$f":"'F9-IDP'!FA$20","v":0},{"$f":"'F9-IDP'!FG$20","v":0},{"$f":"'F9-IDP'!FM$20","v":0}]
[null,null,null,null,null,null,"SEPTIEMBRE",{"$f":"'F9-IDP'!EO$21","v":0},{"$f":"'F9-IDP'!EU$21","v":0},{"$f":"'F9-IDP'!FA$21","v":0},{"$f":"'F9-IDP'!FG$21","v":0},{"$f":"'F9-IDP'!FM$21","v":0}]
[null,null,null,null,null,null,"OCTUBRE",{"$f":"'F9-IDP'!EO$22","v":0},{"$f":"'F9-IDP'!EU$22","v":0},{"$f":"'F9-IDP'!FA$22","v":0},{"$f":"'F9-IDP'!FG$22","v":0},{"$f":"'F9-IDP'!FM$22","v":0}]
[null,null,null,null,null,null,"NOVIEMBRE",{"$f":"'F9-IDP'!EO$23","v":0},{"$f":"'F9-IDP'!EU$23","v":0},{"$f":"'F9-IDP'!FA$23","v":0},{"$f":"'F9-IDP'!FG$23","v":0},{"$f":"'F9-IDP'!FM$23","v":0}]
[null,null,null,null,null,null,"DICIEMBRE",{"$f":"'F9-IDP'!EO$24","v":0},{"$f":"'F9-IDP'!EU$24","v":0},{"$f":"'F9-IDP'!FA$24","v":0},{"$f":"'F9-IDP'!FG$24","v":0},{"$f":"'F9-IDP'!FM$24","v":0}]
[null,null,null,null,null,null,"SUMA",{"$f":"'F9-IDP'!EO$25","v":0},{"$f":"'F9-IDP'!EU$25","v":0},{"$f":"'F9-IDP'!FA$25","v":0},{"$f":"'F9-IDP'!FG$25","v":0},{"$f":"'F9-IDP'!FM$25","v":0}]
[null,null,null,null,null,null,"No. 6"]
[null,null,null,null,null,null,"TIPO DE OBLIGACIÓN:",{"$f":"'F9-IDP'!GE$2","v":0}]
[null,null,null,null,null,null,"NOMBRE DEL ACREEDOR:",{"$f":"'F9-IDP'!GC$3","v":0}]
[null,null,null,null,null,null,"MONTO DISPUESTO:",{"$f":"'F9-IDP'!GC$4","v":0}]
[null,null,null,null,null,null,"FECHA DE INICIO:",{"$f":"'F9-IDP'!GS$4","v":0}]
[null,null,null,null,null,null,"FECHA DE VENCIMIENTO:",{"$f":"'F9-IDP'!GS$5","v":0}]
[null,null,null,null,null,null,"SALDO AL 1° DE ENERO DE 2022 A CORTO PLAZO:",{"$f":"'F9-IDP'!GK$6","v":0}]
[null,null,null,null,null,null,"SALDO AL 1° DE ENERO DE 2022 A LARGO PLAZO:",{"$f":"'F9-IDP'!GK$7","v":0}]
[null,null,null,null,null,null,"Largo Plazo",{"$f":"'F9-IDP'!FX$10","v":0},{"$f":"'F9-IDP'!GD$10","v":0},{"$f":"'F9-IDP'!GJ$10","v":0},{"$f":"'F9-IDP'!GP$10","v":0},{"$f":"'F9-IDP'!GV$10","v":0}]
[null,null,null,null,null,null,"ENERO",{"$f":"'F9-IDP'!FX$13","v":0},{"$f":"'F9-IDP'!GD$13","v":0},{"$f":"'F9-IDP'!GJ$13","v":0},{"$f":"'F9-IDP'!GP$13","v":0},{"$f":"'F9-IDP'!GV$13","v":0}]
[null,null,null,null,null,null,"FEBRERO",{"$f":"'F9-IDP'!FX$14","v":0},{"$f":"'F9-IDP'!GD$14","v":0},{"$f":"'F9-IDP'!GJ$14","v":0},{"$f":"'F9-IDP'!GP$14","v":0},{"$f":"'F9-IDP'!GV$14","v":0}]
[null,null,null,null,null,null,"MARZO",{"$f":"'F9-IDP'!FX$15","v":0},{"$f":"'F9-IDP'!GD$15","v":0},{"$f":"'F9-IDP'!GJ$15","v":0},{"$f":"'F9-IDP'!GP$15","v":0},{"$f":"'F9-IDP'!GV$15","v":0}]
[null,null,null,null,null,null,"ABRIL",{"$f":"'F9-IDP'!FX$16","v":0},{"$f":"'F9-IDP'!GD$16","v":0},{"$f":"'F9-IDP'!GJ$16","v":0},{"$f":"'F9-IDP'!GP$16","v":0},{"$f":"'F9-IDP'!GV$16","v":0}]
[null,null,null,null,null,null,"MAYO",{"$f":"'F9-IDP'!FX$17","v":0},{"$f":"'F9-IDP'!GD$17","v":0},{"$f":"'F9-IDP'!GJ$17","v":0},{"$f":"'F9-IDP'!GP$17","v":0},{"$f":"'F9-IDP'!GV$17","v":0}]
[null,null,null,null,null,null,"JUNIO",{"$f":"'F9-IDP'!FX$18","v":0},{"$f":"'F9-IDP'!GD$18","v":0},{"$f":"'F9-IDP'!GJ$18","v":0},{"$f":"'F9-IDP'!GP$18","v":0},{"$f":"'F9-IDP'!GV$18","v":0}]
[null,null,null,null,null,null,"JULIO",{"$f":"'F9-IDP'!FX$19","v":0},{"$f":"'F9-IDP'!GD$19","v":0},{"$f":"'F9-IDP'!GJ$19","v":0},{"$f":"'F9-IDP'!GP$19","v":0},{"$f":"'F9-IDP'!GV$19","v":0}]
[null,null,null,null,null,null,"AGOSTO",{"$f":"'F9-IDP'!FX$20","v":0},{"$f":"'F9-IDP'!GD$20","v":0},{"$f":"'F9-IDP'!GJ$20","v":0},{"$f":"'F9-IDP'!GP$20","v":0},{"$f":"'F9-IDP'!GV$20","v":0}]
[null,null,null,null,null,null,"SEPTIEMBRE",{"$f":"'F9-IDP'!FX$21","v":0},{"$f":"'F9-IDP'!GD$21","v":0},{"$f":"'F9-IDP'!GJ$21","v":0},{"$f":"'F9-IDP'!GP$21","v":0},{"$f":"'F9-IDP'!GV$21","v":0}]
[null,null,null,null,null,null,"OCTUBRE",{"$f":"'F9-IDP'!FX$22","v":0},{"$f":"'F9-IDP'!GD$22","v":0},{"$f":"'F9-IDP'!GJ$22","v":0},{"$f":"'F9-IDP'!GP$22","v":0},{"$f":"'F9-IDP'!GV$22","v":0}]
[null,null,null,null,null,null,"NOVIEMBRE",{"$f":"'F9-IDP'!FX$23","v":0},{"$f":"'F9-IDP'!GD$23","v":0},{"$f":"'F9-IDP'!GJ$23","v":0},{"$f":"'F9-IDP'!GP$23","v":0},{"$f":"'F9-IDP'!GV$23","v":0}]
[null,null,null,null,null,null,"DICIEMBRE",{"$f":"'F9-IDP'!FX$24","v":0},{"$f":"'F9-IDP'!GD$24","v":0},{"$f":"'F9-IDP'!GJ$24","v":0},{"$f":"'F9-IDP'!GP$24","v":0},{"$f":"'F9-IDP'!GV$24","v":0}]
[null,null,null,null,null,null,"SUMA",{"$f":"'F9-IDP'!FX$25","v":0},{"$f":"'F9-IDP'!GD$25","v":0},{"$f":"'F9-IDP'!GJ$25","v":0},{"$f":"'F9-IDP'!GP$25","v":0},{"$f":"'F9-IDP'!GV$25","v":0}]
[null,null,null,null,null,null,"No. 7"]
[null,null,null,null,null,null,"TIPO DE OBLIGACIÓN:",{"$f":"'F9-IDP'!HN$2","v":0}]
[null,null,null,null,null,null,"NOMBRE DEL ACREEDOR:",{"$f":"'F9-IDP'!HL$3","v":0}]
[null,null,null,null,null,null,"MONTO DISPUESTO:",{"$f":"'F9-IDP'!HL$4","v":0}]
[null,null,null,null,null,null,"FECHA DE INICIO:",{"$f":"'F9-IDP'!IB$4","v":0}]
[null,null,null,null,null,null,"FECHA DE VENCIMIENTO:",{"$f":"'F9-IDP'!IB$5","v":0}]
[null,null,null,null,null,null,"SALDO AL 1° DE ENERO DE 2022 A CORTO PLAZO:",{"$f":"'F9-IDP'!HT$6","v":0}]
[null,null,null,null,null,null,"SALDO AL 1° DE ENERO DE 2022 A LARGO PLAZO:",{"$f":"'F9-IDP'!HT$7","v":0}]
[null,null,null,null,null,null,"Largo Plazo",{"$f":"'F9-IDP'!HG$10","v":0},{"$f":"'F9-IDP'!HM$10","v":0},{"$f":"'F9-IDP'!HS$10","v":0},{"$f":"'F9-IDP'!HY$10","v":0},{"$f":"'F9-IDP'!IE$10","v":0}]
[null,null,null,null,null,null,"ENERO",{"$f":"'F9-IDP'!HG$13","v":0},{"$f":"'F9-IDP'!HM$13","v":0},{"$f":"'F9-IDP'!HS$13","v":0},{"$f":"'F9-IDP'!HY$13","v":0},{"$f":"'F9-IDP'!IE$13","v":0}]
[null,null,null,null,null,null,"FEBRERO",{"$f":"'F9-IDP'!HG$14","v":0},{"$f":"'F9-IDP'!HM$14","v":0},{"$f":"'F9-IDP'!HS$14","v":0},{"$f":"'F9-IDP'!HY$14","v":0},{"$f":"'F9-IDP'!IE$14","v":0}]
[null,null,null,null,null,null,"MARZO",{"$f":"'F9-IDP'!HG$15","v":0},{"$f":"'F9-IDP'!HM$15","v":0},{"$f":"'F9-IDP'!HS$15","v":0},{"$f":"'F9-IDP'!HY$15","v":0},{"$f":"'F9-IDP'!IE$15","v":0}]
[null,null,null,null,null,null,"ABRIL",{"$f":"'F9-IDP'!HG$16","v":0},{"$f":"'F9-IDP'!HM$16","v":0},{"$f":"'F9-IDP'!HS$16","v":0},{"$f":"'F9-IDP'!HY$16","v":0},{"$f":"'F9-IDP'!IE$16","v":0}]
[null,null,null,null,null,null,"MAYO",{"$f":"'F9-IDP'!HG$17","v":0},{"$f":"'F9-IDP'!HM$17","v":0},{"$f":"'F9-IDP'!HS$17","v":0},{"$f":"'F9-IDP'!HY$17","v":0},{"$f":"'F9-IDP'!IE$17","v":0}]
[null,null,null,null,null,null,"JUNIO",{"$f":"'F9-IDP'!HG$18","v":0},{"$f":"'F9-IDP'!HM$18","v":0},{"$f":"'F9-IDP'!HS$18","v":0},{"$f":"'F9-IDP'!HY$18","v":0},{"$f":"'F9-IDP'!IE$18","v":0}]
[null,null,null,null,null,null,"JULIO",{"$f":"'F9-IDP'!HG$19","v":0},{"$f":"'F9-IDP'!HM$19","v":0},{"$f":"'F9-IDP'!HS$19","v":0},{"$f":"'F9-IDP'!HY$19","v":0},{"$f":"'F9-IDP'!IE$19","v":0}]
[null,null,null,null,null,null,"AGOSTO",{"$f":"'F9-IDP'!HG$20","v":0},{"$f":"'F9-IDP'!HM$20","v":0},{"$f":"'F9-IDP'!HS$20","v":0},{"$f":"'F9-IDP'!HY$20","v":0},{"$f":"'F9-IDP'!IE$20","v":0}]
[null,null,null,null,null,null,"SEPTIEMBRE",{"$f":"'F9-IDP'!HG$21","v":0},{"$f":"'F9-IDP'!HM$21","v":0},{"$f":"'F9-IDP'!HS$21","v":0},{"$f":"'F9-IDP'!HY$21","v":0},{"$f":"'F9-IDP'!IE$21","v":0}]
[null,null,null,null,null,null,"OCTUBRE",{"$f":"'F9-IDP'!HG$22","v":0},{"$f":"'F9-IDP'!HM$22","v":0},{"$f":"'F9-IDP'!HS$22","v":0},{"$f":"'F9-IDP'!HY$22","v":0},{"$f":"'F9-IDP'!IE$22","v":0}]
[null,null,null,null,null,null,"NOVIEMBRE",{"$f":"'F9-IDP'!HG$23","v":0},{"$f":"'F9-IDP'!HM$23","v":0},{"$f":"'F9-IDP'!HS$23","v":0},{"$f":"'F9-IDP'!HY$23","v":0},{"$f":"'F9-IDP'!IE$23","v":0}]
[null,null,null,null,null,null,"DICIEMBRE",{"$f":"'F9-IDP'!HG$24","v":0},{"$f":"'F9-IDP'!HM$24","v":0},{"$f":"'F9-IDP'!HS$24","v":0},{"$f":"'F9-IDP'!HY$24","v":0},{"$f":"'F9-IDP'!IE$24","v":0}]
[null,null,null,null,null,null,"SUMA",{"$f":"'F9-IDP'!HG$25","v":0},{"$f":"'F9-IDP'!HM$25","v":0},{"$f":"'F9-IDP'!HS$25","v":0},{"$f":"'F9-IDP'!HY$25","v":0},{"$f":"'F9-IDP'!IE$25","v":0}]
[null,null,null,null,null,null,"No. 8"]
[null,null,null,null,null,null,"TIPO DE OBLIGACIÓN:",{"$f":"'F9-IDP'!IW$2","v":0}]
[null,null,null,null,null,null,"NOMBRE DEL ACREEDOR:",{"$f":"'F9-IDP'!IU$3","v":0}]
[null,null,null,null,null,null,"MONTO DISPUESTO:",{"$f":"'F9-IDP'!IU$4","v":0}]
[null,null,null,null,null,null,"FECHA DE INICIO:",{"$f":"'F9-IDP'!JK$4","v":0}]
[null,null,null,null,null,null,"FECHA DE VENCIMIENTO:",{"$f":"'F9-IDP'!JK$5","v":0}]
[null,null,null,null,null,null,"SALDO AL 1° DE ENERO DE 2022 A CORTO PLAZO:",{"$f":"'F9-IDP'!JC$6","v":0}]
[null,null,null,null,null,null,"SALDO AL 1° DE ENERO DE 2022 A LARGO PLAZO:",{"$f":"'F9-IDP'!JC$7","v":0}]
[null,null,null,null,null,null,"Largo Plazo",{"$f":"'F9-IDP'!IP$10","v":0},{"$f":"'F9-IDP'!IV$10","v":0},{"$f":"'F9-IDP'!JB$10","v":0},{"$f":"'F9-IDP'!JH$10","v":0},{"$f":"'F9-IDP'!JN$10","v":0}]
[null,null,null,null,null,null,"ENERO",{"$f":"'F9-IDP'!IP$13","v":0},{"$f":"'F9-IDP'!IV$13","v":0},{"$f":"'F9-IDP'!JB$13","v":0},{"$f":"'F9-IDP'!JH$13","v":0},{"$f":"'F9-IDP'!JN$13","v":0}]
[null,null,null,null,null,null,"FEBRERO",{"$f":"'F9-IDP'!IP$14","v":0},{"$f":"'F9-IDP'!IV$14","v":0},{"$f":"'F9-IDP'!JB$14","v":0},{"$f":"'F9-IDP'!JH$14","v":0},{"$f":"'F9-IDP'!JN$14","v":0}]
[null,null,null,null,null,null,"MARZO",{"$f":"'F9-IDP'!IP$15","v":0},{"$f":"'F9-IDP'!IV$15","v":0},{"$f":"'F9-IDP'!JB$15","v":0},{"$f":"'F9-IDP'!JH$15","v":0},{"$f":"'F9-IDP'!JN$15","v":0}]
[null,null,null,null,null,null,"ABRIL",{"$f":"'F9-IDP'!IP$16","v":0},{"$f":"'F9-IDP'!IV$16","v":0},{"$f":"'F9-IDP'!JB$16","v":0},{"$f":"'F9-IDP'!JH$16","v":0},{"$f":"'F9-IDP'!JN$16","v":0}]
[null,null,null,null,null,null,"MAYO",{"$f":"'F9-IDP'!IP$17","v":0},{"$f":"'F9-IDP'!IV$17","v":0},{"$f":"'F9-IDP'!JB$17","v":0},{"$f":"'F9-IDP'!JH$17","v":0},{"$f":"'F9-IDP'!JN$17","v":0}]
[null,null,null,null,null,null,"JUNIO",{"$f":"'F9-IDP'!IP$18","v":0},{"$f":"'F9-IDP'!IV$18","v":0},{"$f":"'F9-IDP'!JB$18","v":0},{"$f":"'F9-IDP'!JH$18","v":0},{"$f":"'F9-IDP'!JN$18","v":0}]
[null,null,null,null,null,null,"JULIO",{"$f":"'F9-IDP'!IP$19","v":0},{"$f":"'F9-IDP'!IV$19","v":0},{"$f":"'F9-IDP'!JB$19","v":0},{"$f":"'F9-IDP'!JH$19","v":0},{"$f":"'F9-IDP'!JN$19","v":0}]
[null,null,null,null,null,null,"AGOSTO",{"$f":"'F9-IDP'!IP$20","v":0},{"$f":"'F9-IDP'!IV$20","v":0},{"$f":"'F9-IDP'!JB$20","v":0},{"$f":"'F9-IDP'!JH$20","v":0},{"$f":"'F9-IDP'!JN$20","v":0}]
[null,null,null,null,null,null,"SEPTIEMBRE",{"$f":"'F9-IDP'!IP$21","v":0},{"$f":"'F9-IDP'!IV$21","v":0},{"$f":"'F9-IDP'!JB$21","v":0},{"$f":"'F9-IDP'!JH$21","v":0},{"$f":"'F9-IDP'!JN$21","v":0}]
[null,null,null,null,null,null,"OCTUBRE",{"$f":"'F9-IDP'!IP$22","v":0},{"$f":"'F9-IDP'!IV$22","v":0},{"$f":"'F9-IDP'!JB$22","v":0},{"$f":"'F9-IDP'!JH$22","v":0},{"$f":"'F9-IDP'!JN$22","v":0}]
[null,null,null,null,null,null,"NOVIEMBRE",{"$f":"'F9-IDP'!IP$23","v":0},{"$f":"'F9-IDP'!IV$23","v":0},{"$f":"'F9-IDP'!JB$23","v":0},{"$f":"'F9-IDP'!JH$23","v":0},{"$f":"'F9-IDP'!JN$23","v":0}]
[null,null,null,null,null,null,"DICIEMBRE",{"$f":"'F9-IDP'!IP$24","v":0},{"$f":"'F9-IDP'!IV$24","v":0},{"$f":"'F9-IDP'!JB$24","v":0},{"$f":"'F9-IDP'!JH$24","v":0},{"$f":"'F9-IDP'!JN$24","v":0}]
[null,null,null,null,null,null,"SUMA",{"$f":"'F9-IDP'!IP$25","v":0},{"$f":"'F9-IDP'!IV$25","v":0},{"$f":"'F9-IDP'!JB$25","v":0},{"$f":"'F9-IDP'!JH$25","v":0},{"$f":"'F9-IDP'!JN$25","v":0}]
[null,null,null,null,null,null,"No. 9"]
[null,null,null,null,null,null,"TIPO DE OBLIGACIÓN:",{"$f":"'F9-IDP'!KF$2","v":0}]
[null,null,null,null,null,null,"NOMBRE DEL ACREEDOR:",{"$f":"'F9-IDP'!KD$3","v":0}]
[null,null,null,null,null,null,"MONTO DISPUESTO:",{"$f":"'F9-IDP'!KD$4","v":0}]
[null,null,null,null,null,null,"FECHA DE INICIO:",{"$f":"'F9-IDP'!KT$4","v":0}]
[null,null,null,null,null,null,"FECHA DE VENCIMIENTO:",{"$f":"'F9-IDP'!KT$5","v":0}]
[null,null,null,null,null,null,"SALDO AL 1° DE ENERO DE 2022 A CORTO PLAZO:",{"$f":"'F9-IDP'!KL$6","v":0}]
[null,null,null,null,null,null,"SALDO AL 1° DE ENERO DE 2022 A LARGO PLAZO:",{"$f":"'F9-IDP'!KL$7","v":0}]
[null,null,null,null,null,null,"Largo Plazo",{"$f":"'F9-IDP'!JY$10","v":0},{"$f":"'F9-IDP'!KE$10","v":0},{"$f":"'F9-IDP'!KK$10","v":0},{"$f":"'F9-IDP'!KQ$10","v":0},{"$f":"'F9-IDP'!KW$10","v":0}]
[null,null,null,null,null,null,"ENERO",{"$f":"'F9-IDP'!JY$13","v":0},{"$f":"'F9-IDP'!KE$13","v":0},{"$f":"'F9-IDP'!KK$13","v":0},{"$f":"'F9-IDP'!KQ$13","v":0},{"$f":"'F9-IDP'!KW$13","v":0}]
[null,null,null,null,null,null,"FEBRERO",{"$f":"'F9-IDP'!JY$14","v":0},{"$f":"'F9-IDP'!KE$14","v":0},{"$f":"'F9-IDP'!KK$14","v":0},{"$f":"'F9-IDP'!KQ$14","v":0},{"$f":"'F9-IDP'!KW$14","v":0}]
[null,null,null,null,null,null,"MARZO",{"$f":"'F9-IDP'!JY$15","v":0},{"$f":"'F9-IDP'!KE$15","v":0},{"$f":"'F9-IDP'!KK$15","v":0},{"$f":"'F9-IDP'!KQ$15","v":0},{"$f":"'F9-IDP'!KW$15","v":0}]
[null,null,null,null,null,null,"ABRIL",{"$f":"'F9-IDP'!JY$16","v":0},{"$f":"'F9-IDP'!KE$16","v":0},{"$f":"'F9-IDP'!KK$16","v":0},{"$f":"'F9-IDP'!KQ$16","v":0},{"$f":"'F9-IDP'!KW$16","v":0}]
[null,null,null,null,null,null,"MAYO",{"$f":"'F9-IDP'!JY$17","v":0},{"$f":"'F9-IDP'!KE$17","v":0},{"$f":"'F9-IDP'!KK$17","v":0},{"$f":"'F9-IDP'!KQ$17","v":0},{"$f":"'F9-IDP'!KW$17","v":0}]
[null,null,null,null,null,null,"JUNIO",{"$f":"'F9-IDP'!JY$18","v":0},{"$f":"'F9-IDP'!KE$18","v":0},{"$f":"'F9-IDP'!KK$18","v":0},{"$f":"'F9-IDP'!KQ$18","v":0},{"$f":"'F9-IDP'!KW$18","v":0}]
[null,null,null,null,null,null,"JULIO",{"$f":"'F9-IDP'!JY$19","v":0},{"$f":"'F9-IDP'!KE$19","v":0},{"$f":"'F9-IDP'!KK$19","v":0},{"$f":"'F9-IDP'!KQ$19","v":0},{"$f":"'F9-IDP'!KW$19","v":0}]
[null,null,null,null,null,null,"AGOSTO",{"$f":"'F9-IDP'!JY$20","v":0},{"$f":"'F9-IDP'!KE$20","v":0},{"$f":"'F9-IDP'!KK$20","v":0},{"$f":"'F9-IDP'!KQ$20","v":0},{"$f":"'F9-IDP'!KW$20","v":0}]
[null,null,null,null,null,null,"SEPTIEMBRE",{"$f":"'F9-IDP'!JY$21","v":0},{"$f":"'F9-IDP'!KE$21","v":0},{"$f":"'F9-IDP'!KK$21","v":0},{"$f":"'F9-IDP'!KQ$21","v":0},{"$f":"'F9-IDP'!KW$21","v":0}]
[null,null,null,null,null,null,"OCTUBRE",{"$f":"'F9-IDP'!JY$22","v":0},{"$f":"'F9-IDP'!KE$22","v":0},{"$f":"'F9-IDP'!KK$22","v":0},{"$f":"'F9-IDP'!KQ$22","v":0},{"$f":"'F9-IDP'!KW$22","v":0}]
[null,null,null,null,null,null,"NOVIEMBRE",{"$f":"'F9-IDP'!JY$23","v":0},{"$f":"'F9-IDP'!KE$23","v":0},{"$f":"'F9-IDP'!KK$23","v":0},{"$f":"'F9-IDP'!KQ$23","v":0},{"$f":"'F9-IDP'!KW$23","v":0}]
[null,null,null,null,null,null,"DICIEMBRE",{"$f":"'F9-IDP'!JY$24","v":0},{"$f":"'F9-IDP'!KE$24","v":0},{"$f":"'F9-IDP'!KK$24","v":0},{"$f":"'F9-IDP'!KQ$24","v":0},{"$f":"'F9-IDP'!KW$24","v":0}]
[null,null,null,null,null,null,"SUMA",{"$f":"'F9-IDP'!JY$25","v":0},{"$f":"'F9-IDP'!KE$25","v":0},{"$f":"'F9-IDP'!KK$25","v":0},{"$f":"'F9-IDP'!KQ$25","v":0},{"$f":"'F9-IDP'!KW$25","v":0}]
[null,null,null,null,null,null,"No. 10"]
[null,null,null,null,null,null,"TIPO DE OBLIGACIÓN:",{"$f":"'F9-IDP'!LO$2","v":0}]
[null,null,null,null,null,null,"NOMBRE DEL ACREEDOR:",{"$f":"'F9-IDP'!LM$3","v":0}]
[null,null,null,null,null,null,"MONTO DISPUESTO:",{"$f":"'F9-IDP'!LM$4","v":0}]
[null,null,null,null,null,null,"FECHA DE INICIO:",{"$f":"'F9-IDP'!MC$4","v":0}]
[null,null,null,null,null,null,"FECHA DE VENCIMIENTO:",{"$f":"'F9-IDP'!MC$5","v":0}]
[null,null,null,null,null,null,"SALDO AL 1° DE ENERO DE 2022 A CORTO PLAZO:",{"$f":"'F9-IDP'!LU$6","v":0}]
[null,null,null,null,null,null,"SALDO AL 1° DE ENERO DE 2022 A LARGO PLAZO:",{"$f":"'F9-IDP'!LU$7","v":0}]
[null,null,null,null,null,null,"Largo Plazo",{"$f":"'F9-IDP'!LH$10","v":0},{"$f":"'F9-IDP'!LN$10","v":0},{"$f":"'F9-IDP'!LT$10","v":0},{"$f":"'F9-IDP'!LZ$10","v":0},{"$f":"'F9-IDP'!MF$10","v":0}]
[null,null,null,null,null,null,"ENERO",{"$f":"'F9-IDP'!LH$13","v":0},{"$f":"'F9-IDP'!LN$13","v":0},{"$f":"'F9-IDP'!LT$13","v":0},{"$f":"'F9-IDP'!LZ$13","v":0},{"$f":"'F9-IDP'!MF$13","v":0}]
[null,null,null,null,null,null,"FEBRERO",{"$f":"'F9-IDP'!LH$14","v":0},{"$f":"'F9-IDP'!LN$14","v":0},{"$f":"'F9-IDP'!LT$14","v":0},{"$f":"'F9-IDP'!LZ$14","v":0},{"$f":"'F9-IDP'!MF$14","v":0}]
[null,null,null,null,null,null,"MARZO",{"$f":"'F9-IDP'!LH$15","v":0},{"$f":"'F9-IDP'!LN$15","v":0},{"$f":"'F9-IDP'!LT$15","v":0},{"$f":"'F9-IDP'!LZ$15","v":0},{"$f":"'F9-IDP'!MF$15","v":0}]
[null,null,null,null,null,null,"ABRIL",{"$f":"'F9-IDP'!LH$16","v":0},{"$f":"'F9-IDP'!LN$16","v":0},{"$f":"'F9-IDP'!LT$16","v":0},{"$f":"'F9-IDP'!LZ$16","v":0},{"$f":"'F9-IDP'!MF$16","v":0}]
[null,null,null,null,null,null,"MAYO",{"$f":"'F9-IDP'!LH$17","v":0},{"$f":"'F9-IDP'!LN$17","v":0},{"$f":"'F9-IDP'!LT$17","v":0},{"$f":"'F9-IDP'!LZ$17","v":0},{"$f":"'F9-IDP'!MF$17","v":0}]
[null,null,null,null,null,null,"JUNIO",{"$f":"'F9-IDP'!LH$18","v":0},{"$f":"'F9-IDP'!LN$18","v":0},{"$f":"'F9-IDP'!LT$18","v":0},{"$f":"'F9-IDP'!LZ$18","v":0},{"$f":"'F9-IDP'!MF$18","v":0}]
[null,null,null,null,null,null,"JULIO",{"$f":"'F9-IDP'!LH$19","v":0},{"$f":"'F9-IDP'!LN$19","v":0},{"$f":"'F9-IDP'!LT$19","v":0},{"$f":"'F9-IDP'!LZ$19","v":0},{"$f":"'F9-IDP'!MF$19","v":0}]
[null,null,null,null,null,null,"AGOSTO",{"$f":"'F9-IDP'!LH$20","v":0},{"$f":"'F9-IDP'!LN$20","v":0},{"$f":"'F9-IDP'!LT$20","v":0},{"$f":"'F9-IDP'!LZ$20","v":0},{"$f":"'F9-IDP'!MF$20","v":0}]
[null,null,null,null,null,null,"SEPTIEMBRE",{"$f":"'F9-IDP'!LH$21","v":0},{"$f":"'F9-IDP'!LN$21","v":0},{"$f":"'F9-IDP'!LT$21","v":0},{"$f":"'F9-IDP'!LZ$21","v":0},{"$f":"'F9-IDP'!MF$21","v":0}]
[null,null,null,null,null,null,"OCTUBRE",{"$f":"'F9-IDP'!LH$22","v":0},{"$f":"'F9-IDP'!LN$22","v":0},{"$f":"'F9-IDP'!LT$22","v":0},{"$f":"'F9-IDP'!LZ$22","v":0},{"$f":"'F9-IDP'!MF$22","v":0}]
[null,null,null,null,null,null,"NOVIEMBRE",{"$f":"'F9-IDP'!LH$23","v":0},{"$f":"'F9-IDP'!LN$23","v":0},{"$f":"'F9-IDP'!LT$23","v":0},{"$f":"'F9-IDP'!LZ$23","v":0},{"$f":"'F9-IDP'!MF$23","v":0}]
[null,null,null,null,null,null,"DICIEMBRE",{"$f":"'F9-IDP'!LH$24","v":0},{"$f":"'F9-IDP'!LN$24","v":0},{"$f":"'F9-IDP'!LT$24","v":0},{"$f":"'F9-IDP'!LZ$24","v":0},{"$f":"'F9-IDP'!MF$24","v":0}]
[null,null,null,null,null,null,"SUMA",{"$f":"'F9-IDP'!LH$25","v":0},{"$f":"'F9-IDP'!LN$25","v":0},{"$f":"'F9-IDP'!LT$25","v":0},{"$f":"'F9-IDP'!LZ$25","v":0},{"$f":"'F9-IDP'!MF$25","v":0}]
[null,null,null,null,null,null,"F9-EDP"]
[null,null,null,null,null,null,"Deuda Pública"]
[null,null,null,null,null,null,"Corto Plazo",{"$f":"'F9-EDP'!N11","v":0},{"$f":"'F9-EDP'!U11","v":0},{"$f":"'F9-EDP'!AB11","v":0},{"$f":"'F9-EDP'!AI11","v":0},{"$f":"'F9-EDP'!AP11","v":0},{"$f":"'F9-EDP'!AW11","v":0},{"$f":"'F9-EDP'!BD11","v":0}]
[null,null,null,null,null,null,"Instituciones de Crédito",{"$f":"'F9-EDP'!N12","v":0},{"$f":"'F9-EDP'!U12","v":0},{"$f":"'F9-EDP'!AB12","v":0},{"$f":"'F9-EDP'!AI12","v":0},{"$f":"'F9-EDP'!AP12","v":0},{"$f":"'F9-EDP'!AW12","v":0},{"$f":"'F9-EDP'!BD12","v":0}]
[null,null,null,null,null,null,"Títulos y Valores",{"$f":"'F9-EDP'!N13","v":0},{"$f":"'F9-EDP'!U13","v":0},{"$f":"'F9-EDP'!AB13","v":0},{"$f":"'F9-EDP'!AI13","v":0},{"$f":"'F9-EDP'!AP13","v":0},{"$f":"'F9-EDP'!AW13","v":0},{"$f":"'F9-EDP'!BD13","v":0}]
[null,null,null,null,null,null,"Arrendamiento Financiero",{"$f":"'F9-EDP'!N14","v":0},{"$f":"'F9-EDP'!U14","v":0},{"$f":"'F9-EDP'!AB14","v":0},{"$f":"'F9-EDP'!AI14","v":0},{"$f":"'F9-EDP'!AP14","v":0},{"$f":"'F9-EDP'!AW14","v":0},{"$f":"'F9-EDP'!BD14","v":0}]
[null,null,null,null,null,null,"Largo Plazo",{"$f":"'F9-EDP'!N15","v":0},{"$f":"'F9-EDP'!U15","v":0},{"$f":"'F9-EDP'!AB15","v":0},{"$f":"'F9-EDP'!AI15","v":0},{"$f":"'F9-EDP'!AP15","v":0},{"$f":"'F9-EDP'!AW15","v":0},{"$f":"'F9-EDP'!BD15","v":0}]
[null,null,null,null,null,null,"Instituciones de Crédito",{"$f":"'F9-EDP'!N16","v":0},{"$f":"'F9-EDP'!U16","v":0},{"$f":"'F9-EDP'!AB16","v":0},{"$f":"'F9-EDP'!AI16","v":0},{"$f":"'F9-EDP'!AP16","v":0},{"$f":"'F9-EDP'!AW16","v":0},{"$f":"'F9-EDP'!BD16","v":0}]
[null,null,null,null,null,null,"Títulos y Valores",{"$f":"'F9-EDP'!N17","v":0},{"$f":"'F9-EDP'!U17","v":0},{"$f":"'F9-EDP'!AB17","v":0},{"$f":"'F9-EDP'!AI17","v":0},{"$f":"'F9-EDP'!AP17","v":0},{"$f":"'F9-EDP'!AW17","v":0},{"$f":"'F9-EDP'!BD17","v":0}]
[null,null,null,null,null,null,"Arrendamiento Financiero",{"$f":"'F9-EDP'!N18","v":0},{"$f":"'F9-EDP'!U18","v":0},{"$f":"'F9-EDP'!AB18","v":0},{"$f":"'F9-EDP'!AI18","v":0},{"$f":"'F9-EDP'!AP18","v":0},{"$f":"'F9-EDP'!AW18","v":0},{"$f":"'F9-EDP'!BD18","v":0}]
[null,null,null,null,null,null,"Otros Pasivos",{"$f":"'F9-EDP'!N19","v":10855479.129999999},{"$f":"'F9-EDP'!U19","v":0},{"$f":"'F9-EDP'!AB19","v":0},{"$f":"'F9-EDP'!AI19","v":0},{"$f":"'F9-EDP'!AP19","v":8882980.5800000001},{"$f":"'F9-EDP'!AW19","v":0},{"$f":"'F9-EDP'!BD19","v":0}]
[null,null,null,null,null,null,"Total de la Deuda Pública y Otros Pasivos",{"$f":"'F9-EDP'!N20","v":10855479.129999999},{"$f":"'F9-EDP'!U20","v":0},{"$f":"'F9-EDP'!AB20","v":0},{"$f":"'F9-EDP'!AI20","v":0},{"$f":"'F9-EDP'!AP20","v":8882980.5800000001},{"$f":"'F9-EDP'!AW20","v":0},{"$f":"'F9-EDP'!BD20","v":0}]
[null,null,null,null,null,null,"Deuda Contingente"]
[null,null,null,null,null,null,"1.-",{"$f":"'F9-EDP'!B28","v":"Sin Registro"},{"$f":"'F9-EDP'!N28","v":0},{"$f":"'F9-EDP'!U28","v":0},{"$f":"'F9-EDP'!AB28","v":0},{"$f":"'F9-EDP'!AI28","v":0},{"$f":"'F9-EDP'!AP28","v":0},{"$f":"'F9-EDP'!AW28","v":0},{"$f":"'F9-EDP'!BD28","v":0}]
[null,null,null,null,null,null,"2.-",{"$f":"'F9-EDP'!B29","v":0},{"$f":"'F9-EDP'!N29","v":0},{"$f":"'F9-EDP'!U29","v":0},{"$f":"'F9-EDP'!AB29","v":0},{"$f":"'F9-EDP'!AI29","v":0},{"$f":"'F9-EDP'!AP29","v":0},{"$f":"'F9-EDP'!AW29","v":0},{"$f":"'F9-EDP'!BD29","v":0}]
[null,null,null,null,null,null,"3.-",{"$f":"'F9-EDP'!B30","v":0},{"$f":"'F9-EDP'!N30","v":0},{"$f":"'F9-EDP'!U30","v":0},{"$f":"'F9-EDP'!AB30","v":0},{"$f":"'F9-EDP'!AI30","v":0},{"$f":"'F9-EDP'!AP30","v":0},{"$f":"'F9-EDP'!AW30","v":0},{"$f":"'F9-EDP'!BD30","v":0}]
[null,null,null,null,null,null,"4.-",{"$f":"'F9-EDP'!B31","v":0},{"$f":"'F9-EDP'!N31","v":0},{"$f":"'F9-EDP'!U31","v":0},{"$f":"'F9-EDP'!AB31","v":0},{"$f":"'F9-EDP'!AI31","v":0},{"$f":"'F9-EDP'!AP31","v":0},{"$f":"'F9-EDP'!AW31","v":0},{"$f":"'F9-EDP'!BD31","v":0}]
[null,null,null,null,null,null,"5.-",{"$f":"'F9-EDP'!B32","v":0},{"$f":"'F9-EDP'!N32","v":0},{"$f":"'F9-EDP'!U32","v":0},{"$f":"'F9-EDP'!AB32","v":0},{"$f":"'F9-EDP'!AI32","v":0},{"$f":"'F9-EDP'!AP32","v":0},{"$f":"'F9-EDP'!AW32","v":0},{"$f":"'F9-EDP'!BD32","v":0}]
[null,null,null,null,null,null,"SUMA",null,{"$f":"'F9-EDP'!N33","v":0},{"$f":"'F9-EDP'!U33","v":0},{"$f":"'F9-EDP'!AB33","v":0},{"$f":"'F9-EDP'!AI33","v":0},{"$f":"'F9-EDP'!AP33","v":0},{"$f":"'F9-EDP'!AW33","v":0},{"$f":"'F9-EDP'!BD33","v":0}]
[null,null,null,null,null,null,"Valor de Instrumentos Bonos Cupón Cero"]
[null,null,null,null,null,null,"1.-",{"$f":"'F9-EDP'!B35","v":0},{"$f":"'F9-EDP'!N35","v":0},{"$f":"'F9-EDP'!U35","v":0},{"$f":"'F9-EDP'!AB35","v":0},{"$f":"'F9-EDP'!AI35","v":0},{"$f":"'F9-EDP'!AP35","v":0},{"$f":"'F9-EDP'!AW35","v":0},{"$f":"'F9-EDP'!BD35","v":0}]
[null,null,null,null,null,null,"2.-",{"$f":"'F9-EDP'!B36","v":0},{"$f":"'F9-EDP'!N36","v":0},{"$f":"'F9-EDP'!U36","v":0},{"$f":"'F9-EDP'!AB36","v":0},{"$f":"'F9-EDP'!AI36","v":0},{"$f":"'F9-EDP'!AP36","v":0},{"$f":"'F9-EDP'!AW36","v":0},{"$f":"'F9-EDP'!BD36","v":0}]
[null,null,null,null,null,null,"3.-",{"$f":"'F9-EDP'!B37","v":0},{"$f":"'F9-EDP'!N37","v":0},{"$f":"'F9-EDP'!U37","v":0},{"$f":"'F9-EDP'!AB37","v":0},{"$f":"'F9-EDP'!AI37","v":0},{"$f":"'F9-EDP'!AP37","v":0},{"$f":"'F9-EDP'!AW37","v":0},{"$f":"'F9-EDP'!BD37","v":0}]
[null,null,null,null,null,null,"4.-",{"$f":"'F9-EDP'!B38","v":0},{"$f":"'F9-EDP'!N38","v":0},{"$f":"'F9-EDP'!U38","v":0},{"$f":"'F9-EDP'!AB38","v":0},{"$f":"'F9-EDP'!AI38","v":0},{"$f":"'F9-EDP'!AP38","v":0},{"$f":"'F9-EDP'!AW38","v":0},{"$f":"'F9-EDP'!BD38","v":0}]
[null,null,null,null,null,null,"5.-",{"$f":"'F9-EDP'!B39","v":0},{"$f":"'F9-EDP'!N39","v":0},{"$f":"'F9-EDP'!U39","v":0},{"$f":"'F9-EDP'!AB39","v":0},{"$f":"'F9-EDP'!AI39","v":0},{"$f":"'F9-EDP'!AP39","v":0},{"$f":"'F9-EDP'!AW39","v":0},{"$f":"'F9-EDP'!BD39","v":0}]
[null,null,null,null,null,null,"SUMA",null,{"$f":"'F9-EDP'!N40","v":0},{"$f":"'F9-EDP'!U40","v":0},{"$f":"'F9-EDP'!AB40","v":0},{"$f":"'F9-EDP'!AI40","v":0},{"$f":"'F9-EDP'!AP40","v":0},{"$f":"'F9-EDP'!AW40","v":0},{"$f":"'F9-EDP'!BD40","v":0}]
[null,null,null,null,null,null,"Obligaciones a Corto Plazo"]
[null,null,null,null,null,null,"1.-",{"$f":"'F9-EDP'!B44","v":0},{"$f":"'F9-EDP'!N44","v":0},{"$f":"'F9-EDP'!X44","v":0},{"$f":"'F9-EDP'!AH44","v":0},{"$f":"'F9-EDP'!AR44","v":0},{"$f":"'F9-EDP'!BB44","v":0}]
[null,null,null,null,null,null,"2.-",{"$f":"'F9-EDP'!B45","v":0},{"$f":"'F9-EDP'!N45","v":0},{"$f":"'F9-EDP'!X45","v":0},{"$f":"'F9-EDP'!AH45","v":0},{"$f":"'F9-EDP'!AR45","v":0},{"$f":"'F9-EDP'!BB45","v":0}]
[null,null,null,null,null,null,"3.-",{"$f":"'F9-EDP'!B46","v":0},{"$f":"'F9-EDP'!N46","v":0},{"$f":"'F9-EDP'!X46","v":0},{"$f":"'F9-EDP'!AH46","v":0},{"$f":"'F9-EDP'!AR46","v":0},{"$f":"'F9-EDP'!BB46","v":0}]
[null,null,null,null,null,null,"4.-",{"$f":"'F9-EDP'!B47","v":0},{"$f":"'F9-EDP'!N47","v":0},{"$f":"'F9-EDP'!X47","v":0},{"$f":"'F9-EDP'!AH47","v":0},{"$f":"'F9-EDP'!AR47","v":0},{"$f":"'F9-EDP'!BB47","v":0}]
[null,null,null,null,null,null,"5.-",{"$f":"'F9-EDP'!B48","v":0},{"$f":"'F9-EDP'!N48","v":0},{"$f":"'F9-EDP'!X48","v":0},{"$f":"'F9-EDP'!AH48","v":0},{"$f":"'F9-EDP'!AR48","v":0},{"$f":"'F9-EDP'!BB48","v":0}]
[null,null,null,null,null,null,"SUMA",null,{"$f":"'F9-EDP'!N49","v":0},{"$f":"'F9-EDP'!X49","v":0},{"$f":"'F9-EDP'!AH49","v":0},{"$f":"'F9-EDP'!AR49","v":0},{"$f":"'F9-EDP'!BB49","v":0}]
[null,null,null,null,null,null,"F9-IAO"]
[null,null,null,null,null,null,"Asociación Público Privadas"]
[null,null,null,null,null,null,"1.-",{"$f":"'F9-IAO'!C12","v":"Sin / Registro"},{"$f":"'F9-IAO'!N12","v":44927},{"$f":"'F9-IAO'!S12","v":44927},{"$f":"'F9-IAO'!X12","v":44927},{"$f":"'F9-IAO'!AC12","v":0},{"$f":"'F9-IAO'!AI12","v":44927},{"$f":"'F9-IAO'!AN12","v":0},{"$f":"'F9-IAO'!AT12","v":0},{"$f":"'F9-IAO'!AZ12","v":0},{"$f":"'F9-IAO'!BF12","v":0},{"$f":"'F9-IAO'!BL12","v":0}]
[null,null,null,null,null,null,"2.-",{"$f":"'F9-IAO'!C13","v":0},{"$f":"'F9-IAO'!N13","v":0},{"$f":"'F9-IAO'!S13","v":0},{"$f":"'F9-IAO'!X13","v":0},{"$f":"'F9-IAO'!AC13","v":0},{"$f":"'F9-IAO'!AI13","v":0},{"$f":"'F9-IAO'!AN13","v":0},{"$f":"'F9-IAO'!AT13","v":0},{"$f":"'F9-IAO'!AZ13","v":0},{"$f":"'F9-IAO'!BF13","v":0},{"$f":"'F9-IAO'!BL13","v":0}]
[null,null,null,null,null,null,"3.-",{"$f":"'F9-IAO'!C14","v":0},{"$f":"'F9-IAO'!N14","v":0},{"$f":"'F9-IAO'!S14","v":0},{"$f":"'F9-IAO'!X14","v":0},{"$f":"'F9-IAO'!AC14","v":0},{"$f":"'F9-IAO'!AI14","v":0},{"$f":"'F9-IAO'!AN14","v":0},{"$f":"'F9-IAO'!AT14","v":0},{"$f":"'F9-IAO'!AZ14","v":0},{"$f":"'F9-IAO'!BF14","v":0},{"$f":"'F9-IAO'!BL14","v":0}]
[null,null,null,null,null,null,"Otros instrumentos"]
[null,null,null,null,null,null,"1.-",{"$f":"'F9-IAO'!C16","v":0},{"$f":"'F9-IAO'!N16","v":0},{"$f":"'F9-IAO'!S16","v":0},{"$f":"'F9-IAO'!X16","v":0},{"$f":"'F9-IAO'!AC16","v":0},{"$f":"'F9-IAO'!AI16","v":0},{"$f":"'F9-IAO'!AN16","v":0},{"$f":"'F9-IAO'!AT16","v":0},{"$f":"'F9-IAO'!AZ16","v":0},{"$f":"'F9-IAO'!BF16","v":0},{"$f":"'F9-IAO'!BL16","v":0}]
[null,null,null,null,null,null,"2.-",{"$f":"'F9-IAO'!C17","v":0},{"$f":"'F9-IAO'!N17","v":0},{"$f":"'F9-IAO'!S17","v":0},{"$f":"'F9-IAO'!X17","v":0},{"$f":"'F9-IAO'!AC17","v":0},{"$f":"'F9-IAO'!AI17","v":0},{"$f":"'F9-IAO'!AN17","v":0},{"$f":"'F9-IAO'!AT17","v":0},{"$f":"'F9-IAO'!AZ17","v":0},{"$f":"'F9-IAO'!BF17","v":0},{"$f":"'F9-IAO'!BL17","v":0}]
[null,null,null,null,null,null,"3.-",{"$f":"'F9-IAO'!C18","v":0},{"$f":"'F9-IAO'!N18","v":0},{"$f":"'F9-IAO'!S18","v":0},{"$f":"'F9-IAO'!X18","v":0},{"$f":"'F9-IAO'!AC18","v":0},{"$f":"'F9-IAO'!AI18","v":0},{"$f":"'F9-IAO'!AN18","v":0},{"$f":"'F9-IAO'!AT18","v":0},{"$f":"'F9-IAO'!AZ18","v":0},{"$f":"'F9-IAO'!BF18","v":0},{"$f":"'F9-IAO'!BL18","v":0}]
[null,null,null,null,null,null,"F12"]
[null,null,null,null,null,null,"Impuestos",{"$f":"'F12'!C7","v":0},{"$f":"'F12'!D7","v":0},{"$f":"'F12'!E7","v":0},{"$f":"'F12'!F7","v":0},{"$f":"'F12'!G7","v":0},{"$f":"'F12'!H7","v":1}]
[null,null,null,null,null,null,"Cuotas y aportaciones de seguridad social",{"$f":"'F12'!C8","v":0},{"$f":"'F12'!D8","v":0},{"$f":"'F12'!E8","v":0},{"$f":"'F12'!F8","v":0},{"$f":"'F12'!G8","v":0},{"$f":"'F12'!H8","v":1}]
[null,null,null,null,null,null,"Contribuciones de mejora",{"$f":"'F12'!C9","v":0},{"$f":"'F12'!D9","v":0},{"$f":"'F12'!E9","v":0},{"$f":"'F12'!F9","v":0},{"$f":"'F12'!G9","v":0},{"$f":"'F12'!H9","v":1}]
[null,null,null,null,null,null,"Derechos",{"$f":"'F12'!C10","v":0},{"$f":"'F12'!D10","v":0},{"$f":"'F12'!E10","v":0},{"$f":"'F12'!F10","v":0},{"$f":"'F12'!G10","v":0},{"$f":"'F12'!H10","v":1}]
[null,null,null,null,null,null,"Productos",{"$f":"'F12'!C11","v":0},{"$f":"'F12'!D11","v":0},{"$f":"'F12'!E11","v":0},{"$f":"'F12'!F11","v":0},{"$f":"'F12'!G11","v":0},{"$f":"'F12'!H11","v":1}]
[null,null,null,null,null,null,"Aprovechamientos",{"$f":"'F12'!C12","v":0},{"$f":"'F12'!D12","v":0},{"$f":"'F12'!E12","v":0},{"$f":"'F12'!F12","v":0},{"$f":"'F12'!G12","v":0},{"$f":"'F12'!H12","v":1}]
[null,null,null,null,null,null,"Ingresos por venta de bienes, prestación de servicios y otros ingresos",{"$f":"'F12'!C13","v":0},{"$f":"'F12'!D13","v":0},{"$f":"'F12'!E13","v":0},{"$f":"'F12'!F13","v":0},{"$f":"'F12'!G13","v":0},{"$f":"'F12'!H13","v":1}]
[null,null,null,null,null,null,"Participaciones, aportaciones, convenios, incentivos derivados de la colaboración fiscal y fondos distintos de aportaciones",{"$f":"'F12'!C14","v":0},{"$f":"'F12'!D14","v":0},{"$f":"'F12'!E14","v":0},{"$f":"'F12'!F14","v":0},{"$f":"'F12'!G14","v":0},{"$f":"'F12'!H14","v":1}]
[null,null,null,null,null,null,"Transferencias, asignaciones, subsidios y subvenciones, y pensiones y jubilaciones",{"$f":"'F12'!C15","v":0},{"$f":"'F12'!D15","v":0},{"$f":"'F12'!E15","v":0},{"$f":"'F12'!F15","v":0},{"$f":"'F12'!G15","v":0},{"$f":"'F12'!H15","v":1}]
[null,null,null,null,null,null,"Ingresos derivados de financiamiento",{"$f":"'F12'!C16","v":0},{"$f":"'F12'!D16","v":0},{"$f":"'F12'!E16","v":0},{"$f":"'F12'!F16","v":0},{"$f":"'F12'!G16","v":0},{"$f":"'F12'!H16","v":1}]
[null,null,null,null,null,null,"TOTAL",{"$f":"'F12'!C17","v":0},{"$f":"'F12'!D17","v":0},{"$f":"'F12'!E17","v":0},{"$f":"'F12'!F17","v":0},{"$f":"'F12'!G17","v":0},{"$f":"'F12'!H17","v":1}]
[null,null,null,null,null,null,"Servicios personales",{"$f":"'F12'!C21","v":0},{"$f":"'F12'!D21","v":0},{"$f":"'F12'!E21","v":0},{"$f":"'F12'!F21","v":0},{"$f":"'F12'!G21","v":0},{"$f":"'F12'!H21","v":1}]
[null,null,null,null,null,null,"Materiales y suministros",{"$f":"'F12'!C22","v":0},{"$f":"'F12'!D22","v":0},{"$f":"'F12'!E22","v":0},{"$f":"'F12'!F22","v":0},{"$f":"'F12'!G22","v":0},{"$f":"'F12'!H22","v":1}]
[null,null,null,null,null,null,"Servicios generales",{"$f":"'F12'!C23","v":0},{"$f":"'F12'!D23","v":0},{"$f":"'F12'!E23","v":0},{"$f":"'F12'!F23","v":0},{"$f":"'F12'!G23","v":0},{"$f":"'F12'!H23","v":1}]
[null,null,null,null,null,null,"Transferencias, asignaciones, subsidios y otras ayudas",{"$f":"'F12'!C24","v":0},{"$f":"'F12'!D24","v":0},{"$f":"'F12'!E24","v":0},{"$f":"'F12'!F24","v":0},{"$f":"'F12'!G24","v":0},{"$f":"'F12'!H24","v":1}]
[null,null,null,null,null,null,"Bienes muebles, inmuebles e intangibles",{"$f":"'F12'!C25","v":0},{"$f":"'F12'!D25","v":0},{"$f":"'F12'!E25","v":0},{"$f":"'F12'!F25","v":0},{"$f":"'F12'!G25","v":0},{"$f":"'F12'!H25","v":1}]
[null,null,null,null,null,null,"Inversión pública",{"$f":"'F12'!C26","v":0},{"$f":"'F12'!D26","v":0},{"$f":"'F12'!E26","v":0},{"$f":"'F12'!F26","v":0},{"$f":"'F12'!G26","v":0},{"$f":"'F12'!H26","v":1}]
[null,null,null,null,null,null,"Inversiones financieras y otras provisiones",{"$f":"'F12'!C27","v":0},{"$f":"'F12'!D27","v":0},{"$f":"'F12'!E27","v":0},{"$f":"'F12'!F27","v":0},{"$f":"'F12'!G27","v":0},{"$f":"'F12'!H27","v":1}]
[null,null,null,null,null,null,"Participaciones y aportaciones",{"$f":"'F12'!C28","v":0},{"$f":"'F12'!D28","v":0},{"$f":"'F12'!E28","v":0},{"$f":"'F12'!F28","v":0},{"$f":"'F12'!G28","v":0},{"$f":"'F12'!H28","v":1}]
[null,null,null,null,null,null,"Deuda pública",{"$f":"'F12'!C29","v":0},{"$f":"'F12'!D29","v":0},{"$f":"'F12'!E29","v":0},{"$f":"'F12'!F29","v":0},{"$f":"'F12'!G29","v":0},{"$f":"'F12'!H29","v":1}]
[null,null,null,null,null,null,"TOTAL",{"$f":"'F12'!C30","v":0},{"$f":"'F12'!D30","v":0},{"$f":"'F12'!E30","v":0},{"$f":"'F12'!F30","v":0},{"$f":"'F12'!G30","v":0},{"$f":"'F12'!H30","v":1}]
[null,null,null,null,null,null,"F13"]
[null,null,null,null,null,null,{"$f":"'F13'!A3","v":""},{"$f":"'F13'!B3","v":0},{"$f":"'F13'!C3","v":0},{"$f":"'F13'!D3","v":""},{"$f":"'F13'!E3","v":""},{"$f":"'F13'!F3","v":0},{"$f":"'F13'!G3","v":0},{"$f":"'F13'!H3","v":0},{"$f":"'F13'!I3","v":0},{"$f":"'F13'!J3","v":0},{"$f":"'F13'!K3","v":0},{"$f":"'F13'!L3","v":0},{"$f":"'F13'!M3","v":0},{"$f":"'F13'!N3","v":0},{"$f":"'F13'!O3","v":0},{"$f":"'F13'!P3","v":0},{"$f":"'F13'!Q3","v":0},{"$f":"'F13'!R3","v":0},{"$f":"'F13'!S3","v":0},{"$f":"'F13'!T3","v":0},{"$f":"'F13'!U3","v":0},{"$f":"'F13'!V3","v":0},{"$f":"'F13'!W3","v":0},{"$f":"'F13'!X3","v":0},{"$f":"'F13'!Y3","v":0},{"$f":"'F13'!Z3","v":0},{"$f":"'F13'!AA3","v":0},{"$f":"'F13'!AB3","v":0},{"$f":"'F13'!AC3","v":0},{"$f":"'F13'!AD3","v":0},{"$f":"'F13'!AE3","v":0},{"$f":"'F13'!AF3","v":0},{"$f":"'F13'!AG3","v":0},{"$f":"'F13'!AH3","v":0},{"$f":"'F13'!AI3","v":0}]
[null,null,null,null,null,null,{"$f":"'F13'!A4","v":""},{"$f":"'F13'!B4","v":0},{"$f":"'F13'!C4","v":0},{"$f":"'F13'!D4","v":""},{"$f":"'F13'!E4","v":""},{"$f":"'F13'!F4","v":0},{"$f":"'F13'!G4","v":0},{"$f":"'F13'!H4","v":0},{"$f":"'F13'!I4","v":0},{"$f":"'F13'!J4","v":0},{"$f":"'F13'!K4","v":0},{"$f":"'F13'!L4","v":0},{"$f":"'F13'!M4","v":0},{"$f":"'F13'!N4","v":0},{"$f":"'F13'!O4","v":0},{"$f":"'F13'!P4","v":0},{"$f":"'F13'!Q4","v":0},{"$f":"'F13'!R4","v":0},{"$f":"'F13'!S4","v":0},{"$f":"'F13'!T4","v":0},{"$f":"'F13'!U4","v":0},{"$f":"'F13'!V4","v":0},{"$f":"'F13'!W4","v":0},{"$f":"'F13'!X4","v":0},{"$f":"'F13'!Y4","v":0},{"$f":"'F13'!Z4","v":0},{"$f":"'F13'!AA4","v":0},{"$f":"'F13'!AB4","v":0},{"$f":"'F13'!AC4","v":0},{"$f":"'F13'!AD4","v":0},{"$f":"'F13'!AE4","v":0},{"$f":"'F13'!AF4","v":0},{"$f":"'F13'!AG4","v":0},{"$f":"'F13'!AH4","v":0},{"$f":"'F13'!AI4","v":0}]
[null,null,null,null,null,null,{"$f":"'F13'!A5","v":""},{"$f":"'F13'!B5","v":0},{"$f":"'F13'!C5","v":0},{"$f":"'F13'!D5","v":""},{"$f":"'F13'!E5","v":""},{"$f":"'F13'!F5","v":0},{"$f":"'F13'!G5","v":0},{"$f":"'F13'!H5","v":0},{"$f":"'F13'!I5","v":0},{"$f":"'F13'!J5","v":0},{"$f":"'F13'!K5","v":0},{"$f":"'F13'!L5","v":0},{"$f":"'F13'!M5","v":0},{"$f":"'F13'!N5","v":0},{"$f":"'F13'!O5","v":0},{"$f":"'F13'!P5","v":0},{"$f":"'F13'!Q5","v":0},{"$f":"'F13'!R5","v":0},{"$f":"'F13'!S5","v":0},{"$f":"'F13'!T5","v":0},{"$f":"'F13'!U5","v":0},{"$f":"'F13'!V5","v":0},{"$f":"'F13'!W5","v":0},{"$f":"'F13'!X5","v":0},{"$f":"'F13'!Y5","v":0},{"$f":"'F13'!Z5","v":0},{"$f":"'F13'!AA5","v":0},{"$f":"'F13'!AB5","v":0},{"$f":"'F13'!AC5","v":0},{"$f":"'F13'!AD5","v":0},{"$f":"'F13'!AE5","v":0},{"$f":"'F13'!AF5","v":0},{"$f":"'F13'!AG5","v":0},{"$f":"'F13'!AH5","v":0},{"$f":"'F13'!AI5","v":0}]
[null,null,null,null,null,null,{"$f":"'F13'!A6","v":""},{"$f":"'F13'!B6","v":0},{"$f":"'F13'!C6","v":0},{"$f":"'F13'!D6","v":""},{"$f":"'F13'!E6","v":""},{"$f":"'F13'!F6","v":0},{"$f":"'F13'!G6","v":0},{"$f":"'F13'!H6","v":0},{"$f":"'F13'!I6","v":0},{"$f":"'F13'!J6","v":0},{"$f":"'F13'!K6","v":0},{"$f":"'F13'!L6","v":0},{"$f":"'F13'!M6","v":0},{"$f":"'F13'!N6","v":0},{"$f":"'F13'!O6","v":0},{"$f":"'F13'!P6","v":0},{"$f":"'F13'!Q6","v":0},{"$f":"'F13'!R6","v":0},{"$f":"'F13'!S6","v":0},{"$f":"'F13'!T6","v":0},{"$f":"'F13'!U6","v":0},{"$f":"'F13'!V6","v":0},{"$f":"'F13'!W6","v":0},{"$f":"'F13'!X6","v":0},{"$f":"'F13'!Y6","v":0},{"$f":"'F13'!Z6","v":0},{"$f":"'F13'!AA6","v":0},{"$f":"'F13'!AB6","v":0},{"$f":"'F13'!AC6","v":0},{"$f":"'F13'!AD6","v":0},{"$f":"'F13'!AE6","v":0},{"$f":"'F13'!AF6","v":0},{"$f":"'F13'!AG6","v":0},{"$f":"'F13'!AH6","v":0},{"$f":"'F13'!AI6","v":0}]
[null,null,null,null,null,null,{"$f":"'F13'!A7","v":""},{"$f":"'F13'!B7","v":0},{"$f":"'F13'!C7","v":0},{"$f":"'F13'!D7","v":""},{"$f":"'F13'!E7","v":""},{"$f":"'F13'!F7","v":0},{"$f":"'F13'!G7","v":0},{"$f":"'F13'!H7","v":0},{"$f":"'F13'!I7","v":0},{"$f":"'F13'!J7","v":0},{"$f":"'F13'!K7","v":0},{"$f":"'F13'!L7","v":0},{"$f":"'F13'!M7","v":0},{"$f":"'F13'!N7","v":0},{"$f":"'F13'!O7","v":0},{"$f":"'F13'!P7","v":0},{"$f":"'F13'!Q7","v":0},{"$f":"'F13'!R7","v":0},{"$f":"'F13'!S7","v":0},{"$f":"'F13'!T7","v":0},{"$f":"'F13'!U7","v":0},{"$f":"'F13'!V7","v":0},{"$f":"'F13'!W7","v":0},{"$f":"'F13'!X7","v":0},{"$f":"'F13'!Y7","v":0},{"$f":"'F13'!Z7","v":0},{"$f":"'F13'!AA7","v":0},{"$f":"'F13'!AB7","v":0},{"$f":"'F13'!AC7","v":0},{"$f":"'F13'!AD7","v":0},{"$f":"'F13'!AE7","v":0},{"$f":"'F13'!AF7","v":0},{"$f":"'F13'!AG7","v":0},{"$f":"'F13'!AH7","v":0},{"$f":"'F13'!AI7","v":0}]
[null,null,null,null,null,null,{"$f":"'F13'!A8","v":""},{"$f":"'F13'!B8","v":0},{"$f":"'F13'!C8","v":0},{"$f":"'F13'!D8","v":""},{"$f":"'F13'!E8","v":""},{"$f":"'F13'!F8","v":0},{"$f":"'F13'!G8","v":0},{"$f":"'F13'!H8","v":0},{"$f":"'F13'!I8","v":0},{"$f":"'F13'!J8","v":0},{"$f":"'F13'!K8","v":0},{"$f":"'F13'!L8","v":0},{"$f":"'F13'!M8","v":0},{"$f":"'F13'!N8","v":0},{"$f":"'F13'!O8","v":0},{"$f":"'F13'!P8","v":0},{"$f":"'F13'!Q8","v":0},{"$f":"'F13'!R8","v":0},{"$f":"'F13'!S8","v":0},{"$f":"'F13'!T8","v":0},{"$f":"'F13'!U8","v":0},{"$f":"'F13'!V8","v":0},{"$f":"'F13'!W8","v":0},{"$f":"'F13'!X8","v":0},{"$f":"'F13'!Y8","v":0},{"$f":"'F13'!Z8","v":0},{"$f":"'F13'!AA8","v":0},{"$f":"'F13'!AB8","v":0},{"$f":"'F13'!AC8","v":0},{"$f":"'F13'!AD8","v":0},{"$f":"'F13'!AE8","v":0},{"$f":"'F13'!AF8","v":0},{"$f":"'F13'!AG8","v":0},{"$f":"'F13'!AH8","v":0},{"$f":"'F13'!AI8","v":0}]
[null,null,null,null,null,null,{"$f":"'F13'!A9","v":""},{"$f":"'F13'!B9","v":0},{"$f":"'F13'!C9","v":0},{"$f":"'F13'!D9","v":""},{"$f":"'F13'!E9","v":""},{"$f":"'F13'!F9","v":0},{"$f":"'F13'!G9","v":0},{"$f":"'F13'!H9","v":0},{"$f":"'F13'!I9","v":0},{"$f":"'F13'!J9","v":0},{"$f":"'F13'!K9","v":0},{"$f":"'F13'!L9","v":0},{"$f":"'F13'!M9","v":0},{"$f":"'F13'!N9","v":0},{"$f":"'F13'!O9","v":0},{"$f":"'F13'!P9","v":0},{"$f":"'F13'!Q9","v":0},{"$f":"'F13'!R9","v":0},{"$f":"'F13'!S9","v":0},{"$f":"'F13'!T9","v":0},{"$f":"'F13'!U9","v":0},{"$f":"'F13'!V9","v":0},{"$f":"'F13'!W9","v":0},{"$f":"'F13'!X9","v":0},{"$f":"'F13'!Y9","v":0},{"$f":"'F13'!Z9","v":0},{"$f":"'F13'!AA9","v":0},{"$f":"'F13'!AB9","v":0},{"$f":"'F13'!AC9","v":0},{"$f":"'F13'!AD9","v":0},{"$f":"'F13'!AE9","v":0},{"$f":"'F13'!AF9","v":0},{"$f":"'F13'!AG9","v":0},{"$f":"'F13'!AH9","v":0},{"$f":"'F13'!AI9","v":0}]
[null,null,null,null,null,null,{"$f":"'F13'!A10","v":""},{"$f":"'F13'!B10","v":0},{"$f":"'F13'!C10","v":0},{"$f":"'F13'!D10","v":""},{"$f":"'F13'!E10","v":""},{"$f":"'F13'!F10","v":0},{"$f":"'F13'!G10","v":0},{"$f":"'F13'!H10","v":0},{"$f":"'F13'!I10","v":0},{"$f":"'F13'!J10","v":0},{"$f":"'F13'!K10","v":0},{"$f":"'F13'!L10","v":0},{"$f":"'F13'!M10","v":0},{"$f":"'F13'!N10","v":0},{"$f":"'F13'!O10","v":0},{"$f":"'F13'!P10","v":0},{"$f":"'F13'!Q10","v":0},{"$f":"'F13'!R10","v":0},{"$f":"'F13'!S10","v":0},{"$f":"'F13'!T10","v":0},{"$f":"'F13'!U10","v":0},{"$f":"'F13'!V10","v":0},{"$f":"'F13'!W10","v":0},{"$f":"'F13'!X10","v":0},{"$f":"'F13'!Y10","v":0},{"$f":"'F13'!Z10","v":0},{"$f":"'F13'!AA10","v":0},{"$f":"'F13'!AB10","v":0},{"$f":"'F13'!AC10","v":0},{"$f":"'F13'!AD10","v":0},{"$f":"'F13'!AE10","v":0},{"$f":"'F13'!AF10","v":0},{"$f":"'F13'!AG10","v":0},{"$f":"'F13'!AH10","v":0},{"$f":"'F13'!AI10","v":0}]
[null,null,null,null,null,null,{"$f":"'F13'!A11","v":""},{"$f":"'F13'!B11","v":0},{"$f":"'F13'!C11","v":0},{"$f":"'F13'!D11","v":""},{"$f":"'F13'!E11","v":""},{"$f":"'F13'!F11","v":0},{"$f":"'F13'!G11","v":0},{"$f":"'F13'!H11","v":0},{"$f":"'F13'!I11","v":0},{"$f":"'F13'!J11","v":0},{"$f":"'F13'!K11","v":0},{"$f":"'F13'!L11","v":0},{"$f":"'F13'!M11","v":0},{"$f":"'F13'!N11","v":0},{"$f":"'F13'!O11","v":0},{"$f":"'F13'!P11","v":0},{"$f":"'F13'!Q11","v":0},{"$f":"'F13'!R11","v":0},{"$f":"'F13'!S11","v":0},{"$f":"'F13'!T11","v":0},{"$f":"'F13'!U11","v":0},{"$f":"'F13'!V11","v":0},{"$f":"'F13'!W11","v":0},{"$f":"'F13'!X11","v":0},{"$f":"'F13'!Y11","v":0},{"$f":"'F13'!Z11","v":0},{"$f":"'F13'!AA11","v":0},{"$f":"'F13'!AB11","v":0},{"$f":"'F13'!AC11","v":0},{"$f":"'F13'!AD11","v":0},{"$f":"'F13'!AE11","v":0},{"$f":"'F13'!AF11","v":0},{"$f":"'F13'!AG11","v":0},{"$f":"'F13'!AH11","v":0},{"$f":"'F13'!AI11","v":0}]
[null,null,null,null,null,null,{"$f":"'F13'!A12","v":""},{"$f":"'F13'!B12","v":0},{"$f":"'F13'!C12","v":0},{"$f":"'F13'!D12","v":""},{"$f":"'F13'!E12","v":""},{"$f":"'F13'!F12","v":0},{"$f":"'F13'!G12","v":0},{"$f":"'F13'!H12","v":0},{"$f":"'F13'!I12","v":0},{"$f":"'F13'!J12","v":0},{"$f":"'F13'!K12","v":0},{"$f":"'F13'!L12","v":0},{"$f":"'F13'!M12","v":0},{"$f":"'F13'!N12","v":0},{"$f":"'F13'!O12","v":0},{"$f":"'F13'!P12","v":0},{"$f":"'F13'!Q12","v":0},{"$f":"'F13'!R12","v":0},{"$f":"'F13'!S12","v":0},{"$f":"'F13'!T12","v":0},{"$f":"'F13'!U12","v":0},{"$f":"'F13'!V12","v":0},{"$f":"'F13'!W12","v":0},{"$f":"'F13'!X12","v":0},{"$f":"'F13'!Y12","v":0},{"$f":"'F13'!Z12","v":0},{"$f":"'F13'!AA12","v":0},{"$f":"'F13'!AB12","v":0},{"$f":"'F13'!AC12","v":0},{"$f":"'F13'!AD12","v":0},{"$f":"'F13'!AE12","v":0},{"$f":"'F13'!AF12","v":0},{"$f":"'F13'!AG12","v":0},{"$f":"'F13'!AH12","v":0},{"$f":"'F13'!AI12","v":0}]
[null,null,null,null,null,null,{"$f":"'F13'!A13","v":""},{"$f":"'F13'!B13","v":0},{"$f":"'F13'!C13","v":0},{"$f":"'F13'!D13","v":""},{"$f":"'F13'!E13","v":""},{"$f":"'F13'!F13","v":0},{"$f":"'F13'!G13","v":0},{"$f":"'F13'!H13","v":0},{"$f":"'F13'!I13","v":0},{"$f":"'F13'!J13","v":0},{"$f":"'F13'!K13","v":0},{"$f":"'F13'!L13","v":0},{"$f":"'F13'!M13","v":0},{"$f":"'F13'!N13","v":0},{"$f":"'F13'!O13","v":0},{"$f":"'F13'!P13","v":0},{"$f":"'F13'!Q13","v":0},{"$f":"'F13'!R13","v":0},{"$f":"'F13'!S13","v":0},{"$f":"'F13'!T13","v":0},{"$f":"'F13'!U13","v":0},{"$f":"'F13'!V13","v":0},{"$f":"'F13'!W13","v":0},{"$f":"'F13'!X13","v":0},{"$f":"'F13'!Y13","v":0},{"$f":"'F13'!Z13","v":0},{"$f":"'F13'!AA13","v":0},{"$f":"'F13'!AB13","v":0},{"$f":"'F13'!AC13","v":0},{"$f":"'F13'!AD13","v":0},{"$f":"'F13'!AE13","v":0},{"$f":"'F13'!AF13","v":0},{"$f":"'F13'!AG13","v":0},{"$f":"'F13'!AH13","v":0},{"$f":"'F13'!AI13","v":0}]
[null,null,null,null,null,null,{"$f":"'F13'!A14","v":""},{"$f":"'F13'!B14","v":0},{"$f":"'F13'!C14","v":0},{"$f":"'F13'!D14","v":""},{"$f":"'F13'!E14","v":""},{"$f":"'F13'!F14","v":0},{"$f":"'F13'!G14","v":0},{"$f":"'F13'!H14","v":0},{"$f":"'F13'!I14","v":0},{"$f":"'F13'!J14","v":0},{"$f":"'F13'!K14","v":0},{"$f":"'F13'!L14","v":0},{"$f":"'F13'!M14","v":0},{"$f":"'F13'!N14","v":0},{"$f":"'F13'!O14","v":0},{"$f":"'F13'!P14","v":0},{"$f":"'F13'!Q14","v":0},{"$f":"'F13'!R14","v":0},{"$f":"'F13'!S14","v":0},{"$f":"'F13'!T14","v":0},{"$f":"'F13'!U14","v":0},{"$f":"'F13'!V14","v":0},{"$f":"'F13'!W14","v":0},{"$f":"'F13'!X14","v":0},{"$f":"'F13'!Y14","v":0},{"$f":"'F13'!Z14","v":0},{"$f":"'F13'!AA14","v":0},{"$f":"'F13'!AB14","v":0},{"$f":"'F13'!AC14","v":0},{"$f":"'F13'!AD14","v":0},{"$f":"'F13'!AE14","v":0},{"$f":"'F13'!AF14","v":0},{"$f":"'F13'!AG14","v":0},{"$f":"'F13'!AH14","v":0},{"$f":"'F13'!AI14","v":0}]
[null,null,null,null,null,null,{"$f":"'F13'!A15","v":""},{"$f":"'F13'!B15","v":0},{"$f":"'F13'!C15","v":0},{"$f":"'F13'!D15","v":""},{"$f":"'F13'!E15","v":""},{"$f":"'F13'!F15","v":0},{"$f":"'F13'!G15","v":0},{"$f":"'F13'!H15","v":0},{"$f":"'F13'!I15","v":0},{"$f":"'F13'!J15","v":0},{"$f":"'F13'!K15","v":0},{"$f":"'F13'!L15","v":0},{"$f":"'F13'!M15","v":0},{"$f":"'F13'!N15","v":0},{"$f":"'F13'!O15","v":0},{"$f":"'F13'!P15","v":0},{"$f":"'F13'!Q15","v":0},{"$f":"'F13'!R15","v":0},{"$f":"'F13'!S15","v":0},{"$f":"'F13'!T15","v":0},{"$f":"'F13'!U15","v":0},{"$f":"'F13'!V15","v":0},{"$f":"'F13'!W15","v":0},{"$f":"'F13'!X15","v":0},{"$f":"'F13'!Y15","v":0},{"$f":"'F13'!Z15","v":0},{"$f":"'F13'!AA15","v":0},{"$f":"'F13'!AB15","v":0},{"$f":"'F13'!AC15","v":0},{"$f":"'F13'!AD15","v":0},{"$f":"'F13'!AE15","v":0},{"$f":"'F13'!AF15","v":0},{"$f":"'F13'!AG15","v":0},{"$f":"'F13'!AH15","v":0},{"$f":"'F13'!AI15","v":0}]
[null,null,null,null,null,null,{"$f":"'F13'!A16","v":""},{"$f":"'F13'!B16","v":0},{"$f":"'F13'!C16","v":0},{"$f":"'F13'!D16","v":""},{"$f":"'F13'!E16","v":""},{"$f":"'F13'!F16","v":0},{"$f":"'F13'!G16","v":0},{"$f":"'F13'!H16","v":0},{"$f":"'F13'!I16","v":0},{"$f":"'F13'!J16","v":0},{"$f":"'F13'!K16","v":0},{"$f":"'F13'!L16","v":0},{"$f":"'F13'!M16","v":0},{"$f":"'F13'!N16","v":0},{"$f":"'F13'!O16","v":0},{"$f":"'F13'!P16","v":0},{"$f":"'F13'!Q16","v":0},{"$f":"'F13'!R16","v":0},{"$f":"'F13'!S16","v":0},{"$f":"'F13'!T16","v":0},{"$f":"'F13'!U16","v":0},{"$f":"'F13'!V16","v":0},{"$f":"'F13'!W16","v":0},{"$f":"'F13'!X16","v":0},{"$f":"'F13'!Y16","v":0},{"$f":"'F13'!Z16","v":0},{"$f":"'F13'!AA16","v":0},{"$f":"'F13'!AB16","v":0},{"$f":"'F13'!AC16","v":0},{"$f":"'F13'!AD16","v":0},{"$f":"'F13'!AE16","v":0},{"$f":"'F13'!AF16","v":0},{"$f":"'F13'!AG16","v":0},{"$f":"'F13'!AH16","v":0},{"$f":"'F13'!AI16","v":0}]
[null,null,null,null,null,null,{"$f":"'F13'!A17","v":""},{"$f":"'F13'!B17","v":0},{"$f":"'F13'!C17","v":0},{"$f":"'F13'!D17","v":""},{"$f":"'F13'!E17","v":""},{"$f":"'F13'!F17","v":0},{"$f":"'F13'!G17","v":0},{"$f":"'F13'!H17","v":0},{"$f":"'F13'!I17","v":0},{"$f":"'F13'!J17","v":0},{"$f":"'F13'!K17","v":0},{"$f":"'F13'!L17","v":0},{"$f":"'F13'!M17","v":0},{"$f":"'F13'!N17","v":0},{"$f":"'F13'!O17","v":0},{"$f":"'F13'!P17","v":0},{"$f":"'F13'!Q17","v":0},{"$f":"'F13'!R17","v":0},{"$f":"'F13'!S17","v":0},{"$f":"'F13'!T17","v":0},{"$f":"'F13'!U17","v":0},{"$f":"'F13'!V17","v":0},{"$f":"'F13'!W17","v":0},{"$f":"'F13'!X17","v":0},{"$f":"'F13'!Y17","v":0},{"$f":"'F13'!Z17","v":0},{"$f":"'F13'!AA17","v":0},{"$f":"'F13'!AB17","v":0},{"$f":"'F13'!AC17","v":0},{"$f":"'F13'!AD17","v":0},{"$f":"'F13'!AE17","v":0},{"$f":"'F13'!AF17","v":0},{"$f":"'F13'!AG17","v":0},{"$f":"'F13'!AH17","v":0},{"$f":"'F13'!AI17","v":0}]
[null,null,null,null,null,null,{"$f":"'F13'!A18","v":""},{"$f":"'F13'!B18","v":0},{"$f":"'F13'!C18","v":0},{"$f":"'F13'!D18","v":""},{"$f":"'F13'!E18","v":""},{"$f":"'F13'!F18","v":0},{"$f":"'F13'!G18","v":0},{"$f":"'F13'!H18","v":0},{"$f":"'F13'!I18","v":0},{"$f":"'F13'!J18","v":0},{"$f":"'F13'!K18","v":0},{"$f":"'F13'!L18","v":0},{"$f":"'F13'!M18","v":0},{"$f":"'F13'!N18","v":0},{"$f":"'F13'!O18","v":0},{"$f":"'F13'!P18","v":0},{"$f":"'F13'!Q18","v":0},{"$f":"'F13'!R18","v":0},{"$f":"'F13'!S18","v":0},{"$f":"'F13'!T18","v":0},{"$f":"'F13'!U18","v":0},{"$f":"'F13'!V18","v":0},{"$f":"'F13'!W18","v":0},{"$f":"'F13'!X18","v":0},{"$f":"'F13'!Y18","v":0},{"$f":"'F13'!Z18","v":0},{"$f":"'F13'!AA18","v":0},{"$f":"'F13'!AB18","v":0},{"$f":"'F13'!AC18","v":0},{"$f":"'F13'!AD18","v":0},{"$f":"'F13'!AE18","v":0},{"$f":"'F13'!AF18","v":0},{"$f":"'F13'!AG18","v":0},{"$f":"'F13'!AH18","v":0},{"$f":"'F13'!AI18","v":0}]
[null,null,null,null,null,null,{"$f":"'F13'!A19","v":""},{"$f":"'F13'!B19","v":0},{"$f":"'F13'!C19","v":0},{"$f":"'F13'!D19","v":""},{"$f":"'F13'!E19","v":""},{"$f":"'F13'!F19","v":0},{"$f":"'F13'!G19","v":0},{"$f":"'F13'!H19","v":0},{"$f":"'F13'!I19","v":0},{"$f":"'F13'!J19","v":0},{"$f":"'F13'!K19","v":0},{"$f":"'F13'!L19","v":0},{"$f":"'F13'!M19","v":0},{"$f":"'F13'!N19","v":0},{"$f":"'F13'!O19","v":0},{"$f":"'F13'!P19","v":0},{"$f":"'F13'!Q19","v":0},{"$f":"'F13'!R19","v":0},{"$f":"'F13'!S19","v":0},{"$f":"'F13'!T19","v":0},{"$f":"'F13'!U19","v":0},{"$f":"'F13'!V19","v":0},{"$f":"'F13'!W19","v":0},{"$f":"'F13'!X19","v":0},{"$f":"'F13'!Y19","v":0},{"$f":"'F13'!Z19","v":0},{"$f":"'F13'!AA19","v":0},{"$f":"'F13'!AB19","v":0},{"$f":"'F13'!AC19","v":0},{"$f":"'F13'!AD19","v":0},{"$f":"'F13'!AE19","v":0},{"$f":"'F13'!AF19","v":0},{"$f":"'F13'!AG19","v":0},{"$f":"'F13'!AH19","v":0},{"$f":"'F13'!AI19","v":0}]
[null,null,null,null,null,null,{"$f":"'F13'!A20","v":""},{"$f":"'F13'!B20","v":0},{"$f":"'F13'!C20","v":0},{"$f":"'F13'!D20","v":""},{"$f":"'F13'!E20","v":""},{"$f":"'F13'!F20","v":0},{"$f":"'F13'!G20","v":0},{"$f":"'F13'!H20","v":0},{"$f":"'F13'!I20","v":0},{"$f":"'F13'!J20","v":0},{"$f":"'F13'!K20","v":0},{"$f":"'F13'!L20","v":0},{"$f":"'F13'!M20","v":0},{"$f":"'F13'!N20","v":0},{"$f":"'F13'!O20","v":0},{"$f":"'F13'!P20","v":0},{"$f":"'F13'!Q20","v":0},{"$f":"'F13'!R20","v":0},{"$f":"'F13'!S20","v":0},{"$f":"'F13'!T20","v":0},{"$f":"'F13'!U20","v":0},{"$f":"'F13'!V20","v":0},{"$f":"'F13'!W20","v":0},{"$f":"'F13'!X20","v":0},{"$f":"'F13'!Y20","v":0},{"$f":"'F13'!Z20","v":0},{"$f":"'F13'!AA20","v":0},{"$f":"'F13'!AB20","v":0},{"$f":"'F13'!AC20","v":0},{"$f":"'F13'!AD20","v":0},{"$f":"'F13'!AE20","v":0},{"$f":"'F13'!AF20","v":0},{"$f":"'F13'!AG20","v":0},{"$f":"'F13'!AH20","v":0},{"$f":"'F13'!AI20","v":0}]
[null,null,null,null,null,null,{"$f":"'F13'!A21","v":""},{"$f":"'F13'!B21","v":0},{"$f":"'F13'!C21","v":0},{"$f":"'F13'!D21","v":""},{"$f":"'F13'!E21","v":""},{"$f":"'F13'!F21","v":0},{"$f":"'F13'!G21","v":0},{"$f":"'F13'!H21","v":0},{"$f":"'F13'!I21","v":0},{"$f":"'F13'!J21","v":0},{"$f":"'F13'!K21","v":0},{"$f":"'F13'!L21","v":0},{"$f":"'F13'!M21","v":0},{"$f":"'F13'!N21","v":0},{"$f":"'F13'!O21","v":0},{"$f":"'F13'!P21","v":0},{"$f":"'F13'!Q21","v":0},{"$f":"'F13'!R21","v":0},{"$f":"'F13'!S21","v":0},{"$f":"'F13'!T21","v":0},{"$f":"'F13'!U21","v":0},{"$f":"'F13'!V21","v":0},{"$f":"'F13'!W21","v":0},{"$f":"'F13'!X21","v":0},{"$f":"'F13'!Y21","v":0},{"$f":"'F13'!Z21","v":0},{"$f":"'F13'!AA21","v":0},{"$f":"'F13'!AB21","v":0},{"$f":"'F13'!AC21","v":0},{"$f":"'F13'!AD21","v":0},{"$f":"'F13'!AE21","v":0},{"$f":"'F13'!AF21","v":0},{"$f":"'F13'!AG21","v":0},{"$f":"'F13'!AH21","v":0},{"$f":"'F13'!AI21","v":0}]
[null,null,null,null,null,null,{"$f":"'F13'!A22","v":""},{"$f":"'F13'!B22","v":0},{"$f":"'F13'!C22","v":0},{"$f":"'F13'!D22","v":""},{"$f":"'F13'!E22","v":""},{"$f":"'F13'!F22","v":0},{"$f":"'F13'!G22","v":0},{"$f":"'F13'!H22","v":0},{"$f":"'F13'!I22","v":0},{"$f":"'F13'!J22","v":0},{"$f":"'F13'!K22","v":0},{"$f":"'F13'!L22","v":0},{"$f":"'F13'!M22","v":0},{"$f":"'F13'!N22","v":0},{"$f":"'F13'!O22","v":0},{"$f":"'F13'!P22","v":0},{"$f":"'F13'!Q22","v":0},{"$f":"'F13'!R22","v":0},{"$f":"'F13'!S22","v":0},{"$f":"'F13'!T22","v":0},{"$f":"'F13'!U22","v":0},{"$f":"'F13'!V22","v":0},{"$f":"'F13'!W22","v":0},{"$f":"'F13'!X22","v":0},{"$f":"'F13'!Y22","v":0},{"$f":"'F13'!Z22","v":0},{"$f":"'F13'!AA22","v":0},{"$f":"'F13'!AB22","v":0},{"$f":"'F13'!AC22","v":0},{"$f":"'F13'!AD22","v":0},{"$f":"'F13'!AE22","v":0},{"$f":"'F13'!AF22","v":0},{"$f":"'F13'!AG22","v":0},{"$f":"'F13'!AH22","v":0},{"$f":"'F13'!AI22","v":0}]
[null,null,null,null,null,null,{"$f":"'F13'!A23","v":""},{"$f":"'F13'!B23","v":0},{"$f":"'F13'!C23","v":0},{"$f":"'F13'!D23","v":""},{"$f":"'F13'!E23","v":""},{"$f":"'F13'!F23","v":0},{"$f":"'F13'!G23","v":0},{"$f":"'F13'!H23","v":0},{"$f":"'F13'!I23","v":0},{"$f":"'F13'!J23","v":0},{"$f":"'F13'!K23","v":0},{"$f":"'F13'!L23","v":0},{"$f":"'F13'!M23","v":0},{"$f":"'F13'!N23","v":0},{"$f":"'F13'!O23","v":0},{"$f":"'F13'!P23","v":0},{"$f":"'F13'!Q23","v":0},{"$f":"'F13'!R23","v":0},{"$f":"'F13'!S23","v":0},{"$f":"'F13'!T23","v":0},{"$f":"'F13'!U23","v":0},{"$f":"'F13'!V23","v":0},{"$f":"'F13'!W23","v":0},{"$f":"'F13'!X23","v":0},{"$f":"'F13'!Y23","v":0},{"$f":"'F13'!Z23","v":0},{"$f":"'F13'!AA23","v":0},{"$f":"'F13'!AB23","v":0},{"$f":"'F13'!AC23","v":0},{"$f":"'F13'!AD23","v":0},{"$f":"'F13'!AE23","v":0},{"$f":"'F13'!AF23","v":0},{"$f":"'F13'!AG23","v":0},{"$f":"'F13'!AH23","v":0},{"$f":"'F13'!AI23","v":0}]
[null,null,null,null,null,null,{"$f":"'F13'!A24","v":""},{"$f":"'F13'!B24","v":0},{"$f":"'F13'!C24","v":0},{"$f":"'F13'!D24","v":""},{"$f":"'F13'!E24","v":""},{"$f":"'F13'!F24","v":0},{"$f":"'F13'!G24","v":0},{"$f":"'F13'!H24","v":0},{"$f":"'F13'!I24","v":0},{"$f":"'F13'!J24","v":0},{"$f":"'F13'!K24","v":0},{"$f":"'F13'!L24","v":0},{"$f":"'F13'!M24","v":0},{"$f":"'F13'!N24","v":0},{"$f":"'F13'!O24","v":0},{"$f":"'F13'!P24","v":0},{"$f":"'F13'!Q24","v":0},{"$f":"'F13'!R24","v":0},{"$f":"'F13'!S24","v":0},{"$f":"'F13'!T24","v":0},{"$f":"'F13'!U24","v":0},{"$f":"'F13'!V24","v":0},{"$f":"'F13'!W24","v":0},{"$f":"'F13'!X24","v":0},{"$f":"'F13'!Y24","v":0},{"$f":"'F13'!Z24","v":0},{"$f":"'F13'!AA24","v":0},{"$f":"'F13'!AB24","v":0},{"$f":"'F13'!AC24","v":0},{"$f":"'F13'!AD24","v":0},{"$f":"'F13'!AE24","v":0},{"$f":"'F13'!AF24","v":0},{"$f":"'F13'!AG24","v":0},{"$f":"'F13'!AH24","v":0},{"$f":"'F13'!AI24","v":0}]
[null,null,null,null,null,null,{"$f":"'F13'!A25","v":""},{"$f":"'F13'!B25","v":0},{"$f":"'F13'!C25","v":0},{"$f":"'F13'!D25","v":""},{"$f":"'F13'!E25","v":""},{"$f":"'F13'!F25","v":0},{"$f":"'F13'!G25","v":0},{"$f":"'F13'!H25","v":0},{"$f":"'F13'!I25","v":0},{"$f":"'F13'!J25","v":0},{"$f":"'F13'!K25","v":0},{"$f":"'F13'!L25","v":0},{"$f":"'F13'!M25","v":0},{"$f":"'F13'!N25","v":0},{"$f":"'F13'!O25","v":0},{"$f":"'F13'!P25","v":0},{"$f":"'F13'!Q25","v":0},{"$f":"'F13'!R25","v":0},{"$f":"'F13'!S25","v":0},{"$f":"'F13'!T25","v":0},{"$f":"'F13'!U25","v":0},{"$f":"'F13'!V25","v":0},{"$f":"'F13'!W25","v":0},{"$f":"'F13'!X25","v":0},{"$f":"'F13'!Y25","v":0},{"$f":"'F13'!Z25","v":0},{"$f":"'F13'!AA25","v":0},{"$f":"'F13'!AB25","v":0},{"$f":"'F13'!AC25","v":0},{"$f":"'F13'!AD25","v":0},{"$f":"'F13'!AE25","v":0},{"$f":"'F13'!AF25","v":0},{"$f":"'F13'!AG25","v":0},{"$f":"'F13'!AH25","v":0},{"$f":"'F13'!AI25","v":0}]
[null,null,null,null,null,null,{"$f":"'F13'!A26","v":""},{"$f":"'F13'!B26","v":0},{"$f":"'F13'!C26","v":0},{"$f":"'F13'!D26","v":""},{"$f":"'F13'!E26","v":""},{"$f":"'F13'!F26","v":0},{"$f":"'F13'!G26","v":0},{"$f":"'F13'!H26","v":0},{"$f":"'F13'!I26","v":0},{"$f":"'F13'!J26","v":0},{"$f":"'F13'!K26","v":0},{"$f":"'F13'!L26","v":0},{"$f":"'F13'!M26","v":0},{"$f":"'F13'!N26","v":0},{"$f":"'F13'!O26","v":0},{"$f":"'F13'!P26","v":0},{"$f":"'F13'!Q26","v":0},{"$f":"'F13'!R26","v":0},{"$f":"'F13'!S26","v":0},{"$f":"'F13'!T26","v":0},{"$f":"'F13'!U26","v":0},{"$f":"'F13'!V26","v":0},{"$f":"'F13'!W26","v":0},{"$f":"'F13'!X26","v":0},{"$f":"'F13'!Y26","v":0},{"$f":"'F13'!Z26","v":0},{"$f":"'F13'!AA26","v":0},{"$f":"'F13'!AB26","v":0},{"$f":"'F13'!AC26","v":0},{"$f":"'F13'!AD26","v":0},{"$f":"'F13'!AE26","v":0},{"$f":"'F13'!AF26","v":0},{"$f":"'F13'!AG26","v":0},{"$f":"'F13'!AH26","v":0},{"$f":"'F13'!AI26","v":0}]
[null,null,null,null,null,null,{"$f":"'F13'!A27","v":""},{"$f":"'F13'!B27","v":0},{"$f":"'F13'!C27","v":0},{"$f":"'F13'!D27","v":""},{"$f":"'F13'!E27","v":""},{"$f":"'F13'!F27","v":0},{"$f":"'F13'!G27","v":0},{"$f":"'F13'!H27","v":0},{"$f":"'F13'!I27","v":0},{"$f":"'F13'!J27","v":0},{"$f":"'F13'!K27","v":0},{"$f":"'F13'!L27","v":0},{"$f":"'F13'!M27","v":0},{"$f":"'F13'!N27","v":0},{"$f":"'F13'!O27","v":0},{"$f":"'F13'!P27","v":0},{"$f":"'F13'!Q27","v":0},{"$f":"'F13'!R27","v":0},{"$f":"'F13'!S27","v":0},{"$f":"'F13'!T27","v":0},{"$f":"'F13'!U27","v":0},{"$f":"'F13'!V27","v":0},{"$f":"'F13'!W27","v":0},{"$f":"'F13'!X27","v":0},{"$f":"'F13'!Y27","v":0},{"$f":"'F13'!Z27","v":0},{"$f":"'F13'!AA27","v":0},{"$f":"'F13'!AB27","v":0},{"$f":"'F13'!AC27","v":0},{"$f":"'F13'!AD27","v":0},{"$f":"'F13'!AE27","v":0},{"$f":"'F13'!AF27","v":0},{"$f":"'F13'!AG27","v":0},{"$f":"'F13'!AH27","v":0},{"$f":"'F13'!AI27","v":0}]
[null,null,null,null,null,null,{"$f":"'F13'!A28","v":""},{"$f":"'F13'!B28","v":0},{"$f":"'F13'!C28","v":0},{"$f":"'F13'!D28","v":""},{"$f":"'F13'!E28","v":""},{"$f":"'F13'!F28","v":0},{"$f":"'F13'!G28","v":0},{"$f":"'F13'!H28","v":0},{"$f":"'F13'!I28","v":0},{"$f":"'F13'!J28","v":0},{"$f":"'F13'!K28","v":0},{"$f":"'F13'!L28","v":0},{"$f":"'F13'!M28","v":0},{"$f":"'F13'!N28","v":0},{"$f":"'F13'!O28","v":0},{"$f":"'F13'!P28","v":0},{"$f":"'F13'!Q28","v":0},{"$f":"'F13'!R28","v":0},{"$f":"'F13'!S28","v":0},{"$f":"'F13'!T28","v":0},{"$f":"'F13'!U28","v":0},{"$f":"'F13'!V28","v":0},{"$f":"'F13'!W28","v":0},{"$f":"'F13'!X28","v":0},{"$f":"'F13'!Y28","v":0},{"$f":"'F13'!Z28","v":0},{"$f":"'F13'!AA28","v":0},{"$f":"'F13'!AB28","v":0},{"$f":"'F13'!AC28","v":0},{"$f":"'F13'!AD28","v":0},{"$f":"'F13'!AE28","v":0},{"$f":"'F13'!AF28","v":0},{"$f":"'F13'!AG28","v":0},{"$f":"'F13'!AH28","v":0},{"$f":"'F13'!AI28","v":0}]
[null,null,null,null,null,null,{"$f":"'F13'!A29","v":""},{"$f":"'F13'!B29","v":0},{"$f":"'F13'!C29","v":0},{"$f":"'F13'!D29","v":""},{"$f":"'F13'!E29","v":""},{"$f":"'F13'!F29","v":0},{"$f":"'F13'!G29","v":0},{"$f":"'F13'!H29","v":0},{"$f":"'F13'!I29","v":0},{"$f":"'F13'!J29","v":0},{"$f":"'F13'!K29","v":0},{"$f":"'F13'!L29","v":0},{"$f":"'F13'!M29","v":0},{"$f":"'F13'!N29","v":0},{"$f":"'F13'!O29","v":0},{"$f":"'F13'!P29","v":0},{"$f":"'F13'!Q29","v":0},{"$f":"'F13'!R29","v":0},{"$f":"'F13'!S29","v":0},{"$f":"'F13'!T29","v":0},{"$f":"'F13'!U29","v":0},{"$f":"'F13'!V29","v":0},{"$f":"'F13'!W29","v":0},{"$f":"'F13'!X29","v":0},{"$f":"'F13'!Y29","v":0},{"$f":"'F13'!Z29","v":0},{"$f":"'F13'!AA29","v":0},{"$f":"'F13'!AB29","v":0},{"$f":"'F13'!AC29","v":0},{"$f":"'F13'!AD29","v":0},{"$f":"'F13'!AE29","v":0},{"$f":"'F13'!AF29","v":0},{"$f":"'F13'!AG29","v":0},{"$f":"'F13'!AH29","v":0},{"$f":"'F13'!AI29","v":0}]
[null,null,null,null,null,null,{"$f":"'F13'!A30","v":""},{"$f":"'F13'!B30","v":0},{"$f":"'F13'!C30","v":0},{"$f":"'F13'!D30","v":""},{"$f":"'F13'!E30","v":""},{"$f":"'F13'!F30","v":0},{"$f":"'F13'!G30","v":0},{"$f":"'F13'!H30","v":0},{"$f":"'F13'!I30","v":0},{"$f":"'F13'!J30","v":0},{"$f":"'F13'!K30","v":0},{"$f":"'F13'!L30","v":0},{"$f":"'F13'!M30","v":0},{"$f":"'F13'!N30","v":0},{"$f":"'F13'!O30","v":0},{"$f":"'F13'!P30","v":0},{"$f":"'F13'!Q30","v":0},{"$f":"'F13'!R30","v":0},{"$f":"'F13'!S30","v":0},{"$f":"'F13'!T30","v":0},{"$f":"'F13'!U30","v":0},{"$f":"'F13'!V30","v":0},{"$f":"'F13'!W30","v":0},{"$f":"'F13'!X30","v":0},{"$f":"'F13'!Y30","v":0},{"$f":"'F13'!Z30","v":0},{"$f":"'F13'!AA30","v":0},{"$f":"'F13'!AB30","v":0},{"$f":"'F13'!AC30","v":0},{"$f":"'F13'!AD30","v":0},{"$f":"'F13'!AE30","v":0},{"$f":"'F13'!AF30","v":0},{"$f":"'F13'!AG30","v":0},{"$f":"'F13'!AH30","v":0},{"$f":"'F13'!AI30","v":0}]
[null,null,null,null,null,null,{"$f":"'F13'!A31","v":""},{"$f":"'F13'!B31","v":0},{"$f":"'F13'!C31","v":0},{"$f":"'F13'!D31","v":""},{"$f":"'F13'!E31","v":""},{"$f":"'F13'!F31","v":0},{"$f":"'F13'!G31","v":0},{"$f":"'F13'!H31","v":0},{"$f":"'F13'!I31","v":0},{"$f":"'F13'!J31","v":0},{"$f":"'F13'!K31","v":0},{"$f":"'F13'!L31","v":0},{"$f":"'F13'!M31","v":0},{"$f":"'F13'!N31","v":0},{"$f":"'F13'!O31","v":0},{"$f":"'F13'!P31","v":0},{"$f":"'F13'!Q31","v":0},{"$f":"'F13'!R31","v":0},{"$f":"'F13'!S31","v":0},{"$f":"'F13'!T31","v":0},{"$f":"'F13'!U31","v":0},{"$f":"'F13'!V31","v":0},{"$f":"'F13'!W31","v":0},{"$f":"'F13'!X31","v":0},{"$f":"'F13'!Y31","v":0},{"$f":"'F13'!Z31","v":0},{"$f":"'F13'!AA31","v":0},{"$f":"'F13'!AB31","v":0},{"$f":"'F13'!AC31","v":0},{"$f":"'F13'!AD31","v":0},{"$f":"'F13'!AE31","v":0},{"$f":"'F13'!AF31","v":0},{"$f":"'F13'!AG31","v":0},{"$f":"'F13'!AH31","v":0},{"$f":"'F13'!AI31","v":0}]
[null,null,null,null,null,null,{"$f":"'F13'!A32","v":""},{"$f":"'F13'!B32","v":0},{"$f":"'F13'!C32","v":0},{"$f":"'F13'!D32","v":""},{"$f":"'F13'!E32","v":""},{"$f":"'F13'!F32","v":0},{"$f":"'F13'!G32","v":0},{"$f":"'F13'!H32","v":0},{"$f":"'F13'!I32","v":0},{"$f":"'F13'!J32","v":0},{"$f":"'F13'!K32","v":0},{"$f":"'F13'!L32","v":0},{"$f":"'F13'!M32","v":0},{"$f":"'F13'!N32","v":0},{"$f":"'F13'!O32","v":0},{"$f":"'F13'!P32","v":0},{"$f":"'F13'!Q32","v":0},{"$f":"'F13'!R32","v":0},{"$f":"'F13'!S32","v":0},{"$f":"'F13'!T32","v":0},{"$f":"'F13'!U32","v":0},{"$f":"'F13'!V32","v":0},{"$f":"'F13'!W32","v":0},{"$f":"'F13'!X32","v":0},{"$f":"'F13'!Y32","v":0},{"$f":"'F13'!Z32","v":0},{"$f":"'F13'!AA32","v":0},{"$f":"'F13'!AB32","v":0},{"$f":"'F13'!AC32","v":0},{"$f":"'F13'!AD32","v":0},{"$f":"'F13'!AE32","v":0},{"$f":"'F13'!AF32","v":0},{"$f":"'F13'!AG32","v":0},{"$f":"'F13'!AH32","v":0},{"$f":"'F13'!AI32","v":0}]
[null,null,null,null,null,null,{"$f":"'F13'!A33","v":""},{"$f":"'F13'!B33","v":0},{"$f":"'F13'!C33","v":0},{"$f":"'F13'!D33","v":""},{"$f":"'F13'!E33","v":""},{"$f":"'F13'!F33","v":0},{"$f":"'F13'!G33","v":0},{"$f":"'F13'!H33","v":0},{"$f":"'F13'!I33","v":0},{"$f":"'F13'!J33","v":0},{"$f":"'F13'!K33","v":0},{"$f":"'F13'!L33","v":0},{"$f":"'F13'!M33","v":0},{"$f":"'F13'!N33","v":0},{"$f":"'F13'!O33","v":0},{"$f":"'F13'!P33","v":0},{"$f":"'F13'!Q33","v":0},{"$f":"'F13'!R33","v":0},{"$f":"'F13'!S33","v":0},{"$f":"'F13'!T33","v":0},{"$f":"'F13'!U33","v":0},{"$f":"'F13'!V33","v":0},{"$f":"'F13'!W33","v":0},{"$f":"'F13'!X33","v":0},{"$f":"'F13'!Y33","v":0},{"$f":"'F13'!Z33","v":0},{"$f":"'F13'!AA33","v":0},{"$f":"'F13'!AB33","v":0},{"$f":"'F13'!AC33","v":0},{"$f":"'F13'!AD33","v":0},{"$f":"'F13'!AE33","v":0},{"$f":"'F13'!AF33","v":0},{"$f":"'F13'!AG33","v":0},{"$f":"'F13'!AH33","v":0},{"$f":"'F13'!AI33","v":0}]
[null,null,null,null,null,null,{"$f":"'F13'!A34","v":""},{"$f":"'F13'!B34","v":0},{"$f":"'F13'!C34","v":0},{"$f":"'F13'!D34","v":""},{"$f":"'F13'!E34","v":""},{"$f":"'F13'!F34","v":0},{"$f":"'F13'!G34","v":0},{"$f":"'F13'!H34","v":0},{"$f":"'F13'!I34","v":0},{"$f":"'F13'!J34","v":0},{"$f":"'F13'!K34","v":0},{"$f":"'F13'!L34","v":0},{"$f":"'F13'!M34","v":0},{"$f":"'F13'!N34","v":0},{"$f":"'F13'!O34","v":0},{"$f":"'F13'!P34","v":0},{"$f":"'F13'!Q34","v":0},{"$f":"'F13'!R34","v":0},{"$f":"'F13'!S34","v":0},{"$f":"'F13'!T34","v":0},{"$f":"'F13'!U34","v":0},{"$f":"'F13'!V34","v":0},{"$f":"'F13'!W34","v":0},{"$f":"'F13'!X34","v":0},{"$f":"'F13'!Y34","v":0},{"$f":"'F13'!Z34","v":0},{"$f":"'F13'!AA34","v":0},{"$f":"'F13'!AB34","v":0},{"$f":"'F13'!AC34","v":0},{"$f":"'F13'!AD34","v":0},{"$f":"'F13'!AE34","v":0},{"$f":"'F13'!AF34","v":0},{"$f":"'F13'!AG34","v":0},{"$f":"'F13'!AH34","v":0},{"$f":"'F13'!AI34","v":0}]
[null,null,null,null,null,null,{"$f":"'F13'!A35","v":""},{"$f":"'F13'!B35","v":0},{"$f":"'F13'!C35","v":0},{"$f":"'F13'!D35","v":""},{"$f":"'F13'!E35","v":""},{"$f":"'F13'!F35","v":0},{"$f":"'F13'!G35","v":0},{"$f":"'F13'!H35","v":0},{"$f":"'F13'!I35","v":0},{"$f":"'F13'!J35","v":0},{"$f":"'F13'!K35","v":0},{"$f":"'F13'!L35","v":0},{"$f":"'F13'!M35","v":0},{"$f":"'F13'!N35","v":0},{"$f":"'F13'!O35","v":0},{"$f":"'F13'!P35","v":0},{"$f":"'F13'!Q35","v":0},{"$f":"'F13'!R35","v":0},{"$f":"'F13'!S35","v":0},{"$f":"'F13'!T35","v":0},{"$f":"'F13'!U35","v":0},{"$f":"'F13'!V35","v":0},{"$f":"'F13'!W35","v":0},{"$f":"'F13'!X35","v":0},{"$f":"'F13'!Y35","v":0},{"$f":"'F13'!Z35","v":0},{"$f":"'F13'!AA35","v":0},{"$f":"'F13'!AB35","v":0},{"$f":"'F13'!AC35","v":0},{"$f":"'F13'!AD35","v":0},{"$f":"'F13'!AE35","v":0},{"$f":"'F13'!AF35","v":0},{"$f":"'F13'!AG35","v":0},{"$f":"'F13'!AH35","v":0},{"$f":"'F13'!AI35","v":0}]
[null,null,null,null,null,null,{"$f":"'F13'!A36","v":""},{"$f":"'F13'!B36","v":0},{"$f":"'F13'!C36","v":0},{"$f":"'F13'!D36","v":""},{"$f":"'F13'!E36","v":""},{"$f":"'F13'!F36","v":0},{"$f":"'F13'!G36","v":0},{"$f":"'F13'!H36","v":0},{"$f":"'F13'!I36","v":0},{"$f":"'F13'!J36","v":0},{"$f":"'F13'!K36","v":0},{"$f":"'F13'!L36","v":0},{"$f":"'F13'!M36","v":0},{"$f":"'F13'!N36","v":0},{"$f":"'F13'!O36","v":0},{"$f":"'F13'!P36","v":0},{"$f":"'F13'!Q36","v":0},{"$f":"'F13'!R36","v":0},{"$f":"'F13'!S36","v":0},{"$f":"'F13'!T36","v":0},{"$f":"'F13'!U36","v":0},{"$f":"'F13'!V36","v":0},{"$f":"'F13'!W36","v":0},{"$f":"'F13'!X36","v":0},{"$f":"'F13'!Y36","v":0},{"$f":"'F13'!Z36","v":0},{"$f":"'F13'!AA36","v":0},{"$f":"'F13'!AB36","v":0},{"$f":"'F13'!AC36","v":0},{"$f":"'F13'!AD36","v":0},{"$f":"'F13'!AE36","v":0},{"$f":"'F13'!AF36","v":0},{"$f":"'F13'!AG36","v":0},{"$f":"'F13'!AH36","v":0},{"$f":"'F13'!AI36","v":0}]
[null,null,null,null,null,null,{"$f":"'F13'!A37","v":""},{"$f":"'F13'!B37","v":0},{"$f":"'F13'!C37","v":0},{"$f":"'F13'!D37","v":""},{"$f":"'F13'!E37","v":""},{"$f":"'F13'!F37","v":0},{"$f":"'F13'!G37","v":0},{"$f":"'F13'!H37","v":0},{"$f":"'F13'!I37","v":0},{"$f":"'F13'!J37","v":0},{"$f":"'F13'!K37","v":0},{"$f":"'F13'!L37","v":0},{"$f":"'F13'!M37","v":0},{"$f":"'F13'!N37","v":0},{"$f":"'F13'!O37","v":0},{"$f":"'F13'!P37","v":0},{"$f":"'F13'!Q37","v":0},{"$f":"'F13'!R37","v":0},{"$f":"'F13'!S37","v":0},{"$f":"'F13'!T37","v":0},{"$f":"'F13'!U37","v":0},{"$f":"'F13'!V37","v":0},{"$f":"'F13'!W37","v":0},{"$f":"'F13'!X37","v":0},{"$f":"'F13'!Y37","v":0},{"$f":"'F13'!Z37","v":0},{"$f":"'F13'!AA37","v":0},{"$f":"'F13'!AB37","v":0},{"$f":"'F13'!AC37","v":0},{"$f":"'F13'!AD37","v":0},{"$f":"'F13'!AE37","v":0},{"$f":"'F13'!AF37","v":0},{"$f":"'F13'!AG37","v":0},{"$f":"'F13'!AH37","v":0},{"$f":"'F13'!AI37","v":0}]
[null,null,null,null,null,null,{"$f":"'F13'!A38","v":""},{"$f":"'F13'!B38","v":0},{"$f":"'F13'!C38","v":0},{"$f":"'F13'!D38","v":""},{"$f":"'F13'!E38","v":""},{"$f":"'F13'!F38","v":0},{"$f":"'F13'!G38","v":0},{"$f":"'F13'!H38","v":0},{"$f":"'F13'!I38","v":0},{"$f":"'F13'!J38","v":0},{"$f":"'F13'!K38","v":0},{"$f":"'F13'!L38","v":0},{"$f":"'F13'!M38","v":0},{"$f":"'F13'!N38","v":0},{"$f":"'F13'!O38","v":0},{"$f":"'F13'!P38","v":0},{"$f":"'F13'!Q38","v":0},{"$f":"'F13'!R38","v":0},{"$f":"'F13'!S38","v":0},{"$f":"'F13'!T38","v":0},{"$f":"'F13'!U38","v":0},{"$f":"'F13'!V38","v":0},{"$f":"'F13'!W38","v":0},{"$f":"'F13'!X38","v":0},{"$f":"'F13'!Y38","v":0},{"$f":"'F13'!Z38","v":0},{"$f":"'F13'!AA38","v":0},{"$f":"'F13'!AB38","v":0},{"$f":"'F13'!AC38","v":0},{"$f":"'F13'!AD38","v":0},{"$f":"'F13'!AE38","v":0},{"$f":"'F13'!AF38","v":0},{"$f":"'F13'!AG38","v":0},{"$f":"'F13'!AH38","v":0},{"$f":"'F13'!AI38","v":0}]
[null,null,null,null,null,null,{"$f":"'F13'!A39","v":""},{"$f":"'F13'!B39","v":0},{"$f":"'F13'!C39","v":0},{"$f":"'F13'!D39","v":""},{"$f":"'F13'!E39","v":""},{"$f":"'F13'!F39","v":0},{"$f":"'F13'!G39","v":0},{"$f":"'F13'!H39","v":0},{"$f":"'F13'!I39","v":0},{"$f":"'F13'!J39","v":0},{"$f":"'F13'!K39","v":0},{"$f":"'F13'!L39","v":0},{"$f":"'F13'!M39","v":0},{"$f":"'F13'!N39","v":0},{"$f":"'F13'!O39","v":0},{"$f":"'F13'!P39","v":0},{"$f":"'F13'!Q39","v":0},{"$f":"'F13'!R39","v":0},{"$f":"'F13'!S39","v":0},{"$f":"'F13'!T39","v":0},{"$f":"'F13'!U39","v":0},{"$f":"'F13'!V39","v":0},{"$f":"'F13'!W39","v":0},{"$f":"'F13'!X39","v":0},{"$f":"'F13'!Y39","v":0},{"$f":"'F13'!Z39","v":0},{"$f":"'F13'!AA39","v":0},{"$f":"'F13'!AB39","v":0},{"$f":"'F13'!AC39","v":0},{"$f":"'F13'!AD39","v":0},{"$f":"'F13'!AE39","v":0},{"$f":"'F13'!AF39","v":0},{"$f":"'F13'!AG39","v":0},{"$f":"'F13'!AH39","v":0},{"$f":"'F13'!AI39","v":0}]
[null,null,null,null,null,null,{"$f":"'F13'!A40","v":""},{"$f":"'F13'!B40","v":0},{"$f":"'F13'!C40","v":0},{"$f":"'F13'!D40","v":""},{"$f":"'F13'!E40","v":""},{"$f":"'F13'!F40","v":0},{"$f":"'F13'!G40","v":0},{"$f":"'F13'!H40","v":0},{"$f":"'F13'!I40","v":0},{"$f":"'F13'!J40","v":0},{"$f":"'F13'!K40","v":0},{"$f":"'F13'!L40","v":0},{"$f":"'F13'!M40","v":0},{"$f":"'F13'!N40","v":0},{"$f":"'F13'!O40","v":0},{"$f":"'F13'!P40","v":0},{"$f":"'F13'!Q40","v":0},{"$f":"'F13'!R40","v":0},{"$f":"'F13'!S40","v":0},{"$f":"'F13'!T40","v":0},{"$f":"'F13'!U40","v":0},{"$f":"'F13'!V40","v":0},{"$f":"'F13'!W40","v":0},{"$f":"'F13'!X40","v":0},{"$f":"'F13'!Y40","v":0},{"$f":"'F13'!Z40","v":0},{"$f":"'F13'!AA40","v":0},{"$f":"'F13'!AB40","v":0},{"$f":"'F13'!AC40","v":0},{"$f":"'F13'!AD40","v":0},{"$f":"'F13'!AE40","v":0},{"$f":"'F13'!AF40","v":0},{"$f":"'F13'!AG40","v":0},{"$f":"'F13'!AH40","v":0},{"$f":"'F13'!AI40","v":0}]
[null,null,null,null,null,null,{"$f":"'F13'!A41","v":""},{"$f":"'F13'!B41","v":0},{"$f":"'F13'!C41","v":0},{"$f":"'F13'!D41","v":""},{"$f":"'F13'!E41","v":""},{"$f":"'F13'!F41","v":0},{"$f":"'F13'!G41","v":0},{"$f":"'F13'!H41","v":0},{"$f":"'F13'!I41","v":0},{"$f":"'F13'!J41","v":0},{"$f":"'F13'!K41","v":0},{"$f":"'F13'!L41","v":0},{"$f":"'F13'!M41","v":0},{"$f":"'F13'!N41","v":0},{"$f":"'F13'!O41","v":0},{"$f":"'F13'!P41","v":0},{"$f":"'F13'!Q41","v":0},{"$f":"'F13'!R41","v":0},{"$f":"'F13'!S41","v":0},{"$f":"'F13'!T41","v":0},{"$f":"'F13'!U41","v":0},{"$f":"'F13'!V41","v":0},{"$f":"'F13'!W41","v":0},{"$f":"'F13'!X41","v":0},{"$f":"'F13'!Y41","v":0},{"$f":"'F13'!Z41","v":0},{"$f":"'F13'!AA41","v":0},{"$f":"'F13'!AB41","v":0},{"$f":"'F13'!AC41","v":0},{"$f":"'F13'!AD41","v":0},{"$f":"'F13'!AE41","v":0},{"$f":"'F13'!AF41","v":0},{"$f":"'F13'!AG41","v":0},{"$f":"'F13'!AH41","v":0},{"$f":"'F13'!AI41","v":0}]
[null,null,null,null,null,null,{"$f":"'F13'!A42","v":""},{"$f":"'F13'!B42","v":0},{"$f":"'F13'!C42","v":0},{"$f":"'F13'!D42","v":""},{"$f":"'F13'!E42","v":""},{"$f":"'F13'!F42","v":0},{"$f":"'F13'!G42","v":0},{"$f":"'F13'!H42","v":0},{"$f":"'F13'!I42","v":0},{"$f":"'F13'!J42","v":0},{"$f":"'F13'!K42","v":0},{"$f":"'F13'!L42","v":0},{"$f":"'F13'!M42","v":0},{"$f":"'F13'!N42","v":0},{"$f":"'F13'!O42","v":0},{"$f":"'F13'!P42","v":0},{"$f":"'F13'!Q42","v":0},{"$f":"'F13'!R42","v":0},{"$f":"'F13'!S42","v":0},{"$f":"'F13'!T42","v":0},{"$f":"'F13'!U42","v":0},{"$f":"'F13'!V42","v":0},{"$f":"'F13'!W42","v":0},{"$f":"'F13'!X42","v":0},{"$f":"'F13'!Y42","v":0},{"$f":"'F13'!Z42","v":0},{"$f":"'F13'!AA42","v":0},{"$f":"'F13'!AB42","v":0},{"$f":"'F13'!AC42","v":0},{"$f":"'F13'!AD42","v":0},{"$f":"'F13'!AE42","v":0},{"$f":"'F13'!AF42","v":0},{"$f":"'F13'!AG42","v":0},{"$f":"'F13'!AH42","v":0},{"$f":"'F13'!AI42","v":0}]
[null,null,null,null,null,null,{"$f":"'F13'!A43","v":""},{"$f":"'F13'!B43","v":0},{"$f":"'F13'!C43","v":0},{"$f":"'F13'!D43","v":""},{"$f":"'F13'!E43","v":""},{"$f":"'F13'!F43","v":0},{"$f":"'F13'!G43","v":0},{"$f":"'F13'!H43","v":0},{"$f":"'F13'!I43","v":0},{"$f":"'F13'!J43","v":0},{"$f":"'F13'!K43","v":0},{"$f":"'F13'!L43","v":0},{"$f":"'F13'!M43","v":0},{"$f":"'F13'!N43","v":0},{"$f":"'F13'!O43","v":0},{"$f":"'F13'!P43","v":0},{"$f":"'F13'!Q43","v":0},{"$f":"'F13'!R43","v":0},{"$f":"'F13'!S43","v":0},{"$f":"'F13'!T43","v":0},{"$f":"'F13'!U43","v":0},{"$f":"'F13'!V43","v":0},{"$f":"'F13'!W43","v":0},{"$f":"'F13'!X43","v":0},{"$f":"'F13'!Y43","v":0},{"$f":"'F13'!Z43","v":0},{"$f":"'F13'!AA43","v":0},{"$f":"'F13'!AB43","v":0},{"$f":"'F13'!AC43","v":0},{"$f":"'F13'!AD43","v":0},{"$f":"'F13'!AE43","v":0},{"$f":"'F13'!AF43","v":0},{"$f":"'F13'!AG43","v":0},{"$f":"'F13'!AH43","v":0},{"$f":"'F13'!AI43","v":0}]
[null,null,null,null,null,null,{"$f":"'F13'!A44","v":""},{"$f":"'F13'!B44","v":0},{"$f":"'F13'!C44","v":0},{"$f":"'F13'!D44","v":""},{"$f":"'F13'!E44","v":""},{"$f":"'F13'!F44","v":0},{"$f":"'F13'!G44","v":0},{"$f":"'F13'!H44","v":0},{"$f":"'F13'!I44","v":0},{"$f":"'F13'!J44","v":0},{"$f":"'F13'!K44","v":0},{"$f":"'F13'!L44","v":0},{"$f":"'F13'!M44","v":0},{"$f":"'F13'!N44","v":0},{"$f":"'F13'!O44","v":0},{"$f":"'F13'!P44","v":0},{"$f":"'F13'!Q44","v":0},{"$f":"'F13'!R44","v":0},{"$f":"'F13'!S44","v":0},{"$f":"'F13'!T44","v":0},{"$f":"'F13'!U44","v":0},{"$f":"'F13'!V44","v":0},{"$f":"'F13'!W44","v":0},{"$f":"'F13'!X44","v":0},{"$f":"'F13'!Y44","v":0},{"$f":"'F13'!Z44","v":0},{"$f":"'F13'!AA44","v":0},{"$f":"'F13'!AB44","v":0},{"$f":"'F13'!AC44","v":0},{"$f":"'F13'!AD44","v":0},{"$f":"'F13'!AE44","v":0},{"$f":"'F13'!AF44","v":0},{"$f":"'F13'!AG44","v":0},{"$f":"'F13'!AH44","v":0},{"$f":"'F13'!AI44","v":0}]
[null,null,null,null,null,null,{"$f":"'F13'!A45","v":""},{"$f":"'F13'!B45","v":0},{"$f":"'F13'!C45","v":0},{"$f":"'F13'!D45","v":""},{"$f":"'F13'!E45","v":""},{"$f":"'F13'!F45","v":0},{"$f":"'F13'!G45","v":0},{"$f":"'F13'!H45","v":0},{"$f":"'F13'!I45","v":0},{"$f":"'F13'!J45","v":0},{"$f":"'F13'!K45","v":0},{"$f":"'F13'!L45","v":0},{"$f":"'F13'!M45","v":0},{"$f":"'F13'!N45","v":0},{"$f":"'F13'!O45","v":0},{"$f":"'F13'!P45","v":0},{"$f":"'F13'!Q45","v":0},{"$f":"'F13'!R45","v":0},{"$f":"'F13'!S45","v":0},{"$f":"'F13'!T45","v":0},{"$f":"'F13'!U45","v":0},{"$f":"'F13'!V45","v":0},{"$f":"'F13'!W45","v":0},{"$f":"'F13'!X45","v":0},{"$f":"'F13'!Y45","v":0},{"$f":"'F13'!Z45","v":0},{"$f":"'F13'!AA45","v":0},{"$f":"'F13'!AB45","v":0},{"$f":"'F13'!AC45","v":0},{"$f":"'F13'!AD45","v":0},{"$f":"'F13'!AE45","v":0},{"$f":"'F13'!AF45","v":0},{"$f":"'F13'!AG45","v":0},{"$f":"'F13'!AH45","v":0},{"$f":"'F13'!AI45","v":0}]
[null,null,null,null,null,null,{"$f":"'F13'!A46","v":""},{"$f":"'F13'!B46","v":0},{"$f":"'F13'!C46","v":0},{"$f":"'F13'!D46","v":""},{"$f":"'F13'!E46","v":""},{"$f":"'F13'!F46","v":0},{"$f":"'F13'!G46","v":0},{"$f":"'F13'!H46","v":0},{"$f":"'F13'!I46","v":0},{"$f":"'F13'!J46","v":0},{"$f":"'F13'!K46","v":0},{"$f":"'F13'!L46","v":0},{"$f":"'F13'!M46","v":0},{"$f":"'F13'!N46","v":0},{"$f":"'F13'!O46","v":0},{"$f":"'F13'!P46","v":0},{"$f":"'F13'!Q46","v":0},{"$f":"'F13'!R46","v":0},{"$f":"'F13'!S46","v":0},{"$f":"'F13'!T46","v":0},{"$f":"'F13'!U46","v":0},{"$f":"'F13'!V46","v":0},{"$f":"'F13'!W46","v":0},{"$f":"'F13'!X46","v":0},{"$f":"'F13'!Y46","v":0},{"$f":"'F13'!Z46","v":0},{"$f":"'F13'!AA46","v":0},{"$f":"'F13'!AB46","v":0},{"$f":"'F13'!AC46","v":0},{"$f":"'F13'!AD46","v":0},{"$f":"'F13'!AE46","v":0},{"$f":"'F13'!AF46","v":0},{"$f":"'F13'!AG46","v":0},{"$f":"'F13'!AH46","v":0},{"$f":"'F13'!AI46","v":0}]
[null,null,null,null,null,null,{"$f":"'F13'!A47","v":""},{"$f":"'F13'!B47","v":0},{"$f":"'F13'!C47","v":0},{"$f":"'F13'!D47","v":""},{"$f":"'F13'!E47","v":""},{"$f":"'F13'!F47","v":0},{"$f":"'F13'!G47","v":0},{"$f":"'F13'!H47","v":0},{"$f":"'F13'!I47","v":0},{"$f":"'F13'!J47","v":0},{"$f":"'F13'!K47","v":0},{"$f":"'F13'!L47","v":0},{"$f":"'F13'!M47","v":0},{"$f":"'F13'!N47","v":0},{"$f":"'F13'!O47","v":0},{"$f":"'F13'!P47","v":0},{"$f":"'F13'!Q47","v":0},{"$f":"'F13'!R47","v":0},{"$f":"'F13'!S47","v":0},{"$f":"'F13'!T47","v":0},{"$f":"'F13'!U47","v":0},{"$f":"'F13'!V47","v":0},{"$f":"'F13'!W47","v":0},{"$f":"'F13'!X47","v":0},{"$f":"'F13'!Y47","v":0},{"$f":"'F13'!Z47","v":0},{"$f":"'F13'!AA47","v":0},{"$f":"'F13'!AB47","v":0},{"$f":"'F13'!AC47","v":0},{"$f":"'F13'!AD47","v":0},{"$f":"'F13'!AE47","v":0},{"$f":"'F13'!AF47","v":0},{"$f":"'F13'!AG47","v":0},{"$f":"'F13'!AH47","v":0},{"$f":"'F13'!AI47","v":0}]
[null,null,null,null,null,null,{"$f":"'F13'!A48","v":""},{"$f":"'F13'!B48","v":0},{"$f":"'F13'!C48","v":0},{"$f":"'F13'!D48","v":""},{"$f":"'F13'!E48","v":""},{"$f":"'F13'!F48","v":0},{"$f":"'F13'!G48","v":0},{"$f":"'F13'!H48","v":0},{"$f":"'F13'!I48","v":0},{"$f":"'F13'!J48","v":0},{"$f":"'F13'!K48","v":0},{"$f":"'F13'!L48","v":0},{"$f":"'F13'!M48","v":0},{"$f":"'F13'!N48","v":0},{"$f":"'F13'!O48","v":0},{"$f":"'F13'!P48","v":0},{"$f":"'F13'!Q48","v":0},{"$f":"'F13'!R48","v":0},{"$f":"'F13'!S48","v":0},{"$f":"'F13'!T48","v":0},{"$f":"'F13'!U48","v":0},{"$f":"'F13'!V48","v":0},{"$f":"'F13'!W48","v":0},{"$f":"'F13'!X48","v":0},{"$f":"'F13'!Y48","v":0},{"$f":"'F13'!Z48","v":0},{"$f":"'F13'!AA48","v":0},{"$f":"'F13'!AB48","v":0},{"$f":"'F13'!AC48","v":0},{"$f":"'F13'!AD48","v":0},{"$f":"'F13'!AE48","v":0},{"$f":"'F13'!AF48","v":0},{"$f":"'F13'!AG48","v":0},{"$f":"'F13'!AH48","v":0},{"$f":"'F13'!AI48","v":0}]
[null,null,null,null,null,null,{"$f":"'F13'!A49","v":""},{"$f":"'F13'!B49","v":0},{"$f":"'F13'!C49","v":0},{"$f":"'F13'!D49","v":""},{"$f":"'F13'!E49","v":""},{"$f":"'F13'!F49","v":0},{"$f":"'F13'!G49","v":0},{"$f":"'F13'!H49","v":0},{"$f":"'F13'!I49","v":0},{"$f":"'F13'!J49","v":0},{"$f":"'F13'!K49","v":0},{"$f":"'F13'!L49","v":0},{"$f":"'F13'!M49","v":0},{"$f":"'F13'!N49","v":0},{"$f":"'F13'!O49","v":0},{"$f":"'F13'!P49","v":0},{"$f":"'F13'!Q49","v":0},{"$f":"'F13'!R49","v":0},{"$f":"'F13'!S49","v":0},{"$f":"'F13'!T49","v":0},{"$f":"'F13'!U49","v":0},{"$f":"'F13'!V49","v":0},{"$f":"'F13'!W49","v":0},{"$f":"'F13'!X49","v":0},{"$f":"'F13'!Y49","v":0},{"$f":"'F13'!Z49","v":0},{"$f":"'F13'!AA49","v":0},{"$f":"'F13'!AB49","v":0},{"$f":"'F13'!AC49","v":0},{"$f":"'F13'!AD49","v":0},{"$f":"'F13'!AE49","v":0},{"$f":"'F13'!AF49","v":0},{"$f":"'F13'!AG49","v":0},{"$f":"'F13'!AH49","v":0},{"$f":"'F13'!AI49","v":0}]
[null,null,null,null,null,null,{"$f":"'F13'!A50","v":""},{"$f":"'F13'!B50","v":0},{"$f":"'F13'!C50","v":0},{"$f":"'F13'!D50","v":""},{"$f":"'F13'!E50","v":""},{"$f":"'F13'!F50","v":0},{"$f":"'F13'!G50","v":0},{"$f":"'F13'!H50","v":0},{"$f":"'F13'!I50","v":0},{"$f":"'F13'!J50","v":0},{"$f":"'F13'!K50","v":0},{"$f":"'F13'!L50","v":0},{"$f":"'F13'!M50","v":0},{"$f":"'F13'!N50","v":0},{"$f":"'F13'!O50","v":0},{"$f":"'F13'!P50","v":0},{"$f":"'F13'!Q50","v":0},{"$f":"'F13'!R50","v":0},{"$f":"'F13'!S50","v":0},{"$f":"'F13'!T50","v":0},{"$f":"'F13'!U50","v":0},{"$f":"'F13'!V50","v":0},{"$f":"'F13'!W50","v":0},{"$f":"'F13'!X50","v":0},{"$f":"'F13'!Y50","v":0},{"$f":"'F13'!Z50","v":0},{"$f":"'F13'!AA50","v":0},{"$f":"'F13'!AB50","v":0},{"$f":"'F13'!AC50","v":0},{"$f":"'F13'!AD50","v":0},{"$f":"'F13'!AE50","v":0},{"$f":"'F13'!AF50","v":0},{"$f":"'F13'!AG50","v":0},{"$f":"'F13'!AH50","v":0},{"$f":"'F13'!AI50","v":0}]
[null,null,null,null,null,null,{"$f":"'F13'!A51","v":""},{"$f":"'F13'!B51","v":0},{"$f":"'F13'!C51","v":0},{"$f":"'F13'!D51","v":""},{"$f":"'F13'!E51","v":""},{"$f":"'F13'!F51","v":0},{"$f":"'F13'!G51","v":0},{"$f":"'F13'!H51","v":0},{"$f":"'F13'!I51","v":0},{"$f":"'F13'!J51","v":0},{"$f":"'F13'!K51","v":0},{"$f":"'F13'!L51","v":0},{"$f":"'F13'!M51","v":0},{"$f":"'F13'!N51","v":0},{"$f":"'F13'!O51","v":0},{"$f":"'F13'!P51","v":0},{"$f":"'F13'!Q51","v":0},{"$f":"'F13'!R51","v":0},{"$f":"'F13'!S51","v":0},{"$f":"'F13'!T51","v":0},{"$f":"'F13'!U51","v":0},{"$f":"'F13'!V51","v":0},{"$f":"'F13'!W51","v":0},{"$f":"'F13'!X51","v":0},{"$f":"'F13'!Y51","v":0},{"$f":"'F13'!Z51","v":0},{"$f":"'F13'!AA51","v":0},{"$f":"'F13'!AB51","v":0},{"$f":"'F13'!AC51","v":0},{"$f":"'F13'!AD51","v":0},{"$f":"'F13'!AE51","v":0},{"$f":"'F13'!AF51","v":0},{"$f":"'F13'!AG51","v":0},{"$f":"'F13'!AH51","v":0},{"$f":"'F13'!AI51","v":0}]
[null,null,null,null,null,null,{"$f":"'F13'!A52","v":""},{"$f":"'F13'!B52","v":0},{"$f":"'F13'!C52","v":0},{"$f":"'F13'!D52","v":""},{"$f":"'F13'!E52","v":""},{"$f":"'F13'!F52","v":0},{"$f":"'F13'!G52","v":0},{"$f":"'F13'!H52","v":0},{"$f":"'F13'!I52","v":0},{"$f":"'F13'!J52","v":0},{"$f":"'F13'!K52","v":0},{"$f":"'F13'!L52","v":0},{"$f":"'F13'!M52","v":0},{"$f":"'F13'!N52","v":0},{"$f":"'F13'!O52","v":0},{"$f":"'F13'!P52","v":0},{"$f":"'F13'!Q52","v":0},{"$f":"'F13'!R52","v":0},{"$f":"'F13'!S52","v":0},{"$f":"'F13'!T52","v":0},{"$f":"'F13'!U52","v":0},{"$f":"'F13'!V52","v":0},{"$f":"'F13'!W52","v":0},{"$f":"'F13'!X52","v":0},{"$f":"'F13'!Y52","v":0},{"$f":"'F13'!Z52","v":0},{"$f":"'F13'!AA52","v":0},{"$f":"'F13'!AB52","v":0},{"$f":"'F13'!AC52","v":0},{"$f":"'F13'!AD52","v":0},{"$f":"'F13'!AE52","v":0},{"$f":"'F13'!AF52","v":0},{"$f":"'F13'!AG52","v":0},{"$f":"'F13'!AH52","v":0},{"$f":"'F13'!AI52","v":0}]
[null,null,null,null,null,null,{"$f":"'F13'!A53","v":""},{"$f":"'F13'!B53","v":0},{"$f":"'F13'!C53","v":0},{"$f":"'F13'!D53","v":""},{"$f":"'F13'!E53","v":""},{"$f":"'F13'!F53","v":0},{"$f":"'F13'!G53","v":0},{"$f":"'F13'!H53","v":0},{"$f":"'F13'!I53","v":0},{"$f":"'F13'!J53","v":0},{"$f":"'F13'!K53","v":0},{"$f":"'F13'!L53","v":0},{"$f":"'F13'!M53","v":0},{"$f":"'F13'!N53","v":0},{"$f":"'F13'!O53","v":0},{"$f":"'F13'!P53","v":0},{"$f":"'F13'!Q53","v":0},{"$f":"'F13'!R53","v":0},{"$f":"'F13'!S53","v":0},{"$f":"'F13'!T53","v":0},{"$f":"'F13'!U53","v":0},{"$f":"'F13'!V53","v":0},{"$f":"'F13'!W53","v":0},{"$f":"'F13'!X53","v":0},{"$f":"'F13'!Y53","v":0},{"$f":"'F13'!Z53","v":0},{"$f":"'F13'!AA53","v":0},{"$f":"'F13'!AB53","v":0},{"$f":"'F13'!AC53","v":0},{"$f":"'F13'!AD53","v":0},{"$f":"'F13'!AE53","v":0},{"$f":"'F13'!AF53","v":0},{"$f":"'F13'!AG53","v":0},{"$f":"'F13'!AH53","v":0},{"$f":"'F13'!AI53","v":0}]
[null,null,null,null,null,null,{"$f":"'F13'!A54","v":""},{"$f":"'F13'!B54","v":0},{"$f":"'F13'!C54","v":0},{"$f":"'F13'!D54","v":""},{"$f":"'F13'!E54","v":""},{"$f":"'F13'!F54","v":0},{"$f":"'F13'!G54","v":0},{"$f":"'F13'!H54","v":0},{"$f":"'F13'!I54","v":0},{"$f":"'F13'!J54","v":0},{"$f":"'F13'!K54","v":0},{"$f":"'F13'!L54","v":0},{"$f":"'F13'!M54","v":0},{"$f":"'F13'!N54","v":0},{"$f":"'F13'!O54","v":0},{"$f":"'F13'!P54","v":0},{"$f":"'F13'!Q54","v":0},{"$f":"'F13'!R54","v":0},{"$f":"'F13'!S54","v":0},{"$f":"'F13'!T54","v":0},{"$f":"'F13'!U54","v":0},{"$f":"'F13'!V54","v":0},{"$f":"'F13'!W54","v":0},{"$f":"'F13'!X54","v":0},{"$f":"'F13'!Y54","v":0},{"$f":"'F13'!Z54","v":0},{"$f":"'F13'!AA54","v":0},{"$f":"'F13'!AB54","v":0},{"$f":"'F13'!AC54","v":0},{"$f":"'F13'!AD54","v":0},{"$f":"'F13'!AE54","v":0},{"$f":"'F13'!AF54","v":0},{"$f":"'F13'!AG54","v":0},{"$f":"'F13'!AH54","v":0},{"$f":"'F13'!AI54","v":0}]
[null,null,null,null,null,null,{"$f":"'F13'!A55","v":""},{"$f":"'F13'!B55","v":0},{"$f":"'F13'!C55","v":0},{"$f":"'F13'!D55","v":""},{"$f":"'F13'!E55","v":""},{"$f":"'F13'!F55","v":0},{"$f":"'F13'!G55","v":0},{"$f":"'F13'!H55","v":0},{"$f":"'F13'!I55","v":0},{"$f":"'F13'!J55","v":0},{"$f":"'F13'!K55","v":0},{"$f":"'F13'!L55","v":0},{"$f":"'F13'!M55","v":0},{"$f":"'F13'!N55","v":0},{"$f":"'F13'!O55","v":0},{"$f":"'F13'!P55","v":0},{"$f":"'F13'!Q55","v":0},{"$f":"'F13'!R55","v":0},{"$f":"'F13'!S55","v":0},{"$f":"'F13'!T55","v":0},{"$f":"'F13'!U55","v":0},{"$f":"'F13'!V55","v":0},{"$f":"'F13'!W55","v":0},{"$f":"'F13'!X55","v":0},{"$f":"'F13'!Y55","v":0},{"$f":"'F13'!Z55","v":0},{"$f":"'F13'!AA55","v":0},{"$f":"'F13'!AB55","v":0},{"$f":"'F13'!AC55","v":0},{"$f":"'F13'!AD55","v":0},{"$f":"'F13'!AE55","v":0},{"$f":"'F13'!AF55","v":0},{"$f":"'F13'!AG55","v":0},{"$f":"'F13'!AH55","v":0},{"$f":"'F13'!AI55","v":0}]
[null,null,null,null,null,null,{"$f":"'F13'!A56","v":""},{"$f":"'F13'!B56","v":0},{"$f":"'F13'!C56","v":0},{"$f":"'F13'!D56","v":""},{"$f":"'F13'!E56","v":""},{"$f":"'F13'!F56","v":0},{"$f":"'F13'!G56","v":0},{"$f":"'F13'!H56","v":0},{"$f":"'F13'!I56","v":0},{"$f":"'F13'!J56","v":0},{"$f":"'F13'!K56","v":0},{"$f":"'F13'!L56","v":0},{"$f":"'F13'!M56","v":0},{"$f":"'F13'!N56","v":0},{"$f":"'F13'!O56","v":0},{"$f":"'F13'!P56","v":0},{"$f":"'F13'!Q56","v":0},{"$f":"'F13'!R56","v":0},{"$f":"'F13'!S56","v":0},{"$f":"'F13'!T56","v":0},{"$f":"'F13'!U56","v":0},{"$f":"'F13'!V56","v":0},{"$f":"'F13'!W56","v":0},{"$f":"'F13'!X56","v":0},{"$f":"'F13'!Y56","v":0},{"$f":"'F13'!Z56","v":0},{"$f":"'F13'!AA56","v":0},{"$f":"'F13'!AB56","v":0},{"$f":"'F13'!AC56","v":0},{"$f":"'F13'!AD56","v":0},{"$f":"'F13'!AE56","v":0},{"$f":"'F13'!AF56","v":0},{"$f":"'F13'!AG56","v":0},{"$f":"'F13'!AH56","v":0},{"$f":"'F13'!AI56","v":0}]
[null,null,null,null,null,null,{"$f":"'F13'!A57","v":""},{"$f":"'F13'!B57","v":0},{"$f":"'F13'!C57","v":0},{"$f":"'F13'!D57","v":""},{"$f":"'F13'!E57","v":""},{"$f":"'F13'!F57","v":0},{"$f":"'F13'!G57","v":0},{"$f":"'F13'!H57","v":0},{"$f":"'F13'!I57","v":0},{"$f":"'F13'!J57","v":0},{"$f":"'F13'!K57","v":0},{"$f":"'F13'!L57","v":0},{"$f":"'F13'!M57","v":0},{"$f":"'F13'!N57","v":0},{"$f":"'F13'!O57","v":0},{"$f":"'F13'!P57","v":0},{"$f":"'F13'!Q57","v":0},{"$f":"'F13'!R57","v":0},{"$f":"'F13'!S57","v":0},{"$f":"'F13'!T57","v":0},{"$f":"'F13'!U57","v":0},{"$f":"'F13'!V57","v":0},{"$f":"'F13'!W57","v":0},{"$f":"'F13'!X57","v":0},{"$f":"'F13'!Y57","v":0},{"$f":"'F13'!Z57","v":0},{"$f":"'F13'!AA57","v":0},{"$f":"'F13'!AB57","v":0},{"$f":"'F13'!AC57","v":0},{"$f":"'F13'!AD57","v":0},{"$f":"'F13'!AE57","v":0},{"$f":"'F13'!AF57","v":0},{"$f":"'F13'!AG57","v":0},{"$f":"'F13'!AH57","v":0},{"$f":"'F13'!AI57","v":0}]
[null,null,null,null,null,null,{"$f":"'F13'!A58","v":""},{"$f":"'F13'!B58","v":0},{"$f":"'F13'!C58","v":0},{"$f":"'F13'!D58","v":""},{"$f":"'F13'!E58","v":""},{"$f":"'F13'!F58","v":0},{"$f":"'F13'!G58","v":0},{"$f":"'F13'!H58","v":0},{"$f":"'F13'!I58","v":0},{"$f":"'F13'!J58","v":0},{"$f":"'F13'!K58","v":0},{"$f":"'F13'!L58","v":0},{"$f":"'F13'!M58","v":0},{"$f":"'F13'!N58","v":0},{"$f":"'F13'!O58","v":0},{"$f":"'F13'!P58","v":0},{"$f":"'F13'!Q58","v":0},{"$f":"'F13'!R58","v":0},{"$f":"'F13'!S58","v":0},{"$f":"'F13'!T58","v":0},{"$f":"'F13'!U58","v":0},{"$f":"'F13'!V58","v":0},{"$f":"'F13'!W58","v":0},{"$f":"'F13'!X58","v":0},{"$f":"'F13'!Y58","v":0},{"$f":"'F13'!Z58","v":0},{"$f":"'F13'!AA58","v":0},{"$f":"'F13'!AB58","v":0},{"$f":"'F13'!AC58","v":0},{"$f":"'F13'!AD58","v":0},{"$f":"'F13'!AE58","v":0},{"$f":"'F13'!AF58","v":0},{"$f":"'F13'!AG58","v":0},{"$f":"'F13'!AH58","v":0},{"$f":"'F13'!AI58","v":0}]
[null,null,null,null,null,null,{"$f":"'F13'!A59","v":""},{"$f":"'F13'!B59","v":0},{"$f":"'F13'!C59","v":0},{"$f":"'F13'!D59","v":""},{"$f":"'F13'!E59","v":""},{"$f":"'F13'!F59","v":0},{"$f":"'F13'!G59","v":0},{"$f":"'F13'!H59","v":0},{"$f":"'F13'!I59","v":0},{"$f":"'F13'!J59","v":0},{"$f":"'F13'!K59","v":0},{"$f":"'F13'!L59","v":0},{"$f":"'F13'!M59","v":0},{"$f":"'F13'!N59","v":0},{"$f":"'F13'!O59","v":0},{"$f":"'F13'!P59","v":0},{"$f":"'F13'!Q59","v":0},{"$f":"'F13'!R59","v":0},{"$f":"'F13'!S59","v":0},{"$f":"'F13'!T59","v":0},{"$f":"'F13'!U59","v":0},{"$f":"'F13'!V59","v":0},{"$f":"'F13'!W59","v":0},{"$f":"'F13'!X59","v":0},{"$f":"'F13'!Y59","v":0},{"$f":"'F13'!Z59","v":0},{"$f":"'F13'!AA59","v":0},{"$f":"'F13'!AB59","v":0},{"$f":"'F13'!AC59","v":0},{"$f":"'F13'!AD59","v":0},{"$f":"'F13'!AE59","v":0},{"$f":"'F13'!AF59","v":0},{"$f":"'F13'!AG59","v":0},{"$f":"'F13'!AH59","v":0},{"$f":"'F13'!AI59","v":0}]
[null,null,null,null,null,null,{"$f":"'F13'!A60","v":""},{"$f":"'F13'!B60","v":0},{"$f":"'F13'!C60","v":0},{"$f":"'F13'!D60","v":""},{"$f":"'F13'!E60","v":""},{"$f":"'F13'!F60","v":0},{"$f":"'F13'!G60","v":0},{"$f":"'F13'!H60","v":0},{"$f":"'F13'!I60","v":0},{"$f":"'F13'!J60","v":0},{"$f":"'F13'!K60","v":0},{"$f":"'F13'!L60","v":0},{"$f":"'F13'!M60","v":0},{"$f":"'F13'!N60","v":0},{"$f":"'F13'!O60","v":0},{"$f":"'F13'!P60","v":0},{"$f":"'F13'!Q60","v":0},{"$f":"'F13'!R60","v":0},{"$f":"'F13'!S60","v":0},{"$f":"'F13'!T60","v":0},{"$f":"'F13'!U60","v":0},{"$f":"'F13'!V60","v":0},{"$f":"'F13'!W60","v":0},{"$f":"'F13'!X60","v":0},{"$f":"'F13'!Y60","v":0},{"$f":"'F13'!Z60","v":0},{"$f":"'F13'!AA60","v":0},{"$f":"'F13'!AB60","v":0},{"$f":"'F13'!AC60","v":0},{"$f":"'F13'!AD60","v":0},{"$f":"'F13'!AE60","v":0},{"$f":"'F13'!AF60","v":0},{"$f":"'F13'!AG60","v":0},{"$f":"'F13'!AH60","v":0},{"$f":"'F13'!AI60","v":0}]
[null,null,null,null,null,null,{"$f":"'F13'!A61","v":""},{"$f":"'F13'!B61","v":0},{"$f":"'F13'!C61","v":0},{"$f":"'F13'!D61","v":""},{"$f":"'F13'!E61","v":""},{"$f":"'F13'!F61","v":0},{"$f":"'F13'!G61","v":0},{"$f":"'F13'!H61","v":0},{"$f":"'F13'!I61","v":0},{"$f":"'F13'!J61","v":0},{"$f":"'F13'!K61","v":0},{"$f":"'F13'!L61","v":0},{"$f":"'F13'!M61","v":0},{"$f":"'F13'!N61","v":0},{"$f":"'F13'!O61","v":0},{"$f":"'F13'!P61","v":0},{"$f":"'F13'!Q61","v":0},{"$f":"'F13'!R61","v":0},{"$f":"'F13'!S61","v":0},{"$f":"'F13'!T61","v":0},{"$f":"'F13'!U61","v":0},{"$f":"'F13'!V61","v":0},{"$f":"'F13'!W61","v":0},{"$f":"'F13'!X61","v":0},{"$f":"'F13'!Y61","v":0},{"$f":"'F13'!Z61","v":0},{"$f":"'F13'!AA61","v":0},{"$f":"'F13'!AB61","v":0},{"$f":"'F13'!AC61","v":0},{"$f":"'F13'!AD61","v":0},{"$f":"'F13'!AE61","v":0},{"$f":"'F13'!AF61","v":0},{"$f":"'F13'!AG61","v":0},{"$f":"'F13'!AH61","v":0},{"$f":"'F13'!AI61","v":0}]
[null,null,null,null,null,null,{"$f":"'F13'!A62","v":""},{"$f":"'F13'!B62","v":0},{"$f":"'F13'!C62","v":0},{"$f":"'F13'!D62","v":""},{"$f":"'F13'!E62","v":""},{"$f":"'F13'!F62","v":0},{"$f":"'F13'!G62","v":0},{"$f":"'F13'!H62","v":0},{"$f":"'F13'!I62","v":0},{"$f":"'F13'!J62","v":0},{"$f":"'F13'!K62","v":0},{"$f":"'F13'!L62","v":0},{"$f":"'F13'!M62","v":0},{"$f":"'F13'!N62","v":0},{"$f":"'F13'!O62","v":0},{"$f":"'F13'!P62","v":0},{"$f":"'F13'!Q62","v":0},{"$f":"'F13'!R62","v":0},{"$f":"'F13'!S62","v":0},{"$f":"'F13'!T62","v":0},{"$f":"'F13'!U62","v":0},{"$f":"'F13'!V62","v":0},{"$f":"'F13'!W62","v":0},{"$f":"'F13'!X62","v":0},{"$f":"'F13'!Y62","v":0},{"$f":"'F13'!Z62","v":0},{"$f":"'F13'!AA62","v":0},{"$f":"'F13'!AB62","v":0},{"$f":"'F13'!AC62","v":0},{"$f":"'F13'!AD62","v":0},{"$f":"'F13'!AE62","v":0},{"$f":"'F13'!AF62","v":0},{"$f":"'F13'!AG62","v":0},{"$f":"'F13'!AH62","v":0},{"$f":"'F13'!AI62","v":0}]
[null,null,null,null,null,null,{"$f":"'F13'!A63","v":""},{"$f":"'F13'!B63","v":0},{"$f":"'F13'!C63","v":0},{"$f":"'F13'!D63","v":""},{"$f":"'F13'!E63","v":""},{"$f":"'F13'!F63","v":0},{"$f":"'F13'!G63","v":0},{"$f":"'F13'!H63","v":0},{"$f":"'F13'!I63","v":0},{"$f":"'F13'!J63","v":0},{"$f":"'F13'!K63","v":0},{"$f":"'F13'!L63","v":0},{"$f":"'F13'!M63","v":0},{"$f":"'F13'!N63","v":0},{"$f":"'F13'!O63","v":0},{"$f":"'F13'!P63","v":0},{"$f":"'F13'!Q63","v":0},{"$f":"'F13'!R63","v":0},{"$f":"'F13'!S63","v":0},{"$f":"'F13'!T63","v":0},{"$f":"'F13'!U63","v":0},{"$f":"'F13'!V63","v":0},{"$f":"'F13'!W63","v":0},{"$f":"'F13'!X63","v":0},{"$f":"'F13'!Y63","v":0},{"$f":"'F13'!Z63","v":0},{"$f":"'F13'!AA63","v":0},{"$f":"'F13'!AB63","v":0},{"$f":"'F13'!AC63","v":0},{"$f":"'F13'!AD63","v":0},{"$f":"'F13'!AE63","v":0},{"$f":"'F13'!AF63","v":0},{"$f":"'F13'!AG63","v":0},{"$f":"'F13'!AH63","v":0},{"$f":"'F13'!AI63","v":0}]
[null,null,null,null,null,null,{"$f":"'F13'!A64","v":""},{"$f":"'F13'!B64","v":0},{"$f":"'F13'!C64","v":0},{"$f":"'F13'!D64","v":""},{"$f":"'F13'!E64","v":""},{"$f":"'F13'!F64","v":0},{"$f":"'F13'!G64","v":0},{"$f":"'F13'!H64","v":0},{"$f":"'F13'!I64","v":0},{"$f":"'F13'!J64","v":0},{"$f":"'F13'!K64","v":0},{"$f":"'F13'!L64","v":0},{"$f":"'F13'!M64","v":0},{"$f":"'F13'!N64","v":0},{"$f":"'F13'!O64","v":0},{"$f":"'F13'!P64","v":0},{"$f":"'F13'!Q64","v":0},{"$f":"'F13'!R64","v":0},{"$f":"'F13'!S64","v":0},{"$f":"'F13'!T64","v":0},{"$f":"'F13'!U64","v":0},{"$f":"'F13'!V64","v":0},{"$f":"'F13'!W64","v":0},{"$f":"'F13'!X64","v":0},{"$f":"'F13'!Y64","v":0},{"$f":"'F13'!Z64","v":0},{"$f":"'F13'!AA64","v":0},{"$f":"'F13'!AB64","v":0},{"$f":"'F13'!AC64","v":0},{"$f":"'F13'!AD64","v":0},{"$f":"'F13'!AE64","v":0},{"$f":"'F13'!AF64","v":0},{"$f":"'F13'!AG64","v":0},{"$f":"'F13'!AH64","v":0},{"$f":"'F13'!AI64","v":0}]
[null,null,null,null,null,null,{"$f":"'F13'!A65","v":""},{"$f":"'F13'!B65","v":0},{"$f":"'F13'!C65","v":0},{"$f":"'F13'!D65","v":""},{"$f":"'F13'!E65","v":""},{"$f":"'F13'!F65","v":0},{"$f":"'F13'!G65","v":0},{"$f":"'F13'!H65","v":0},{"$f":"'F13'!I65","v":0},{"$f":"'F13'!J65","v":0},{"$f":"'F13'!K65","v":0},{"$f":"'F13'!L65","v":0},{"$f":"'F13'!M65","v":0},{"$f":"'F13'!N65","v":0},{"$f":"'F13'!O65","v":0},{"$f":"'F13'!P65","v":0},{"$f":"'F13'!Q65","v":0},{"$f":"'F13'!R65","v":0},{"$f":"'F13'!S65","v":0},{"$f":"'F13'!T65","v":0},{"$f":"'F13'!U65","v":0},{"$f":"'F13'!V65","v":0},{"$f":"'F13'!W65","v":0},{"$f":"'F13'!X65","v":0},{"$f":"'F13'!Y65","v":0},{"$f":"'F13'!Z65","v":0},{"$f":"'F13'!AA65","v":0},{"$f":"'F13'!AB65","v":0},{"$f":"'F13'!AC65","v":0},{"$f":"'F13'!AD65","v":0},{"$f":"'F13'!AE65","v":0},{"$f":"'F13'!AF65","v":0},{"$f":"'F13'!AG65","v":0},{"$f":"'F13'!AH65","v":0},{"$f":"'F13'!AI65","v":0}]
[null,null,null,null,null,null,{"$f":"'F13'!A66","v":""},{"$f":"'F13'!B66","v":0},{"$f":"'F13'!C66","v":0},{"$f":"'F13'!D66","v":""},{"$f":"'F13'!E66","v":""},{"$f":"'F13'!F66","v":0},{"$f":"'F13'!G66","v":0},{"$f":"'F13'!H66","v":0},{"$f":"'F13'!I66","v":0},{"$f":"'F13'!J66","v":0},{"$f":"'F13'!K66","v":0},{"$f":"'F13'!L66","v":0},{"$f":"'F13'!M66","v":0},{"$f":"'F13'!N66","v":0},{"$f":"'F13'!O66","v":0},{"$f":"'F13'!P66","v":0},{"$f":"'F13'!Q66","v":0},{"$f":"'F13'!R66","v":0},{"$f":"'F13'!S66","v":0},{"$f":"'F13'!T66","v":0},{"$f":"'F13'!U66","v":0},{"$f":"'F13'!V66","v":0},{"$f":"'F13'!W66","v":0},{"$f":"'F13'!X66","v":0},{"$f":"'F13'!Y66","v":0},{"$f":"'F13'!Z66","v":0},{"$f":"'F13'!AA66","v":0},{"$f":"'F13'!AB66","v":0},{"$f":"'F13'!AC66","v":0},{"$f":"'F13'!AD66","v":0},{"$f":"'F13'!AE66","v":0},{"$f":"'F13'!AF66","v":0},{"$f":"'F13'!AG66","v":0},{"$f":"'F13'!AH66","v":0},{"$f":"'F13'!AI66","v":0}]
[null,null,null,null,null,null,{"$f":"'F13'!A67","v":""},{"$f":"'F13'!B67","v":0},{"$f":"'F13'!C67","v":0},{"$f":"'F13'!D67","v":""},{"$f":"'F13'!E67","v":""},{"$f":"'F13'!F67","v":0},{"$f":"'F13'!G67","v":0},{"$f":"'F13'!H67","v":0},{"$f":"'F13'!I67","v":0},{"$f":"'F13'!J67","v":0},{"$f":"'F13'!K67","v":0},{"$f":"'F13'!L67","v":0},{"$f":"'F13'!M67","v":0},{"$f":"'F13'!N67","v":0},{"$f":"'F13'!O67","v":0},{"$f":"'F13'!P67","v":0},{"$f":"'F13'!Q67","v":0},{"$f":"'F13'!R67","v":0},{"$f":"'F13'!S67","v":0},{"$f":"'F13'!T67","v":0},{"$f":"'F13'!U67","v":0},{"$f":"'F13'!V67","v":0},{"$f":"'F13'!W67","v":0},{"$f":"'F13'!X67","v":0},{"$f":"'F13'!Y67","v":0},{"$f":"'F13'!Z67","v":0},{"$f":"'F13'!AA67","v":0},{"$f":"'F13'!AB67","v":0},{"$f":"'F13'!AC67","v":0},{"$f":"'F13'!AD67","v":0},{"$f":"'F13'!AE67","v":0},{"$f":"'F13'!AF67","v":0},{"$f":"'F13'!AG67","v":0},{"$f":"'F13'!AH67","v":0},{"$f":"'F13'!AI67","v":0}]
[null,null,null,null,null,null,{"$f":"'F13'!A68","v":""},{"$f":"'F13'!B68","v":0},{"$f":"'F13'!C68","v":0},{"$f":"'F13'!D68","v":""},{"$f":"'F13'!E68","v":""},{"$f":"'F13'!F68","v":0},{"$f":"'F13'!G68","v":0},{"$f":"'F13'!H68","v":0},{"$f":"'F13'!I68","v":0},{"$f":"'F13'!J68","v":0},{"$f":"'F13'!K68","v":0},{"$f":"'F13'!L68","v":0},{"$f":"'F13'!M68","v":0},{"$f":"'F13'!N68","v":0},{"$f":"'F13'!O68","v":0},{"$f":"'F13'!P68","v":0},{"$f":"'F13'!Q68","v":0},{"$f":"'F13'!R68","v":0},{"$f":"'F13'!S68","v":0},{"$f":"'F13'!T68","v":0},{"$f":"'F13'!U68","v":0},{"$f":"'F13'!V68","v":0},{"$f":"'F13'!W68","v":0},{"$f":"'F13'!X68","v":0},{"$f":"'F13'!Y68","v":0},{"$f":"'F13'!Z68","v":0},{"$f":"'F13'!AA68","v":0},{"$f":"'F13'!AB68","v":0},{"$f":"'F13'!AC68","v":0},{"$f":"'F13'!AD68","v":0},{"$f":"'F13'!AE68","v":0},{"$f":"'F13'!AF68","v":0},{"$f":"'F13'!AG68","v":0},{"$f":"'F13'!AH68","v":0},{"$f":"'F13'!AI68","v":0}]
[null,null,null,null,null,null,{"$f":"'F13'!A69","v":""},{"$f":"'F13'!B69","v":0},{"$f":"'F13'!C69","v":0},{"$f":"'F13'!D69","v":""},{"$f":"'F13'!E69","v":""},{"$f":"'F13'!F69","v":0},{"$f":"'F13'!G69","v":0},{"$f":"'F13'!H69","v":0},{"$f":"'F13'!I69","v":0},{"$f":"'F13'!J69","v":0},{"$f":"'F13'!K69","v":0},{"$f":"'F13'!L69","v":0},{"$f":"'F13'!M69","v":0},{"$f":"'F13'!N69","v":0},{"$f":"'F13'!O69","v":0},{"$f":"'F13'!P69","v":0},{"$f":"'F13'!Q69","v":0},{"$f":"'F13'!R69","v":0},{"$f":"'F13'!S69","v":0},{"$f":"'F13'!T69","v":0},{"$f":"'F13'!U69","v":0},{"$f":"'F13'!V69","v":0},{"$f":"'F13'!W69","v":0},{"$f":"'F13'!X69","v":0},{"$f":"'F13'!Y69","v":0},{"$f":"'F13'!Z69","v":0},{"$f":"'F13'!AA69","v":0},{"$f":"'F13'!AB69","v":0},{"$f":"'F13'!AC69","v":0},{"$f":"'F13'!AD69","v":0},{"$f":"'F13'!AE69","v":0},{"$f":"'F13'!AF69","v":0},{"$f":"'F13'!AG69","v":0},{"$f":"'F13'!AH69","v":0},{"$f":"'F13'!AI69","v":0}]
[null,null,null,null,null,null,{"$f":"'F13'!A70","v":""},{"$f":"'F13'!B70","v":0},{"$f":"'F13'!C70","v":0},{"$f":"'F13'!D70","v":""},{"$f":"'F13'!E70","v":""},{"$f":"'F13'!F70","v":0},{"$f":"'F13'!G70","v":0},{"$f":"'F13'!H70","v":0},{"$f":"'F13'!I70","v":0},{"$f":"'F13'!J70","v":0},{"$f":"'F13'!K70","v":0},{"$f":"'F13'!L70","v":0},{"$f":"'F13'!M70","v":0},{"$f":"'F13'!N70","v":0},{"$f":"'F13'!O70","v":0},{"$f":"'F13'!P70","v":0},{"$f":"'F13'!Q70","v":0},{"$f":"'F13'!R70","v":0},{"$f":"'F13'!S70","v":0},{"$f":"'F13'!T70","v":0},{"$f":"'F13'!U70","v":0},{"$f":"'F13'!V70","v":0},{"$f":"'F13'!W70","v":0},{"$f":"'F13'!X70","v":0},{"$f":"'F13'!Y70","v":0},{"$f":"'F13'!Z70","v":0},{"$f":"'F13'!AA70","v":0},{"$f":"'F13'!AB70","v":0},{"$f":"'F13'!AC70","v":0},{"$f":"'F13'!AD70","v":0},{"$f":"'F13'!AE70","v":0},{"$f":"'F13'!AF70","v":0},{"$f":"'F13'!AG70","v":0},{"$f":"'F13'!AH70","v":0},{"$f":"'F13'!AI70","v":0}]
[null,null,null,null,null,null,{"$f":"'F13'!A71","v":""},{"$f":"'F13'!B71","v":0},{"$f":"'F13'!C71","v":0},{"$f":"'F13'!D71","v":""},{"$f":"'F13'!E71","v":""},{"$f":"'F13'!F71","v":0},{"$f":"'F13'!G71","v":0},{"$f":"'F13'!H71","v":0},{"$f":"'F13'!I71","v":0},{"$f":"'F13'!J71","v":0},{"$f":"'F13'!K71","v":0},{"$f":"'F13'!L71","v":0},{"$f":"'F13'!M71","v":0},{"$f":"'F13'!N71","v":0},{"$f":"'F13'!O71","v":0},{"$f":"'F13'!P71","v":0},{"$f":"'F13'!Q71","v":0},{"$f":"'F13'!R71","v":0},{"$f":"'F13'!S71","v":0},{"$f":"'F13'!T71","v":0},{"$f":"'F13'!U71","v":0},{"$f":"'F13'!V71","v":0},{"$f":"'F13'!W71","v":0},{"$f":"'F13'!X71","v":0},{"$f":"'F13'!Y71","v":0},{"$f":"'F13'!Z71","v":0},{"$f":"'F13'!AA71","v":0},{"$f":"'F13'!AB71","v":0},{"$f":"'F13'!AC71","v":0},{"$f":"'F13'!AD71","v":0},{"$f":"'F13'!AE71","v":0},{"$f":"'F13'!AF71","v":0},{"$f":"'F13'!AG71","v":0},{"$f":"'F13'!AH71","v":0},{"$f":"'F13'!AI71","v":0}]
[null,null,null,null,null,null,{"$f":"'F13'!A72","v":""},{"$f":"'F13'!B72","v":0},{"$f":"'F13'!C72","v":0},{"$f":"'F13'!D72","v":""},{"$f":"'F13'!E72","v":""},{"$f":"'F13'!F72","v":0},{"$f":"'F13'!G72","v":0},{"$f":"'F13'!H72","v":0},{"$f":"'F13'!I72","v":0},{"$f":"'F13'!J72","v":0},{"$f":"'F13'!K72","v":0},{"$f":"'F13'!L72","v":0},{"$f":"'F13'!M72","v":0},{"$f":"'F13'!N72","v":0},{"$f":"'F13'!O72","v":0},{"$f":"'F13'!P72","v":0},{"$f":"'F13'!Q72","v":0},{"$f":"'F13'!R72","v":0},{"$f":"'F13'!S72","v":0},{"$f":"'F13'!T72","v":0},{"$f":"'F13'!U72","v":0},{"$f":"'F13'!V72","v":0},{"$f":"'F13'!W72","v":0},{"$f":"'F13'!X72","v":0},{"$f":"'F13'!Y72","v":0},{"$f":"'F13'!Z72","v":0},{"$f":"'F13'!AA72","v":0},{"$f":"'F13'!AB72","v":0},{"$f":"'F13'!AC72","v":0},{"$f":"'F13'!AD72","v":0},{"$f":"'F13'!AE72","v":0},{"$f":"'F13'!AF72","v":0},{"$f":"'F13'!AG72","v":0},{"$f":"'F13'!AH72","v":0},{"$f":"'F13'!AI72","v":0}]
[null,null,null,null,null,null,{"$f":"'F13'!A73","v":""},{"$f":"'F13'!B73","v":0},{"$f":"'F13'!C73","v":0},{"$f":"'F13'!D73","v":""},{"$f":"'F13'!E73","v":""},{"$f":"'F13'!F73","v":0},{"$f":"'F13'!G73","v":0},{"$f":"'F13'!H73","v":0},{"$f":"'F13'!I73","v":0},{"$f":"'F13'!J73","v":0},{"$f":"'F13'!K73","v":0},{"$f":"'F13'!L73","v":0},{"$f":"'F13'!M73","v":0},{"$f":"'F13'!N73","v":0},{"$f":"'F13'!O73","v":0},{"$f":"'F13'!P73","v":0},{"$f":"'F13'!Q73","v":0},{"$f":"'F13'!R73","v":0},{"$f":"'F13'!S73","v":0},{"$f":"'F13'!T73","v":0},{"$f":"'F13'!U73","v":0},{"$f":"'F13'!V73","v":0},{"$f":"'F13'!W73","v":0},{"$f":"'F13'!X73","v":0},{"$f":"'F13'!Y73","v":0},{"$f":"'F13'!Z73","v":0},{"$f":"'F13'!AA73","v":0},{"$f":"'F13'!AB73","v":0},{"$f":"'F13'!AC73","v":0},{"$f":"'F13'!AD73","v":0},{"$f":"'F13'!AE73","v":0},{"$f":"'F13'!AF73","v":0},{"$f":"'F13'!AG73","v":0},{"$f":"'F13'!AH73","v":0},{"$f":"'F13'!AI73","v":0}]
[null,null,null,null,null,null,{"$f":"'F13'!A74","v":""},{"$f":"'F13'!B74","v":0},{"$f":"'F13'!C74","v":0},{"$f":"'F13'!D74","v":""},{"$f":"'F13'!E74","v":""},{"$f":"'F13'!F74","v":0},{"$f":"'F13'!G74","v":0},{"$f":"'F13'!H74","v":0},{"$f":"'F13'!I74","v":0},{"$f":"'F13'!J74","v":0},{"$f":"'F13'!K74","v":0},{"$f":"'F13'!L74","v":0},{"$f":"'F13'!M74","v":0},{"$f":"'F13'!N74","v":0},{"$f":"'F13'!O74","v":0},{"$f":"'F13'!P74","v":0},{"$f":"'F13'!Q74","v":0},{"$f":"'F13'!R74","v":0},{"$f":"'F13'!S74","v":0},{"$f":"'F13'!T74","v":0},{"$f":"'F13'!U74","v":0},{"$f":"'F13'!V74","v":0},{"$f":"'F13'!W74","v":0},{"$f":"'F13'!X74","v":0},{"$f":"'F13'!Y74","v":0},{"$f":"'F13'!Z74","v":0},{"$f":"'F13'!AA74","v":0},{"$f":"'F13'!AB74","v":0},{"$f":"'F13'!AC74","v":0},{"$f":"'F13'!AD74","v":0},{"$f":"'F13'!AE74","v":0},{"$f":"'F13'!AF74","v":0},{"$f":"'F13'!AG74","v":0},{"$f":"'F13'!AH74","v":0},{"$f":"'F13'!AI74","v":0}]
[null,null,null,null,null,null,{"$f":"'F13'!A75","v":""},{"$f":"'F13'!B75","v":0},{"$f":"'F13'!C75","v":0},{"$f":"'F13'!D75","v":""},{"$f":"'F13'!E75","v":""},{"$f":"'F13'!F75","v":0},{"$f":"'F13'!G75","v":0},{"$f":"'F13'!H75","v":0},{"$f":"'F13'!I75","v":0},{"$f":"'F13'!J75","v":0},{"$f":"'F13'!K75","v":0},{"$f":"'F13'!L75","v":0},{"$f":"'F13'!M75","v":0},{"$f":"'F13'!N75","v":0},{"$f":"'F13'!O75","v":0},{"$f":"'F13'!P75","v":0},{"$f":"'F13'!Q75","v":0},{"$f":"'F13'!R75","v":0},{"$f":"'F13'!S75","v":0},{"$f":"'F13'!T75","v":0},{"$f":"'F13'!U75","v":0},{"$f":"'F13'!V75","v":0},{"$f":"'F13'!W75","v":0},{"$f":"'F13'!X75","v":0},{"$f":"'F13'!Y75","v":0},{"$f":"'F13'!Z75","v":0},{"$f":"'F13'!AA75","v":0},{"$f":"'F13'!AB75","v":0},{"$f":"'F13'!AC75","v":0},{"$f":"'F13'!AD75","v":0},{"$f":"'F13'!AE75","v":0},{"$f":"'F13'!AF75","v":0},{"$f":"'F13'!AG75","v":0},{"$f":"'F13'!AH75","v":0},{"$f":"'F13'!AI75","v":0}]
[null,null,null,null,null,null,{"$f":"'F13'!A76","v":""},{"$f":"'F13'!B76","v":0},{"$f":"'F13'!C76","v":0},{"$f":"'F13'!D76","v":""},{"$f":"'F13'!E76","v":""},{"$f":"'F13'!F76","v":0},{"$f":"'F13'!G76","v":0},{"$f":"'F13'!H76","v":0},{"$f":"'F13'!I76","v":0},{"$f":"'F13'!J76","v":0},{"$f":"'F13'!K76","v":0},{"$f":"'F13'!L76","v":0},{"$f":"'F13'!M76","v":0},{"$f":"'F13'!N76","v":0},{"$f":"'F13'!O76","v":0},{"$f":"'F13'!P76","v":0},{"$f":"'F13'!Q76","v":0},{"$f":"'F13'!R76","v":0},{"$f":"'F13'!S76","v":0},{"$f":"'F13'!T76","v":0},{"$f":"'F13'!U76","v":0},{"$f":"'F13'!V76","v":0},{"$f":"'F13'!W76","v":0},{"$f":"'F13'!X76","v":0},{"$f":"'F13'!Y76","v":0},{"$f":"'F13'!Z76","v":0},{"$f":"'F13'!AA76","v":0},{"$f":"'F13'!AB76","v":0},{"$f":"'F13'!AC76","v":0},{"$f":"'F13'!AD76","v":0},{"$f":"'F13'!AE76","v":0},{"$f":"'F13'!AF76","v":0},{"$f":"'F13'!AG76","v":0},{"$f":"'F13'!AH76","v":0},{"$f":"'F13'!AI76","v":0}]
[null,null,null,null,null,null,{"$f":"'F13'!A77","v":""},{"$f":"'F13'!B77","v":0},{"$f":"'F13'!C77","v":0},{"$f":"'F13'!D77","v":""},{"$f":"'F13'!E77","v":""},{"$f":"'F13'!F77","v":0},{"$f":"'F13'!G77","v":0},{"$f":"'F13'!H77","v":0},{"$f":"'F13'!I77","v":0},{"$f":"'F13'!J77","v":0},{"$f":"'F13'!K77","v":0},{"$f":"'F13'!L77","v":0},{"$f":"'F13'!M77","v":0},{"$f":"'F13'!N77","v":0},{"$f":"'F13'!O77","v":0},{"$f":"'F13'!P77","v":0},{"$f":"'F13'!Q77","v":0},{"$f":"'F13'!R77","v":0},{"$f":"'F13'!S77","v":0},{"$f":"'F13'!T77","v":0},{"$f":"'F13'!U77","v":0},{"$f":"'F13'!V77","v":0},{"$f":"'F13'!W77","v":0},{"$f":"'F13'!X77","v":0},{"$f":"'F13'!Y77","v":0},{"$f":"'F13'!Z77","v":0},{"$f":"'F13'!AA77","v":0},{"$f":"'F13'!AB77","v":0},{"$f":"'F13'!AC77","v":0},{"$f":"'F13'!AD77","v":0},{"$f":"'F13'!AE77","v":0},{"$f":"'F13'!AF77","v":0},{"$f":"'F13'!AG77","v":0},{"$f":"'F13'!AH77","v":0},{"$f":"'F13'!AI77","v":0}]
[null,null,null,null,null,null,{"$f":"'F13'!A78","v":""},{"$f":"'F13'!B78","v":0},{"$f":"'F13'!C78","v":0},{"$f":"'F13'!D78","v":""},{"$f":"'F13'!E78","v":""},{"$f":"'F13'!F78","v":0},{"$f":"'F13'!G78","v":0},{"$f":"'F13'!H78","v":0},{"$f":"'F13'!I78","v":0},{"$f":"'F13'!J78","v":0},{"$f":"'F13'!K78","v":0},{"$f":"'F13'!L78","v":0},{"$f":"'F13'!M78","v":0},{"$f":"'F13'!N78","v":0},{"$f":"'F13'!O78","v":0},{"$f":"'F13'!P78","v":0},{"$f":"'F13'!Q78","v":0},{"$f":"'F13'!R78","v":0},{"$f":"'F13'!S78","v":0},{"$f":"'F13'!T78","v":0},{"$f":"'F13'!U78","v":0},{"$f":"'F13'!V78","v":0},{"$f":"'F13'!W78","v":0},{"$f":"'F13'!X78","v":0},{"$f":"'F13'!Y78","v":0},{"$f":"'F13'!Z78","v":0},{"$f":"'F13'!AA78","v":0},{"$f":"'F13'!AB78","v":0},{"$f":"'F13'!AC78","v":0},{"$f":"'F13'!AD78","v":0},{"$f":"'F13'!AE78","v":0},{"$f":"'F13'!AF78","v":0},{"$f":"'F13'!AG78","v":0},{"$f":"'F13'!AH78","v":0},{"$f":"'F13'!AI78","v":0}]
[null,null,null,null,null,null,{"$f":"'F13'!A79","v":""},{"$f":"'F13'!B79","v":0},{"$f":"'F13'!C79","v":0},{"$f":"'F13'!D79","v":""},{"$f":"'F13'!E79","v":""},{"$f":"'F13'!F79","v":0},{"$f":"'F13'!G79","v":0},{"$f":"'F13'!H79","v":0},{"$f":"'F13'!I79","v":0},{"$f":"'F13'!J79","v":0},{"$f":"'F13'!K79","v":0},{"$f":"'F13'!L79","v":0},{"$f":"'F13'!M79","v":0},{"$f":"'F13'!N79","v":0},{"$f":"'F13'!O79","v":0},{"$f":"'F13'!P79","v":0},{"$f":"'F13'!Q79","v":0},{"$f":"'F13'!R79","v":0},{"$f":"'F13'!S79","v":0},{"$f":"'F13'!T79","v":0},{"$f":"'F13'!U79","v":0},{"$f":"'F13'!V79","v":0},{"$f":"'F13'!W79","v":0},{"$f":"'F13'!X79","v":0},{"$f":"'F13'!Y79","v":0},{"$f":"'F13'!Z79","v":0},{"$f":"'F13'!AA79","v":0},{"$f":"'F13'!AB79","v":0},{"$f":"'F13'!AC79","v":0},{"$f":"'F13'!AD79","v":0},{"$f":"'F13'!AE79","v":0},{"$f":"'F13'!AF79","v":0},{"$f":"'F13'!AG79","v":0},{"$f":"'F13'!AH79","v":0},{"$f":"'F13'!AI79","v":0}]
[null,null,null,null,null,null,{"$f":"'F13'!A80","v":""},{"$f":"'F13'!B80","v":0},{"$f":"'F13'!C80","v":0},{"$f":"'F13'!D80","v":""},{"$f":"'F13'!E80","v":""},{"$f":"'F13'!F80","v":0},{"$f":"'F13'!G80","v":0},{"$f":"'F13'!H80","v":0},{"$f":"'F13'!I80","v":0},{"$f":"'F13'!J80","v":0},{"$f":"'F13'!K80","v":0},{"$f":"'F13'!L80","v":0},{"$f":"'F13'!M80","v":0},{"$f":"'F13'!N80","v":0},{"$f":"'F13'!O80","v":0},{"$f":"'F13'!P80","v":0},{"$f":"'F13'!Q80","v":0},{"$f":"'F13'!R80","v":0},{"$f":"'F13'!S80","v":0},{"$f":"'F13'!T80","v":0},{"$f":"'F13'!U80","v":0},{"$f":"'F13'!V80","v":0},{"$f":"'F13'!W80","v":0},{"$f":"'F13'!X80","v":0},{"$f":"'F13'!Y80","v":0},{"$f":"'F13'!Z80","v":0},{"$f":"'F13'!AA80","v":0},{"$f":"'F13'!AB80","v":0},{"$f":"'F13'!AC80","v":0},{"$f":"'F13'!AD80","v":0},{"$f":"'F13'!AE80","v":0},{"$f":"'F13'!AF80","v":0},{"$f":"'F13'!AG80","v":0},{"$f":"'F13'!AH80","v":0},{"$f":"'F13'!AI80","v":0}]
[null,null,null,null,null,null,{"$f":"'F13'!A81","v":""},{"$f":"'F13'!B81","v":0},{"$f":"'F13'!C81","v":0},{"$f":"'F13'!D81","v":""},{"$f":"'F13'!E81","v":""},{"$f":"'F13'!F81","v":0},{"$f":"'F13'!G81","v":0},{"$f":"'F13'!H81","v":0},{"$f":"'F13'!I81","v":0},{"$f":"'F13'!J81","v":0},{"$f":"'F13'!K81","v":0},{"$f":"'F13'!L81","v":0},{"$f":"'F13'!M81","v":0},{"$f":"'F13'!N81","v":0},{"$f":"'F13'!O81","v":0},{"$f":"'F13'!P81","v":0},{"$f":"'F13'!Q81","v":0},{"$f":"'F13'!R81","v":0},{"$f":"'F13'!S81","v":0},{"$f":"'F13'!T81","v":0},{"$f":"'F13'!U81","v":0},{"$f":"'F13'!V81","v":0},{"$f":"'F13'!W81","v":0},{"$f":"'F13'!X81","v":0},{"$f":"'F13'!Y81","v":0},{"$f":"'F13'!Z81","v":0},{"$f":"'F13'!AA81","v":0},{"$f":"'F13'!AB81","v":0},{"$f":"'F13'!AC81","v":0},{"$f":"'F13'!AD81","v":0},{"$f":"'F13'!AE81","v":0},{"$f":"'F13'!AF81","v":0},{"$f":"'F13'!AG81","v":0},{"$f":"'F13'!AH81","v":0},{"$f":"'F13'!AI81","v":0}]
[null,null,null,null,null,null,{"$f":"'F13'!A82","v":""},{"$f":"'F13'!B82","v":0},{"$f":"'F13'!C82","v":0},{"$f":"'F13'!D82","v":""},{"$f":"'F13'!E82","v":""},{"$f":"'F13'!F82","v":0},{"$f":"'F13'!G82","v":0},{"$f":"'F13'!H82","v":0},{"$f":"'F13'!I82","v":0},{"$f":"'F13'!J82","v":0},{"$f":"'F13'!K82","v":0},{"$f":"'F13'!L82","v":0},{"$f":"'F13'!M82","v":0},{"$f":"'F13'!N82","v":0},{"$f":"'F13'!O82","v":0},{"$f":"'F13'!P82","v":0},{"$f":"'F13'!Q82","v":0},{"$f":"'F13'!R82","v":0},{"$f":"'F13'!S82","v":0},{"$f":"'F13'!T82","v":0},{"$f":"'F13'!U82","v":0},{"$f":"'F13'!V82","v":0},{"$f":"'F13'!W82","v":0},{"$f":"'F13'!X82","v":0},{"$f":"'F13'!Y82","v":0},{"$f":"'F13'!Z82","v":0},{"$f":"'F13'!AA82","v":0},{"$f":"'F13'!AB82","v":0},{"$f":"'F13'!AC82","v":0},{"$f":"'F13'!AD82","v":0},{"$f":"'F13'!AE82","v":0},{"$f":"'F13'!AF82","v":0},{"$f":"'F13'!AG82","v":0},{"$f":"'F13'!AH82","v":0},{"$f":"'F13'!AI82","v":0}]
[null,null,null,null,null,null,{"$f":"'F13'!A83","v":""},{"$f":"'F13'!B83","v":0},{"$f":"'F13'!C83","v":0},{"$f":"'F13'!D83","v":""},{"$f":"'F13'!E83","v":""},{"$f":"'F13'!F83","v":0},{"$f":"'F13'!G83","v":0},{"$f":"'F13'!H83","v":0},{"$f":"'F13'!I83","v":0},{"$f":"'F13'!J83","v":0},{"$f":"'F13'!K83","v":0},{"$f":"'F13'!L83","v":0},{"$f":"'F13'!M83","v":0},{"$f":"'F13'!N83","v":0},{"$f":"'F13'!O83","v":0},{"$f":"'F13'!P83","v":0},{"$f":"'F13'!Q83","v":0},{"$f":"'F13'!R83","v":0},{"$f":"'F13'!S83","v":0},{"$f":"'F13'!T83","v":0},{"$f":"'F13'!U83","v":0},{"$f":"'F13'!V83","v":0},{"$f":"'F13'!W83","v":0},{"$f":"'F13'!X83","v":0},{"$f":"'F13'!Y83","v":0},{"$f":"'F13'!Z83","v":0},{"$f":"'F13'!AA83","v":0},{"$f":"'F13'!AB83","v":0},{"$f":"'F13'!AC83","v":0},{"$f":"'F13'!AD83","v":0},{"$f":"'F13'!AE83","v":0},{"$f":"'F13'!AF83","v":0},{"$f":"'F13'!AG83","v":0},{"$f":"'F13'!AH83","v":0},{"$f":"'F13'!AI83","v":0}]
[null,null,null,null,null,null,{"$f":"'F13'!A84","v":""},{"$f":"'F13'!B84","v":0},{"$f":"'F13'!C84","v":0},{"$f":"'F13'!D84","v":""},{"$f":"'F13'!E84","v":""},{"$f":"'F13'!F84","v":0},{"$f":"'F13'!G84","v":0},{"$f":"'F13'!H84","v":0},{"$f":"'F13'!I84","v":0},{"$f":"'F13'!J84","v":0},{"$f":"'F13'!K84","v":0},{"$f":"'F13'!L84","v":0},{"$f":"'F13'!M84","v":0},{"$f":"'F13'!N84","v":0},{"$f":"'F13'!O84","v":0},{"$f":"'F13'!P84","v":0},{"$f":"'F13'!Q84","v":0},{"$f":"'F13'!R84","v":0},{"$f":"'F13'!S84","v":0},{"$f":"'F13'!T84","v":0},{"$f":"'F13'!U84","v":0},{"$f":"'F13'!V84","v":0},{"$f":"'F13'!W84","v":0},{"$f":"'F13'!X84","v":0},{"$f":"'F13'!Y84","v":0},{"$f":"'F13'!Z84","v":0},{"$f":"'F13'!AA84","v":0},{"$f":"'F13'!AB84","v":0},{"$f":"'F13'!AC84","v":0},{"$f":"'F13'!AD84","v":0},{"$f":"'F13'!AE84","v":0},{"$f":"'F13'!AF84","v":0},{"$f":"'F13'!AG84","v":0},{"$f":"'F13'!AH84","v":0},{"$f":"'F13'!AI84","v":0}]
[null,null,null,null,null,null,{"$f":"'F13'!A85","v":""},{"$f":"'F13'!B85","v":0},{"$f":"'F13'!C85","v":0},{"$f":"'F13'!D85","v":""},{"$f":"'F13'!E85","v":""},{"$f":"'F13'!F85","v":0},{"$f":"'F13'!G85","v":0},{"$f":"'F13'!H85","v":0},{"$f":"'F13'!I85","v":0},{"$f":"'F13'!J85","v":0},{"$f":"'F13'!K85","v":0},{"$f":"'F13'!L85","v":0},{"$f":"'F13'!M85","v":0},{"$f":"'F13'!N85","v":0},{"$f":"'F13'!O85","v":0},{"$f":"'F13'!P85","v":0},{"$f":"'F13'!Q85","v":0},{"$f":"'F13'!R85","v":0},{"$f":"'F13'!S85","v":0},{"$f":"'F13'!T85","v":0},{"$f":"'F13'!U85","v":0},{"$f":"'F13'!V85","v":0},{"$f":"'F13'!W85","v":0},{"$f":"'F13'!X85","v":0},{"$f":"'F13'!Y85","v":0},{"$f":"'F13'!Z85","v":0},{"$f":"'F13'!AA85","v":0},{"$f":"'F13'!AB85","v":0},{"$f":"'F13'!AC85","v":0},{"$f":"'F13'!AD85","v":0},{"$f":"'F13'!AE85","v":0},{"$f":"'F13'!AF85","v":0},{"$f":"'F13'!AG85","v":0},{"$f":"'F13'!AH85","v":0},{"$f":"'F13'!AI85","v":0}]
[null,null,null,null,null,null,{"$f":"'F13'!A86","v":""},{"$f":"'F13'!B86","v":0},{"$f":"'F13'!C86","v":0},{"$f":"'F13'!D86","v":""},{"$f":"'F13'!E86","v":""},{"$f":"'F13'!F86","v":0},{"$f":"'F13'!G86","v":0},{"$f":"'F13'!H86","v":0},{"$f":"'F13'!I86","v":0},{"$f":"'F13'!J86","v":0},{"$f":"'F13'!K86","v":0},{"$f":"'F13'!L86","v":0},{"$f":"'F13'!M86","v":0},{"$f":"'F13'!N86","v":0},{"$f":"'F13'!O86","v":0},{"$f":"'F13'!P86","v":0},{"$f":"'F13'!Q86","v":0},{"$f":"'F13'!R86","v":0},{"$f":"'F13'!S86","v":0},{"$f":"'F13'!T86","v":0},{"$f":"'F13'!U86","v":0},{"$f":"'F13'!V86","v":0},{"$f":"'F13'!W86","v":0},{"$f":"'F13'!X86","v":0},{"$f":"'F13'!Y86","v":0},{"$f":"'F13'!Z86","v":0},{"$f":"'F13'!AA86","v":0},{"$f":"'F13'!AB86","v":0},{"$f":"'F13'!AC86","v":0},{"$f":"'F13'!AD86","v":0},{"$f":"'F13'!AE86","v":0},{"$f":"'F13'!AF86","v":0},{"$f":"'F13'!AG86","v":0},{"$f":"'F13'!AH86","v":0},{"$f":"'F13'!AI86","v":0}]
[null,null,null,null,null,null,{"$f":"'F13'!A87","v":""},{"$f":"'F13'!B87","v":0},{"$f":"'F13'!C87","v":0},{"$f":"'F13'!D87","v":""},{"$f":"'F13'!E87","v":""},{"$f":"'F13'!F87","v":0},{"$f":"'F13'!G87","v":0},{"$f":"'F13'!H87","v":0},{"$f":"'F13'!I87","v":0},{"$f":"'F13'!J87","v":0},{"$f":"'F13'!K87","v":0},{"$f":"'F13'!L87","v":0},{"$f":"'F13'!M87","v":0},{"$f":"'F13'!N87","v":0},{"$f":"'F13'!O87","v":0},{"$f":"'F13'!P87","v":0},{"$f":"'F13'!Q87","v":0},{"$f":"'F13'!R87","v":0},{"$f":"'F13'!S87","v":0},{"$f":"'F13'!T87","v":0},{"$f":"'F13'!U87","v":0},{"$f":"'F13'!V87","v":0},{"$f":"'F13'!W87","v":0},{"$f":"'F13'!X87","v":0},{"$f":"'F13'!Y87","v":0},{"$f":"'F13'!Z87","v":0},{"$f":"'F13'!AA87","v":0},{"$f":"'F13'!AB87","v":0},{"$f":"'F13'!AC87","v":0},{"$f":"'F13'!AD87","v":0},{"$f":"'F13'!AE87","v":0},{"$f":"'F13'!AF87","v":0},{"$f":"'F13'!AG87","v":0},{"$f":"'F13'!AH87","v":0},{"$f":"'F13'!AI87","v":0}]
[null,null,null,null,null,null,{"$f":"'F13'!A88","v":""},{"$f":"'F13'!B88","v":0},{"$f":"'F13'!C88","v":0},{"$f":"'F13'!D88","v":""},{"$f":"'F13'!E88","v":""},{"$f":"'F13'!F88","v":0},{"$f":"'F13'!G88","v":0},{"$f":"'F13'!H88","v":0},{"$f":"'F13'!I88","v":0},{"$f":"'F13'!J88","v":0},{"$f":"'F13'!K88","v":0},{"$f":"'F13'!L88","v":0},{"$f":"'F13'!M88","v":0},{"$f":"'F13'!N88","v":0},{"$f":"'F13'!O88","v":0},{"$f":"'F13'!P88","v":0},{"$f":"'F13'!Q88","v":0},{"$f":"'F13'!R88","v":0},{"$f":"'F13'!S88","v":0},{"$f":"'F13'!T88","v":0},{"$f":"'F13'!U88","v":0},{"$f":"'F13'!V88","v":0},{"$f":"'F13'!W88","v":0},{"$f":"'F13'!X88","v":0},{"$f":"'F13'!Y88","v":0},{"$f":"'F13'!Z88","v":0},{"$f":"'F13'!AA88","v":0},{"$f":"'F13'!AB88","v":0},{"$f":"'F13'!AC88","v":0},{"$f":"'F13'!AD88","v":0},{"$f":"'F13'!AE88","v":0},{"$f":"'F13'!AF88","v":0},{"$f":"'F13'!AG88","v":0},{"$f":"'F13'!AH88","v":0},{"$f":"'F13'!AI88","v":0}]
[null,null,null,null,null,null,{"$f":"'F13'!A89","v":""},{"$f":"'F13'!B89","v":0},{"$f":"'F13'!C89","v":0},{"$f":"'F13'!D89","v":""},{"$f":"'F13'!E89","v":""},{"$f":"'F13'!F89","v":0},{"$f":"'F13'!G89","v":0},{"$f":"'F13'!H89","v":0},{"$f":"'F13'!I89","v":0},{"$f":"'F13'!J89","v":0},{"$f":"'F13'!K89","v":0},{"$f":"'F13'!L89","v":0},{"$f":"'F13'!M89","v":0},{"$f":"'F13'!N89","v":0},{"$f":"'F13'!O89","v":0},{"$f":"'F13'!P89","v":0},{"$f":"'F13'!Q89","v":0},{"$f":"'F13'!R89","v":0},{"$f":"'F13'!S89","v":0},{"$f":"'F13'!T89","v":0},{"$f":"'F13'!U89","v":0},{"$f":"'F13'!V89","v":0},{"$f":"'F13'!W89","v":0},{"$f":"'F13'!X89","v":0},{"$f":"'F13'!Y89","v":0},{"$f":"'F13'!Z89","v":0},{"$f":"'F13'!AA89","v":0},{"$f":"'F13'!AB89","v":0},{"$f":"'F13'!AC89","v":0},{"$f":"'F13'!AD89","v":0},{"$f":"'F13'!AE89","v":0},{"$f":"'F13'!AF89","v":0},{"$f":"'F13'!AG89","v":0},{"$f":"'F13'!AH89","v":0},{"$f":"'F13'!AI89","v":0}]
[null,null,null,null,null,null,{"$f":"'F13'!A90","v":""},{"$f":"'F13'!B90","v":0},{"$f":"'F13'!C90","v":0},{"$f":"'F13'!D90","v":""},{"$f":"'F13'!E90","v":""},{"$f":"'F13'!F90","v":0},{"$f":"'F13'!G90","v":0},{"$f":"'F13'!H90","v":0},{"$f":"'F13'!I90","v":0},{"$f":"'F13'!J90","v":0},{"$f":"'F13'!K90","v":0},{"$f":"'F13'!L90","v":0},{"$f":"'F13'!M90","v":0},{"$f":"'F13'!N90","v":0},{"$f":"'F13'!O90","v":0},{"$f":"'F13'!P90","v":0},{"$f":"'F13'!Q90","v":0},{"$f":"'F13'!R90","v":0},{"$f":"'F13'!S90","v":0},{"$f":"'F13'!T90","v":0},{"$f":"'F13'!U90","v":0},{"$f":"'F13'!V90","v":0},{"$f":"'F13'!W90","v":0},{"$f":"'F13'!X90","v":0},{"$f":"'F13'!Y90","v":0},{"$f":"'F13'!Z90","v":0},{"$f":"'F13'!AA90","v":0},{"$f":"'F13'!AB90","v":0},{"$f":"'F13'!AC90","v":0},{"$f":"'F13'!AD90","v":0},{"$f":"'F13'!AE90","v":0},{"$f":"'F13'!AF90","v":0},{"$f":"'F13'!AG90","v":0},{"$f":"'F13'!AH90","v":0},{"$f":"'F13'!AI90","v":0}]
[null,null,null,null,null,null,{"$f":"'F13'!A91","v":""},{"$f":"'F13'!B91","v":0},{"$f":"'F13'!C91","v":0},{"$f":"'F13'!D91","v":""},{"$f":"'F13'!E91","v":""},{"$f":"'F13'!F91","v":0},{"$f":"'F13'!G91","v":0},{"$f":"'F13'!H91","v":0},{"$f":"'F13'!I91","v":0},{"$f":"'F13'!J91","v":0},{"$f":"'F13'!K91","v":0},{"$f":"'F13'!L91","v":0},{"$f":"'F13'!M91","v":0},{"$f":"'F13'!N91","v":0},{"$f":"'F13'!O91","v":0},{"$f":"'F13'!P91","v":0},{"$f":"'F13'!Q91","v":0},{"$f":"'F13'!R91","v":0},{"$f":"'F13'!S91","v":0},{"$f":"'F13'!T91","v":0},{"$f":"'F13'!U91","v":0},{"$f":"'F13'!V91","v":0},{"$f":"'F13'!W91","v":0},{"$f":"'F13'!X91","v":0},{"$f":"'F13'!Y91","v":0},{"$f":"'F13'!Z91","v":0},{"$f":"'F13'!AA91","v":0},{"$f":"'F13'!AB91","v":0},{"$f":"'F13'!AC91","v":0},{"$f":"'F13'!AD91","v":0},{"$f":"'F13'!AE91","v":0},{"$f":"'F13'!AF91","v":0},{"$f":"'F13'!AG91","v":0},{"$f":"'F13'!AH91","v":0},{"$f":"'F13'!AI91","v":0}]
[null,null,null,null,null,null,{"$f":"'F13'!A92","v":""},{"$f":"'F13'!B92","v":0},{"$f":"'F13'!C92","v":0},{"$f":"'F13'!D92","v":""},{"$f":"'F13'!E92","v":""},{"$f":"'F13'!F92","v":0},{"$f":"'F13'!G92","v":0},{"$f":"'F13'!H92","v":0},{"$f":"'F13'!I92","v":0},{"$f":"'F13'!J92","v":0},{"$f":"'F13'!K92","v":0},{"$f":"'F13'!L92","v":0},{"$f":"'F13'!M92","v":0},{"$f":"'F13'!N92","v":0},{"$f":"'F13'!O92","v":0},{"$f":"'F13'!P92","v":0},{"$f":"'F13'!Q92","v":0},{"$f":"'F13'!R92","v":0},{"$f":"'F13'!S92","v":0},{"$f":"'F13'!T92","v":0},{"$f":"'F13'!U92","v":0},{"$f":"'F13'!V92","v":0},{"$f":"'F13'!W92","v":0},{"$f":"'F13'!X92","v":0},{"$f":"'F13'!Y92","v":0},{"$f":"'F13'!Z92","v":0},{"$f":"'F13'!AA92","v":0},{"$f":"'F13'!AB92","v":0},{"$f":"'F13'!AC92","v":0},{"$f":"'F13'!AD92","v":0},{"$f":"'F13'!AE92","v":0},{"$f":"'F13'!AF92","v":0},{"$f":"'F13'!AG92","v":0},{"$f":"'F13'!AH92","v":0},{"$f":"'F13'!AI92","v":0}]
[null,null,null,null,null,null,{"$f":"'F13'!A93","v":""},{"$f":"'F13'!B93","v":0},{"$f":"'F13'!C93","v":0},{"$f":"'F13'!D93","v":""},{"$f":"'F13'!E93","v":""},{"$f":"'F13'!F93","v":0},{"$f":"'F13'!G93","v":0},{"$f":"'F13'!H93","v":0},{"$f":"'F13'!I93","v":0},{"$f":"'F13'!J93","v":0},{"$f":"'F13'!K93","v":0},{"$f":"'F13'!L93","v":0},{"$f":"'F13'!M93","v":0},{"$f":"'F13'!N93","v":0},{"$f":"'F13'!O93","v":0},{"$f":"'F13'!P93","v":0},{"$f":"'F13'!Q93","v":0},{"$f":"'F13'!R93","v":0},{"$f":"'F13'!S93","v":0},{"$f":"'F13'!T93","v":0},{"$f":"'F13'!U93","v":0},{"$f":"'F13'!V93","v":0},{"$f":"'F13'!W93","v":0},{"$f":"'F13'!X93","v":0},{"$f":"'F13'!Y93","v":0},{"$f":"'F13'!Z93","v":0},{"$f":"'F13'!AA93","v":0},{"$f":"'F13'!AB93","v":0},{"$f":"'F13'!AC93","v":0},{"$f":"'F13'!AD93","v":0},{"$f":"'F13'!AE93","v":0},{"$f":"'F13'!AF93","v":0},{"$f":"'F13'!AG93","v":0},{"$f":"'F13'!AH93","v":0},{"$f":"'F13'!AI93","v":0}]
[null,null,null,null,null,null,{"$f":"'F13'!A94","v":""},{"$f":"'F13'!B94","v":0},{"$f":"'F13'!C94","v":0},{"$f":"'F13'!D94","v":""},{"$f":"'F13'!E94","v":""},{"$f":"'F13'!F94","v":0},{"$f":"'F13'!G94","v":0},{"$f":"'F13'!H94","v":0},{"$f":"'F13'!I94","v":0},{"$f":"'F13'!J94","v":0},{"$f":"'F13'!K94","v":0},{"$f":"'F13'!L94","v":0},{"$f":"'F13'!M94","v":0},{"$f":"'F13'!N94","v":0},{"$f":"'F13'!O94","v":0},{"$f":"'F13'!P94","v":0},{"$f":"'F13'!Q94","v":0},{"$f":"'F13'!R94","v":0},{"$f":"'F13'!S94","v":0},{"$f":"'F13'!T94","v":0},{"$f":"'F13'!U94","v":0},{"$f":"'F13'!V94","v":0},{"$f":"'F13'!W94","v":0},{"$f":"'F13'!X94","v":0},{"$f":"'F13'!Y94","v":0},{"$f":"'F13'!Z94","v":0},{"$f":"'F13'!AA94","v":0},{"$f":"'F13'!AB94","v":0},{"$f":"'F13'!AC94","v":0},{"$f":"'F13'!AD94","v":0},{"$f":"'F13'!AE94","v":0},{"$f":"'F13'!AF94","v":0},{"$f":"'F13'!AG94","v":0},{"$f":"'F13'!AH94","v":0},{"$f":"'F13'!AI94","v":0}]
[null,null,null,null,null,null,{"$f":"'F13'!A95","v":""},{"$f":"'F13'!B95","v":0},{"$f":"'F13'!C95","v":0},{"$f":"'F13'!D95","v":""},{"$f":"'F13'!E95","v":""},{"$f":"'F13'!F95","v":0},{"$f":"'F13'!G95","v":0},{"$f":"'F13'!H95","v":0},{"$f":"'F13'!I95","v":0},{"$f":"'F13'!J95","v":0},{"$f":"'F13'!K95","v":0},{"$f":"'F13'!L95","v":0},{"$f":"'F13'!M95","v":0},{"$f":"'F13'!N95","v":0},{"$f":"'F13'!O95","v":0},{"$f":"'F13'!P95","v":0},{"$f":"'F13'!Q95","v":0},{"$f":"'F13'!R95","v":0},{"$f":"'F13'!S95","v":0},{"$f":"'F13'!T95","v":0},{"$f":"'F13'!U95","v":0},{"$f":"'F13'!V95","v":0},{"$f":"'F13'!W95","v":0},{"$f":"'F13'!X95","v":0},{"$f":"'F13'!Y95","v":0},{"$f":"'F13'!Z95","v":0},{"$f":"'F13'!AA95","v":0},{"$f":"'F13'!AB95","v":0},{"$f":"'F13'!AC95","v":0},{"$f":"'F13'!AD95","v":0},{"$f":"'F13'!AE95","v":0},{"$f":"'F13'!AF95","v":0},{"$f":"'F13'!AG95","v":0},{"$f":"'F13'!AH95","v":0},{"$f":"'F13'!AI95","v":0}]
[null,null,null,null,null,null,{"$f":"'F13'!A96","v":""},{"$f":"'F13'!B96","v":0},{"$f":"'F13'!C96","v":0},{"$f":"'F13'!D96","v":""},{"$f":"'F13'!E96","v":""},{"$f":"'F13'!F96","v":0},{"$f":"'F13'!G96","v":0},{"$f":"'F13'!H96","v":0},{"$f":"'F13'!I96","v":0},{"$f":"'F13'!J96","v":0},{"$f":"'F13'!K96","v":0},{"$f":"'F13'!L96","v":0},{"$f":"'F13'!M96","v":0},{"$f":"'F13'!N96","v":0},{"$f":"'F13'!O96","v":0},{"$f":"'F13'!P96","v":0},{"$f":"'F13'!Q96","v":0},{"$f":"'F13'!R96","v":0},{"$f":"'F13'!S96","v":0},{"$f":"'F13'!T96","v":0},{"$f":"'F13'!U96","v":0},{"$f":"'F13'!V96","v":0},{"$f":"'F13'!W96","v":0},{"$f":"'F13'!X96","v":0},{"$f":"'F13'!Y96","v":0},{"$f":"'F13'!Z96","v":0},{"$f":"'F13'!AA96","v":0},{"$f":"'F13'!AB96","v":0},{"$f":"'F13'!AC96","v":0},{"$f":"'F13'!AD96","v":0},{"$f":"'F13'!AE96","v":0},{"$f":"'F13'!AF96","v":0},{"$f":"'F13'!AG96","v":0},{"$f":"'F13'!AH96","v":0},{"$f":"'F13'!AI96","v":0}]
[null,null,null,null,null,null,{"$f":"'F13'!A97","v":""},{"$f":"'F13'!B97","v":0},{"$f":"'F13'!C97","v":0},{"$f":"'F13'!D97","v":""},{"$f":"'F13'!E97","v":""},{"$f":"'F13'!F97","v":0},{"$f":"'F13'!G97","v":0},{"$f":"'F13'!H97","v":0},{"$f":"'F13'!I97","v":0},{"$f":"'F13'!J97","v":0},{"$f":"'F13'!K97","v":0},{"$f":"'F13'!L97","v":0},{"$f":"'F13'!M97","v":0},{"$f":"'F13'!N97","v":0},{"$f":"'F13'!O97","v":0},{"$f":"'F13'!P97","v":0},{"$f":"'F13'!Q97","v":0},{"$f":"'F13'!R97","v":0},{"$f":"'F13'!S97","v":0},{"$f":"'F13'!T97","v":0},{"$f":"'F13'!U97","v":0},{"$f":"'F13'!V97","v":0},{"$f":"'F13'!W97","v":0},{"$f":"'F13'!X97","v":0},{"$f":"'F13'!Y97","v":0},{"$f":"'F13'!Z97","v":0},{"$f":"'F13'!AA97","v":0},{"$f":"'F13'!AB97","v":0},{"$f":"'F13'!AC97","v":0},{"$f":"'F13'!AD97","v":0},{"$f":"'F13'!AE97","v":0},{"$f":"'F13'!AF97","v":0},{"$f":"'F13'!AG97","v":0},{"$f":"'F13'!AH97","v":0},{"$f":"'F13'!AI97","v":0}]
[null,null,null,null,null,null,{"$f":"'F13'!A98","v":""},{"$f":"'F13'!B98","v":0},{"$f":"'F13'!C98","v":0},{"$f":"'F13'!D98","v":""},{"$f":"'F13'!E98","v":""},{"$f":"'F13'!F98","v":0},{"$f":"'F13'!G98","v":0},{"$f":"'F13'!H98","v":0},{"$f":"'F13'!I98","v":0},{"$f":"'F13'!J98","v":0},{"$f":"'F13'!K98","v":0},{"$f":"'F13'!L98","v":0},{"$f":"'F13'!M98","v":0},{"$f":"'F13'!N98","v":0},{"$f":"'F13'!O98","v":0},{"$f":"'F13'!P98","v":0},{"$f":"'F13'!Q98","v":0},{"$f":"'F13'!R98","v":0},{"$f":"'F13'!S98","v":0},{"$f":"'F13'!T98","v":0},{"$f":"'F13'!U98","v":0},{"$f":"'F13'!V98","v":0},{"$f":"'F13'!W98","v":0},{"$f":"'F13'!X98","v":0},{"$f":"'F13'!Y98","v":0},{"$f":"'F13'!Z98","v":0},{"$f":"'F13'!AA98","v":0},{"$f":"'F13'!AB98","v":0},{"$f":"'F13'!AC98","v":0},{"$f":"'F13'!AD98","v":0},{"$f":"'F13'!AE98","v":0},{"$f":"'F13'!AF98","v":0},{"$f":"'F13'!AG98","v":0},{"$f":"'F13'!AH98","v":0},{"$f":"'F13'!AI98","v":0}]
[null,null,null,null,null,null,{"$f":"'F13'!A99","v":""},{"$f":"'F13'!B99","v":0},{"$f":"'F13'!C99","v":0},{"$f":"'F13'!D99","v":""},{"$f":"'F13'!E99","v":""},{"$f":"'F13'!F99","v":0},{"$f":"'F13'!G99","v":0},{"$f":"'F13'!H99","v":0},{"$f":"'F13'!I99","v":0},{"$f":"'F13'!J99","v":0},{"$f":"'F13'!K99","v":0},{"$f":"'F13'!L99","v":0},{"$f":"'F13'!M99","v":0},{"$f":"'F13'!N99","v":0},{"$f":"'F13'!O99","v":0},{"$f":"'F13'!P99","v":0},{"$f":"'F13'!Q99","v":0},{"$f":"'F13'!R99","v":0},{"$f":"'F13'!S99","v":0},{"$f":"'F13'!T99","v":0},{"$f":"'F13'!U99","v":0},{"$f":"'F13'!V99","v":0},{"$f":"'F13'!W99","v":0},{"$f":"'F13'!X99","v":0},{"$f":"'F13'!Y99","v":0},{"$f":"'F13'!Z99","v":0},{"$f":"'F13'!AA99","v":0},{"$f":"'F13'!AB99","v":0},{"$f":"'F13'!AC99","v":0},{"$f":"'F13'!AD99","v":0},{"$f":"'F13'!AE99","v":0},{"$f":"'F13'!AF99","v":0},{"$f":"'F13'!AG99","v":0},{"$f":"'F13'!AH99","v":0},{"$f":"'F13'!AI99","v":0}]
[null,null,null,null,null,null,{"$f":"'F13'!A100","v":""},{"$f":"'F13'!B100","v":0},{"$f":"'F13'!C100","v":0},{"$f":"'F13'!D100","v":""},{"$f":"'F13'!E100","v":""},{"$f":"'F13'!F100","v":0},{"$f":"'F13'!G100","v":0},{"$f":"'F13'!H100","v":0},{"$f":"'F13'!I100","v":0},{"$f":"'F13'!J100","v":0},{"$f":"'F13'!K100","v":0},{"$f":"'F13'!L100","v":0},{"$f":"'F13'!M100","v":0},{"$f":"'F13'!N100","v":0},{"$f":"'F13'!O100","v":0},{"$f":"'F13'!P100","v":0},{"$f":"'F13'!Q100","v":0},{"$f":"'F13'!R100","v":0},{"$f":"'F13'!S100","v":0},{"$f":"'F13'!T100","v":0},{"$f":"'F13'!U100","v":0},{"$f":"'F13'!V100","v":0},{"$f":"'F13'!W100","v":0},{"$f":"'F13'!X100","v":0},{"$f":"'F13'!Y100","v":0},{"$f":"'F13'!Z100","v":0},{"$f":"'F13'!AA100","v":0},{"$f":"'F13'!AB100","v":0},{"$f":"'F13'!AC100","v":0},{"$f":"'F13'!AD100","v":0},{"$f":"'F13'!AE100","v":0},{"$f":"'F13'!AF100","v":0},{"$f":"'F13'!AG100","v":0},{"$f":"'F13'!AH100","v":0},{"$f":"'F13'!AI100","v":0}]
[null,null,null,null,null,null,{"$f":"'F13'!A101","v":""},{"$f":"'F13'!B101","v":0},{"$f":"'F13'!C101","v":0},{"$f":"'F13'!D101","v":""},{"$f":"'F13'!E101","v":""},{"$f":"'F13'!F101","v":0},{"$f":"'F13'!G101","v":0},{"$f":"'F13'!H101","v":0},{"$f":"'F13'!I101","v":0},{"$f":"'F13'!J101","v":0},{"$f":"'F13'!K101","v":0},{"$f":"'F13'!L101","v":0},{"$f":"'F13'!M101","v":0},{"$f":"'F13'!N101","v":0},{"$f":"'F13'!O101","v":0},{"$f":"'F13'!P101","v":0},{"$f":"'F13'!Q101","v":0},{"$f":"'F13'!R101","v":0},{"$f":"'F13'!S101","v":0},{"$f":"'F13'!T101","v":0},{"$f":"'F13'!U101","v":0},{"$f":"'F13'!V101","v":0},{"$f":"'F13'!W101","v":0},{"$f":"'F13'!X101","v":0},{"$f":"'F13'!Y101","v":0},{"$f":"'F13'!Z101","v":0},{"$f":"'F13'!AA101","v":0},{"$f":"'F13'!AB101","v":0},{"$f":"'F13'!AC101","v":0},{"$f":"'F13'!AD101","v":0},{"$f":"'F13'!AE101","v":0},{"$f":"'F13'!AF101","v":0},{"$f":"'F13'!AG101","v":0},{"$f":"'F13'!AH101","v":0},{"$f":"'F13'!AI101","v":0}]
[null,null,null,null,null,null,{"$f":"'F13'!A102","v":""},{"$f":"'F13'!B102","v":0},{"$f":"'F13'!C102","v":0},{"$f":"'F13'!D102","v":""},{"$f":"'F13'!E102","v":""},{"$f":"'F13'!F102","v":0},{"$f":"'F13'!G102","v":0},{"$f":"'F13'!H102","v":0},{"$f":"'F13'!I102","v":0},{"$f":"'F13'!J102","v":0},{"$f":"'F13'!K102","v":0},{"$f":"'F13'!L102","v":0},{"$f":"'F13'!M102","v":0},{"$f":"'F13'!N102","v":0},{"$f":"'F13'!O102","v":0},{"$f":"'F13'!P102","v":0},{"$f":"'F13'!Q102","v":0},{"$f":"'F13'!R102","v":0},{"$f":"'F13'!S102","v":0},{"$f":"'F13'!T102","v":0},{"$f":"'F13'!U102","v":0},{"$f":"'F13'!V102","v":0},{"$f":"'F13'!W102","v":0},{"$f":"'F13'!X102","v":0},{"$f":"'F13'!Y102","v":0},{"$f":"'F13'!Z102","v":0},{"$f":"'F13'!AA102","v":0},{"$f":"'F13'!AB102","v":0},{"$f":"'F13'!AC102","v":0},{"$f":"'F13'!AD102","v":0},{"$f":"'F13'!AE102","v":0},{"$f":"'F13'!AF102","v":0},{"$f":"'F13'!AG102","v":0},{"$f":"'F13'!AH102","v":0},{"$f":"'F13'!AI102","v":0}]
[null,null,null,null,null,null,{"$f":"'F13'!A103","v":""},{"$f":"'F13'!B103","v":0},{"$f":"'F13'!C103","v":0},{"$f":"'F13'!D103","v":""},{"$f":"'F13'!E103","v":""},{"$f":"'F13'!F103","v":0},{"$f":"'F13'!G103","v":0},{"$f":"'F13'!H103","v":0},{"$f":"'F13'!I103","v":0},{"$f":"'F13'!J103","v":0},{"$f":"'F13'!K103","v":0},{"$f":"'F13'!L103","v":0},{"$f":"'F13'!M103","v":0},{"$f":"'F13'!N103","v":0},{"$f":"'F13'!O103","v":0},{"$f":"'F13'!P103","v":0},{"$f":"'F13'!Q103","v":0},{"$f":"'F13'!R103","v":0},{"$f":"'F13'!S103","v":0},{"$f":"'F13'!T103","v":0},{"$f":"'F13'!U103","v":0},{"$f":"'F13'!V103","v":0},{"$f":"'F13'!W103","v":0},{"$f":"'F13'!X103","v":0},{"$f":"'F13'!Y103","v":0},{"$f":"'F13'!Z103","v":0},{"$f":"'F13'!AA103","v":0},{"$f":"'F13'!AB103","v":0},{"$f":"'F13'!AC103","v":0},{"$f":"'F13'!AD103","v":0},{"$f":"'F13'!AE103","v":0},{"$f":"'F13'!AF103","v":0},{"$f":"'F13'!AG103","v":0},{"$f":"'F13'!AH103","v":0},{"$f":"'F13'!AI103","v":0}]
[null,null,null,null,null,null,{"$f":"'F13'!A104","v":""},{"$f":"'F13'!B104","v":0},{"$f":"'F13'!C104","v":0},{"$f":"'F13'!D104","v":""},{"$f":"'F13'!E104","v":""},{"$f":"'F13'!F104","v":0},{"$f":"'F13'!G104","v":0},{"$f":"'F13'!H104","v":0},{"$f":"'F13'!I104","v":0},{"$f":"'F13'!J104","v":0},{"$f":"'F13'!K104","v":0},{"$f":"'F13'!L104","v":0},{"$f":"'F13'!M104","v":0},{"$f":"'F13'!N104","v":0},{"$f":"'F13'!O104","v":0},{"$f":"'F13'!P104","v":0},{"$f":"'F13'!Q104","v":0},{"$f":"'F13'!R104","v":0},{"$f":"'F13'!S104","v":0},{"$f":"'F13'!T104","v":0},{"$f":"'F13'!U104","v":0},{"$f":"'F13'!V104","v":0},{"$f":"'F13'!W104","v":0},{"$f":"'F13'!X104","v":0},{"$f":"'F13'!Y104","v":0},{"$f":"'F13'!Z104","v":0},{"$f":"'F13'!AA104","v":0},{"$f":"'F13'!AB104","v":0},{"$f":"'F13'!AC104","v":0},{"$f":"'F13'!AD104","v":0},{"$f":"'F13'!AE104","v":0},{"$f":"'F13'!AF104","v":0},{"$f":"'F13'!AG104","v":0},{"$f":"'F13'!AH104","v":0},{"$f":"'F13'!AI104","v":0}]
[null,null,null,null,null,null,{"$f":"'F13'!A105","v":""},{"$f":"'F13'!B105","v":0},{"$f":"'F13'!C105","v":0},{"$f":"'F13'!D105","v":""},{"$f":"'F13'!E105","v":""},{"$f":"'F13'!F105","v":0},{"$f":"'F13'!G105","v":0},{"$f":"'F13'!H105","v":0},{"$f":"'F13'!I105","v":0},{"$f":"'F13'!J105","v":0},{"$f":"'F13'!K105","v":0},{"$f":"'F13'!L105","v":0},{"$f":"'F13'!M105","v":0},{"$f":"'F13'!N105","v":0},{"$f":"'F13'!O105","v":0},{"$f":"'F13'!P105","v":0},{"$f":"'F13'!Q105","v":0},{"$f":"'F13'!R105","v":0},{"$f":"'F13'!S105","v":0},{"$f":"'F13'!T105","v":0},{"$f":"'F13'!U105","v":0},{"$f":"'F13'!V105","v":0},{"$f":"'F13'!W105","v":0},{"$f":"'F13'!X105","v":0},{"$f":"'F13'!Y105","v":0},{"$f":"'F13'!Z105","v":0},{"$f":"'F13'!AA105","v":0},{"$f":"'F13'!AB105","v":0},{"$f":"'F13'!AC105","v":0},{"$f":"'F13'!AD105","v":0},{"$f":"'F13'!AE105","v":0},{"$f":"'F13'!AF105","v":0},{"$f":"'F13'!AG105","v":0},{"$f":"'F13'!AH105","v":0},{"$f":"'F13'!AI105","v":0}]
[null,null,null,null,null,null,{"$f":"'F13'!A106","v":""},{"$f":"'F13'!B106","v":0},{"$f":"'F13'!C106","v":0},{"$f":"'F13'!D106","v":""},{"$f":"'F13'!E106","v":""},{"$f":"'F13'!F106","v":0},{"$f":"'F13'!G106","v":0},{"$f":"'F13'!H106","v":0},{"$f":"'F13'!I106","v":0},{"$f":"'F13'!J106","v":0},{"$f":"'F13'!K106","v":0},{"$f":"'F13'!L106","v":0},{"$f":"'F13'!M106","v":0},{"$f":"'F13'!N106","v":0},{"$f":"'F13'!O106","v":0},{"$f":"'F13'!P106","v":0},{"$f":"'F13'!Q106","v":0},{"$f":"'F13'!R106","v":0},{"$f":"'F13'!S106","v":0},{"$f":"'F13'!T106","v":0},{"$f":"'F13'!U106","v":0},{"$f":"'F13'!V106","v":0},{"$f":"'F13'!W106","v":0},{"$f":"'F13'!X106","v":0},{"$f":"'F13'!Y106","v":0},{"$f":"'F13'!Z106","v":0},{"$f":"'F13'!AA106","v":0},{"$f":"'F13'!AB106","v":0},{"$f":"'F13'!AC106","v":0},{"$f":"'F13'!AD106","v":0},{"$f":"'F13'!AE106","v":0},{"$f":"'F13'!AF106","v":0},{"$f":"'F13'!AG106","v":0},{"$f":"'F13'!AH106","v":0},{"$f":"'F13'!AI106","v":0}]
[null,null,null,null,null,null,{"$f":"'F13'!A107","v":""},{"$f":"'F13'!B107","v":0},{"$f":"'F13'!C107","v":0},{"$f":"'F13'!D107","v":""},{"$f":"'F13'!E107","v":""},{"$f":"'F13'!F107","v":0},{"$f":"'F13'!G107","v":0},{"$f":"'F13'!H107","v":0},{"$f":"'F13'!I107","v":0},{"$f":"'F13'!J107","v":0},{"$f":"'F13'!K107","v":0},{"$f":"'F13'!L107","v":0},{"$f":"'F13'!M107","v":0},{"$f":"'F13'!N107","v":0},{"$f":"'F13'!O107","v":0},{"$f":"'F13'!P107","v":0},{"$f":"'F13'!Q107","v":0},{"$f":"'F13'!R107","v":0},{"$f":"'F13'!S107","v":0},{"$f":"'F13'!T107","v":0},{"$f":"'F13'!U107","v":0},{"$f":"'F13'!V107","v":0},{"$f":"'F13'!W107","v":0},{"$f":"'F13'!X107","v":0},{"$f":"'F13'!Y107","v":0},{"$f":"'F13'!Z107","v":0},{"$f":"'F13'!AA107","v":0},{"$f":"'F13'!AB107","v":0},{"$f":"'F13'!AC107","v":0},{"$f":"'F13'!AD107","v":0},{"$f":"'F13'!AE107","v":0},{"$f":"'F13'!AF107","v":0},{"$f":"'F13'!AG107","v":0},{"$f":"'F13'!AH107","v":0},{"$f":"'F13'!AI107","v":0}]
[null,null,null,null,null,null,{"$f":"'F13'!A108","v":""},{"$f":"'F13'!B108","v":0},{"$f":"'F13'!C108","v":0},{"$f":"'F13'!D108","v":""},{"$f":"'F13'!E108","v":""},{"$f":"'F13'!F108","v":0},{"$f":"'F13'!G108","v":0},{"$f":"'F13'!H108","v":0},{"$f":"'F13'!I108","v":0},{"$f":"'F13'!J108","v":0},{"$f":"'F13'!K108","v":0},{"$f":"'F13'!L108","v":0},{"$f":"'F13'!M108","v":0},{"$f":"'F13'!N108","v":0},{"$f":"'F13'!O108","v":0},{"$f":"'F13'!P108","v":0},{"$f":"'F13'!Q108","v":0},{"$f":"'F13'!R108","v":0},{"$f":"'F13'!S108","v":0},{"$f":"'F13'!T108","v":0},{"$f":"'F13'!U108","v":0},{"$f":"'F13'!V108","v":0},{"$f":"'F13'!W108","v":0},{"$f":"'F13'!X108","v":0},{"$f":"'F13'!Y108","v":0},{"$f":"'F13'!Z108","v":0},{"$f":"'F13'!AA108","v":0},{"$f":"'F13'!AB108","v":0},{"$f":"'F13'!AC108","v":0},{"$f":"'F13'!AD108","v":0},{"$f":"'F13'!AE108","v":0},{"$f":"'F13'!AF108","v":0},{"$f":"'F13'!AG108","v":0},{"$f":"'F13'!AH108","v":0},{"$f":"'F13'!AI108","v":0}]
[null,null,null,null,null,null,{"$f":"'F13'!A109","v":""},{"$f":"'F13'!B109","v":0},{"$f":"'F13'!C109","v":0},{"$f":"'F13'!D109","v":""},{"$f":"'F13'!E109","v":""},{"$f":"'F13'!F109","v":0},{"$f":"'F13'!G109","v":0},{"$f":"'F13'!H109","v":0},{"$f":"'F13'!I109","v":0},{"$f":"'F13'!J109","v":0},{"$f":"'F13'!K109","v":0},{"$f":"'F13'!L109","v":0},{"$f":"'F13'!M109","v":0},{"$f":"'F13'!N109","v":0},{"$f":"'F13'!O109","v":0},{"$f":"'F13'!P109","v":0},{"$f":"'F13'!Q109","v":0},{"$f":"'F13'!R109","v":0},{"$f":"'F13'!S109","v":0},{"$f":"'F13'!T109","v":0},{"$f":"'F13'!U109","v":0},{"$f":"'F13'!V109","v":0},{"$f":"'F13'!W109","v":0},{"$f":"'F13'!X109","v":0},{"$f":"'F13'!Y109","v":0},{"$f":"'F13'!Z109","v":0},{"$f":"'F13'!AA109","v":0},{"$f":"'F13'!AB109","v":0},{"$f":"'F13'!AC109","v":0},{"$f":"'F13'!AD109","v":0},{"$f":"'F13'!AE109","v":0},{"$f":"'F13'!AF109","v":0},{"$f":"'F13'!AG109","v":0},{"$f":"'F13'!AH109","v":0},{"$f":"'F13'!AI109","v":0}]
[null,null,null,null,null,null,{"$f":"'F13'!A110","v":""},{"$f":"'F13'!B110","v":0},{"$f":"'F13'!C110","v":0},{"$f":"'F13'!D110","v":""},{"$f":"'F13'!E110","v":""},{"$f":"'F13'!F110","v":0},{"$f":"'F13'!G110","v":0},{"$f":"'F13'!H110","v":0},{"$f":"'F13'!I110","v":0},{"$f":"'F13'!J110","v":0},{"$f":"'F13'!K110","v":0},{"$f":"'F13'!L110","v":0},{"$f":"'F13'!M110","v":0},{"$f":"'F13'!N110","v":0},{"$f":"'F13'!O110","v":0},{"$f":"'F13'!P110","v":0},{"$f":"'F13'!Q110","v":0},{"$f":"'F13'!R110","v":0},{"$f":"'F13'!S110","v":0},{"$f":"'F13'!T110","v":0},{"$f":"'F13'!U110","v":0},{"$f":"'F13'!V110","v":0},{"$f":"'F13'!W110","v":0},{"$f":"'F13'!X110","v":0},{"$f":"'F13'!Y110","v":0},{"$f":"'F13'!Z110","v":0},{"$f":"'F13'!AA110","v":0},{"$f":"'F13'!AB110","v":0},{"$f":"'F13'!AC110","v":0},{"$f":"'F13'!AD110","v":0},{"$f":"'F13'!AE110","v":0},{"$f":"'F13'!AF110","v":0},{"$f":"'F13'!AG110","v":0},{"$f":"'F13'!AH110","v":0},{"$f":"'F13'!AI110","v":0}]
[null,null,null,null,null,null,{"$f":"'F13'!A111","v":""},{"$f":"'F13'!B111","v":0},{"$f":"'F13'!C111","v":0},{"$f":"'F13'!D111","v":""},{"$f":"'F13'!E111","v":""},{"$f":"'F13'!F111","v":0},{"$f":"'F13'!G111","v":0},{"$f":"'F13'!H111","v":0},{"$f":"'F13'!I111","v":0},{"$f":"'F13'!J111","v":0},{"$f":"'F13'!K111","v":0},{"$f":"'F13'!L111","v":0},{"$f":"'F13'!M111","v":0},{"$f":"'F13'!N111","v":0},{"$f":"'F13'!O111","v":0},{"$f":"'F13'!P111","v":0},{"$f":"'F13'!Q111","v":0},{"$f":"'F13'!R111","v":0},{"$f":"'F13'!S111","v":0},{"$f":"'F13'!T111","v":0},{"$f":"'F13'!U111","v":0},{"$f":"'F13'!V111","v":0},{"$f":"'F13'!W111","v":0},{"$f":"'F13'!X111","v":0},{"$f":"'F13'!Y111","v":0},{"$f":"'F13'!Z111","v":0},{"$f":"'F13'!AA111","v":0},{"$f":"'F13'!AB111","v":0},{"$f":"'F13'!AC111","v":0},{"$f":"'F13'!AD111","v":0},{"$f":"'F13'!AE111","v":0},{"$f":"'F13'!AF111","v":0},{"$f":"'F13'!AG111","v":0},{"$f":"'F13'!AH111","v":0},{"$f":"'F13'!AI111","v":0}]
[null,null,null,null,null,null,{"$f":"'F13'!A112","v":""},{"$f":"'F13'!B112","v":0},{"$f":"'F13'!C112","v":0},{"$f":"'F13'!D112","v":""},{"$f":"'F13'!E112","v":""},{"$f":"'F13'!F112","v":0},{"$f":"'F13'!G112","v":0},{"$f":"'F13'!H112","v":0},{"$f":"'F13'!I112","v":0},{"$f":"'F13'!J112","v":0},{"$f":"'F13'!K112","v":0},{"$f":"'F13'!L112","v":0},{"$f":"'F13'!M112","v":0},{"$f":"'F13'!N112","v":0},{"$f":"'F13'!O112","v":0},{"$f":"'F13'!P112","v":0},{"$f":"'F13'!Q112","v":0},{"$f":"'F13'!R112","v":0},{"$f":"'F13'!S112","v":0},{"$f":"'F13'!T112","v":0},{"$f":"'F13'!U112","v":0},{"$f":"'F13'!V112","v":0},{"$f":"'F13'!W112","v":0},{"$f":"'F13'!X112","v":0},{"$f":"'F13'!Y112","v":0},{"$f":"'F13'!Z112","v":0},{"$f":"'F13'!AA112","v":0},{"$f":"'F13'!AB112","v":0},{"$f":"'F13'!AC112","v":0},{"$f":"'F13'!AD112","v":0},{"$f":"'F13'!AE112","v":0},{"$f":"'F13'!AF112","v":0},{"$f":"'F13'!AG112","v":0},{"$f":"'F13'!AH112","v":0},{"$f":"'F13'!AI112","v":0}]
[null,null,null,null,null,null,{"$f":"'F13'!A113","v":""},{"$f":"'F13'!B113","v":0},{"$f":"'F13'!C113","v":0},{"$f":"'F13'!D113","v":""},{"$f":"'F13'!E113","v":""},{"$f":"'F13'!F113","v":0},{"$f":"'F13'!G113","v":0},{"$f":"'F13'!H113","v":0},{"$f":"'F13'!I113","v":0},{"$f":"'F13'!J113","v":0},{"$f":"'F13'!K113","v":0},{"$f":"'F13'!L113","v":0},{"$f":"'F13'!M113","v":0},{"$f":"'F13'!N113","v":0},{"$f":"'F13'!O113","v":0},{"$f":"'F13'!P113","v":0},{"$f":"'F13'!Q113","v":0},{"$f":"'F13'!R113","v":0},{"$f":"'F13'!S113","v":0},{"$f":"'F13'!T113","v":0},{"$f":"'F13'!U113","v":0},{"$f":"'F13'!V113","v":0},{"$f":"'F13'!W113","v":0},{"$f":"'F13'!X113","v":0},{"$f":"'F13'!Y113","v":0},{"$f":"'F13'!Z113","v":0},{"$f":"'F13'!AA113","v":0},{"$f":"'F13'!AB113","v":0},{"$f":"'F13'!AC113","v":0},{"$f":"'F13'!AD113","v":0},{"$f":"'F13'!AE113","v":0},{"$f":"'F13'!AF113","v":0},{"$f":"'F13'!AG113","v":0},{"$f":"'F13'!AH113","v":0},{"$f":"'F13'!AI113","v":0}]
[null,null,null,null,null,null,{"$f":"'F13'!A114","v":""},{"$f":"'F13'!B114","v":0},{"$f":"'F13'!C114","v":0},{"$f":"'F13'!D114","v":""},{"$f":"'F13'!E114","v":""},{"$f":"'F13'!F114","v":0},{"$f":"'F13'!G114","v":0},{"$f":"'F13'!H114","v":0},{"$f":"'F13'!I114","v":0},{"$f":"'F13'!J114","v":0},{"$f":"'F13'!K114","v":0},{"$f":"'F13'!L114","v":0},{"$f":"'F13'!M114","v":0},{"$f":"'F13'!N114","v":0},{"$f":"'F13'!O114","v":0},{"$f":"'F13'!P114","v":0},{"$f":"'F13'!Q114","v":0},{"$f":"'F13'!R114","v":0},{"$f":"'F13'!S114","v":0},{"$f":"'F13'!T114","v":0},{"$f":"'F13'!U114","v":0},{"$f":"'F13'!V114","v":0},{"$f":"'F13'!W114","v":0},{"$f":"'F13'!X114","v":0},{"$f":"'F13'!Y114","v":0},{"$f":"'F13'!Z114","v":0},{"$f":"'F13'!AA114","v":0},{"$f":"'F13'!AB114","v":0},{"$f":"'F13'!AC114","v":0},{"$f":"'F13'!AD114","v":0},{"$f":"'F13'!AE114","v":0},{"$f":"'F13'!AF114","v":0},{"$f":"'F13'!AG114","v":0},{"$f":"'F13'!AH114","v":0},{"$f":"'F13'!AI114","v":0}]
[null,null,null,null,null,null,{"$f":"'F13'!A115","v":""},{"$f":"'F13'!B115","v":0},{"$f":"'F13'!C115","v":0},{"$f":"'F13'!D115","v":""},{"$f":"'F13'!E115","v":""},{"$f":"'F13'!F115","v":0},{"$f":"'F13'!G115","v":0},{"$f":"'F13'!H115","v":0},{"$f":"'F13'!I115","v":0},{"$f":"'F13'!J115","v":0},{"$f":"'F13'!K115","v":0},{"$f":"'F13'!L115","v":0},{"$f":"'F13'!M115","v":0},{"$f":"'F13'!N115","v":0},{"$f":"'F13'!O115","v":0},{"$f":"'F13'!P115","v":0},{"$f":"'F13'!Q115","v":0},{"$f":"'F13'!R115","v":0},{"$f":"'F13'!S115","v":0},{"$f":"'F13'!T115","v":0},{"$f":"'F13'!U115","v":0},{"$f":"'F13'!V115","v":0},{"$f":"'F13'!W115","v":0},{"$f":"'F13'!X115","v":0},{"$f":"'F13'!Y115","v":0},{"$f":"'F13'!Z115","v":0},{"$f":"'F13'!AA115","v":0},{"$f":"'F13'!AB115","v":0},{"$f":"'F13'!AC115","v":0},{"$f":"'F13'!AD115","v":0},{"$f":"'F13'!AE115","v":0},{"$f":"'F13'!AF115","v":0},{"$f":"'F13'!AG115","v":0},{"$f":"'F13'!AH115","v":0},{"$f":"'F13'!AI115","v":0}]
[null,null,null,null,null,null,{"$f":"'F13'!A116","v":""},{"$f":"'F13'!B116","v":0},{"$f":"'F13'!C116","v":0},{"$f":"'F13'!D116","v":""},{"$f":"'F13'!E116","v":""},{"$f":"'F13'!F116","v":0},{"$f":"'F13'!G116","v":0},{"$f":"'F13'!H116","v":0},{"$f":"'F13'!I116","v":0},{"$f":"'F13'!J116","v":0},{"$f":"'F13'!K116","v":0},{"$f":"'F13'!L116","v":0},{"$f":"'F13'!M116","v":0},{"$f":"'F13'!N116","v":0},{"$f":"'F13'!O116","v":0},{"$f":"'F13'!P116","v":0},{"$f":"'F13'!Q116","v":0},{"$f":"'F13'!R116","v":0},{"$f":"'F13'!S116","v":0},{"$f":"'F13'!T116","v":0},{"$f":"'F13'!U116","v":0},{"$f":"'F13'!V116","v":0},{"$f":"'F13'!W116","v":0},{"$f":"'F13'!X116","v":0},{"$f":"'F13'!Y116","v":0},{"$f":"'F13'!Z116","v":0},{"$f":"'F13'!AA116","v":0},{"$f":"'F13'!AB116","v":0},{"$f":"'F13'!AC116","v":0},{"$f":"'F13'!AD116","v":0},{"$f":"'F13'!AE116","v":0},{"$f":"'F13'!AF116","v":0},{"$f":"'F13'!AG116","v":0},{"$f":"'F13'!AH116","v":0},{"$f":"'F13'!AI116","v":0}]
[null,null,null,null,null,null,{"$f":"'F13'!A117","v":""},{"$f":"'F13'!B117","v":0},{"$f":"'F13'!C117","v":0},{"$f":"'F13'!D117","v":""},{"$f":"'F13'!E117","v":""},{"$f":"'F13'!F117","v":0},{"$f":"'F13'!G117","v":0},{"$f":"'F13'!H117","v":0},{"$f":"'F13'!I117","v":0},{"$f":"'F13'!J117","v":0},{"$f":"'F13'!K117","v":0},{"$f":"'F13'!L117","v":0},{"$f":"'F13'!M117","v":0},{"$f":"'F13'!N117","v":0},{"$f":"'F13'!O117","v":0},{"$f":"'F13'!P117","v":0},{"$f":"'F13'!Q117","v":0},{"$f":"'F13'!R117","v":0},{"$f":"'F13'!S117","v":0},{"$f":"'F13'!T117","v":0},{"$f":"'F13'!U117","v":0},{"$f":"'F13'!V117","v":0},{"$f":"'F13'!W117","v":0},{"$f":"'F13'!X117","v":0},{"$f":"'F13'!Y117","v":0},{"$f":"'F13'!Z117","v":0},{"$f":"'F13'!AA117","v":0},{"$f":"'F13'!AB117","v":0},{"$f":"'F13'!AC117","v":0},{"$f":"'F13'!AD117","v":0},{"$f":"'F13'!AE117","v":0},{"$f":"'F13'!AF117","v":0},{"$f":"'F13'!AG117","v":0},{"$f":"'F13'!AH117","v":0},{"$f":"'F13'!AI117","v":0}]
[null,null,null,null,null,null,{"$f":"'F13'!A118","v":""},{"$f":"'F13'!B118","v":0},{"$f":"'F13'!C118","v":0},{"$f":"'F13'!D118","v":""},{"$f":"'F13'!E118","v":""},{"$f":"'F13'!F118","v":0},{"$f":"'F13'!G118","v":0},{"$f":"'F13'!H118","v":0},{"$f":"'F13'!I118","v":0},{"$f":"'F13'!J118","v":0},{"$f":"'F13'!K118","v":0},{"$f":"'F13'!L118","v":0},{"$f":"'F13'!M118","v":0},{"$f":"'F13'!N118","v":0},{"$f":"'F13'!O118","v":0},{"$f":"'F13'!P118","v":0},{"$f":"'F13'!Q118","v":0},{"$f":"'F13'!R118","v":0},{"$f":"'F13'!S118","v":0},{"$f":"'F13'!T118","v":0},{"$f":"'F13'!U118","v":0},{"$f":"'F13'!V118","v":0},{"$f":"'F13'!W118","v":0},{"$f":"'F13'!X118","v":0},{"$f":"'F13'!Y118","v":0},{"$f":"'F13'!Z118","v":0},{"$f":"'F13'!AA118","v":0},{"$f":"'F13'!AB118","v":0},{"$f":"'F13'!AC118","v":0},{"$f":"'F13'!AD118","v":0},{"$f":"'F13'!AE118","v":0},{"$f":"'F13'!AF118","v":0},{"$f":"'F13'!AG118","v":0},{"$f":"'F13'!AH118","v":0},{"$f":"'F13'!AI118","v":0}]
[null,null,null,null,null,null,{"$f":"'F13'!A119","v":""},{"$f":"'F13'!B119","v":0},{"$f":"'F13'!C119","v":0},{"$f":"'F13'!D119","v":""},{"$f":"'F13'!E119","v":""},{"$f":"'F13'!F119","v":0},{"$f":"'F13'!G119","v":0},{"$f":"'F13'!H119","v":0},{"$f":"'F13'!I119","v":0},{"$f":"'F13'!J119","v":0},{"$f":"'F13'!K119","v":0},{"$f":"'F13'!L119","v":0},{"$f":"'F13'!M119","v":0},{"$f":"'F13'!N119","v":0},{"$f":"'F13'!O119","v":0},{"$f":"'F13'!P119","v":0},{"$f":"'F13'!Q119","v":0},{"$f":"'F13'!R119","v":0},{"$f":"'F13'!S119","v":0},{"$f":"'F13'!T119","v":0},{"$f":"'F13'!U119","v":0},{"$f":"'F13'!V119","v":0},{"$f":"'F13'!W119","v":0},{"$f":"'F13'!X119","v":0},{"$f":"'F13'!Y119","v":0},{"$f":"'F13'!Z119","v":0},{"$f":"'F13'!AA119","v":0},{"$f":"'F13'!AB119","v":0},{"$f":"'F13'!AC119","v":0},{"$f":"'F13'!AD119","v":0},{"$f":"'F13'!AE119","v":0},{"$f":"'F13'!AF119","v":0},{"$f":"'F13'!AG119","v":0},{"$f":"'F13'!AH119","v":0},{"$f":"'F13'!AI119","v":0}]
[null,null,null,null,null,null,{"$f":"'F13'!A120","v":""},{"$f":"'F13'!B120","v":0},{"$f":"'F13'!C120","v":0},{"$f":"'F13'!D120","v":""},{"$f":"'F13'!E120","v":""},{"$f":"'F13'!F120","v":0},{"$f":"'F13'!G120","v":0},{"$f":"'F13'!H120","v":0},{"$f":"'F13'!I120","v":0},{"$f":"'F13'!J120","v":0},{"$f":"'F13'!K120","v":0},{"$f":"'F13'!L120","v":0},{"$f":"'F13'!M120","v":0},{"$f":"'F13'!N120","v":0},{"$f":"'F13'!O120","v":0},{"$f":"'F13'!P120","v":0},{"$f":"'F13'!Q120","v":0},{"$f":"'F13'!R120","v":0},{"$f":"'F13'!S120","v":0},{"$f":"'F13'!T120","v":0},{"$f":"'F13'!U120","v":0},{"$f":"'F13'!V120","v":0},{"$f":"'F13'!W120","v":0},{"$f":"'F13'!X120","v":0},{"$f":"'F13'!Y120","v":0},{"$f":"'F13'!Z120","v":0},{"$f":"'F13'!AA120","v":0},{"$f":"'F13'!AB120","v":0},{"$f":"'F13'!AC120","v":0},{"$f":"'F13'!AD120","v":0},{"$f":"'F13'!AE120","v":0},{"$f":"'F13'!AF120","v":0},{"$f":"'F13'!AG120","v":0},{"$f":"'F13'!AH120","v":0},{"$f":"'F13'!AI120","v":0}]
[null,null,null,null,null,null,{"$f":"'F13'!A121","v":""},{"$f":"'F13'!B121","v":0},{"$f":"'F13'!C121","v":0},{"$f":"'F13'!D121","v":""},{"$f":"'F13'!E121","v":""},{"$f":"'F13'!F121","v":0},{"$f":"'F13'!G121","v":0},{"$f":"'F13'!H121","v":0},{"$f":"'F13'!I121","v":0},{"$f":"'F13'!J121","v":0},{"$f":"'F13'!K121","v":0},{"$f":"'F13'!L121","v":0},{"$f":"'F13'!M121","v":0},{"$f":"'F13'!N121","v":0},{"$f":"'F13'!O121","v":0},{"$f":"'F13'!P121","v":0},{"$f":"'F13'!Q121","v":0},{"$f":"'F13'!R121","v":0},{"$f":"'F13'!S121","v":0},{"$f":"'F13'!T121","v":0},{"$f":"'F13'!U121","v":0},{"$f":"'F13'!V121","v":0},{"$f":"'F13'!W121","v":0},{"$f":"'F13'!X121","v":0},{"$f":"'F13'!Y121","v":0},{"$f":"'F13'!Z121","v":0},{"$f":"'F13'!AA121","v":0},{"$f":"'F13'!AB121","v":0},{"$f":"'F13'!AC121","v":0},{"$f":"'F13'!AD121","v":0},{"$f":"'F13'!AE121","v":0},{"$f":"'F13'!AF121","v":0},{"$f":"'F13'!AG121","v":0},{"$f":"'F13'!AH121","v":0},{"$f":"'F13'!AI121","v":0}]
[null,null,null,null,null,null,{"$f":"'F13'!A122","v":""},{"$f":"'F13'!B122","v":0},{"$f":"'F13'!C122","v":0},{"$f":"'F13'!D122","v":""},{"$f":"'F13'!E122","v":""},{"$f":"'F13'!F122","v":0},{"$f":"'F13'!G122","v":0},{"$f":"'F13'!H122","v":0},{"$f":"'F13'!I122","v":0},{"$f":"'F13'!J122","v":0},{"$f":"'F13'!K122","v":0},{"$f":"'F13'!L122","v":0},{"$f":"'F13'!M122","v":0},{"$f":"'F13'!N122","v":0},{"$f":"'F13'!O122","v":0},{"$f":"'F13'!P122","v":0},{"$f":"'F13'!Q122","v":0},{"$f":"'F13'!R122","v":0},{"$f":"'F13'!S122","v":0},{"$f":"'F13'!T122","v":0},{"$f":"'F13'!U122","v":0},{"$f":"'F13'!V122","v":0},{"$f":"'F13'!W122","v":0},{"$f":"'F13'!X122","v":0},{"$f":"'F13'!Y122","v":0},{"$f":"'F13'!Z122","v":0},{"$f":"'F13'!AA122","v":0},{"$f":"'F13'!AB122","v":0},{"$f":"'F13'!AC122","v":0},{"$f":"'F13'!AD122","v":0},{"$f":"'F13'!AE122","v":0},{"$f":"'F13'!AF122","v":0},{"$f":"'F13'!AG122","v":0},{"$f":"'F13'!AH122","v":0},{"$f":"'F13'!AI122","v":0}]
[null,null,null,null,null,null,{"$f":"'F13'!A123","v":""},{"$f":"'F13'!B123","v":0},{"$f":"'F13'!C123","v":0},{"$f":"'F13'!D123","v":""},{"$f":"'F13'!E123","v":""},{"$f":"'F13'!F123","v":0},{"$f":"'F13'!G123","v":0},{"$f":"'F13'!H123","v":0},{"$f":"'F13'!I123","v":0},{"$f":"'F13'!J123","v":0},{"$f":"'F13'!K123","v":0},{"$f":"'F13'!L123","v":0},{"$f":"'F13'!M123","v":0},{"$f":"'F13'!N123","v":0},{"$f":"'F13'!O123","v":0},{"$f":"'F13'!P123","v":0},{"$f":"'F13'!Q123","v":0},{"$f":"'F13'!R123","v":0},{"$f":"'F13'!S123","v":0},{"$f":"'F13'!T123","v":0},{"$f":"'F13'!U123","v":0},{"$f":"'F13'!V123","v":0},{"$f":"'F13'!W123","v":0},{"$f":"'F13'!X123","v":0},{"$f":"'F13'!Y123","v":0},{"$f":"'F13'!Z123","v":0},{"$f":"'F13'!AA123","v":0},{"$f":"'F13'!AB123","v":0},{"$f":"'F13'!AC123","v":0},{"$f":"'F13'!AD123","v":0},{"$f":"'F13'!AE123","v":0},{"$f":"'F13'!AF123","v":0},{"$f":"'F13'!AG123","v":0},{"$f":"'F13'!AH123","v":0},{"$f":"'F13'!AI123","v":0}]
[null,null,null,null,null,null,{"$f":"'F13'!A124","v":""},{"$f":"'F13'!B124","v":0},{"$f":"'F13'!C124","v":0},{"$f":"'F13'!D124","v":""},{"$f":"'F13'!E124","v":""},{"$f":"'F13'!F124","v":0},{"$f":"'F13'!G124","v":0},{"$f":"'F13'!H124","v":0},{"$f":"'F13'!I124","v":0},{"$f":"'F13'!J124","v":0},{"$f":"'F13'!K124","v":0},{"$f":"'F13'!L124","v":0},{"$f":"'F13'!M124","v":0},{"$f":"'F13'!N124","v":0},{"$f":"'F13'!O124","v":0},{"$f":"'F13'!P124","v":0},{"$f":"'F13'!Q124","v":0},{"$f":"'F13'!R124","v":0},{"$f":"'F13'!S124","v":0},{"$f":"'F13'!T124","v":0},{"$f":"'F13'!U124","v":0},{"$f":"'F13'!V124","v":0},{"$f":"'F13'!W124","v":0},{"$f":"'F13'!X124","v":0},{"$f":"'F13'!Y124","v":0},{"$f":"'F13'!Z124","v":0},{"$f":"'F13'!AA124","v":0},{"$f":"'F13'!AB124","v":0},{"$f":"'F13'!AC124","v":0},{"$f":"'F13'!AD124","v":0},{"$f":"'F13'!AE124","v":0},{"$f":"'F13'!AF124","v":0},{"$f":"'F13'!AG124","v":0},{"$f":"'F13'!AH124","v":0},{"$f":"'F13'!AI124","v":0}]
[null,null,null,null,null,null,{"$f":"'F13'!A125","v":""},{"$f":"'F13'!B125","v":0},{"$f":"'F13'!C125","v":0},{"$f":"'F13'!D125","v":""},{"$f":"'F13'!E125","v":""},{"$f":"'F13'!F125","v":0},{"$f":"'F13'!G125","v":0},{"$f":"'F13'!H125","v":0},{"$f":"'F13'!I125","v":0},{"$f":"'F13'!J125","v":0},{"$f":"'F13'!K125","v":0},{"$f":"'F13'!L125","v":0},{"$f":"'F13'!M125","v":0},{"$f":"'F13'!N125","v":0},{"$f":"'F13'!O125","v":0},{"$f":"'F13'!P125","v":0},{"$f":"'F13'!Q125","v":0},{"$f":"'F13'!R125","v":0},{"$f":"'F13'!S125","v":0},{"$f":"'F13'!T125","v":0},{"$f":"'F13'!U125","v":0},{"$f":"'F13'!V125","v":0},{"$f":"'F13'!W125","v":0},{"$f":"'F13'!X125","v":0},{"$f":"'F13'!Y125","v":0},{"$f":"'F13'!Z125","v":0},{"$f":"'F13'!AA125","v":0},{"$f":"'F13'!AB125","v":0},{"$f":"'F13'!AC125","v":0},{"$f":"'F13'!AD125","v":0},{"$f":"'F13'!AE125","v":0},{"$f":"'F13'!AF125","v":0},{"$f":"'F13'!AG125","v":0},{"$f":"'F13'!AH125","v":0},{"$f":"'F13'!AI125","v":0}]
[null,null,null,null,null,null,{"$f":"'F13'!A126","v":""},{"$f":"'F13'!B126","v":0},{"$f":"'F13'!C126","v":0},{"$f":"'F13'!D126","v":""},{"$f":"'F13'!E126","v":""},{"$f":"'F13'!F126","v":0},{"$f":"'F13'!G126","v":0},{"$f":"'F13'!H126","v":0},{"$f":"'F13'!I126","v":0},{"$f":"'F13'!J126","v":0},{"$f":"'F13'!K126","v":0},{"$f":"'F13'!L126","v":0},{"$f":"'F13'!M126","v":0},{"$f":"'F13'!N126","v":0},{"$f":"'F13'!O126","v":0},{"$f":"'F13'!P126","v":0},{"$f":"'F13'!Q126","v":0},{"$f":"'F13'!R126","v":0},{"$f":"'F13'!S126","v":0},{"$f":"'F13'!T126","v":0},{"$f":"'F13'!U126","v":0},{"$f":"'F13'!V126","v":0},{"$f":"'F13'!W126","v":0},{"$f":"'F13'!X126","v":0},{"$f":"'F13'!Y126","v":0},{"$f":"'F13'!Z126","v":0},{"$f":"'F13'!AA126","v":0},{"$f":"'F13'!AB126","v":0},{"$f":"'F13'!AC126","v":0},{"$f":"'F13'!AD126","v":0},{"$f":"'F13'!AE126","v":0},{"$f":"'F13'!AF126","v":0},{"$f":"'F13'!AG126","v":0},{"$f":"'F13'!AH126","v":0},{"$f":"'F13'!AI126","v":0}]
[null,null,null,null,null,null,{"$f":"'F13'!A127","v":""},{"$f":"'F13'!B127","v":0},{"$f":"'F13'!C127","v":0},{"$f":"'F13'!D127","v":""},{"$f":"'F13'!E127","v":""},{"$f":"'F13'!F127","v":0},{"$f":"'F13'!G127","v":0},{"$f":"'F13'!H127","v":0},{"$f":"'F13'!I127","v":0},{"$f":"'F13'!J127","v":0},{"$f":"'F13'!K127","v":0},{"$f":"'F13'!L127","v":0},{"$f":"'F13'!M127","v":0},{"$f":"'F13'!N127","v":0},{"$f":"'F13'!O127","v":0},{"$f":"'F13'!P127","v":0},{"$f":"'F13'!Q127","v":0},{"$f":"'F13'!R127","v":0},{"$f":"'F13'!S127","v":0},{"$f":"'F13'!T127","v":0},{"$f":"'F13'!U127","v":0},{"$f":"'F13'!V127","v":0},{"$f":"'F13'!W127","v":0},{"$f":"'F13'!X127","v":0},{"$f":"'F13'!Y127","v":0},{"$f":"'F13'!Z127","v":0},{"$f":"'F13'!AA127","v":0},{"$f":"'F13'!AB127","v":0},{"$f":"'F13'!AC127","v":0},{"$f":"'F13'!AD127","v":0},{"$f":"'F13'!AE127","v":0},{"$f":"'F13'!AF127","v":0},{"$f":"'F13'!AG127","v":0},{"$f":"'F13'!AH127","v":0},{"$f":"'F13'!AI127","v":0}]
[null,null,null,null,null,null,{"$f":"'F13'!A128","v":""},{"$f":"'F13'!B128","v":0},{"$f":"'F13'!C128","v":0},{"$f":"'F13'!D128","v":""},{"$f":"'F13'!E128","v":""},{"$f":"'F13'!F128","v":0},{"$f":"'F13'!G128","v":0},{"$f":"'F13'!H128","v":0},{"$f":"'F13'!I128","v":0},{"$f":"'F13'!J128","v":0},{"$f":"'F13'!K128","v":0},{"$f":"'F13'!L128","v":0},{"$f":"'F13'!M128","v":0},{"$f":"'F13'!N128","v":0},{"$f":"'F13'!O128","v":0},{"$f":"'F13'!P128","v":0},{"$f":"'F13'!Q128","v":0},{"$f":"'F13'!R128","v":0},{"$f":"'F13'!S128","v":0},{"$f":"'F13'!T128","v":0},{"$f":"'F13'!U128","v":0},{"$f":"'F13'!V128","v":0},{"$f":"'F13'!W128","v":0},{"$f":"'F13'!X128","v":0},{"$f":"'F13'!Y128","v":0},{"$f":"'F13'!Z128","v":0},{"$f":"'F13'!AA128","v":0},{"$f":"'F13'!AB128","v":0},{"$f":"'F13'!AC128","v":0},{"$f":"'F13'!AD128","v":0},{"$f":"'F13'!AE128","v":0},{"$f":"'F13'!AF128","v":0},{"$f":"'F13'!AG128","v":0},{"$f":"'F13'!AH128","v":0},{"$f":"'F13'!AI128","v":0}]
[null,null,null,null,null,null,{"$f":"'F13'!A129","v":""},{"$f":"'F13'!B129","v":0},{"$f":"'F13'!C129","v":0},{"$f":"'F13'!D129","v":""},{"$f":"'F13'!E129","v":""},{"$f":"'F13'!F129","v":0},{"$f":"'F13'!G129","v":0},{"$f":"'F13'!H129","v":0},{"$f":"'F13'!I129","v":0},{"$f":"'F13'!J129","v":0},{"$f":"'F13'!K129","v":0},{"$f":"'F13'!L129","v":0},{"$f":"'F13'!M129","v":0},{"$f":"'F13'!N129","v":0},{"$f":"'F13'!O129","v":0},{"$f":"'F13'!P129","v":0},{"$f":"'F13'!Q129","v":0},{"$f":"'F13'!R129","v":0},{"$f":"'F13'!S129","v":0},{"$f":"'F13'!T129","v":0},{"$f":"'F13'!U129","v":0},{"$f":"'F13'!V129","v":0},{"$f":"'F13'!W129","v":0},{"$f":"'F13'!X129","v":0},{"$f":"'F13'!Y129","v":0},{"$f":"'F13'!Z129","v":0},{"$f":"'F13'!AA129","v":0},{"$f":"'F13'!AB129","v":0},{"$f":"'F13'!AC129","v":0},{"$f":"'F13'!AD129","v":0},{"$f":"'F13'!AE129","v":0},{"$f":"'F13'!AF129","v":0},{"$f":"'F13'!AG129","v":0},{"$f":"'F13'!AH129","v":0},{"$f":"'F13'!AI129","v":0}]
[null,null,null,null,null,null,{"$f":"'F13'!A130","v":""},{"$f":"'F13'!B130","v":0},{"$f":"'F13'!C130","v":0},{"$f":"'F13'!D130","v":""},{"$f":"'F13'!E130","v":""},{"$f":"'F13'!F130","v":0},{"$f":"'F13'!G130","v":0},{"$f":"'F13'!H130","v":0},{"$f":"'F13'!I130","v":0},{"$f":"'F13'!J130","v":0},{"$f":"'F13'!K130","v":0},{"$f":"'F13'!L130","v":0},{"$f":"'F13'!M130","v":0},{"$f":"'F13'!N130","v":0},{"$f":"'F13'!O130","v":0},{"$f":"'F13'!P130","v":0},{"$f":"'F13'!Q130","v":0},{"$f":"'F13'!R130","v":0},{"$f":"'F13'!S130","v":0},{"$f":"'F13'!T130","v":0},{"$f":"'F13'!U130","v":0},{"$f":"'F13'!V130","v":0},{"$f":"'F13'!W130","v":0},{"$f":"'F13'!X130","v":0},{"$f":"'F13'!Y130","v":0},{"$f":"'F13'!Z130","v":0},{"$f":"'F13'!AA130","v":0},{"$f":"'F13'!AB130","v":0},{"$f":"'F13'!AC130","v":0},{"$f":"'F13'!AD130","v":0},{"$f":"'F13'!AE130","v":0},{"$f":"'F13'!AF130","v":0},{"$f":"'F13'!AG130","v":0},{"$f":"'F13'!AH130","v":0},{"$f":"'F13'!AI130","v":0}]
[null,null,null,null,null,null,{"$f":"'F13'!A131","v":""},{"$f":"'F13'!B131","v":0},{"$f":"'F13'!C131","v":0},{"$f":"'F13'!D131","v":""},{"$f":"'F13'!E131","v":""},{"$f":"'F13'!F131","v":0},{"$f":"'F13'!G131","v":0},{"$f":"'F13'!H131","v":0},{"$f":"'F13'!I131","v":0},{"$f":"'F13'!J131","v":0},{"$f":"'F13'!K131","v":0},{"$f":"'F13'!L131","v":0},{"$f":"'F13'!M131","v":0},{"$f":"'F13'!N131","v":0},{"$f":"'F13'!O131","v":0},{"$f":"'F13'!P131","v":0},{"$f":"'F13'!Q131","v":0},{"$f":"'F13'!R131","v":0},{"$f":"'F13'!S131","v":0},{"$f":"'F13'!T131","v":0},{"$f":"'F13'!U131","v":0},{"$f":"'F13'!V131","v":0},{"$f":"'F13'!W131","v":0},{"$f":"'F13'!X131","v":0},{"$f":"'F13'!Y131","v":0},{"$f":"'F13'!Z131","v":0},{"$f":"'F13'!AA131","v":0},{"$f":"'F13'!AB131","v":0},{"$f":"'F13'!AC131","v":0},{"$f":"'F13'!AD131","v":0},{"$f":"'F13'!AE131","v":0},{"$f":"'F13'!AF131","v":0},{"$f":"'F13'!AG131","v":0},{"$f":"'F13'!AH131","v":0},{"$f":"'F13'!AI131","v":0}]
[null,null,null,null,null,null,{"$f":"'F13'!A132","v":""},{"$f":"'F13'!B132","v":0},{"$f":"'F13'!C132","v":0},{"$f":"'F13'!D132","v":""},{"$f":"'F13'!E132","v":""},{"$f":"'F13'!F132","v":0},{"$f":"'F13'!G132","v":0},{"$f":"'F13'!H132","v":0},{"$f":"'F13'!I132","v":0},{"$f":"'F13'!J132","v":0},{"$f":"'F13'!K132","v":0},{"$f":"'F13'!L132","v":0},{"$f":"'F13'!M132","v":0},{"$f":"'F13'!N132","v":0},{"$f":"'F13'!O132","v":0},{"$f":"'F13'!P132","v":0},{"$f":"'F13'!Q132","v":0},{"$f":"'F13'!R132","v":0},{"$f":"'F13'!S132","v":0},{"$f":"'F13'!T132","v":0},{"$f":"'F13'!U132","v":0},{"$f":"'F13'!V132","v":0},{"$f":"'F13'!W132","v":0},{"$f":"'F13'!X132","v":0},{"$f":"'F13'!Y132","v":0},{"$f":"'F13'!Z132","v":0},{"$f":"'F13'!AA132","v":0},{"$f":"'F13'!AB132","v":0},{"$f":"'F13'!AC132","v":0},{"$f":"'F13'!AD132","v":0},{"$f":"'F13'!AE132","v":0},{"$f":"'F13'!AF132","v":0},{"$f":"'F13'!AG132","v":0},{"$f":"'F13'!AH132","v":0},{"$f":"'F13'!AI132","v":0}]
[null,null,null,null,null,null,{"$f":"'F13'!A133","v":""},{"$f":"'F13'!B133","v":0},{"$f":"'F13'!C133","v":0},{"$f":"'F13'!D133","v":""},{"$f":"'F13'!E133","v":""},{"$f":"'F13'!F133","v":0},{"$f":"'F13'!G133","v":0},{"$f":"'F13'!H133","v":0},{"$f":"'F13'!I133","v":0},{"$f":"'F13'!J133","v":0},{"$f":"'F13'!K133","v":0},{"$f":"'F13'!L133","v":0},{"$f":"'F13'!M133","v":0},{"$f":"'F13'!N133","v":0},{"$f":"'F13'!O133","v":0},{"$f":"'F13'!P133","v":0},{"$f":"'F13'!Q133","v":0},{"$f":"'F13'!R133","v":0},{"$f":"'F13'!S133","v":0},{"$f":"'F13'!T133","v":0},{"$f":"'F13'!U133","v":0},{"$f":"'F13'!V133","v":0},{"$f":"'F13'!W133","v":0},{"$f":"'F13'!X133","v":0},{"$f":"'F13'!Y133","v":0},{"$f":"'F13'!Z133","v":0},{"$f":"'F13'!AA133","v":0},{"$f":"'F13'!AB133","v":0},{"$f":"'F13'!AC133","v":0},{"$f":"'F13'!AD133","v":0},{"$f":"'F13'!AE133","v":0},{"$f":"'F13'!AF133","v":0},{"$f":"'F13'!AG133","v":0},{"$f":"'F13'!AH133","v":0},{"$f":"'F13'!AI133","v":0}]
[null,null,null,null,null,null,{"$f":"'F13'!A134","v":""},{"$f":"'F13'!B134","v":0},{"$f":"'F13'!C134","v":0},{"$f":"'F13'!D134","v":""},{"$f":"'F13'!E134","v":""},{"$f":"'F13'!F134","v":0},{"$f":"'F13'!G134","v":0},{"$f":"'F13'!H134","v":0},{"$f":"'F13'!I134","v":0},{"$f":"'F13'!J134","v":0},{"$f":"'F13'!K134","v":0},{"$f":"'F13'!L134","v":0},{"$f":"'F13'!M134","v":0},{"$f":"'F13'!N134","v":0},{"$f":"'F13'!O134","v":0},{"$f":"'F13'!P134","v":0},{"$f":"'F13'!Q134","v":0},{"$f":"'F13'!R134","v":0},{"$f":"'F13'!S134","v":0},{"$f":"'F13'!T134","v":0},{"$f":"'F13'!U134","v":0},{"$f":"'F13'!V134","v":0},{"$f":"'F13'!W134","v":0},{"$f":"'F13'!X134","v":0},{"$f":"'F13'!Y134","v":0},{"$f":"'F13'!Z134","v":0},{"$f":"'F13'!AA134","v":0},{"$f":"'F13'!AB134","v":0},{"$f":"'F13'!AC134","v":0},{"$f":"'F13'!AD134","v":0},{"$f":"'F13'!AE134","v":0},{"$f":"'F13'!AF134","v":0},{"$f":"'F13'!AG134","v":0},{"$f":"'F13'!AH134","v":0},{"$f":"'F13'!AI134","v":0}]
[null,null,null,null,null,null,{"$f":"'F13'!A135","v":""},{"$f":"'F13'!B135","v":0},{"$f":"'F13'!C135","v":0},{"$f":"'F13'!D135","v":""},{"$f":"'F13'!E135","v":""},{"$f":"'F13'!F135","v":0},{"$f":"'F13'!G135","v":0},{"$f":"'F13'!H135","v":0},{"$f":"'F13'!I135","v":0},{"$f":"'F13'!J135","v":0},{"$f":"'F13'!K135","v":0},{"$f":"'F13'!L135","v":0},{"$f":"'F13'!M135","v":0},{"$f":"'F13'!N135","v":0},{"$f":"'F13'!O135","v":0},{"$f":"'F13'!P135","v":0},{"$f":"'F13'!Q135","v":0},{"$f":"'F13'!R135","v":0},{"$f":"'F13'!S135","v":0},{"$f":"'F13'!T135","v":0},{"$f":"'F13'!U135","v":0},{"$f":"'F13'!V135","v":0},{"$f":"'F13'!W135","v":0},{"$f":"'F13'!X135","v":0},{"$f":"'F13'!Y135","v":0},{"$f":"'F13'!Z135","v":0},{"$f":"'F13'!AA135","v":0},{"$f":"'F13'!AB135","v":0},{"$f":"'F13'!AC135","v":0},{"$f":"'F13'!AD135","v":0},{"$f":"'F13'!AE135","v":0},{"$f":"'F13'!AF135","v":0},{"$f":"'F13'!AG135","v":0},{"$f":"'F13'!AH135","v":0},{"$f":"'F13'!AI135","v":0}]
[null,null,null,null,null,null,{"$f":"'F13'!A136","v":""},{"$f":"'F13'!B136","v":0},{"$f":"'F13'!C136","v":0},{"$f":"'F13'!D136","v":""},{"$f":"'F13'!E136","v":""},{"$f":"'F13'!F136","v":0},{"$f":"'F13'!G136","v":0},{"$f":"'F13'!H136","v":0},{"$f":"'F13'!I136","v":0},{"$f":"'F13'!J136","v":0},{"$f":"'F13'!K136","v":0},{"$f":"'F13'!L136","v":0},{"$f":"'F13'!M136","v":0},{"$f":"'F13'!N136","v":0},{"$f":"'F13'!O136","v":0},{"$f":"'F13'!P136","v":0},{"$f":"'F13'!Q136","v":0},{"$f":"'F13'!R136","v":0},{"$f":"'F13'!S136","v":0},{"$f":"'F13'!T136","v":0},{"$f":"'F13'!U136","v":0},{"$f":"'F13'!V136","v":0},{"$f":"'F13'!W136","v":0},{"$f":"'F13'!X136","v":0},{"$f":"'F13'!Y136","v":0},{"$f":"'F13'!Z136","v":0},{"$f":"'F13'!AA136","v":0},{"$f":"'F13'!AB136","v":0},{"$f":"'F13'!AC136","v":0},{"$f":"'F13'!AD136","v":0},{"$f":"'F13'!AE136","v":0},{"$f":"'F13'!AF136","v":0},{"$f":"'F13'!AG136","v":0},{"$f":"'F13'!AH136","v":0},{"$f":"'F13'!AI136","v":0}]
[null,null,null,null,null,null,{"$f":"'F13'!A137","v":""},{"$f":"'F13'!B137","v":0},{"$f":"'F13'!C137","v":0},{"$f":"'F13'!D137","v":""},{"$f":"'F13'!E137","v":""},{"$f":"'F13'!F137","v":0},{"$f":"'F13'!G137","v":0},{"$f":"'F13'!H137","v":0},{"$f":"'F13'!I137","v":0},{"$f":"'F13'!J137","v":0},{"$f":"'F13'!K137","v":0},{"$f":"'F13'!L137","v":0},{"$f":"'F13'!M137","v":0},{"$f":"'F13'!N137","v":0},{"$f":"'F13'!O137","v":0},{"$f":"'F13'!P137","v":0},{"$f":"'F13'!Q137","v":0},{"$f":"'F13'!R137","v":0},{"$f":"'F13'!S137","v":0},{"$f":"'F13'!T137","v":0},{"$f":"'F13'!U137","v":0},{"$f":"'F13'!V137","v":0},{"$f":"'F13'!W137","v":0},{"$f":"'F13'!X137","v":0},{"$f":"'F13'!Y137","v":0},{"$f":"'F13'!Z137","v":0},{"$f":"'F13'!AA137","v":0},{"$f":"'F13'!AB137","v":0},{"$f":"'F13'!AC137","v":0},{"$f":"'F13'!AD137","v":0},{"$f":"'F13'!AE137","v":0},{"$f":"'F13'!AF137","v":0},{"$f":"'F13'!AG137","v":0},{"$f":"'F13'!AH137","v":0},{"$f":"'F13'!AI137","v":0}]
[null,null,null,null,null,null,{"$f":"'F13'!A138","v":""},{"$f":"'F13'!B138","v":0},{"$f":"'F13'!C138","v":0},{"$f":"'F13'!D138","v":""},{"$f":"'F13'!E138","v":""},{"$f":"'F13'!F138","v":0},{"$f":"'F13'!G138","v":0},{"$f":"'F13'!H138","v":0},{"$f":"'F13'!I138","v":0},{"$f":"'F13'!J138","v":0},{"$f":"'F13'!K138","v":0},{"$f":"'F13'!L138","v":0},{"$f":"'F13'!M138","v":0},{"$f":"'F13'!N138","v":0},{"$f":"'F13'!O138","v":0},{"$f":"'F13'!P138","v":0},{"$f":"'F13'!Q138","v":0},{"$f":"'F13'!R138","v":0},{"$f":"'F13'!S138","v":0},{"$f":"'F13'!T138","v":0},{"$f":"'F13'!U138","v":0},{"$f":"'F13'!V138","v":0},{"$f":"'F13'!W138","v":0},{"$f":"'F13'!X138","v":0},{"$f":"'F13'!Y138","v":0},{"$f":"'F13'!Z138","v":0},{"$f":"'F13'!AA138","v":0},{"$f":"'F13'!AB138","v":0},{"$f":"'F13'!AC138","v":0},{"$f":"'F13'!AD138","v":0},{"$f":"'F13'!AE138","v":0},{"$f":"'F13'!AF138","v":0},{"$f":"'F13'!AG138","v":0},{"$f":"'F13'!AH138","v":0},{"$f":"'F13'!AI138","v":0}]
[null,null,null,null,null,null,{"$f":"'F13'!A139","v":""},{"$f":"'F13'!B139","v":0},{"$f":"'F13'!C139","v":0},{"$f":"'F13'!D139","v":""},{"$f":"'F13'!E139","v":""},{"$f":"'F13'!F139","v":0},{"$f":"'F13'!G139","v":0},{"$f":"'F13'!H139","v":0},{"$f":"'F13'!I139","v":0},{"$f":"'F13'!J139","v":0},{"$f":"'F13'!K139","v":0},{"$f":"'F13'!L139","v":0},{"$f":"'F13'!M139","v":0},{"$f":"'F13'!N139","v":0},{"$f":"'F13'!O139","v":0},{"$f":"'F13'!P139","v":0},{"$f":"'F13'!Q139","v":0},{"$f":"'F13'!R139","v":0},{"$f":"'F13'!S139","v":0},{"$f":"'F13'!T139","v":0},{"$f":"'F13'!U139","v":0},{"$f":"'F13'!V139","v":0},{"$f":"'F13'!W139","v":0},{"$f":"'F13'!X139","v":0},{"$f":"'F13'!Y139","v":0},{"$f":"'F13'!Z139","v":0},{"$f":"'F13'!AA139","v":0},{"$f":"'F13'!AB139","v":0},{"$f":"'F13'!AC139","v":0},{"$f":"'F13'!AD139","v":0},{"$f":"'F13'!AE139","v":0},{"$f":"'F13'!AF139","v":0},{"$f":"'F13'!AG139","v":0},{"$f":"'F13'!AH139","v":0},{"$f":"'F13'!AI139","v":0}]
[null,null,null,null,null,null,{"$f":"'F13'!A140","v":""},{"$f":"'F13'!B140","v":0},{"$f":"'F13'!C140","v":0},{"$f":"'F13'!D140","v":""},{"$f":"'F13'!E140","v":""},{"$f":"'F13'!F140","v":0},{"$f":"'F13'!G140","v":0},{"$f":"'F13'!H140","v":0},{"$f":"'F13'!I140","v":0},{"$f":"'F13'!J140","v":0},{"$f":"'F13'!K140","v":0},{"$f":"'F13'!L140","v":0},{"$f":"'F13'!M140","v":0},{"$f":"'F13'!N140","v":0},{"$f":"'F13'!O140","v":0},{"$f":"'F13'!P140","v":0},{"$f":"'F13'!Q140","v":0},{"$f":"'F13'!R140","v":0},{"$f":"'F13'!S140","v":0},{"$f":"'F13'!T140","v":0},{"$f":"'F13'!U140","v":0},{"$f":"'F13'!V140","v":0},{"$f":"'F13'!W140","v":0},{"$f":"'F13'!X140","v":0},{"$f":"'F13'!Y140","v":0},{"$f":"'F13'!Z140","v":0},{"$f":"'F13'!AA140","v":0},{"$f":"'F13'!AB140","v":0},{"$f":"'F13'!AC140","v":0},{"$f":"'F13'!AD140","v":0},{"$f":"'F13'!AE140","v":0},{"$f":"'F13'!AF140","v":0},{"$f":"'F13'!AG140","v":0},{"$f":"'F13'!AH140","v":0},{"$f":"'F13'!AI140","v":0}]
[null,null,null,null,null,null,{"$f":"'F13'!A141","v":""},{"$f":"'F13'!B141","v":0},{"$f":"'F13'!C141","v":0},{"$f":"'F13'!D141","v":""},{"$f":"'F13'!E141","v":""},{"$f":"'F13'!F141","v":0},{"$f":"'F13'!G141","v":0},{"$f":"'F13'!H141","v":0},{"$f":"'F13'!I141","v":0},{"$f":"'F13'!J141","v":0},{"$f":"'F13'!K141","v":0},{"$f":"'F13'!L141","v":0},{"$f":"'F13'!M141","v":0},{"$f":"'F13'!N141","v":0},{"$f":"'F13'!O141","v":0},{"$f":"'F13'!P141","v":0},{"$f":"'F13'!Q141","v":0},{"$f":"'F13'!R141","v":0},{"$f":"'F13'!S141","v":0},{"$f":"'F13'!T141","v":0},{"$f":"'F13'!U141","v":0},{"$f":"'F13'!V141","v":0},{"$f":"'F13'!W141","v":0},{"$f":"'F13'!X141","v":0},{"$f":"'F13'!Y141","v":0},{"$f":"'F13'!Z141","v":0},{"$f":"'F13'!AA141","v":0},{"$f":"'F13'!AB141","v":0},{"$f":"'F13'!AC141","v":0},{"$f":"'F13'!AD141","v":0},{"$f":"'F13'!AE141","v":0},{"$f":"'F13'!AF141","v":0},{"$f":"'F13'!AG141","v":0},{"$f":"'F13'!AH141","v":0},{"$f":"'F13'!AI141","v":0}]
[null,null,null,null,null,null,{"$f":"'F13'!A142","v":""},{"$f":"'F13'!B142","v":0},{"$f":"'F13'!C142","v":0},{"$f":"'F13'!D142","v":""},{"$f":"'F13'!E142","v":""},{"$f":"'F13'!F142","v":0},{"$f":"'F13'!G142","v":0},{"$f":"'F13'!H142","v":0},{"$f":"'F13'!I142","v":0},{"$f":"'F13'!J142","v":0},{"$f":"'F13'!K142","v":0},{"$f":"'F13'!L142","v":0},{"$f":"'F13'!M142","v":0},{"$f":"'F13'!N142","v":0},{"$f":"'F13'!O142","v":0},{"$f":"'F13'!P142","v":0},{"$f":"'F13'!Q142","v":0},{"$f":"'F13'!R142","v":0},{"$f":"'F13'!S142","v":0},{"$f":"'F13'!T142","v":0},{"$f":"'F13'!U142","v":0},{"$f":"'F13'!V142","v":0},{"$f":"'F13'!W142","v":0},{"$f":"'F13'!X142","v":0},{"$f":"'F13'!Y142","v":0},{"$f":"'F13'!Z142","v":0},{"$f":"'F13'!AA142","v":0},{"$f":"'F13'!AB142","v":0},{"$f":"'F13'!AC142","v":0},{"$f":"'F13'!AD142","v":0},{"$f":"'F13'!AE142","v":0},{"$f":"'F13'!AF142","v":0},{"$f":"'F13'!AG142","v":0},{"$f":"'F13'!AH142","v":0},{"$f":"'F13'!AI142","v":0}]
[null,null,null,null,null,null,{"$f":"'F13'!A143","v":""},{"$f":"'F13'!B143","v":0},{"$f":"'F13'!C143","v":0},{"$f":"'F13'!D143","v":""},{"$f":"'F13'!E143","v":""},{"$f":"'F13'!F143","v":0},{"$f":"'F13'!G143","v":0},{"$f":"'F13'!H143","v":0},{"$f":"'F13'!I143","v":0},{"$f":"'F13'!J143","v":0},{"$f":"'F13'!K143","v":0},{"$f":"'F13'!L143","v":0},{"$f":"'F13'!M143","v":0},{"$f":"'F13'!N143","v":0},{"$f":"'F13'!O143","v":0},{"$f":"'F13'!P143","v":0},{"$f":"'F13'!Q143","v":0},{"$f":"'F13'!R143","v":0},{"$f":"'F13'!S143","v":0},{"$f":"'F13'!T143","v":0},{"$f":"'F13'!U143","v":0},{"$f":"'F13'!V143","v":0},{"$f":"'F13'!W143","v":0},{"$f":"'F13'!X143","v":0},{"$f":"'F13'!Y143","v":0},{"$f":"'F13'!Z143","v":0},{"$f":"'F13'!AA143","v":0},{"$f":"'F13'!AB143","v":0},{"$f":"'F13'!AC143","v":0},{"$f":"'F13'!AD143","v":0},{"$f":"'F13'!AE143","v":0},{"$f":"'F13'!AF143","v":0},{"$f":"'F13'!AG143","v":0},{"$f":"'F13'!AH143","v":0},{"$f":"'F13'!AI143","v":0}]
[null,null,null,null,null,null,{"$f":"'F13'!A144","v":""},{"$f":"'F13'!B144","v":0},{"$f":"'F13'!C144","v":0},{"$f":"'F13'!D144","v":""},{"$f":"'F13'!E144","v":""},{"$f":"'F13'!F144","v":0},{"$f":"'F13'!G144","v":0},{"$f":"'F13'!H144","v":0},{"$f":"'F13'!I144","v":0},{"$f":"'F13'!J144","v":0},{"$f":"'F13'!K144","v":0},{"$f":"'F13'!L144","v":0},{"$f":"'F13'!M144","v":0},{"$f":"'F13'!N144","v":0},{"$f":"'F13'!O144","v":0},{"$f":"'F13'!P144","v":0},{"$f":"'F13'!Q144","v":0},{"$f":"'F13'!R144","v":0},{"$f":"'F13'!S144","v":0},{"$f":"'F13'!T144","v":0},{"$f":"'F13'!U144","v":0},{"$f":"'F13'!V144","v":0},{"$f":"'F13'!W144","v":0},{"$f":"'F13'!X144","v":0},{"$f":"'F13'!Y144","v":0},{"$f":"'F13'!Z144","v":0},{"$f":"'F13'!AA144","v":0},{"$f":"'F13'!AB144","v":0},{"$f":"'F13'!AC144","v":0},{"$f":"'F13'!AD144","v":0},{"$f":"'F13'!AE144","v":0},{"$f":"'F13'!AF144","v":0},{"$f":"'F13'!AG144","v":0},{"$f":"'F13'!AH144","v":0},{"$f":"'F13'!AI144","v":0}]
[null,null,null,null,null,null,{"$f":"'F13'!A145","v":""},{"$f":"'F13'!B145","v":0},{"$f":"'F13'!C145","v":0},{"$f":"'F13'!D145","v":""},{"$f":"'F13'!E145","v":""},{"$f":"'F13'!F145","v":0},{"$f":"'F13'!G145","v":0},{"$f":"'F13'!H145","v":0},{"$f":"'F13'!I145","v":0},{"$f":"'F13'!J145","v":0},{"$f":"'F13'!K145","v":0},{"$f":"'F13'!L145","v":0},{"$f":"'F13'!M145","v":0},{"$f":"'F13'!N145","v":0},{"$f":"'F13'!O145","v":0},{"$f":"'F13'!P145","v":0},{"$f":"'F13'!Q145","v":0},{"$f":"'F13'!R145","v":0},{"$f":"'F13'!S145","v":0},{"$f":"'F13'!T145","v":0},{"$f":"'F13'!U145","v":0},{"$f":"'F13'!V145","v":0},{"$f":"'F13'!W145","v":0},{"$f":"'F13'!X145","v":0},{"$f":"'F13'!Y145","v":0},{"$f":"'F13'!Z145","v":0},{"$f":"'F13'!AA145","v":0},{"$f":"'F13'!AB145","v":0},{"$f":"'F13'!AC145","v":0},{"$f":"'F13'!AD145","v":0},{"$f":"'F13'!AE145","v":0},{"$f":"'F13'!AF145","v":0},{"$f":"'F13'!AG145","v":0},{"$f":"'F13'!AH145","v":0},{"$f":"'F13'!AI145","v":0}]
[null,null,null,null,null,null,{"$f":"'F13'!A146","v":""},{"$f":"'F13'!B146","v":0},{"$f":"'F13'!C146","v":0},{"$f":"'F13'!D146","v":""},{"$f":"'F13'!E146","v":""},{"$f":"'F13'!F146","v":0},{"$f":"'F13'!G146","v":0},{"$f":"'F13'!H146","v":0},{"$f":"'F13'!I146","v":0},{"$f":"'F13'!J146","v":0},{"$f":"'F13'!K146","v":0},{"$f":"'F13'!L146","v":0},{"$f":"'F13'!M146","v":0},{"$f":"'F13'!N146","v":0},{"$f":"'F13'!O146","v":0},{"$f":"'F13'!P146","v":0},{"$f":"'F13'!Q146","v":0},{"$f":"'F13'!R146","v":0},{"$f":"'F13'!S146","v":0},{"$f":"'F13'!T146","v":0},{"$f":"'F13'!U146","v":0},{"$f":"'F13'!V146","v":0},{"$f":"'F13'!W146","v":0},{"$f":"'F13'!X146","v":0},{"$f":"'F13'!Y146","v":0},{"$f":"'F13'!Z146","v":0},{"$f":"'F13'!AA146","v":0},{"$f":"'F13'!AB146","v":0},{"$f":"'F13'!AC146","v":0},{"$f":"'F13'!AD146","v":0},{"$f":"'F13'!AE146","v":0},{"$f":"'F13'!AF146","v":0},{"$f":"'F13'!AG146","v":0},{"$f":"'F13'!AH146","v":0},{"$f":"'F13'!AI146","v":0}]
[null,null,null,null,null,null,{"$f":"'F13'!A147","v":""},{"$f":"'F13'!B147","v":0},{"$f":"'F13'!C147","v":0},{"$f":"'F13'!D147","v":""},{"$f":"'F13'!E147","v":""},{"$f":"'F13'!F147","v":0},{"$f":"'F13'!G147","v":0},{"$f":"'F13'!H147","v":0},{"$f":"'F13'!I147","v":0},{"$f":"'F13'!J147","v":0},{"$f":"'F13'!K147","v":0},{"$f":"'F13'!L147","v":0},{"$f":"'F13'!M147","v":0},{"$f":"'F13'!N147","v":0},{"$f":"'F13'!O147","v":0},{"$f":"'F13'!P147","v":0},{"$f":"'F13'!Q147","v":0},{"$f":"'F13'!R147","v":0},{"$f":"'F13'!S147","v":0},{"$f":"'F13'!T147","v":0},{"$f":"'F13'!U147","v":0},{"$f":"'F13'!V147","v":0},{"$f":"'F13'!W147","v":0},{"$f":"'F13'!X147","v":0},{"$f":"'F13'!Y147","v":0},{"$f":"'F13'!Z147","v":0},{"$f":"'F13'!AA147","v":0},{"$f":"'F13'!AB147","v":0},{"$f":"'F13'!AC147","v":0},{"$f":"'F13'!AD147","v":0},{"$f":"'F13'!AE147","v":0},{"$f":"'F13'!AF147","v":0},{"$f":"'F13'!AG147","v":0},{"$f":"'F13'!AH147","v":0},{"$f":"'F13'!AI147","v":0}]
[null,null,null,null,null,null,{"$f":"'F13'!A148","v":""},{"$f":"'F13'!B148","v":0},{"$f":"'F13'!C148","v":0},{"$f":"'F13'!D148","v":""},{"$f":"'F13'!E148","v":""},{"$f":"'F13'!F148","v":0},{"$f":"'F13'!G148","v":0},{"$f":"'F13'!H148","v":0},{"$f":"'F13'!I148","v":0},{"$f":"'F13'!J148","v":0},{"$f":"'F13'!K148","v":0},{"$f":"'F13'!L148","v":0},{"$f":"'F13'!M148","v":0},{"$f":"'F13'!N148","v":0},{"$f":"'F13'!O148","v":0},{"$f":"'F13'!P148","v":0},{"$f":"'F13'!Q148","v":0},{"$f":"'F13'!R148","v":0},{"$f":"'F13'!S148","v":0},{"$f":"'F13'!T148","v":0},{"$f":"'F13'!U148","v":0},{"$f":"'F13'!V148","v":0},{"$f":"'F13'!W148","v":0},{"$f":"'F13'!X148","v":0},{"$f":"'F13'!Y148","v":0},{"$f":"'F13'!Z148","v":0},{"$f":"'F13'!AA148","v":0},{"$f":"'F13'!AB148","v":0},{"$f":"'F13'!AC148","v":0},{"$f":"'F13'!AD148","v":0},{"$f":"'F13'!AE148","v":0},{"$f":"'F13'!AF148","v":0},{"$f":"'F13'!AG148","v":0},{"$f":"'F13'!AH148","v":0},{"$f":"'F13'!AI148","v":0}]
[null,null,null,null,null,null,{"$f":"'F13'!A149","v":""},{"$f":"'F13'!B149","v":0},{"$f":"'F13'!C149","v":0},{"$f":"'F13'!D149","v":""},{"$f":"'F13'!E149","v":""},{"$f":"'F13'!F149","v":0},{"$f":"'F13'!G149","v":0},{"$f":"'F13'!H149","v":0},{"$f":"'F13'!I149","v":0},{"$f":"'F13'!J149","v":0},{"$f":"'F13'!K149","v":0},{"$f":"'F13'!L149","v":0},{"$f":"'F13'!M149","v":0},{"$f":"'F13'!N149","v":0},{"$f":"'F13'!O149","v":0},{"$f":"'F13'!P149","v":0},{"$f":"'F13'!Q149","v":0},{"$f":"'F13'!R149","v":0},{"$f":"'F13'!S149","v":0},{"$f":"'F13'!T149","v":0},{"$f":"'F13'!U149","v":0},{"$f":"'F13'!V149","v":0},{"$f":"'F13'!W149","v":0},{"$f":"'F13'!X149","v":0},{"$f":"'F13'!Y149","v":0},{"$f":"'F13'!Z149","v":0},{"$f":"'F13'!AA149","v":0},{"$f":"'F13'!AB149","v":0},{"$f":"'F13'!AC149","v":0},{"$f":"'F13'!AD149","v":0},{"$f":"'F13'!AE149","v":0},{"$f":"'F13'!AF149","v":0},{"$f":"'F13'!AG149","v":0},{"$f":"'F13'!AH149","v":0},{"$f":"'F13'!AI149","v":0}]
[null,null,null,null,null,null,{"$f":"'F13'!A150","v":""},{"$f":"'F13'!B150","v":0},{"$f":"'F13'!C150","v":0},{"$f":"'F13'!D150","v":""},{"$f":"'F13'!E150","v":""},{"$f":"'F13'!F150","v":0},{"$f":"'F13'!G150","v":0},{"$f":"'F13'!H150","v":0},{"$f":"'F13'!I150","v":0},{"$f":"'F13'!J150","v":0},{"$f":"'F13'!K150","v":0},{"$f":"'F13'!L150","v":0},{"$f":"'F13'!M150","v":0},{"$f":"'F13'!N150","v":0},{"$f":"'F13'!O150","v":0},{"$f":"'F13'!P150","v":0},{"$f":"'F13'!Q150","v":0},{"$f":"'F13'!R150","v":0},{"$f":"'F13'!S150","v":0},{"$f":"'F13'!T150","v":0},{"$f":"'F13'!U150","v":0},{"$f":"'F13'!V150","v":0},{"$f":"'F13'!W150","v":0},{"$f":"'F13'!X150","v":0},{"$f":"'F13'!Y150","v":0},{"$f":"'F13'!Z150","v":0},{"$f":"'F13'!AA150","v":0},{"$f":"'F13'!AB150","v":0},{"$f":"'F13'!AC150","v":0},{"$f":"'F13'!AD150","v":0},{"$f":"'F13'!AE150","v":0},{"$f":"'F13'!AF150","v":0},{"$f":"'F13'!AG150","v":0},{"$f":"'F13'!AH150","v":0},{"$f":"'F13'!AI150","v":0}]
[null,null,null,null,null,null,{"$f":"'F13'!A151","v":""},{"$f":"'F13'!B151","v":0},{"$f":"'F13'!C151","v":0},{"$f":"'F13'!D151","v":""},{"$f":"'F13'!E151","v":""},{"$f":"'F13'!F151","v":0},{"$f":"'F13'!G151","v":0},{"$f":"'F13'!H151","v":0},{"$f":"'F13'!I151","v":0},{"$f":"'F13'!J151","v":0},{"$f":"'F13'!K151","v":0},{"$f":"'F13'!L151","v":0},{"$f":"'F13'!M151","v":0},{"$f":"'F13'!N151","v":0},{"$f":"'F13'!O151","v":0},{"$f":"'F13'!P151","v":0},{"$f":"'F13'!Q151","v":0},{"$f":"'F13'!R151","v":0},{"$f":"'F13'!S151","v":0},{"$f":"'F13'!T151","v":0},{"$f":"'F13'!U151","v":0},{"$f":"'F13'!V151","v":0},{"$f":"'F13'!W151","v":0},{"$f":"'F13'!X151","v":0},{"$f":"'F13'!Y151","v":0},{"$f":"'F13'!Z151","v":0},{"$f":"'F13'!AA151","v":0},{"$f":"'F13'!AB151","v":0},{"$f":"'F13'!AC151","v":0},{"$f":"'F13'!AD151","v":0},{"$f":"'F13'!AE151","v":0},{"$f":"'F13'!AF151","v":0},{"$f":"'F13'!AG151","v":0},{"$f":"'F13'!AH151","v":0},{"$f":"'F13'!AI151","v":0}]
[null,null,null,null,null,null,{"$f":"'F13'!A152","v":""},{"$f":"'F13'!B152","v":0},{"$f":"'F13'!C152","v":0},{"$f":"'F13'!D152","v":""},{"$f":"'F13'!E152","v":""},{"$f":"'F13'!F152","v":0},{"$f":"'F13'!G152","v":0},{"$f":"'F13'!H152","v":0},{"$f":"'F13'!I152","v":0},{"$f":"'F13'!J152","v":0},{"$f":"'F13'!K152","v":0},{"$f":"'F13'!L152","v":0},{"$f":"'F13'!M152","v":0},{"$f":"'F13'!N152","v":0},{"$f":"'F13'!O152","v":0},{"$f":"'F13'!P152","v":0},{"$f":"'F13'!Q152","v":0},{"$f":"'F13'!R152","v":0},{"$f":"'F13'!S152","v":0},{"$f":"'F13'!T152","v":0},{"$f":"'F13'!U152","v":0},{"$f":"'F13'!V152","v":0},{"$f":"'F13'!W152","v":0},{"$f":"'F13'!X152","v":0},{"$f":"'F13'!Y152","v":0},{"$f":"'F13'!Z152","v":0},{"$f":"'F13'!AA152","v":0},{"$f":"'F13'!AB152","v":0},{"$f":"'F13'!AC152","v":0},{"$f":"'F13'!AD152","v":0},{"$f":"'F13'!AE152","v":0},{"$f":"'F13'!AF152","v":0},{"$f":"'F13'!AG152","v":0},{"$f":"'F13'!AH152","v":0},{"$f":"'F13'!AI152","v":0}]
[null,null,null,null,null,null,{"$f":"'F13'!A153","v":""},{"$f":"'F13'!B153","v":0},{"$f":"'F13'!C153","v":0},{"$f":"'F13'!D153","v":""},{"$f":"'F13'!E153","v":""},{"$f":"'F13'!F153","v":0},{"$f":"'F13'!G153","v":0},{"$f":"'F13'!H153","v":0},{"$f":"'F13'!I153","v":0},{"$f":"'F13'!J153","v":0},{"$f":"'F13'!K153","v":0},{"$f":"'F13'!L153","v":0},{"$f":"'F13'!M153","v":0},{"$f":"'F13'!N153","v":0},{"$f":"'F13'!O153","v":0},{"$f":"'F13'!P153","v":0},{"$f":"'F13'!Q153","v":0},{"$f":"'F13'!R153","v":0},{"$f":"'F13'!S153","v":0},{"$f":"'F13'!T153","v":0},{"$f":"'F13'!U153","v":0},{"$f":"'F13'!V153","v":0},{"$f":"'F13'!W153","v":0},{"$f":"'F13'!X153","v":0},{"$f":"'F13'!Y153","v":0},{"$f":"'F13'!Z153","v":0},{"$f":"'F13'!AA153","v":0},{"$f":"'F13'!AB153","v":0},{"$f":"'F13'!AC153","v":0},{"$f":"'F13'!AD153","v":0},{"$f":"'F13'!AE153","v":0},{"$f":"'F13'!AF153","v":0},{"$f":"'F13'!AG153","v":0},{"$f":"'F13'!AH153","v":0},{"$f":"'F13'!AI153","v":0}]
[null,null,null,null,null,null,{"$f":"'F13'!A154","v":""},{"$f":"'F13'!B154","v":0},{"$f":"'F13'!C154","v":0},{"$f":"'F13'!D154","v":""},{"$f":"'F13'!E154","v":""},{"$f":"'F13'!F154","v":0},{"$f":"'F13'!G154","v":0},{"$f":"'F13'!H154","v":0},{"$f":"'F13'!I154","v":0},{"$f":"'F13'!J154","v":0},{"$f":"'F13'!K154","v":0},{"$f":"'F13'!L154","v":0},{"$f":"'F13'!M154","v":0},{"$f":"'F13'!N154","v":0},{"$f":"'F13'!O154","v":0},{"$f":"'F13'!P154","v":0},{"$f":"'F13'!Q154","v":0},{"$f":"'F13'!R154","v":0},{"$f":"'F13'!S154","v":0},{"$f":"'F13'!T154","v":0},{"$f":"'F13'!U154","v":0},{"$f":"'F13'!V154","v":0},{"$f":"'F13'!W154","v":0},{"$f":"'F13'!X154","v":0},{"$f":"'F13'!Y154","v":0},{"$f":"'F13'!Z154","v":0},{"$f":"'F13'!AA154","v":0},{"$f":"'F13'!AB154","v":0},{"$f":"'F13'!AC154","v":0},{"$f":"'F13'!AD154","v":0},{"$f":"'F13'!AE154","v":0},{"$f":"'F13'!AF154","v":0},{"$f":"'F13'!AG154","v":0},{"$f":"'F13'!AH154","v":0},{"$f":"'F13'!AI154","v":0}]
[null,null,null,null,null,null,{"$f":"'F13'!A155","v":""},{"$f":"'F13'!B155","v":0},{"$f":"'F13'!C155","v":0},{"$f":"'F13'!D155","v":""},{"$f":"'F13'!E155","v":""},{"$f":"'F13'!F155","v":0},{"$f":"'F13'!G155","v":0},{"$f":"'F13'!H155","v":0},{"$f":"'F13'!I155","v":0},{"$f":"'F13'!J155","v":0},{"$f":"'F13'!K155","v":0},{"$f":"'F13'!L155","v":0},{"$f":"'F13'!M155","v":0},{"$f":"'F13'!N155","v":0},{"$f":"'F13'!O155","v":0},{"$f":"'F13'!P155","v":0},{"$f":"'F13'!Q155","v":0},{"$f":"'F13'!R155","v":0},{"$f":"'F13'!S155","v":0},{"$f":"'F13'!T155","v":0},{"$f":"'F13'!U155","v":0},{"$f":"'F13'!V155","v":0},{"$f":"'F13'!W155","v":0},{"$f":"'F13'!X155","v":0},{"$f":"'F13'!Y155","v":0},{"$f":"'F13'!Z155","v":0},{"$f":"'F13'!AA155","v":0},{"$f":"'F13'!AB155","v":0},{"$f":"'F13'!AC155","v":0},{"$f":"'F13'!AD155","v":0},{"$f":"'F13'!AE155","v":0},{"$f":"'F13'!AF155","v":0},{"$f":"'F13'!AG155","v":0},{"$f":"'F13'!AH155","v":0},{"$f":"'F13'!AI155","v":0}]
[null,null,null,null,null,null,{"$f":"'F13'!A156","v":""},{"$f":"'F13'!B156","v":0},{"$f":"'F13'!C156","v":0},{"$f":"'F13'!D156","v":""},{"$f":"'F13'!E156","v":""},{"$f":"'F13'!F156","v":0},{"$f":"'F13'!G156","v":0},{"$f":"'F13'!H156","v":0},{"$f":"'F13'!I156","v":0},{"$f":"'F13'!J156","v":0},{"$f":"'F13'!K156","v":0},{"$f":"'F13'!L156","v":0},{"$f":"'F13'!M156","v":0},{"$f":"'F13'!N156","v":0},{"$f":"'F13'!O156","v":0},{"$f":"'F13'!P156","v":0},{"$f":"'F13'!Q156","v":0},{"$f":"'F13'!R156","v":0},{"$f":"'F13'!S156","v":0},{"$f":"'F13'!T156","v":0},{"$f":"'F13'!U156","v":0},{"$f":"'F13'!V156","v":0},{"$f":"'F13'!W156","v":0},{"$f":"'F13'!X156","v":0},{"$f":"'F13'!Y156","v":0},{"$f":"'F13'!Z156","v":0},{"$f":"'F13'!AA156","v":0},{"$f":"'F13'!AB156","v":0},{"$f":"'F13'!AC156","v":0},{"$f":"'F13'!AD156","v":0},{"$f":"'F13'!AE156","v":0},{"$f":"'F13'!AF156","v":0},{"$f":"'F13'!AG156","v":0},{"$f":"'F13'!AH156","v":0},{"$f":"'F13'!AI156","v":0}]
[null,null,null,null,null,null,{"$f":"'F13'!A157","v":""},{"$f":"'F13'!B157","v":0},{"$f":"'F13'!C157","v":0},{"$f":"'F13'!D157","v":""},{"$f":"'F13'!E157","v":""},{"$f":"'F13'!F157","v":0},{"$f":"'F13'!G157","v":0},{"$f":"'F13'!H157","v":0},{"$f":"'F13'!I157","v":0},{"$f":"'F13'!J157","v":0},{"$f":"'F13'!K157","v":0},{"$f":"'F13'!L157","v":0},{"$f":"'F13'!M157","v":0},{"$f":"'F13'!N157","v":0},{"$f":"'F13'!O157","v":0},{"$f":"'F13'!P157","v":0},{"$f":"'F13'!Q157","v":0},{"$f":"'F13'!R157","v":0},{"$f":"'F13'!S157","v":0},{"$f":"'F13'!T157","v":0},{"$f":"'F13'!U157","v":0},{"$f":"'F13'!V157","v":0},{"$f":"'F13'!W157","v":0},{"$f":"'F13'!X157","v":0},{"$f":"'F13'!Y157","v":0},{"$f":"'F13'!Z157","v":0},{"$f":"'F13'!AA157","v":0},{"$f":"'F13'!AB157","v":0},{"$f":"'F13'!AC157","v":0},{"$f":"'F13'!AD157","v":0},{"$f":"'F13'!AE157","v":0},{"$f":"'F13'!AF157","v":0},{"$f":"'F13'!AG157","v":0},{"$f":"'F13'!AH157","v":0},{"$f":"'F13'!AI157","v":0}]
[null,null,null,null,null,null,{"$f":"'F13'!A158","v":""},{"$f":"'F13'!B158","v":0},{"$f":"'F13'!C158","v":0},{"$f":"'F13'!D158","v":""},{"$f":"'F13'!E158","v":""},{"$f":"'F13'!F158","v":0},{"$f":"'F13'!G158","v":0},{"$f":"'F13'!H158","v":0},{"$f":"'F13'!I158","v":0},{"$f":"'F13'!J158","v":0},{"$f":"'F13'!K158","v":0},{"$f":"'F13'!L158","v":0},{"$f":"'F13'!M158","v":0},{"$f":"'F13'!N158","v":0},{"$f":"'F13'!O158","v":0},{"$f":"'F13'!P158","v":0},{"$f":"'F13'!Q158","v":0},{"$f":"'F13'!R158","v":0},{"$f":"'F13'!S158","v":0},{"$f":"'F13'!T158","v":0},{"$f":"'F13'!U158","v":0},{"$f":"'F13'!V158","v":0},{"$f":"'F13'!W158","v":0},{"$f":"'F13'!X158","v":0},{"$f":"'F13'!Y158","v":0},{"$f":"'F13'!Z158","v":0},{"$f":"'F13'!AA158","v":0},{"$f":"'F13'!AB158","v":0},{"$f":"'F13'!AC158","v":0},{"$f":"'F13'!AD158","v":0},{"$f":"'F13'!AE158","v":0},{"$f":"'F13'!AF158","v":0},{"$f":"'F13'!AG158","v":0},{"$f":"'F13'!AH158","v":0},{"$f":"'F13'!AI158","v":0}]
[null,null,null,null,null,null,{"$f":"'F13'!A159","v":""},{"$f":"'F13'!B159","v":0},{"$f":"'F13'!C159","v":0},{"$f":"'F13'!D159","v":""},{"$f":"'F13'!E159","v":""},{"$f":"'F13'!F159","v":0},{"$f":"'F13'!G159","v":0},{"$f":"'F13'!H159","v":0},{"$f":"'F13'!I159","v":0},{"$f":"'F13'!J159","v":0},{"$f":"'F13'!K159","v":0},{"$f":"'F13'!L159","v":0},{"$f":"'F13'!M159","v":0},{"$f":"'F13'!N159","v":0},{"$f":"'F13'!O159","v":0},{"$f":"'F13'!P159","v":0},{"$f":"'F13'!Q159","v":0},{"$f":"'F13'!R159","v":0},{"$f":"'F13'!S159","v":0},{"$f":"'F13'!T159","v":0},{"$f":"'F13'!U159","v":0},{"$f":"'F13'!V159","v":0},{"$f":"'F13'!W159","v":0},{"$f":"'F13'!X159","v":0},{"$f":"'F13'!Y159","v":0},{"$f":"'F13'!Z159","v":0},{"$f":"'F13'!AA159","v":0},{"$f":"'F13'!AB159","v":0},{"$f":"'F13'!AC159","v":0},{"$f":"'F13'!AD159","v":0},{"$f":"'F13'!AE159","v":0},{"$f":"'F13'!AF159","v":0},{"$f":"'F13'!AG159","v":0},{"$f":"'F13'!AH159","v":0},{"$f":"'F13'!AI159","v":0}]
[null,null,null,null,null,null,{"$f":"'F13'!A160","v":""},{"$f":"'F13'!B160","v":0},{"$f":"'F13'!C160","v":0},{"$f":"'F13'!D160","v":""},{"$f":"'F13'!E160","v":""},{"$f":"'F13'!F160","v":0},{"$f":"'F13'!G160","v":0},{"$f":"'F13'!H160","v":0},{"$f":"'F13'!I160","v":0},{"$f":"'F13'!J160","v":0},{"$f":"'F13'!K160","v":0},{"$f":"'F13'!L160","v":0},{"$f":"'F13'!M160","v":0},{"$f":"'F13'!N160","v":0},{"$f":"'F13'!O160","v":0},{"$f":"'F13'!P160","v":0},{"$f":"'F13'!Q160","v":0},{"$f":"'F13'!R160","v":0},{"$f":"'F13'!S160","v":0},{"$f":"'F13'!T160","v":0},{"$f":"'F13'!U160","v":0},{"$f":"'F13'!V160","v":0},{"$f":"'F13'!W160","v":0},{"$f":"'F13'!X160","v":0},{"$f":"'F13'!Y160","v":0},{"$f":"'F13'!Z160","v":0},{"$f":"'F13'!AA160","v":0},{"$f":"'F13'!AB160","v":0},{"$f":"'F13'!AC160","v":0},{"$f":"'F13'!AD160","v":0},{"$f":"'F13'!AE160","v":0},{"$f":"'F13'!AF160","v":0},{"$f":"'F13'!AG160","v":0},{"$f":"'F13'!AH160","v":0},{"$f":"'F13'!AI160","v":0}]
[null,null,null,null,null,null,{"$f":"'F13'!A161","v":""},{"$f":"'F13'!B161","v":0},{"$f":"'F13'!C161","v":0},{"$f":"'F13'!D161","v":""},{"$f":"'F13'!E161","v":""},{"$f":"'F13'!F161","v":0},{"$f":"'F13'!G161","v":0},{"$f":"'F13'!H161","v":0},{"$f":"'F13'!I161","v":0},{"$f":"'F13'!J161","v":0},{"$f":"'F13'!K161","v":0},{"$f":"'F13'!L161","v":0},{"$f":"'F13'!M161","v":0},{"$f":"'F13'!N161","v":0},{"$f":"'F13'!O161","v":0},{"$f":"'F13'!P161","v":0},{"$f":"'F13'!Q161","v":0},{"$f":"'F13'!R161","v":0},{"$f":"'F13'!S161","v":0},{"$f":"'F13'!T161","v":0},{"$f":"'F13'!U161","v":0},{"$f":"'F13'!V161","v":0},{"$f":"'F13'!W161","v":0},{"$f":"'F13'!X161","v":0},{"$f":"'F13'!Y161","v":0},{"$f":"'F13'!Z161","v":0},{"$f":"'F13'!AA161","v":0},{"$f":"'F13'!AB161","v":0},{"$f":"'F13'!AC161","v":0},{"$f":"'F13'!AD161","v":0},{"$f":"'F13'!AE161","v":0},{"$f":"'F13'!AF161","v":0},{"$f":"'F13'!AG161","v":0},{"$f":"'F13'!AH161","v":0},{"$f":"'F13'!AI161","v":0}]
[null,null,null,null,null,null,{"$f":"'F13'!A162","v":""},{"$f":"'F13'!B162","v":0},{"$f":"'F13'!C162","v":0},{"$f":"'F13'!D162","v":""},{"$f":"'F13'!E162","v":""},{"$f":"'F13'!F162","v":0},{"$f":"'F13'!G162","v":0},{"$f":"'F13'!H162","v":0},{"$f":"'F13'!I162","v":0},{"$f":"'F13'!J162","v":0},{"$f":"'F13'!K162","v":0},{"$f":"'F13'!L162","v":0},{"$f":"'F13'!M162","v":0},{"$f":"'F13'!N162","v":0},{"$f":"'F13'!O162","v":0},{"$f":"'F13'!P162","v":0},{"$f":"'F13'!Q162","v":0},{"$f":"'F13'!R162","v":0},{"$f":"'F13'!S162","v":0},{"$f":"'F13'!T162","v":0},{"$f":"'F13'!U162","v":0},{"$f":"'F13'!V162","v":0},{"$f":"'F13'!W162","v":0},{"$f":"'F13'!X162","v":0},{"$f":"'F13'!Y162","v":0},{"$f":"'F13'!Z162","v":0},{"$f":"'F13'!AA162","v":0},{"$f":"'F13'!AB162","v":0},{"$f":"'F13'!AC162","v":0},{"$f":"'F13'!AD162","v":0},{"$f":"'F13'!AE162","v":0},{"$f":"'F13'!AF162","v":0},{"$f":"'F13'!AG162","v":0},{"$f":"'F13'!AH162","v":0},{"$f":"'F13'!AI162","v":0}]
[null,null,null,null,null,null,{"$f":"'F13'!A163","v":""},{"$f":"'F13'!B163","v":0},{"$f":"'F13'!C163","v":0},{"$f":"'F13'!D163","v":""},{"$f":"'F13'!E163","v":""},{"$f":"'F13'!F163","v":0},{"$f":"'F13'!G163","v":0},{"$f":"'F13'!H163","v":0},{"$f":"'F13'!I163","v":0},{"$f":"'F13'!J163","v":0},{"$f":"'F13'!K163","v":0},{"$f":"'F13'!L163","v":0},{"$f":"'F13'!M163","v":0},{"$f":"'F13'!N163","v":0},{"$f":"'F13'!O163","v":0},{"$f":"'F13'!P163","v":0},{"$f":"'F13'!Q163","v":0},{"$f":"'F13'!R163","v":0},{"$f":"'F13'!S163","v":0},{"$f":"'F13'!T163","v":0},{"$f":"'F13'!U163","v":0},{"$f":"'F13'!V163","v":0},{"$f":"'F13'!W163","v":0},{"$f":"'F13'!X163","v":0},{"$f":"'F13'!Y163","v":0},{"$f":"'F13'!Z163","v":0},{"$f":"'F13'!AA163","v":0},{"$f":"'F13'!AB163","v":0},{"$f":"'F13'!AC163","v":0},{"$f":"'F13'!AD163","v":0},{"$f":"'F13'!AE163","v":0},{"$f":"'F13'!AF163","v":0},{"$f":"'F13'!AG163","v":0},{"$f":"'F13'!AH163","v":0},{"$f":"'F13'!AI163","v":0}]
[null,null,null,null,null,null,{"$f":"'F13'!A164","v":""},{"$f":"'F13'!B164","v":0},{"$f":"'F13'!C164","v":0},{"$f":"'F13'!D164","v":""},{"$f":"'F13'!E164","v":""},{"$f":"'F13'!F164","v":0},{"$f":"'F13'!G164","v":0},{"$f":"'F13'!H164","v":0},{"$f":"'F13'!I164","v":0},{"$f":"'F13'!J164","v":0},{"$f":"'F13'!K164","v":0},{"$f":"'F13'!L164","v":0},{"$f":"'F13'!M164","v":0},{"$f":"'F13'!N164","v":0},{"$f":"'F13'!O164","v":0},{"$f":"'F13'!P164","v":0},{"$f":"'F13'!Q164","v":0},{"$f":"'F13'!R164","v":0},{"$f":"'F13'!S164","v":0},{"$f":"'F13'!T164","v":0},{"$f":"'F13'!U164","v":0},{"$f":"'F13'!V164","v":0},{"$f":"'F13'!W164","v":0},{"$f":"'F13'!X164","v":0},{"$f":"'F13'!Y164","v":0},{"$f":"'F13'!Z164","v":0},{"$f":"'F13'!AA164","v":0},{"$f":"'F13'!AB164","v":0},{"$f":"'F13'!AC164","v":0},{"$f":"'F13'!AD164","v":0},{"$f":"'F13'!AE164","v":0},{"$f":"'F13'!AF164","v":0},{"$f":"'F13'!AG164","v":0},{"$f":"'F13'!AH164","v":0},{"$f":"'F13'!AI164","v":0}]
[null,null,null,null,null,null,{"$f":"'F13'!A165","v":""},{"$f":"'F13'!B165","v":0},{"$f":"'F13'!C165","v":0},{"$f":"'F13'!D165","v":""},{"$f":"'F13'!E165","v":""},{"$f":"'F13'!F165","v":0},{"$f":"'F13'!G165","v":0},{"$f":"'F13'!H165","v":0},{"$f":"'F13'!I165","v":0},{"$f":"'F13'!J165","v":0},{"$f":"'F13'!K165","v":0},{"$f":"'F13'!L165","v":0},{"$f":"'F13'!M165","v":0},{"$f":"'F13'!N165","v":0},{"$f":"'F13'!O165","v":0},{"$f":"'F13'!P165","v":0},{"$f":"'F13'!Q165","v":0},{"$f":"'F13'!R165","v":0},{"$f":"'F13'!S165","v":0},{"$f":"'F13'!T165","v":0},{"$f":"'F13'!U165","v":0},{"$f":"'F13'!V165","v":0},{"$f":"'F13'!W165","v":0},{"$f":"'F13'!X165","v":0},{"$f":"'F13'!Y165","v":0},{"$f":"'F13'!Z165","v":0},{"$f":"'F13'!AA165","v":0},{"$f":"'F13'!AB165","v":0},{"$f":"'F13'!AC165","v":0},{"$f":"'F13'!AD165","v":0},{"$f":"'F13'!AE165","v":0},{"$f":"'F13'!AF165","v":0},{"$f":"'F13'!AG165","v":0},{"$f":"'F13'!AH165","v":0},{"$f":"'F13'!AI165","v":0}]
[null,null,null,null,null,null,{"$f":"'F13'!A166","v":""},{"$f":"'F13'!B166","v":0},{"$f":"'F13'!C166","v":0},{"$f":"'F13'!D166","v":""},{"$f":"'F13'!E166","v":""},{"$f":"'F13'!F166","v":0},{"$f":"'F13'!G166","v":0},{"$f":"'F13'!H166","v":0},{"$f":"'F13'!I166","v":0},{"$f":"'F13'!J166","v":0},{"$f":"'F13'!K166","v":0},{"$f":"'F13'!L166","v":0},{"$f":"'F13'!M166","v":0},{"$f":"'F13'!N166","v":0},{"$f":"'F13'!O166","v":0},{"$f":"'F13'!P166","v":0},{"$f":"'F13'!Q166","v":0},{"$f":"'F13'!R166","v":0},{"$f":"'F13'!S166","v":0},{"$f":"'F13'!T166","v":0},{"$f":"'F13'!U166","v":0},{"$f":"'F13'!V166","v":0},{"$f":"'F13'!W166","v":0},{"$f":"'F13'!X166","v":0},{"$f":"'F13'!Y166","v":0},{"$f":"'F13'!Z166","v":0},{"$f":"'F13'!AA166","v":0},{"$f":"'F13'!AB166","v":0},{"$f":"'F13'!AC166","v":0},{"$f":"'F13'!AD166","v":0},{"$f":"'F13'!AE166","v":0},{"$f":"'F13'!AF166","v":0},{"$f":"'F13'!AG166","v":0},{"$f":"'F13'!AH166","v":0},{"$f":"'F13'!AI166","v":0}]
[null,null,null,null,null,null,{"$f":"'F13'!A167","v":""},{"$f":"'F13'!B167","v":0},{"$f":"'F13'!C167","v":0},{"$f":"'F13'!D167","v":""},{"$f":"'F13'!E167","v":""},{"$f":"'F13'!F167","v":0},{"$f":"'F13'!G167","v":0},{"$f":"'F13'!H167","v":0},{"$f":"'F13'!I167","v":0},{"$f":"'F13'!J167","v":0},{"$f":"'F13'!K167","v":0},{"$f":"'F13'!L167","v":0},{"$f":"'F13'!M167","v":0},{"$f":"'F13'!N167","v":0},{"$f":"'F13'!O167","v":0},{"$f":"'F13'!P167","v":0},{"$f":"'F13'!Q167","v":0},{"$f":"'F13'!R167","v":0},{"$f":"'F13'!S167","v":0},{"$f":"'F13'!T167","v":0},{"$f":"'F13'!U167","v":0},{"$f":"'F13'!V167","v":0},{"$f":"'F13'!W167","v":0},{"$f":"'F13'!X167","v":0},{"$f":"'F13'!Y167","v":0},{"$f":"'F13'!Z167","v":0},{"$f":"'F13'!AA167","v":0},{"$f":"'F13'!AB167","v":0},{"$f":"'F13'!AC167","v":0},{"$f":"'F13'!AD167","v":0},{"$f":"'F13'!AE167","v":0},{"$f":"'F13'!AF167","v":0},{"$f":"'F13'!AG167","v":0},{"$f":"'F13'!AH167","v":0},{"$f":"'F13'!AI167","v":0}]
[null,null,null,null,null,null,{"$f":"'F13'!A168","v":""},{"$f":"'F13'!B168","v":0},{"$f":"'F13'!C168","v":0},{"$f":"'F13'!D168","v":""},{"$f":"'F13'!E168","v":""},{"$f":"'F13'!F168","v":0},{"$f":"'F13'!G168","v":0},{"$f":"'F13'!H168","v":0},{"$f":"'F13'!I168","v":0},{"$f":"'F13'!J168","v":0},{"$f":"'F13'!K168","v":0},{"$f":"'F13'!L168","v":0},{"$f":"'F13'!M168","v":0},{"$f":"'F13'!N168","v":0},{"$f":"'F13'!O168","v":0},{"$f":"'F13'!P168","v":0},{"$f":"'F13'!Q168","v":0},{"$f":"'F13'!R168","v":0},{"$f":"'F13'!S168","v":0},{"$f":"'F13'!T168","v":0},{"$f":"'F13'!U168","v":0},{"$f":"'F13'!V168","v":0},{"$f":"'F13'!W168","v":0},{"$f":"'F13'!X168","v":0},{"$f":"'F13'!Y168","v":0},{"$f":"'F13'!Z168","v":0},{"$f":"'F13'!AA168","v":0},{"$f":"'F13'!AB168","v":0},{"$f":"'F13'!AC168","v":0},{"$f":"'F13'!AD168","v":0},{"$f":"'F13'!AE168","v":0},{"$f":"'F13'!AF168","v":0},{"$f":"'F13'!AG168","v":0},{"$f":"'F13'!AH168","v":0},{"$f":"'F13'!AI168","v":0}]
[null,null,null,null,null,null,{"$f":"'F13'!A169","v":""},{"$f":"'F13'!B169","v":0},{"$f":"'F13'!C169","v":0},{"$f":"'F13'!D169","v":""},{"$f":"'F13'!E169","v":""},{"$f":"'F13'!F169","v":0},{"$f":"'F13'!G169","v":0},{"$f":"'F13'!H169","v":0},{"$f":"'F13'!I169","v":0},{"$f":"'F13'!J169","v":0},{"$f":"'F13'!K169","v":0},{"$f":"'F13'!L169","v":0},{"$f":"'F13'!M169","v":0},{"$f":"'F13'!N169","v":0},{"$f":"'F13'!O169","v":0},{"$f":"'F13'!P169","v":0},{"$f":"'F13'!Q169","v":0},{"$f":"'F13'!R169","v":0},{"$f":"'F13'!S169","v":0},{"$f":"'F13'!T169","v":0},{"$f":"'F13'!U169","v":0},{"$f":"'F13'!V169","v":0},{"$f":"'F13'!W169","v":0},{"$f":"'F13'!X169","v":0},{"$f":"'F13'!Y169","v":0},{"$f":"'F13'!Z169","v":0},{"$f":"'F13'!AA169","v":0},{"$f":"'F13'!AB169","v":0},{"$f":"'F13'!AC169","v":0},{"$f":"'F13'!AD169","v":0},{"$f":"'F13'!AE169","v":0},{"$f":"'F13'!AF169","v":0},{"$f":"'F13'!AG169","v":0},{"$f":"'F13'!AH169","v":0},{"$f":"'F13'!AI169","v":0}]
[null,null,null,null,null,null,{"$f":"'F13'!A170","v":""},{"$f":"'F13'!B170","v":0},{"$f":"'F13'!C170","v":0},{"$f":"'F13'!D170","v":""},{"$f":"'F13'!E170","v":""},{"$f":"'F13'!F170","v":0},{"$f":"'F13'!G170","v":0},{"$f":"'F13'!H170","v":0},{"$f":"'F13'!I170","v":0},{"$f":"'F13'!J170","v":0},{"$f":"'F13'!K170","v":0},{"$f":"'F13'!L170","v":0},{"$f":"'F13'!M170","v":0},{"$f":"'F13'!N170","v":0},{"$f":"'F13'!O170","v":0},{"$f":"'F13'!P170","v":0},{"$f":"'F13'!Q170","v":0},{"$f":"'F13'!R170","v":0},{"$f":"'F13'!S170","v":0},{"$f":"'F13'!T170","v":0},{"$f":"'F13'!U170","v":0},{"$f":"'F13'!V170","v":0},{"$f":"'F13'!W170","v":0},{"$f":"'F13'!X170","v":0},{"$f":"'F13'!Y170","v":0},{"$f":"'F13'!Z170","v":0},{"$f":"'F13'!AA170","v":0},{"$f":"'F13'!AB170","v":0},{"$f":"'F13'!AC170","v":0},{"$f":"'F13'!AD170","v":0},{"$f":"'F13'!AE170","v":0},{"$f":"'F13'!AF170","v":0},{"$f":"'F13'!AG170","v":0},{"$f":"'F13'!AH170","v":0},{"$f":"'F13'!AI170","v":0}]
[null,null,null,null,null,null,{"$f":"'F13'!A171","v":""},{"$f":"'F13'!B171","v":0},{"$f":"'F13'!C171","v":0},{"$f":"'F13'!D171","v":""},{"$f":"'F13'!E171","v":""},{"$f":"'F13'!F171","v":0},{"$f":"'F13'!G171","v":0},{"$f":"'F13'!H171","v":0},{"$f":"'F13'!I171","v":0},{"$f":"'F13'!J171","v":0},{"$f":"'F13'!K171","v":0},{"$f":"'F13'!L171","v":0},{"$f":"'F13'!M171","v":0},{"$f":"'F13'!N171","v":0},{"$f":"'F13'!O171","v":0},{"$f":"'F13'!P171","v":0},{"$f":"'F13'!Q171","v":0},{"$f":"'F13'!R171","v":0},{"$f":"'F13'!S171","v":0},{"$f":"'F13'!T171","v":0},{"$f":"'F13'!U171","v":0},{"$f":"'F13'!V171","v":0},{"$f":"'F13'!W171","v":0},{"$f":"'F13'!X171","v":0},{"$f":"'F13'!Y171","v":0},{"$f":"'F13'!Z171","v":0},{"$f":"'F13'!AA171","v":0},{"$f":"'F13'!AB171","v":0},{"$f":"'F13'!AC171","v":0},{"$f":"'F13'!AD171","v":0},{"$f":"'F13'!AE171","v":0},{"$f":"'F13'!AF171","v":0},{"$f":"'F13'!AG171","v":0},{"$f":"'F13'!AH171","v":0},{"$f":"'F13'!AI171","v":0}]
[null,null,null,null,null,null,{"$f":"'F13'!A172","v":""},{"$f":"'F13'!B172","v":0},{"$f":"'F13'!C172","v":0},{"$f":"'F13'!D172","v":""},{"$f":"'F13'!E172","v":""},{"$f":"'F13'!F172","v":0},{"$f":"'F13'!G172","v":0},{"$f":"'F13'!H172","v":0},{"$f":"'F13'!I172","v":0},{"$f":"'F13'!J172","v":0},{"$f":"'F13'!K172","v":0},{"$f":"'F13'!L172","v":0},{"$f":"'F13'!M172","v":0},{"$f":"'F13'!N172","v":0},{"$f":"'F13'!O172","v":0},{"$f":"'F13'!P172","v":0},{"$f":"'F13'!Q172","v":0},{"$f":"'F13'!R172","v":0},{"$f":"'F13'!S172","v":0},{"$f":"'F13'!T172","v":0},{"$f":"'F13'!U172","v":0},{"$f":"'F13'!V172","v":0},{"$f":"'F13'!W172","v":0},{"$f":"'F13'!X172","v":0},{"$f":"'F13'!Y172","v":0},{"$f":"'F13'!Z172","v":0},{"$f":"'F13'!AA172","v":0},{"$f":"'F13'!AB172","v":0},{"$f":"'F13'!AC172","v":0},{"$f":"'F13'!AD172","v":0},{"$f":"'F13'!AE172","v":0},{"$f":"'F13'!AF172","v":0},{"$f":"'F13'!AG172","v":0},{"$f":"'F13'!AH172","v":0},{"$f":"'F13'!AI172","v":0}]
[null,null,null,null,null,null,{"$f":"'F13'!A173","v":""},{"$f":"'F13'!B173","v":0},{"$f":"'F13'!C173","v":0},{"$f":"'F13'!D173","v":""},{"$f":"'F13'!E173","v":""},{"$f":"'F13'!F173","v":0},{"$f":"'F13'!G173","v":0},{"$f":"'F13'!H173","v":0},{"$f":"'F13'!I173","v":0},{"$f":"'F13'!J173","v":0},{"$f":"'F13'!K173","v":0},{"$f":"'F13'!L173","v":0},{"$f":"'F13'!M173","v":0},{"$f":"'F13'!N173","v":0},{"$f":"'F13'!O173","v":0},{"$f":"'F13'!P173","v":0},{"$f":"'F13'!Q173","v":0},{"$f":"'F13'!R173","v":0},{"$f":"'F13'!S173","v":0},{"$f":"'F13'!T173","v":0},{"$f":"'F13'!U173","v":0},{"$f":"'F13'!V173","v":0},{"$f":"'F13'!W173","v":0},{"$f":"'F13'!X173","v":0},{"$f":"'F13'!Y173","v":0},{"$f":"'F13'!Z173","v":0},{"$f":"'F13'!AA173","v":0},{"$f":"'F13'!AB173","v":0},{"$f":"'F13'!AC173","v":0},{"$f":"'F13'!AD173","v":0},{"$f":"'F13'!AE173","v":0},{"$f":"'F13'!AF173","v":0},{"$f":"'F13'!AG173","v":0},{"$f":"'F13'!AH173","v":0},{"$f":"'F13'!AI173","v":0}]
[null,null,null,null,null,null,{"$f":"'F13'!A174","v":""},{"$f":"'F13'!B174","v":0},{"$f":"'F13'!C174","v":0},{"$f":"'F13'!D174","v":""},{"$f":"'F13'!E174","v":""},{"$f":"'F13'!F174","v":0},{"$f":"'F13'!G174","v":0},{"$f":"'F13'!H174","v":0},{"$f":"'F13'!I174","v":0},{"$f":"'F13'!J174","v":0},{"$f":"'F13'!K174","v":0},{"$f":"'F13'!L174","v":0},{"$f":"'F13'!M174","v":0},{"$f":"'F13'!N174","v":0},{"$f":"'F13'!O174","v":0},{"$f":"'F13'!P174","v":0},{"$f":"'F13'!Q174","v":0},{"$f":"'F13'!R174","v":0},{"$f":"'F13'!S174","v":0},{"$f":"'F13'!T174","v":0},{"$f":"'F13'!U174","v":0},{"$f":"'F13'!V174","v":0},{"$f":"'F13'!W174","v":0},{"$f":"'F13'!X174","v":0},{"$f":"'F13'!Y174","v":0},{"$f":"'F13'!Z174","v":0},{"$f":"'F13'!AA174","v":0},{"$f":"'F13'!AB174","v":0},{"$f":"'F13'!AC174","v":0},{"$f":"'F13'!AD174","v":0},{"$f":"'F13'!AE174","v":0},{"$f":"'F13'!AF174","v":0},{"$f":"'F13'!AG174","v":0},{"$f":"'F13'!AH174","v":0},{"$f":"'F13'!AI174","v":0}]
[null,null,null,null,null,null,{"$f":"'F13'!A175","v":""},{"$f":"'F13'!B175","v":0},{"$f":"'F13'!C175","v":0},{"$f":"'F13'!D175","v":""},{"$f":"'F13'!E175","v":""},{"$f":"'F13'!F175","v":0},{"$f":"'F13'!G175","v":0},{"$f":"'F13'!H175","v":0},{"$f":"'F13'!I175","v":0},{"$f":"'F13'!J175","v":0},{"$f":"'F13'!K175","v":0},{"$f":"'F13'!L175","v":0},{"$f":"'F13'!M175","v":0},{"$f":"'F13'!N175","v":0},{"$f":"'F13'!O175","v":0},{"$f":"'F13'!P175","v":0},{"$f":"'F13'!Q175","v":0},{"$f":"'F13'!R175","v":0},{"$f":"'F13'!S175","v":0},{"$f":"'F13'!T175","v":0},{"$f":"'F13'!U175","v":0},{"$f":"'F13'!V175","v":0},{"$f":"'F13'!W175","v":0},{"$f":"'F13'!X175","v":0},{"$f":"'F13'!Y175","v":0},{"$f":"'F13'!Z175","v":0},{"$f":"'F13'!AA175","v":0},{"$f":"'F13'!AB175","v":0},{"$f":"'F13'!AC175","v":0},{"$f":"'F13'!AD175","v":0},{"$f":"'F13'!AE175","v":0},{"$f":"'F13'!AF175","v":0},{"$f":"'F13'!AG175","v":0},{"$f":"'F13'!AH175","v":0},{"$f":"'F13'!AI175","v":0}]
[null,null,null,null,null,null,{"$f":"'F13'!A176","v":""},{"$f":"'F13'!B176","v":0},{"$f":"'F13'!C176","v":0},{"$f":"'F13'!D176","v":""},{"$f":"'F13'!E176","v":""},{"$f":"'F13'!F176","v":0},{"$f":"'F13'!G176","v":0},{"$f":"'F13'!H176","v":0},{"$f":"'F13'!I176","v":0},{"$f":"'F13'!J176","v":0},{"$f":"'F13'!K176","v":0},{"$f":"'F13'!L176","v":0},{"$f":"'F13'!M176","v":0},{"$f":"'F13'!N176","v":0},{"$f":"'F13'!O176","v":0},{"$f":"'F13'!P176","v":0},{"$f":"'F13'!Q176","v":0},{"$f":"'F13'!R176","v":0},{"$f":"'F13'!S176","v":0},{"$f":"'F13'!T176","v":0},{"$f":"'F13'!U176","v":0},{"$f":"'F13'!V176","v":0},{"$f":"'F13'!W176","v":0},{"$f":"'F13'!X176","v":0},{"$f":"'F13'!Y176","v":0},{"$f":"'F13'!Z176","v":0},{"$f":"'F13'!AA176","v":0},{"$f":"'F13'!AB176","v":0},{"$f":"'F13'!AC176","v":0},{"$f":"'F13'!AD176","v":0},{"$f":"'F13'!AE176","v":0},{"$f":"'F13'!AF176","v":0},{"$f":"'F13'!AG176","v":0},{"$f":"'F13'!AH176","v":0},{"$f":"'F13'!AI176","v":0}]
[null,null,null,null,null,null,{"$f":"'F13'!A177","v":""},{"$f":"'F13'!B177","v":0},{"$f":"'F13'!C177","v":0},{"$f":"'F13'!D177","v":""},{"$f":"'F13'!E177","v":""},{"$f":"'F13'!F177","v":0},{"$f":"'F13'!G177","v":0},{"$f":"'F13'!H177","v":0},{"$f":"'F13'!I177","v":0},{"$f":"'F13'!J177","v":0},{"$f":"'F13'!K177","v":0},{"$f":"'F13'!L177","v":0},{"$f":"'F13'!M177","v":0},{"$f":"'F13'!N177","v":0},{"$f":"'F13'!O177","v":0},{"$f":"'F13'!P177","v":0},{"$f":"'F13'!Q177","v":0},{"$f":"'F13'!R177","v":0},{"$f":"'F13'!S177","v":0},{"$f":"'F13'!T177","v":0},{"$f":"'F13'!U177","v":0},{"$f":"'F13'!V177","v":0},{"$f":"'F13'!W177","v":0},{"$f":"'F13'!X177","v":0},{"$f":"'F13'!Y177","v":0},{"$f":"'F13'!Z177","v":0},{"$f":"'F13'!AA177","v":0},{"$f":"'F13'!AB177","v":0},{"$f":"'F13'!AC177","v":0},{"$f":"'F13'!AD177","v":0},{"$f":"'F13'!AE177","v":0},{"$f":"'F13'!AF177","v":0},{"$f":"'F13'!AG177","v":0},{"$f":"'F13'!AH177","v":0},{"$f":"'F13'!AI177","v":0}]
[null,null,null,null,null,null,{"$f":"'F13'!A178","v":""},{"$f":"'F13'!B178","v":0},{"$f":"'F13'!C178","v":0},{"$f":"'F13'!D178","v":""},{"$f":"'F13'!E178","v":""},{"$f":"'F13'!F178","v":0},{"$f":"'F13'!G178","v":0},{"$f":"'F13'!H178","v":0},{"$f":"'F13'!I178","v":0},{"$f":"'F13'!J178","v":0},{"$f":"'F13'!K178","v":0},{"$f":"'F13'!L178","v":0},{"$f":"'F13'!M178","v":0},{"$f":"'F13'!N178","v":0},{"$f":"'F13'!O178","v":0},{"$f":"'F13'!P178","v":0},{"$f":"'F13'!Q178","v":0},{"$f":"'F13'!R178","v":0},{"$f":"'F13'!S178","v":0},{"$f":"'F13'!T178","v":0},{"$f":"'F13'!U178","v":0},{"$f":"'F13'!V178","v":0},{"$f":"'F13'!W178","v":0},{"$f":"'F13'!X178","v":0},{"$f":"'F13'!Y178","v":0},{"$f":"'F13'!Z178","v":0},{"$f":"'F13'!AA178","v":0},{"$f":"'F13'!AB178","v":0},{"$f":"'F13'!AC178","v":0},{"$f":"'F13'!AD178","v":0},{"$f":"'F13'!AE178","v":0},{"$f":"'F13'!AF178","v":0},{"$f":"'F13'!AG178","v":0},{"$f":"'F13'!AH178","v":0},{"$f":"'F13'!AI178","v":0}]
[null,null,null,null,null,null,{"$f":"'F13'!A179","v":""},{"$f":"'F13'!B179","v":0},{"$f":"'F13'!C179","v":0},{"$f":"'F13'!D179","v":""},{"$f":"'F13'!E179","v":""},{"$f":"'F13'!F179","v":0},{"$f":"'F13'!G179","v":0},{"$f":"'F13'!H179","v":0},{"$f":"'F13'!I179","v":0},{"$f":"'F13'!J179","v":0},{"$f":"'F13'!K179","v":0},{"$f":"'F13'!L179","v":0},{"$f":"'F13'!M179","v":0},{"$f":"'F13'!N179","v":0},{"$f":"'F13'!O179","v":0},{"$f":"'F13'!P179","v":0},{"$f":"'F13'!Q179","v":0},{"$f":"'F13'!R179","v":0},{"$f":"'F13'!S179","v":0},{"$f":"'F13'!T179","v":0},{"$f":"'F13'!U179","v":0},{"$f":"'F13'!V179","v":0},{"$f":"'F13'!W179","v":0},{"$f":"'F13'!X179","v":0},{"$f":"'F13'!Y179","v":0},{"$f":"'F13'!Z179","v":0},{"$f":"'F13'!AA179","v":0},{"$f":"'F13'!AB179","v":0},{"$f":"'F13'!AC179","v":0},{"$f":"'F13'!AD179","v":0},{"$f":"'F13'!AE179","v":0},{"$f":"'F13'!AF179","v":0},{"$f":"'F13'!AG179","v":0},{"$f":"'F13'!AH179","v":0},{"$f":"'F13'!AI179","v":0}]
[null,null,null,null,null,null,{"$f":"'F13'!A180","v":""},{"$f":"'F13'!B180","v":0},{"$f":"'F13'!C180","v":0},{"$f":"'F13'!D180","v":""},{"$f":"'F13'!E180","v":""},{"$f":"'F13'!F180","v":0},{"$f":"'F13'!G180","v":0},{"$f":"'F13'!H180","v":0},{"$f":"'F13'!I180","v":0},{"$f":"'F13'!J180","v":0},{"$f":"'F13'!K180","v":0},{"$f":"'F13'!L180","v":0},{"$f":"'F13'!M180","v":0},{"$f":"'F13'!N180","v":0},{"$f":"'F13'!O180","v":0},{"$f":"'F13'!P180","v":0},{"$f":"'F13'!Q180","v":0},{"$f":"'F13'!R180","v":0},{"$f":"'F13'!S180","v":0},{"$f":"'F13'!T180","v":0},{"$f":"'F13'!U180","v":0},{"$f":"'F13'!V180","v":0},{"$f":"'F13'!W180","v":0},{"$f":"'F13'!X180","v":0},{"$f":"'F13'!Y180","v":0},{"$f":"'F13'!Z180","v":0},{"$f":"'F13'!AA180","v":0},{"$f":"'F13'!AB180","v":0},{"$f":"'F13'!AC180","v":0},{"$f":"'F13'!AD180","v":0},{"$f":"'F13'!AE180","v":0},{"$f":"'F13'!AF180","v":0},{"$f":"'F13'!AG180","v":0},{"$f":"'F13'!AH180","v":0},{"$f":"'F13'!AI180","v":0}]
[null,null,null,null,null,null,{"$f":"'F13'!A181","v":""},{"$f":"'F13'!B181","v":0},{"$f":"'F13'!C181","v":0},{"$f":"'F13'!D181","v":""},{"$f":"'F13'!E181","v":""},{"$f":"'F13'!F181","v":0},{"$f":"'F13'!G181","v":0},{"$f":"'F13'!H181","v":0},{"$f":"'F13'!I181","v":0},{"$f":"'F13'!J181","v":0},{"$f":"'F13'!K181","v":0},{"$f":"'F13'!L181","v":0},{"$f":"'F13'!M181","v":0},{"$f":"'F13'!N181","v":0},{"$f":"'F13'!O181","v":0},{"$f":"'F13'!P181","v":0},{"$f":"'F13'!Q181","v":0},{"$f":"'F13'!R181","v":0},{"$f":"'F13'!S181","v":0},{"$f":"'F13'!T181","v":0},{"$f":"'F13'!U181","v":0},{"$f":"'F13'!V181","v":0},{"$f":"'F13'!W181","v":0},{"$f":"'F13'!X181","v":0},{"$f":"'F13'!Y181","v":0},{"$f":"'F13'!Z181","v":0},{"$f":"'F13'!AA181","v":0},{"$f":"'F13'!AB181","v":0},{"$f":"'F13'!AC181","v":0},{"$f":"'F13'!AD181","v":0},{"$f":"'F13'!AE181","v":0},{"$f":"'F13'!AF181","v":0},{"$f":"'F13'!AG181","v":0},{"$f":"'F13'!AH181","v":0},{"$f":"'F13'!AI181","v":0}]
[null,null,null,null,null,null,{"$f":"'F13'!A182","v":""},{"$f":"'F13'!B182","v":0},{"$f":"'F13'!C182","v":0},{"$f":"'F13'!D182","v":""},{"$f":"'F13'!E182","v":""},{"$f":"'F13'!F182","v":0},{"$f":"'F13'!G182","v":0},{"$f":"'F13'!H182","v":0},{"$f":"'F13'!I182","v":0},{"$f":"'F13'!J182","v":0},{"$f":"'F13'!K182","v":0},{"$f":"'F13'!L182","v":0},{"$f":"'F13'!M182","v":0},{"$f":"'F13'!N182","v":0},{"$f":"'F13'!O182","v":0},{"$f":"'F13'!P182","v":0},{"$f":"'F13'!Q182","v":0},{"$f":"'F13'!R182","v":0},{"$f":"'F13'!S182","v":0},{"$f":"'F13'!T182","v":0},{"$f":"'F13'!U182","v":0},{"$f":"'F13'!V182","v":0},{"$f":"'F13'!W182","v":0},{"$f":"'F13'!X182","v":0},{"$f":"'F13'!Y182","v":0},{"$f":"'F13'!Z182","v":0},{"$f":"'F13'!AA182","v":0},{"$f":"'F13'!AB182","v":0},{"$f":"'F13'!AC182","v":0},{"$f":"'F13'!AD182","v":0},{"$f":"'F13'!AE182","v":0},{"$f":"'F13'!AF182","v":0},{"$f":"'F13'!AG182","v":0},{"$f":"'F13'!AH182","v":0},{"$f":"'F13'!AI182","v":0}]
[null,null,null,null,null,null,{"$f":"'F13'!A183","v":""},{"$f":"'F13'!B183","v":0},{"$f":"'F13'!C183","v":0},{"$f":"'F13'!D183","v":""},{"$f":"'F13'!E183","v":""},{"$f":"'F13'!F183","v":0},{"$f":"'F13'!G183","v":0},{"$f":"'F13'!H183","v":0},{"$f":"'F13'!I183","v":0},{"$f":"'F13'!J183","v":0},{"$f":"'F13'!K183","v":0},{"$f":"'F13'!L183","v":0},{"$f":"'F13'!M183","v":0},{"$f":"'F13'!N183","v":0},{"$f":"'F13'!O183","v":0},{"$f":"'F13'!P183","v":0},{"$f":"'F13'!Q183","v":0},{"$f":"'F13'!R183","v":0},{"$f":"'F13'!S183","v":0},{"$f":"'F13'!T183","v":0},{"$f":"'F13'!U183","v":0},{"$f":"'F13'!V183","v":0},{"$f":"'F13'!W183","v":0},{"$f":"'F13'!X183","v":0},{"$f":"'F13'!Y183","v":0},{"$f":"'F13'!Z183","v":0},{"$f":"'F13'!AA183","v":0},{"$f":"'F13'!AB183","v":0},{"$f":"'F13'!AC183","v":0},{"$f":"'F13'!AD183","v":0},{"$f":"'F13'!AE183","v":0},{"$f":"'F13'!AF183","v":0},{"$f":"'F13'!AG183","v":0},{"$f":"'F13'!AH183","v":0},{"$f":"'F13'!AI183","v":0}]
[null,null,null,null,null,null,{"$f":"'F13'!A184","v":""},{"$f":"'F13'!B184","v":0},{"$f":"'F13'!C184","v":0},{"$f":"'F13'!D184","v":""},{"$f":"'F13'!E184","v":""},{"$f":"'F13'!F184","v":0},{"$f":"'F13'!G184","v":0},{"$f":"'F13'!H184","v":0},{"$f":"'F13'!I184","v":0},{"$f":"'F13'!J184","v":0},{"$f":"'F13'!K184","v":0},{"$f":"'F13'!L184","v":0},{"$f":"'F13'!M184","v":0},{"$f":"'F13'!N184","v":0},{"$f":"'F13'!O184","v":0},{"$f":"'F13'!P184","v":0},{"$f":"'F13'!Q184","v":0},{"$f":"'F13'!R184","v":0},{"$f":"'F13'!S184","v":0},{"$f":"'F13'!T184","v":0},{"$f":"'F13'!U184","v":0},{"$f":"'F13'!V184","v":0},{"$f":"'F13'!W184","v":0},{"$f":"'F13'!X184","v":0},{"$f":"'F13'!Y184","v":0},{"$f":"'F13'!Z184","v":0},{"$f":"'F13'!AA184","v":0},{"$f":"'F13'!AB184","v":0},{"$f":"'F13'!AC184","v":0},{"$f":"'F13'!AD184","v":0},{"$f":"'F13'!AE184","v":0},{"$f":"'F13'!AF184","v":0},{"$f":"'F13'!AG184","v":0},{"$f":"'F13'!AH184","v":0},{"$f":"'F13'!AI184","v":0}]
[null,null,null,null,null,null,{"$f":"'F13'!A185","v":""},{"$f":"'F13'!B185","v":0},{"$f":"'F13'!C185","v":0},{"$f":"'F13'!D185","v":""},{"$f":"'F13'!E185","v":""},{"$f":"'F13'!F185","v":0},{"$f":"'F13'!G185","v":0},{"$f":"'F13'!H185","v":0},{"$f":"'F13'!I185","v":0},{"$f":"'F13'!J185","v":0},{"$f":"'F13'!K185","v":0},{"$f":"'F13'!L185","v":0},{"$f":"'F13'!M185","v":0},{"$f":"'F13'!N185","v":0},{"$f":"'F13'!O185","v":0},{"$f":"'F13'!P185","v":0},{"$f":"'F13'!Q185","v":0},{"$f":"'F13'!R185","v":0},{"$f":"'F13'!S185","v":0},{"$f":"'F13'!T185","v":0},{"$f":"'F13'!U185","v":0},{"$f":"'F13'!V185","v":0},{"$f":"'F13'!W185","v":0},{"$f":"'F13'!X185","v":0},{"$f":"'F13'!Y185","v":0},{"$f":"'F13'!Z185","v":0},{"$f":"'F13'!AA185","v":0},{"$f":"'F13'!AB185","v":0},{"$f":"'F13'!AC185","v":0},{"$f":"'F13'!AD185","v":0},{"$f":"'F13'!AE185","v":0},{"$f":"'F13'!AF185","v":0},{"$f":"'F13'!AG185","v":0},{"$f":"'F13'!AH185","v":0},{"$f":"'F13'!AI185","v":0}]
[null,null,null,null,null,null,{"$f":"'F13'!A186","v":""},{"$f":"'F13'!B186","v":0},{"$f":"'F13'!C186","v":0},{"$f":"'F13'!D186","v":""},{"$f":"'F13'!E186","v":""},{"$f":"'F13'!F186","v":0},{"$f":"'F13'!G186","v":0},{"$f":"'F13'!H186","v":0},{"$f":"'F13'!I186","v":0},{"$f":"'F13'!J186","v":0},{"$f":"'F13'!K186","v":0},{"$f":"'F13'!L186","v":0},{"$f":"'F13'!M186","v":0},{"$f":"'F13'!N186","v":0},{"$f":"'F13'!O186","v":0},{"$f":"'F13'!P186","v":0},{"$f":"'F13'!Q186","v":0},{"$f":"'F13'!R186","v":0},{"$f":"'F13'!S186","v":0},{"$f":"'F13'!T186","v":0},{"$f":"'F13'!U186","v":0},{"$f":"'F13'!V186","v":0},{"$f":"'F13'!W186","v":0},{"$f":"'F13'!X186","v":0},{"$f":"'F13'!Y186","v":0},{"$f":"'F13'!Z186","v":0},{"$f":"'F13'!AA186","v":0},{"$f":"'F13'!AB186","v":0},{"$f":"'F13'!AC186","v":0},{"$f":"'F13'!AD186","v":0},{"$f":"'F13'!AE186","v":0},{"$f":"'F13'!AF186","v":0},{"$f":"'F13'!AG186","v":0},{"$f":"'F13'!AH186","v":0},{"$f":"'F13'!AI186","v":0}]
[null,null,null,null,null,null,{"$f":"'F13'!A187","v":""},{"$f":"'F13'!B187","v":0},{"$f":"'F13'!C187","v":0},{"$f":"'F13'!D187","v":""},{"$f":"'F13'!E187","v":""},{"$f":"'F13'!F187","v":0},{"$f":"'F13'!G187","v":0},{"$f":"'F13'!H187","v":0},{"$f":"'F13'!I187","v":0},{"$f":"'F13'!J187","v":0},{"$f":"'F13'!K187","v":0},{"$f":"'F13'!L187","v":0},{"$f":"'F13'!M187","v":0},{"$f":"'F13'!N187","v":0},{"$f":"'F13'!O187","v":0},{"$f":"'F13'!P187","v":0},{"$f":"'F13'!Q187","v":0},{"$f":"'F13'!R187","v":0},{"$f":"'F13'!S187","v":0},{"$f":"'F13'!T187","v":0},{"$f":"'F13'!U187","v":0},{"$f":"'F13'!V187","v":0},{"$f":"'F13'!W187","v":0},{"$f":"'F13'!X187","v":0},{"$f":"'F13'!Y187","v":0},{"$f":"'F13'!Z187","v":0},{"$f":"'F13'!AA187","v":0},{"$f":"'F13'!AB187","v":0},{"$f":"'F13'!AC187","v":0},{"$f":"'F13'!AD187","v":0},{"$f":"'F13'!AE187","v":0},{"$f":"'F13'!AF187","v":0},{"$f":"'F13'!AG187","v":0},{"$f":"'F13'!AH187","v":0},{"$f":"'F13'!AI187","v":0}]
[null,null,null,null,null,null,{"$f":"'F13'!A188","v":""},{"$f":"'F13'!B188","v":0},{"$f":"'F13'!C188","v":0},{"$f":"'F13'!D188","v":""},{"$f":"'F13'!E188","v":""},{"$f":"'F13'!F188","v":0},{"$f":"'F13'!G188","v":0},{"$f":"'F13'!H188","v":0},{"$f":"'F13'!I188","v":0},{"$f":"'F13'!J188","v":0},{"$f":"'F13'!K188","v":0},{"$f":"'F13'!L188","v":0},{"$f":"'F13'!M188","v":0},{"$f":"'F13'!N188","v":0},{"$f":"'F13'!O188","v":0},{"$f":"'F13'!P188","v":0},{"$f":"'F13'!Q188","v":0},{"$f":"'F13'!R188","v":0},{"$f":"'F13'!S188","v":0},{"$f":"'F13'!T188","v":0},{"$f":"'F13'!U188","v":0},{"$f":"'F13'!V188","v":0},{"$f":"'F13'!W188","v":0},{"$f":"'F13'!X188","v":0},{"$f":"'F13'!Y188","v":0},{"$f":"'F13'!Z188","v":0},{"$f":"'F13'!AA188","v":0},{"$f":"'F13'!AB188","v":0},{"$f":"'F13'!AC188","v":0},{"$f":"'F13'!AD188","v":0},{"$f":"'F13'!AE188","v":0},{"$f":"'F13'!AF188","v":0},{"$f":"'F13'!AG188","v":0},{"$f":"'F13'!AH188","v":0},{"$f":"'F13'!AI188","v":0}]
[null,null,null,null,null,null,{"$f":"'F13'!A189","v":""},{"$f":"'F13'!B189","v":0},{"$f":"'F13'!C189","v":0},{"$f":"'F13'!D189","v":""},{"$f":"'F13'!E189","v":""},{"$f":"'F13'!F189","v":0},{"$f":"'F13'!G189","v":0},{"$f":"'F13'!H189","v":0},{"$f":"'F13'!I189","v":0},{"$f":"'F13'!J189","v":0},{"$f":"'F13'!K189","v":0},{"$f":"'F13'!L189","v":0},{"$f":"'F13'!M189","v":0},{"$f":"'F13'!N189","v":0},{"$f":"'F13'!O189","v":0},{"$f":"'F13'!P189","v":0},{"$f":"'F13'!Q189","v":0},{"$f":"'F13'!R189","v":0},{"$f":"'F13'!S189","v":0},{"$f":"'F13'!T189","v":0},{"$f":"'F13'!U189","v":0},{"$f":"'F13'!V189","v":0},{"$f":"'F13'!W189","v":0},{"$f":"'F13'!X189","v":0},{"$f":"'F13'!Y189","v":0},{"$f":"'F13'!Z189","v":0},{"$f":"'F13'!AA189","v":0},{"$f":"'F13'!AB189","v":0},{"$f":"'F13'!AC189","v":0},{"$f":"'F13'!AD189","v":0},{"$f":"'F13'!AE189","v":0},{"$f":"'F13'!AF189","v":0},{"$f":"'F13'!AG189","v":0},{"$f":"'F13'!AH189","v":0},{"$f":"'F13'!AI189","v":0}]
[null,null,null,null,null,null,{"$f":"'F13'!A190","v":""},{"$f":"'F13'!B190","v":0},{"$f":"'F13'!C190","v":0},{"$f":"'F13'!D190","v":""},{"$f":"'F13'!E190","v":""},{"$f":"'F13'!F190","v":0},{"$f":"'F13'!G190","v":0},{"$f":"'F13'!H190","v":0},{"$f":"'F13'!I190","v":0},{"$f":"'F13'!J190","v":0},{"$f":"'F13'!K190","v":0},{"$f":"'F13'!L190","v":0},{"$f":"'F13'!M190","v":0},{"$f":"'F13'!N190","v":0},{"$f":"'F13'!O190","v":0},{"$f":"'F13'!P190","v":0},{"$f":"'F13'!Q190","v":0},{"$f":"'F13'!R190","v":0},{"$f":"'F13'!S190","v":0},{"$f":"'F13'!T190","v":0},{"$f":"'F13'!U190","v":0},{"$f":"'F13'!V190","v":0},{"$f":"'F13'!W190","v":0},{"$f":"'F13'!X190","v":0},{"$f":"'F13'!Y190","v":0},{"$f":"'F13'!Z190","v":0},{"$f":"'F13'!AA190","v":0},{"$f":"'F13'!AB190","v":0},{"$f":"'F13'!AC190","v":0},{"$f":"'F13'!AD190","v":0},{"$f":"'F13'!AE190","v":0},{"$f":"'F13'!AF190","v":0},{"$f":"'F13'!AG190","v":0},{"$f":"'F13'!AH190","v":0},{"$f":"'F13'!AI190","v":0}]
[null,null,null,null,null,null,{"$f":"'F13'!A191","v":""},{"$f":"'F13'!B191","v":0},{"$f":"'F13'!C191","v":0},{"$f":"'F13'!D191","v":""},{"$f":"'F13'!E191","v":""},{"$f":"'F13'!F191","v":0},{"$f":"'F13'!G191","v":0},{"$f":"'F13'!H191","v":0},{"$f":"'F13'!I191","v":0},{"$f":"'F13'!J191","v":0},{"$f":"'F13'!K191","v":0},{"$f":"'F13'!L191","v":0},{"$f":"'F13'!M191","v":0},{"$f":"'F13'!N191","v":0},{"$f":"'F13'!O191","v":0},{"$f":"'F13'!P191","v":0},{"$f":"'F13'!Q191","v":0},{"$f":"'F13'!R191","v":0},{"$f":"'F13'!S191","v":0},{"$f":"'F13'!T191","v":0},{"$f":"'F13'!U191","v":0},{"$f":"'F13'!V191","v":0},{"$f":"'F13'!W191","v":0},{"$f":"'F13'!X191","v":0},{"$f":"'F13'!Y191","v":0},{"$f":"'F13'!Z191","v":0},{"$f":"'F13'!AA191","v":0},{"$f":"'F13'!AB191","v":0},{"$f":"'F13'!AC191","v":0},{"$f":"'F13'!AD191","v":0},{"$f":"'F13'!AE191","v":0},{"$f":"'F13'!AF191","v":0},{"$f":"'F13'!AG191","v":0},{"$f":"'F13'!AH191","v":0},{"$f":"'F13'!AI191","v":0}]
[null,null,null,null,null,null,{"$f":"'F13'!A192","v":""},{"$f":"'F13'!B192","v":0},{"$f":"'F13'!C192","v":0},{"$f":"'F13'!D192","v":""},{"$f":"'F13'!E192","v":""},{"$f":"'F13'!F192","v":0},{"$f":"'F13'!G192","v":0},{"$f":"'F13'!H192","v":0},{"$f":"'F13'!I192","v":0},{"$f":"'F13'!J192","v":0},{"$f":"'F13'!K192","v":0},{"$f":"'F13'!L192","v":0},{"$f":"'F13'!M192","v":0},{"$f":"'F13'!N192","v":0},{"$f":"'F13'!O192","v":0},{"$f":"'F13'!P192","v":0},{"$f":"'F13'!Q192","v":0},{"$f":"'F13'!R192","v":0},{"$f":"'F13'!S192","v":0},{"$f":"'F13'!T192","v":0},{"$f":"'F13'!U192","v":0},{"$f":"'F13'!V192","v":0},{"$f":"'F13'!W192","v":0},{"$f":"'F13'!X192","v":0},{"$f":"'F13'!Y192","v":0},{"$f":"'F13'!Z192","v":0},{"$f":"'F13'!AA192","v":0},{"$f":"'F13'!AB192","v":0},{"$f":"'F13'!AC192","v":0},{"$f":"'F13'!AD192","v":0},{"$f":"'F13'!AE192","v":0},{"$f":"'F13'!AF192","v":0},{"$f":"'F13'!AG192","v":0},{"$f":"'F13'!AH192","v":0},{"$f":"'F13'!AI192","v":0}]
[null,null,null,null,null,null,{"$f":"'F13'!A193","v":""},{"$f":"'F13'!B193","v":0},{"$f":"'F13'!C193","v":0},{"$f":"'F13'!D193","v":""},{"$f":"'F13'!E193","v":""},{"$f":"'F13'!F193","v":0},{"$f":"'F13'!G193","v":0},{"$f":"'F13'!H193","v":0},{"$f":"'F13'!I193","v":0},{"$f":"'F13'!J193","v":0},{"$f":"'F13'!K193","v":0},{"$f":"'F13'!L193","v":0},{"$f":"'F13'!M193","v":0},{"$f":"'F13'!N193","v":0},{"$f":"'F13'!O193","v":0},{"$f":"'F13'!P193","v":0},{"$f":"'F13'!Q193","v":0},{"$f":"'F13'!R193","v":0},{"$f":"'F13'!S193","v":0},{"$f":"'F13'!T193","v":0},{"$f":"'F13'!U193","v":0},{"$f":"'F13'!V193","v":0},{"$f":"'F13'!W193","v":0},{"$f":"'F13'!X193","v":0},{"$f":"'F13'!Y193","v":0},{"$f":"'F13'!Z193","v":0},{"$f":"'F13'!AA193","v":0},{"$f":"'F13'!AB193","v":0},{"$f":"'F13'!AC193","v":0},{"$f":"'F13'!AD193","v":0},{"$f":"'F13'!AE193","v":0},{"$f":"'F13'!AF193","v":0},{"$f":"'F13'!AG193","v":0},{"$f":"'F13'!AH193","v":0},{"$f":"'F13'!AI193","v":0}]
[null,null,null,null,null,null,{"$f":"'F13'!A194","v":""},{"$f":"'F13'!B194","v":0},{"$f":"'F13'!C194","v":0},{"$f":"'F13'!D194","v":""},{"$f":"'F13'!E194","v":""},{"$f":"'F13'!F194","v":0},{"$f":"'F13'!G194","v":0},{"$f":"'F13'!H194","v":0},{"$f":"'F13'!I194","v":0},{"$f":"'F13'!J194","v":0},{"$f":"'F13'!K194","v":0},{"$f":"'F13'!L194","v":0},{"$f":"'F13'!M194","v":0},{"$f":"'F13'!N194","v":0},{"$f":"'F13'!O194","v":0},{"$f":"'F13'!P194","v":0},{"$f":"'F13'!Q194","v":0},{"$f":"'F13'!R194","v":0},{"$f":"'F13'!S194","v":0},{"$f":"'F13'!T194","v":0},{"$f":"'F13'!U194","v":0},{"$f":"'F13'!V194","v":0},{"$f":"'F13'!W194","v":0},{"$f":"'F13'!X194","v":0},{"$f":"'F13'!Y194","v":0},{"$f":"'F13'!Z194","v":0},{"$f":"'F13'!AA194","v":0},{"$f":"'F13'!AB194","v":0},{"$f":"'F13'!AC194","v":0},{"$f":"'F13'!AD194","v":0},{"$f":"'F13'!AE194","v":0},{"$f":"'F13'!AF194","v":0},{"$f":"'F13'!AG194","v":0},{"$f":"'F13'!AH194","v":0},{"$f":"'F13'!AI194","v":0}]
[null,null,null,null,null,null,{"$f":"'F13'!A195","v":""},{"$f":"'F13'!B195","v":0},{"$f":"'F13'!C195","v":0},{"$f":"'F13'!D195","v":""},{"$f":"'F13'!E195","v":""},{"$f":"'F13'!F195","v":0},{"$f":"'F13'!G195","v":0},{"$f":"'F13'!H195","v":0},{"$f":"'F13'!I195","v":0},{"$f":"'F13'!J195","v":0},{"$f":"'F13'!K195","v":0},{"$f":"'F13'!L195","v":0},{"$f":"'F13'!M195","v":0},{"$f":"'F13'!N195","v":0},{"$f":"'F13'!O195","v":0},{"$f":"'F13'!P195","v":0},{"$f":"'F13'!Q195","v":0},{"$f":"'F13'!R195","v":0},{"$f":"'F13'!S195","v":0},{"$f":"'F13'!T195","v":0},{"$f":"'F13'!U195","v":0},{"$f":"'F13'!V195","v":0},{"$f":"'F13'!W195","v":0},{"$f":"'F13'!X195","v":0},{"$f":"'F13'!Y195","v":0},{"$f":"'F13'!Z195","v":0},{"$f":"'F13'!AA195","v":0},{"$f":"'F13'!AB195","v":0},{"$f":"'F13'!AC195","v":0},{"$f":"'F13'!AD195","v":0},{"$f":"'F13'!AE195","v":0},{"$f":"'F13'!AF195","v":0},{"$f":"'F13'!AG195","v":0},{"$f":"'F13'!AH195","v":0},{"$f":"'F13'!AI195","v":0}]
[null,null,null,null,null,null,{"$f":"'F13'!A196","v":""},{"$f":"'F13'!B196","v":0},{"$f":"'F13'!C196","v":0},{"$f":"'F13'!D196","v":""},{"$f":"'F13'!E196","v":""},{"$f":"'F13'!F196","v":0},{"$f":"'F13'!G196","v":0},{"$f":"'F13'!H196","v":0},{"$f":"'F13'!I196","v":0},{"$f":"'F13'!J196","v":0},{"$f":"'F13'!K196","v":0},{"$f":"'F13'!L196","v":0},{"$f":"'F13'!M196","v":0},{"$f":"'F13'!N196","v":0},{"$f":"'F13'!O196","v":0},{"$f":"'F13'!P196","v":0},{"$f":"'F13'!Q196","v":0},{"$f":"'F13'!R196","v":0},{"$f":"'F13'!S196","v":0},{"$f":"'F13'!T196","v":0},{"$f":"'F13'!U196","v":0},{"$f":"'F13'!V196","v":0},{"$f":"'F13'!W196","v":0},{"$f":"'F13'!X196","v":0},{"$f":"'F13'!Y196","v":0},{"$f":"'F13'!Z196","v":0},{"$f":"'F13'!AA196","v":0},{"$f":"'F13'!AB196","v":0},{"$f":"'F13'!AC196","v":0},{"$f":"'F13'!AD196","v":0},{"$f":"'F13'!AE196","v":0},{"$f":"'F13'!AF196","v":0},{"$f":"'F13'!AG196","v":0},{"$f":"'F13'!AH196","v":0},{"$f":"'F13'!AI196","v":0}]
[null,null,null,null,null,null,{"$f":"'F13'!A197","v":""},{"$f":"'F13'!B197","v":0},{"$f":"'F13'!C197","v":0},{"$f":"'F13'!D197","v":""},{"$f":"'F13'!E197","v":""},{"$f":"'F13'!F197","v":0},{"$f":"'F13'!G197","v":0},{"$f":"'F13'!H197","v":0},{"$f":"'F13'!I197","v":0},{"$f":"'F13'!J197","v":0},{"$f":"'F13'!K197","v":0},{"$f":"'F13'!L197","v":0},{"$f":"'F13'!M197","v":0},{"$f":"'F13'!N197","v":0},{"$f":"'F13'!O197","v":0},{"$f":"'F13'!P197","v":0},{"$f":"'F13'!Q197","v":0},{"$f":"'F13'!R197","v":0},{"$f":"'F13'!S197","v":0},{"$f":"'F13'!T197","v":0},{"$f":"'F13'!U197","v":0},{"$f":"'F13'!V197","v":0},{"$f":"'F13'!W197","v":0},{"$f":"'F13'!X197","v":0},{"$f":"'F13'!Y197","v":0},{"$f":"'F13'!Z197","v":0},{"$f":"'F13'!AA197","v":0},{"$f":"'F13'!AB197","v":0},{"$f":"'F13'!AC197","v":0},{"$f":"'F13'!AD197","v":0},{"$f":"'F13'!AE197","v":0},{"$f":"'F13'!AF197","v":0},{"$f":"'F13'!AG197","v":0},{"$f":"'F13'!AH197","v":0},{"$f":"'F13'!AI197","v":0}]
[null,null,null,null,null,null,{"$f":"'F13'!A198","v":""},{"$f":"'F13'!B198","v":0},{"$f":"'F13'!C198","v":0},{"$f":"'F13'!D198","v":""},{"$f":"'F13'!E198","v":""},{"$f":"'F13'!F198","v":0},{"$f":"'F13'!G198","v":0},{"$f":"'F13'!H198","v":0},{"$f":"'F13'!I198","v":0},{"$f":"'F13'!J198","v":0},{"$f":"'F13'!K198","v":0},{"$f":"'F13'!L198","v":0},{"$f":"'F13'!M198","v":0},{"$f":"'F13'!N198","v":0},{"$f":"'F13'!O198","v":0},{"$f":"'F13'!P198","v":0},{"$f":"'F13'!Q198","v":0},{"$f":"'F13'!R198","v":0},{"$f":"'F13'!S198","v":0},{"$f":"'F13'!T198","v":0},{"$f":"'F13'!U198","v":0},{"$f":"'F13'!V198","v":0},{"$f":"'F13'!W198","v":0},{"$f":"'F13'!X198","v":0},{"$f":"'F13'!Y198","v":0},{"$f":"'F13'!Z198","v":0},{"$f":"'F13'!AA198","v":0},{"$f":"'F13'!AB198","v":0},{"$f":"'F13'!AC198","v":0},{"$f":"'F13'!AD198","v":0},{"$f":"'F13'!AE198","v":0},{"$f":"'F13'!AF198","v":0},{"$f":"'F13'!AG198","v":0},{"$f":"'F13'!AH198","v":0},{"$f":"'F13'!AI198","v":0}]
[null,null,null,null,null,null,{"$f":"'F13'!A199","v":""},{"$f":"'F13'!B199","v":0},{"$f":"'F13'!C199","v":0},{"$f":"'F13'!D199","v":""},{"$f":"'F13'!E199","v":""},{"$f":"'F13'!F199","v":0},{"$f":"'F13'!G199","v":0},{"$f":"'F13'!H199","v":0},{"$f":"'F13'!I199","v":0},{"$f":"'F13'!J199","v":0},{"$f":"'F13'!K199","v":0},{"$f":"'F13'!L199","v":0},{"$f":"'F13'!M199","v":0},{"$f":"'F13'!N199","v":0},{"$f":"'F13'!O199","v":0},{"$f":"'F13'!P199","v":0},{"$f":"'F13'!Q199","v":0},{"$f":"'F13'!R199","v":0},{"$f":"'F13'!S199","v":0},{"$f":"'F13'!T199","v":0},{"$f":"'F13'!U199","v":0},{"$f":"'F13'!V199","v":0},{"$f":"'F13'!W199","v":0},{"$f":"'F13'!X199","v":0},{"$f":"'F13'!Y199","v":0},{"$f":"'F13'!Z199","v":0},{"$f":"'F13'!AA199","v":0},{"$f":"'F13'!AB199","v":0},{"$f":"'F13'!AC199","v":0},{"$f":"'F13'!AD199","v":0},{"$f":"'F13'!AE199","v":0},{"$f":"'F13'!AF199","v":0},{"$f":"'F13'!AG199","v":0},{"$f":"'F13'!AH199","v":0},{"$f":"'F13'!AI199","v":0}]
[null,null,null,null,null,null,{"$f":"'F13'!A200","v":""},{"$f":"'F13'!B200","v":0},{"$f":"'F13'!C200","v":0},{"$f":"'F13'!D200","v":""},{"$f":"'F13'!E200","v":""},{"$f":"'F13'!F200","v":0},{"$f":"'F13'!G200","v":0},{"$f":"'F13'!H200","v":0},{"$f":"'F13'!I200","v":0},{"$f":"'F13'!J200","v":0},{"$f":"'F13'!K200","v":0},{"$f":"'F13'!L200","v":0},{"$f":"'F13'!M200","v":0},{"$f":"'F13'!N200","v":0},{"$f":"'F13'!O200","v":0},{"$f":"'F13'!P200","v":0},{"$f":"'F13'!Q200","v":0},{"$f":"'F13'!R200","v":0},{"$f":"'F13'!S200","v":0},{"$f":"'F13'!T200","v":0},{"$f":"'F13'!U200","v":0},{"$f":"'F13'!V200","v":0},{"$f":"'F13'!W200","v":0},{"$f":"'F13'!X200","v":0},{"$f":"'F13'!Y200","v":0},{"$f":"'F13'!Z200","v":0},{"$f":"'F13'!AA200","v":0},{"$f":"'F13'!AB200","v":0},{"$f":"'F13'!AC200","v":0},{"$f":"'F13'!AD200","v":0},{"$f":"'F13'!AE200","v":0},{"$f":"'F13'!AF200","v":0},{"$f":"'F13'!AG200","v":0},{"$f":"'F13'!AH200","v":0},{"$f":"'F13'!AI200","v":0}]
[null,null,null,null,null,null,{"$f":"'F13'!A201","v":""},{"$f":"'F13'!B201","v":0},{"$f":"'F13'!C201","v":0},{"$f":"'F13'!D201","v":""},{"$f":"'F13'!E201","v":""},{"$f":"'F13'!F201","v":0},{"$f":"'F13'!G201","v":0},{"$f":"'F13'!H201","v":0},{"$f":"'F13'!I201","v":0},{"$f":"'F13'!J201","v":0},{"$f":"'F13'!K201","v":0},{"$f":"'F13'!L201","v":0},{"$f":"'F13'!M201","v":0},{"$f":"'F13'!N201","v":0},{"$f":"'F13'!O201","v":0},{"$f":"'F13'!P201","v":0},{"$f":"'F13'!Q201","v":0},{"$f":"'F13'!R201","v":0},{"$f":"'F13'!S201","v":0},{"$f":"'F13'!T201","v":0},{"$f":"'F13'!U201","v":0},{"$f":"'F13'!V201","v":0},{"$f":"'F13'!W201","v":0},{"$f":"'F13'!X201","v":0},{"$f":"'F13'!Y201","v":0},{"$f":"'F13'!Z201","v":0},{"$f":"'F13'!AA201","v":0},{"$f":"'F13'!AB201","v":0},{"$f":"'F13'!AC201","v":0},{"$f":"'F13'!AD201","v":0},{"$f":"'F13'!AE201","v":0},{"$f":"'F13'!AF201","v":0},{"$f":"'F13'!AG201","v":0},{"$f":"'F13'!AH201","v":0},{"$f":"'F13'!AI201","v":0}]
[null,null,null,null,null,null,{"$f":"'F13'!A202","v":""},{"$f":"'F13'!B202","v":0},{"$f":"'F13'!C202","v":0},{"$f":"'F13'!D202","v":""},{"$f":"'F13'!E202","v":""},{"$f":"'F13'!F202","v":0},{"$f":"'F13'!G202","v":0},{"$f":"'F13'!H202","v":0},{"$f":"'F13'!I202","v":0},{"$f":"'F13'!J202","v":0},{"$f":"'F13'!K202","v":0},{"$f":"'F13'!L202","v":0},{"$f":"'F13'!M202","v":0},{"$f":"'F13'!N202","v":0},{"$f":"'F13'!O202","v":0},{"$f":"'F13'!P202","v":0},{"$f":"'F13'!Q202","v":0},{"$f":"'F13'!R202","v":0},{"$f":"'F13'!S202","v":0},{"$f":"'F13'!T202","v":0},{"$f":"'F13'!U202","v":0},{"$f":"'F13'!V202","v":0},{"$f":"'F13'!W202","v":0},{"$f":"'F13'!X202","v":0},{"$f":"'F13'!Y202","v":0},{"$f":"'F13'!Z202","v":0},{"$f":"'F13'!AA202","v":0},{"$f":"'F13'!AB202","v":0},{"$f":"'F13'!AC202","v":0},{"$f":"'F13'!AD202","v":0},{"$f":"'F13'!AE202","v":0},{"$f":"'F13'!AF202","v":0},{"$f":"'F13'!AG202","v":0},{"$f":"'F13'!AH202","v":0},{"$f":"'F13'!AI202","v":0}]
[null,null,null,null,null,null,"F16"]
[null,null,null,null,null,null,"Activo",{"$f":"'F16'!E6","v":0},{"$f":"'F16'!F6","v":13605333.5}]
[null,null,null,null,null,null,"Activo circulante",{"$f":"'F16'!E7","v":0},{"$f":"'F16'!F7","v":2807650.8400000003}]
[null,null,null,null,null,null,"Efectivo y equivalentes",{"$f":"'F16'!E8","v":0},{"$f":"'F16'!F8","v":638955.04}]
[null,null,null,null,null,null,"Derechos a recibir efectivo o equivalentes",{"$f":"'F16'!E9","v":0},{"$f":"'F16'!F9","v":2168695.8000000003}]
[null,null,null,null,null,null,"Derechos a recibir bienes o servicios",{"$f":"'F16'!E10","v":0},{"$f":"'F16'!F10","v":0}]
[null,null,null,null,null,null,"Inventarios ",{"$f":"'F16'!E11","v":0},{"$f":"'F16'!F11","v":0}]
[null,null,null,null,null,null,"Almacenes",{"$f":"'F16'!E12","v":0},{"$f":"'F16'!F12","v":0}]
[null,null,null,null,null,null,"Estimación por pérdida o deterioro de activos circulantes",{"$f":"'F16'!E13","v":0},{"$f":"'F16'!F13","v":0}]
[null,null,null,null,null,null,"Otros activos  circulantes",{"$f":"'F16'!E14","v":0},{"$f":"'F16'!F14","v":0}]
[null,null,null,null,null,null,"Activo no circulante",{"$f":"'F16'!E15","v":0},{"$f":"'F16'!F15","v":10797682.659999957}]
[null,null,null,null,null,null,"Inversiones financieras a largo plazo",{"$f":"'F16'!E16","v":0},{"$f":"'F16'!F16","v":0}]
[null,null,null,null,null,null,"Derechos a recibir efectivo o equivalentes a largo plazo",{"$f":"'F16'!E17","v":0},{"$f":"'F16'!F17","v":0}]
[null,null,null,null,null,null,"Bienes inmuebles, infraestructura y construcciones en proceso",{"$f":"'F16'!E18","v":0},{"$f":"'F16'!F18","v":10450933.919999957}]
[null,null,null,null,null,null,"Bienes muebles",{"$f":"'F16'!E19","v":0},{"$f":"'F16'!F19","v":346748.74000000022}]
[null,null,null,null,null,null,"Activos intangibles",{"$f":"'F16'!E20","v":0},{"$f":"'F16'!F20","v":0}]
[null,null,null,null,null,null,"Depreciación, deterioro y amortización acumulada de bienes",{"$f":"'F16'!E21","v":0},{"$f":"'F16'!F21","v":0}]
[null,null,null,null,null,null,"Activos diferidos",{"$f":"'F16'!E22","v":0},{"$f":"'F16'!F22","v":0}]
[null,null,null,null,null,null,"Estimación por pérdida o deterioro de activos no circulantes",{"$f":"'F16'!E23","v":0},{"$f":"'F16'!F23","v":0}]
[null,null,null,null,null,null,"Otros activos no circulantes",{"$f":"'F16'!E24","v":0},{"$f":"'F16'!F24","v":0}]
[null,null,null,null,null,null,"Pasivo",{"$f":"'F16'!E25","v":0},{"$f":"'F16'!F25","v":1972498.5499999998}]
[null,null,null,null,null,null,"Pasivo circulante",{"$f":"'F16'!E26","v":0},{"$f":"'F16'!F26","v":628354.91999999993}]
[null,null,null,null,null,null,"Cuentas por pagar a corto plazo",{"$f":"'F16'!E27","v":0},{"$f":"'F16'!F27","v":628354.91999999993}]
[null,null,null,null,null,null,"Documentos por pagar a corto plazo",{"$f":"'F16'!E28","v":0},{"$f":"'F16'!F28","v":0}]
[null,null,null,null,null,null,"Porción a corto plazo de la deuda pública a largo plazo",{"$f":"'F16'!E29","v":0},{"$f":"'F16'!F29","v":0}]
[null,null,null,null,null,null,"Títulos y valores a corto plazo",{"$f":"'F16'!E30","v":0},{"$f":"'F16'!F30","v":0}]
[null,null,null,null,null,null,"Pasivos diferidos a corto plazo",{"$f":"'F16'!E31","v":0},{"$f":"'F16'!F31","v":0}]
[null,null,null,null,null,null,"Fondos y bienes de terceros en garantía y/o administración a corto plazo",{"$f":"'F16'!E32","v":0},{"$f":"'F16'!F32","v":0}]
[null,null,null,null,null,null,"Provisiones a corto plazo",{"$f":"'F16'!E33","v":0},{"$f":"'F16'!F33","v":0}]
[null,null,null,null,null,null,"Otros pasivos a corto plazo",{"$f":"'F16'!E34","v":0},{"$f":"'F16'!F34","v":0}]
[null,null,null,null,null,null,"Pasivo no circulante",{"$f":"'F16'!E35","v":0},{"$f":"'F16'!F35","v":1344143.63}]
[null,null,null,null,null,null,"Cuentas por pagar a largo plazo",{"$f":"'F16'!E36","v":0},{"$f":"'F16'!F36","v":1344143.63}]
[null,null,null,null,null,null,"Documentos por pagar a largo plazo",{"$f":"'F16'!E37","v":0},{"$f":"'F16'!F37","v":0}]
[null,null,null,null,null,null,"Deuda pública a largo plazo",{"$f":"'F16'!E38","v":0},{"$f":"'F16'!F38","v":0}]
[null,null,null,null,null,null,"Pasivos diferidos a largo plazo",{"$f":"'F16'!E39","v":0},{"$f":"'F16'!F39","v":0}]
[null,null,null,null,null,null,"Fondos y bienes de terceros en garantía y/o en administración a largo plazo",{"$f":"'F16'!E40","v":0},{"$f":"'F16'!F40","v":0}]
[null,null,null,null,null,null,"Provisiones a largo plazo",{"$f":"'F16'!E41","v":0},{"$f":"'F16'!F41","v":0}]
[null,null,null,null,null,null,"Hacienda pública/patrimonio",{"$f":"'F16'!E42","v":22631177},{"$f":"'F16'!F42","v":7053344.9500000067}]
[null,null,null,null,null,null,"Hacienda pública/patrimonio contribuido",{"$f":"'F16'!E43","v":0},{"$f":"'F16'!F43","v":0}]
[null,null,null,null,null,null,"Aportaciones",{"$f":"'F16'!E44","v":0},{"$f":"'F16'!F44","v":0}]
[null,null,null,null,null,null,"Donaciones de capital",{"$f":"'F16'!E45","v":0},{"$f":"'F16'!F45","v":0}]
[null,null,null,null,null,null,"Actualización de la hacienda pública / patrimonio",{"$f":"'F16'!E46","v":0},{"$f":"'F16'!F46","v":0}]
[null,null,null,null,null,null,"Hacienda pública/patrimonio generado",{"$f":"'F16'!E47","v":22631177},{"$f":"'F16'!F47","v":7053344.9500000067}]
[null,null,null,null,null,null,"Resultados del ejercicio (ahorro / desahorro)",{"$f":"'F16'!E48","v":0},{"$f":"'F16'!F48","v":7053344.9500000067}]
[null,null,null,null,null,null,"Resultados de ejercicios anteriores",{"$f":"'F16'!E49","v":22631177},{"$f":"'F16'!F49","v":0}]
[null,null,null,null,null,null,"Revalúos",{"$f":"'F16'!E50","v":0},{"$f":"'F16'!F50","v":0}]
[null,null,null,null,null,null,"Reservas",{"$f":"'F16'!E51","v":0},{"$f":"'F16'!F51","v":0}]
[null,null,null,null,null,null,"Rectificaciones de resultados de ejercicios anteriores",{"$f":"'F16'!E52","v":0},{"$f":"'F16'!F52","v":0}]
[null,null,null,null,null,null,"Exceso o insuficiencia en la actualización de la hacienda pública/patrimonio",{"$f":"'F16'!E53","v":0},{"$f":"'F16'!F53","v":0}]
[null,null,null,null,null,null,"Resultado por posición monetaria",{"$f":"'F16'!E54","v":0},{"$f":"'F16'!F54","v":0}]
[null,null,null,null,null,null,"Resultado por tenencia de activos no monetarios",{"$f":"'F16'!E55","v":0},{"$f":"'F16'!F55","v":0}]
[null,null,null,null,null,null,"F17"]
[null,null,null,null,null,null,"Gasto corriente",{"$f":"'F17'!C8","v":0},{"$f":"'F17'!D8","v":0},{"$f":"'F17'!E8","v":0},{"$f":"'F17'!F8","v":0},{"$f":"'F17'!G8","v":0},{"$f":"'F17'!H8","v":0}]
[null,null,null,null,null,null,"Gasto de capital",{"$f":"'F17'!C9","v":0},{"$f":"'F17'!D9","v":0},{"$f":"'F17'!E9","v":0},{"$f":"'F17'!F9","v":0},{"$f":"'F17'!G9","v":0},{"$f":"'F17'!H9","v":0}]
[null,null,null,null,null,null,"Amortización de la deuda y disminución de pasivos",{"$f":"'F17'!C10","v":0},{"$f":"'F17'!D10","v":0},{"$f":"'F17'!E10","v":0},{"$f":"'F17'!F10","v":0},{"$f":"'F17'!G10","v":0},{"$f":"'F17'!H10","v":0}]
[null,null,null,null,null,null,"Pensiones y jubilaciones",{"$f":"'F17'!C11","v":0},{"$f":"'F17'!D11","v":0},{"$f":"'F17'!E11","v":0},{"$f":"'F17'!F11","v":0},{"$f":"'F17'!G11","v":0},{"$f":"'F17'!H11","v":0}]
[null,null,null,null,null,null,"Participaciones",{"$f":"'F17'!C12","v":0},{"$f":"'F17'!D12","v":0},{"$f":"'F17'!E12","v":0},{"$f":"'F17'!F12","v":0},{"$f":"'F17'!G12","v":0},{"$f":"'F17'!H12","v":0}]
[null,null,null,null,null,null,"TOTAL DEL GASTO",{"$f":"'F17'!C13","v":0},{"$f":"'F17'!D13","v":0},{"$f":"'F17'!E13","v":0},{"$f":"'F17'!F13","v":0},{"$f":"'F17'!G13","v":0},{"$f":"'F17'!H13","v":0}]
[null,null,null,null,null,null,"F18"]
[null,null,null,null,null,null,null,{"$f":"'F18'!A8","v":""},{"$f":"'F18'!B8","v":0},{"$f":"'F18'!C8","v":0},{"$f":"'F18'!D8","v":0},{"$f":"'F18'!E8","v":0},{"$f":"'F18'!F8","v":0},{"$f":"'F18'!G8","v":0}]
[null,null,null,null,null,null,null,{"$f":"'F18'!A9","v":""},{"$f":"'F18'!B9","v":0},{"$f":"'F18'!C9","v":0},{"$f":"'F18'!D9","v":0},{"$f":"'F18'!E9","v":0},{"$f":"'F18'!F9","v":0},{"$f":"'F18'!G9","v":0}]
[null,null,null,null,null,null,null,{"$f":"'F18'!A10","v":""},{"$f":"'F18'!B10","v":0},{"$f":"'F18'!C10","v":0},{"$f":"'F18'!D10","v":0},{"$f":"'F18'!E10","v":0},{"$f":"'F18'!F10","v":0},{"$f":"'F18'!G10","v":0}]
[null,null,null,null,null,null,null,{"$f":"'F18'!A11","v":""},{"$f":"'F18'!B11","v":0},{"$f":"'F18'!C11","v":0},{"$f":"'F18'!D11","v":0},{"$f":"'F18'!E11","v":0},{"$f":"'F18'!F11","v":0},{"$f":"'F18'!G11","v":0}]
[null,null,null,null,null,null,null,{"$f":"'F18'!A12","v":""},{"$f":"'F18'!B12","v":0},{"$f":"'F18'!C12","v":0},{"$f":"'F18'!D12","v":0},{"$f":"'F18'!E12","v":0},{"$f":"'F18'!F12","v":0},{"$f":"'F18'!G12","v":0}]
[null,null,null,null,null,null,null,{"$f":"'F18'!A13","v":""},{"$f":"'F18'!B13","v":0},{"$f":"'F18'!C13","v":0},{"$f":"'F18'!D13","v":0},{"$f":"'F18'!E13","v":0},{"$f":"'F18'!F13","v":0},{"$f":"'F18'!G13","v":0}]
[null,null,null,null,null,null,null,{"$f":"'F18'!A14","v":""},{"$f":"'F18'!B14","v":0},{"$f":"'F18'!C14","v":0},{"$f":"'F18'!D14","v":0},{"$f":"'F18'!E14","v":0},{"$f":"'F18'!F14","v":0},{"$f":"'F18'!G14","v":0}]
[null,null,null,null,null,null,null,{"$f":"'F18'!A15","v":""},{"$f":"'F18'!B15","v":0},{"$f":"'F18'!C15","v":0},{"$f":"'F18'!D15","v":0},{"$f":"'F18'!E15","v":0},{"$f":"'F18'!F15","v":0},{"$f":"'F18'!G15","v":0}]
[null,null,null,null,null,null,null,{"$f":"'F18'!A16","v":""},{"$f":"'F18'!B16","v":0},{"$f":"'F18'!C16","v":0},{"$f":"'F18'!D16","v":0},{"$f":"'F18'!E16","v":0},{"$f":"'F18'!F16","v":0},{"$f":"'F18'!G16","v":0}]
[null,null,null,null,null,null,null,{"$f":"'F18'!A17","v":""},{"$f":"'F18'!B17","v":0},{"$f":"'F18'!C17","v":0},{"$f":"'F18'!D17","v":0},{"$f":"'F18'!E17","v":0},{"$f":"'F18'!F17","v":0},{"$f":"'F18'!G17","v":0}]
[null,null,null,null,null,null,null,{"$f":"'F18'!A18","v":""},{"$f":"'F18'!B18","v":0},{"$f":"'F18'!C18","v":0},{"$f":"'F18'!D18","v":0},{"$f":"'F18'!E18","v":0},{"$f":"'F18'!F18","v":0},{"$f":"'F18'!G18","v":0}]
[null,null,null,null,null,null,null,{"$f":"'F18'!A19","v":""},{"$f":"'F18'!B19","v":0},{"$f":"'F18'!C19","v":0},{"$f":"'F18'!D19","v":0},{"$f":"'F18'!E19","v":0},{"$f":"'F18'!F19","v":0},{"$f":"'F18'!G19","v":0}]
[null,null,null,null,null,null,null,{"$f":"'F18'!A20","v":""},{"$f":"'F18'!B20","v":0},{"$f":"'F18'!C20","v":0},{"$f":"'F18'!D20","v":0},{"$f":"'F18'!E20","v":0},{"$f":"'F18'!F20","v":0},{"$f":"'F18'!G20","v":0}]
[null,null,null,null,null,null,null,{"$f":"'F18'!A21","v":""},{"$f":"'F18'!B21","v":0},{"$f":"'F18'!C21","v":0},{"$f":"'F18'!D21","v":0},{"$f":"'F18'!E21","v":0},{"$f":"'F18'!F21","v":0},{"$f":"'F18'!G21","v":0}]
[null,null,null,null,null,null,null,{"$f":"'F18'!A22","v":""},{"$f":"'F18'!B22","v":0},{"$f":"'F18'!C22","v":0},{"$f":"'F18'!D22","v":0},{"$f":"'F18'!E22","v":0},{"$f":"'F18'!F22","v":0},{"$f":"'F18'!G22","v":0}]
[null,null,null,null,null,null,null,{"$f":"'F18'!A23","v":""},{"$f":"'F18'!B23","v":0},{"$f":"'F18'!C23","v":0},{"$f":"'F18'!D23","v":0},{"$f":"'F18'!E23","v":0},{"$f":"'F18'!F23","v":0},{"$f":"'F18'!G23","v":0}]
[null,null,null,null,null,null,null,{"$f":"'F18'!A24","v":""},{"$f":"'F18'!B24","v":0},{"$f":"'F18'!C24","v":0},{"$f":"'F18'!D24","v":0},{"$f":"'F18'!E24","v":0},{"$f":"'F18'!F24","v":0},{"$f":"'F18'!G24","v":0}]
[null,null,null,null,null,null,null,{"$f":"'F18'!A25","v":""},{"$f":"'F18'!B25","v":0},{"$f":"'F18'!C25","v":0},{"$f":"'F18'!D25","v":0},{"$f":"'F18'!E25","v":0},{"$f":"'F18'!F25","v":0},{"$f":"'F18'!G25","v":0}]
[null,null,null,null,null,null,null,{"$f":"'F18'!A26","v":""},{"$f":"'F18'!B26","v":0},{"$f":"'F18'!C26","v":0},{"$f":"'F18'!D26","v":0},{"$f":"'F18'!E26","v":0},{"$f":"'F18'!F26","v":0},{"$f":"'F18'!G26","v":0}]
[null,null,null,null,null,null,null,{"$f":"'F18'!A27","v":""},{"$f":"'F18'!B27","v":0},{"$f":"'F18'!C27","v":0},{"$f":"'F18'!D27","v":0},{"$f":"'F18'!E27","v":0},{"$f":"'F18'!F27","v":0},{"$f":"'F18'!G27","v":0}]
[null,null,null,null,null,null,null,{"$f":"'F18'!A28","v":""},{"$f":"'F18'!B28","v":0},{"$f":"'F18'!C28","v":0},{"$f":"'F18'!D28","v":0},{"$f":"'F18'!E28","v":0},{"$f":"'F18'!F28","v":0},{"$f":"'F18'!G28","v":0}]
[null,null,null,null,null,null,null,{"$f":"'F18'!A29","v":""},{"$f":"'F18'!B29","v":0},{"$f":"'F18'!C29","v":0},{"$f":"'F18'!D29","v":0},{"$f":"'F18'!E29","v":0},{"$f":"'F18'!F29","v":0},{"$f":"'F18'!G29","v":0}]
[null,null,null,null,null,null,null,{"$f":"'F18'!A30","v":""},{"$f":"'F18'!B30","v":0},{"$f":"'F18'!C30","v":0},{"$f":"'F18'!D30","v":0},{"$f":"'F18'!E30","v":0},{"$f":"'F18'!F30","v":0},{"$f":"'F18'!G30","v":0}]
[null,null,null,null,null,null,null,{"$f":"'F18'!A31","v":""},{"$f":"'F18'!B31","v":0},{"$f":"'F18'!C31","v":0},{"$f":"'F18'!D31","v":0},{"$f":"'F18'!E31","v":0},{"$f":"'F18'!F31","v":0},{"$f":"'F18'!G31","v":0}]
[null,null,null,null,null,null,null,{"$f":"'F18'!A32","v":""},{"$f":"'F18'!B32","v":0},{"$f":"'F18'!C32","v":0},{"$f":"'F18'!D32","v":0},{"$f":"'F18'!E32","v":0},{"$f":"'F18'!F32","v":0},{"$f":"'F18'!G32","v":0}]
[null,null,null,null,null,null,null,{"$f":"'F18'!A33","v":""},{"$f":"'F18'!B33","v":0},{"$f":"'F18'!C33","v":0},{"$f":"'F18'!D33","v":0},{"$f":"'F18'!E33","v":0},{"$f":"'F18'!F33","v":0},{"$f":"'F18'!G33","v":0}]
[null,null,null,null,null,null,null,{"$f":"'F18'!A34","v":""},{"$f":"'F18'!B34","v":0},{"$f":"'F18'!C34","v":0},{"$f":"'F18'!D34","v":0},{"$f":"'F18'!E34","v":0},{"$f":"'F18'!F34","v":0},{"$f":"'F18'!G34","v":0}]
[null,null,null,null,null,null,null,{"$f":"'F18'!A35","v":""},{"$f":"'F18'!B35","v":0},{"$f":"'F18'!C35","v":0},{"$f":"'F18'!D35","v":0},{"$f":"'F18'!E35","v":0},{"$f":"'F18'!F35","v":0},{"$f":"'F18'!G35","v":0}]
[null,null,null,null,null,null,null,{"$f":"'F18'!A36","v":""},{"$f":"'F18'!B36","v":0},{"$f":"'F18'!C36","v":0},{"$f":"'F18'!D36","v":0},{"$f":"'F18'!E36","v":0},{"$f":"'F18'!F36","v":0},{"$f":"'F18'!G36","v":0}]
[null,null,null,null,null,null,null,{"$f":"'F18'!A37","v":""},{"$f":"'F18'!B37","v":0},{"$f":"'F18'!C37","v":0},{"$f":"'F18'!D37","v":0},{"$f":"'F18'!E37","v":0},{"$f":"'F18'!F37","v":0},{"$f":"'F18'!G37","v":0}]
[null,null,null,null,null,null,null,{"$f":"'F18'!A38","v":""},{"$f":"'F18'!B38","v":0},{"$f":"'F18'!C38","v":0},{"$f":"'F18'!D38","v":0},{"$f":"'F18'!E38","v":0},{"$f":"'F18'!F38","v":0},{"$f":"'F18'!G38","v":0}]
[null,null,null,null,null,null,null,{"$f":"'F18'!A39","v":""},{"$f":"'F18'!B39","v":0},{"$f":"'F18'!C39","v":0},{"$f":"'F18'!D39","v":0},{"$f":"'F18'!E39","v":0},{"$f":"'F18'!F39","v":0},{"$f":"'F18'!G39","v":0}]
[null,null,null,null,null,null,null,{"$f":"'F18'!A40","v":""},{"$f":"'F18'!B40","v":0},{"$f":"'F18'!C40","v":0},{"$f":"'F18'!D40","v":0},{"$f":"'F18'!E40","v":0},{"$f":"'F18'!F40","v":0},{"$f":"'F18'!G40","v":0}]
[null,null,null,null,null,null,null,{"$f":"'F18'!A41","v":""},{"$f":"'F18'!B41","v":0},{"$f":"'F18'!C41","v":0},{"$f":"'F18'!D41","v":0},{"$f":"'F18'!E41","v":0},{"$f":"'F18'!F41","v":0},{"$f":"'F18'!G41","v":0}]
[null,null,null,null,null,null,null,{"$f":"'F18'!A42","v":""},{"$f":"'F18'!B42","v":0},{"$f":"'F18'!C42","v":0},{"$f":"'F18'!D42","v":0},{"$f":"'F18'!E42","v":0},{"$f":"'F18'!F42","v":0},{"$f":"'F18'!G42","v":0}]
[null,null,null,null,null,null,null,{"$f":"'F18'!A43","v":""},{"$f":"'F18'!B43","v":0},{"$f":"'F18'!C43","v":0},{"$f":"'F18'!D43","v":0},{"$f":"'F18'!E43","v":0},{"$f":"'F18'!F43","v":0},{"$f":"'F18'!G43","v":0}]
[null,null,null,null,null,null,null,{"$f":"'F18'!A44","v":""},{"$f":"'F18'!B44","v":0},{"$f":"'F18'!C44","v":0},{"$f":"'F18'!D44","v":0},{"$f":"'F18'!E44","v":0},{"$f":"'F18'!F44","v":0},{"$f":"'F18'!G44","v":0}]
[null,null,null,null,null,null,null,{"$f":"'F18'!A45","v":""},{"$f":"'F18'!B45","v":0},{"$f":"'F18'!C45","v":0},{"$f":"'F18'!D45","v":0},{"$f":"'F18'!E45","v":0},{"$f":"'F18'!F45","v":0},{"$f":"'F18'!G45","v":0}]
[null,null,null,null,null,null,null,{"$f":"'F18'!A46","v":""},{"$f":"'F18'!B46","v":0},{"$f":"'F18'!C46","v":0},{"$f":"'F18'!D46","v":0},{"$f":"'F18'!E46","v":0},{"$f":"'F18'!F46","v":0},{"$f":"'F18'!G46","v":0}]
[null,null,null,null,null,null,null,{"$f":"'F18'!A47","v":""},{"$f":"'F18'!B47","v":0},{"$f":"'F18'!C47","v":0},{"$f":"'F18'!D47","v":0},{"$f":"'F18'!E47","v":0},{"$f":"'F18'!F47","v":0},{"$f":"'F18'!G47","v":0}]
[null,null,null,null,null,null,null,{"$f":"'F18'!A48","v":""},{"$f":"'F18'!B48","v":0},{"$f":"'F18'!C48","v":0},{"$f":"'F18'!D48","v":0},{"$f":"'F18'!E48","v":0},{"$f":"'F18'!F48","v":0},{"$f":"'F18'!G48","v":0}]
[null,null,null,null,null,null,null,{"$f":"'F18'!A49","v":""},{"$f":"'F18'!B49","v":0},{"$f":"'F18'!C49","v":0},{"$f":"'F18'!D49","v":0},{"$f":"'F18'!E49","v":0},{"$f":"'F18'!F49","v":0},{"$f":"'F18'!G49","v":0}]
[null,null,null,null,null,null,null,{"$f":"'F18'!A50","v":""},{"$f":"'F18'!B50","v":0},{"$f":"'F18'!C50","v":0},{"$f":"'F18'!D50","v":0},{"$f":"'F18'!E50","v":0},{"$f":"'F18'!F50","v":0},{"$f":"'F18'!G50","v":0}]
[null,null,null,null,null,null,null,{"$f":"'F18'!A51","v":""},{"$f":"'F18'!B51","v":0},{"$f":"'F18'!C51","v":0},{"$f":"'F18'!D51","v":0},{"$f":"'F18'!E51","v":0},{"$f":"'F18'!F51","v":0},{"$f":"'F18'!G51","v":0}]
[null,null,null,null,null,null,null,{"$f":"'F18'!A52","v":""},{"$f":"'F18'!B52","v":0},{"$f":"'F18'!C52","v":0},{"$f":"'F18'!D52","v":0},{"$f":"'F18'!E52","v":0},{"$f":"'F18'!F52","v":0},{"$f":"'F18'!G52","v":0}]
[null,null,null,null,null,null,null,{"$f":"'F18'!A53","v":""},{"$f":"'F18'!B53","v":0},{"$f":"'F18'!C53","v":0},{"$f":"'F18'!D53","v":0},{"$f":"'F18'!E53","v":0},{"$f":"'F18'!F53","v":0},{"$f":"'F18'!G53","v":0}]
[null,null,null,null,null,null,null,{"$f":"'F18'!A54","v":""},{"$f":"'F18'!B54","v":0},{"$f":"'F18'!C54","v":0},{"$f":"'F18'!D54","v":0},{"$f":"'F18'!E54","v":0},{"$f":"'F18'!F54","v":0},{"$f":"'F18'!G54","v":0}]
[null,null,null,null,null,null,null,{"$f":"'F18'!A55","v":""},{"$f":"'F18'!B55","v":0},{"$f":"'F18'!C55","v":0},{"$f":"'F18'!D55","v":0},{"$f":"'F18'!E55","v":0},{"$f":"'F18'!F55","v":0},{"$f":"'F18'!G55","v":0}]
[null,null,null,null,null,null,null,{"$f":"'F18'!A56","v":""},{"$f":"'F18'!B56","v":0},{"$f":"'F18'!C56","v":0},{"$f":"'F18'!D56","v":0},{"$f":"'F18'!E56","v":0},{"$f":"'F18'!F56","v":0},{"$f":"'F18'!G56","v":0}]
[null,null,null,null,null,null,null,{"$f":"'F18'!A57","v":""},{"$f":"'F18'!B57","v":0},{"$f":"'F18'!C57","v":0},{"$f":"'F18'!D57","v":0},{"$f":"'F18'!E57","v":0},{"$f":"'F18'!F57","v":0},{"$f":"'F18'!G57","v":0}]
[null,null,null,null,null,null,"TOTAL DEL GASTO",null,{"$f":"'F18'!B58","v":0},{"$f":"'F18'!C58","v":0},{"$f":"'F18'!D58","v":0},{"$f":"'F18'!E58","v":0},{"$f":"'F18'!F58","v":0},{"$f":"'F18'!G58","v":0}]
[null,null,null,null,null,null,"F18A"]
[null,null,null,null,null,null,"I. GASTO NO ETIQUETADO"]
[null,null,null,null,null,null,null,{"$f":"F18A!A9","v":0},{"$f":"F18A!B9","v":0},{"$f":"F18A!C9","v":0},{"$f":"F18A!D9","v":0},{"$f":"F18A!E9","v":0},{"$f":"F18A!F9","v":0},{"$f":"F18A!G9","v":0}]
[null,null,null,null,null,null,null,{"$f":"F18A!A10","v":0},{"$f":"F18A!B10","v":0},{"$f":"F18A!C10","v":0},{"$f":"F18A!D10","v":0},{"$f":"F18A!E10","v":0},{"$f":"F18A!F10","v":0},{"$f":"F18A!G10","v":0}]
[null,null,null,null,null,null,null,{"$f":"F18A!A11","v":0},{"$f":"F18A!B11","v":0},{"$f":"F18A!C11","v":0},{"$f":"F18A!D11","v":0},{"$f":"F18A!E11","v":0},{"$f":"F18A!F11","v":0},{"$f":"F18A!G11","v":0}]
[null,null,null,null,null,null,null,{"$f":"F18A!A12","v":0},{"$f":"F18A!B12","v":0},{"$f":"F18A!C12","v":0},{"$f":"F18A!D12","v":0},{"$f":"F18A!E12","v":0},{"$f":"F18A!F12","v":0},{"$f":"F18A!G12","v":0}]
[null,null,null,null,null,null,null,{"$f":"F18A!A13","v":0},{"$f":"F18A!B13","v":0},{"$f":"F18A!C13","v":0},{"$f":"F18A!D13","v":0},{"$f":"F18A!E13","v":0},{"$f":"F18A!F13","v":0},{"$f":"F18A!G13","v":0}]
[null,null,null,null,null,null,null,{"$f":"F18A!A14","v":0},{"$f":"F18A!B14","v":0},{"$f":"F18A!C14","v":0},{"$f":"F18A!D14","v":0},{"$f":"F18A!E14","v":0},{"$f":"F18A!F14","v":0},{"$f":"F18A!G14","v":0}]
[null,null,null,null,null,null,null,{"$f":"F18A!A15","v":0},{"$f":"F18A!B15","v":0},{"$f":"F18A!C15","v":0},{"$f":"F18A!D15","v":0},{"$f":"F18A!E15","v":0},{"$f":"F18A!F15","v":0},{"$f":"F18A!G15","v":0}]
[null,null,null,null,null,null,null,{"$f":"F18A!A16","v":0},{"$f":"F18A!B16","v":0},{"$f":"F18A!C16","v":0},{"$f":"F18A!D16","v":0},{"$f":"F18A!E16","v":0},{"$f":"F18A!F16","v":0},{"$f":"F18A!G16","v":0}]
[null,null,null,null,null,null,null,{"$f":"F18A!A17","v":0},{"$f":"F18A!B17","v":0},{"$f":"F18A!C17","v":0},{"$f":"F18A!D17","v":0},{"$f":"F18A!E17","v":0},{"$f":"F18A!F17","v":0},{"$f":"F18A!G17","v":0}]
[null,null,null,null,null,null,null,{"$f":"F18A!A18","v":0},{"$f":"F18A!B18","v":0},{"$f":"F18A!C18","v":0},{"$f":"F18A!D18","v":0},{"$f":"F18A!E18","v":0},{"$f":"F18A!F18","v":0},{"$f":"F18A!G18","v":0}]
[null,null,null,null,null,null,null,{"$f":"F18A!A19","v":0},{"$f":"F18A!B19","v":0},{"$f":"F18A!C19","v":0},{"$f":"F18A!D19","v":0},{"$f":"F18A!E19","v":0},{"$f":"F18A!F19","v":0},{"$f":"F18A!G19","v":0}]
[null,null,null,null,null,null,null,{"$f":"F18A!A20","v":0},{"$f":"F18A!B20","v":0},{"$f":"F18A!C20","v":0},{"$f":"F18A!D20","v":0},{"$f":"F18A!E20","v":0},{"$f":"F18A!F20","v":0},{"$f":"F18A!G20","v":0}]
[null,null,null,null,null,null,null,{"$f":"F18A!A21","v":0},{"$f":"F18A!B21","v":0},{"$f":"F18A!C21","v":0},{"$f":"F18A!D21","v":0},{"$f":"F18A!E21","v":0},{"$f":"F18A!F21","v":0},{"$f":"F18A!G21","v":0}]
[null,null,null,null,null,null,null,{"$f":"F18A!A22","v":0},{"$f":"F18A!B22","v":0},{"$f":"F18A!C22","v":0},{"$f":"F18A!D22","v":0},{"$f":"F18A!E22","v":0},{"$f":"F18A!F22","v":0},{"$f":"F18A!G22","v":0}]
[null,null,null,null,null,null,null,{"$f":"F18A!A23","v":0},{"$f":"F18A!B23","v":0},{"$f":"F18A!C23","v":0},{"$f":"F18A!D23","v":0},{"$f":"F18A!E23","v":0},{"$f":"F18A!F23","v":0},{"$f":"F18A!G23","v":0}]
[null,null,null,null,null,null,null,{"$f":"F18A!A24","v":0},{"$f":"F18A!B24","v":0},{"$f":"F18A!C24","v":0},{"$f":"F18A!D24","v":0},{"$f":"F18A!E24","v":0},{"$f":"F18A!F24","v":0},{"$f":"F18A!G24","v":0}]
[null,null,null,null,null,null,null,{"$f":"F18A!A25","v":0},{"$f":"F18A!B25","v":0},{"$f":"F18A!C25","v":0},{"$f":"F18A!D25","v":0},{"$f":"F18A!E25","v":0},{"$f":"F18A!F25","v":0},{"$f":"F18A!G25","v":0}]
[null,null,null,null,null,null,null,{"$f":"F18A!A26","v":0},{"$f":"F18A!B26","v":0},{"$f":"F18A!C26","v":0},{"$f":"F18A!D26","v":0},{"$f":"F18A!E26","v":0},{"$f":"F18A!F26","v":0},{"$f":"F18A!G26","v":0}]
[null,null,null,null,null,null,null,{"$f":"F18A!A27","v":0},{"$f":"F18A!B27","v":0},{"$f":"F18A!C27","v":0},{"$f":"F18A!D27","v":0},{"$f":"F18A!E27","v":0},{"$f":"F18A!F27","v":0},{"$f":"F18A!G27","v":0}]
[null,null,null,null,null,null,null,{"$f":"F18A!A28","v":0},{"$f":"F18A!B28","v":0},{"$f":"F18A!C28","v":0},{"$f":"F18A!D28","v":0},{"$f":"F18A!E28","v":0},{"$f":"F18A!F28","v":0},{"$f":"F18A!G28","v":0}]
[null,null,null,null,null,null,null,{"$f":"F18A!A29","v":0},{"$f":"F18A!B29","v":0},{"$f":"F18A!C29","v":0},{"$f":"F18A!D29","v":0},{"$f":"F18A!E29","v":0},{"$f":"F18A!F29","v":0},{"$f":"F18A!G29","v":0}]
[null,null,null,null,null,null,null,{"$f":"F18A!A30","v":0},{"$f":"F18A!B30","v":0},{"$f":"F18A!C30","v":0},{"$f":"F18A!D30","v":0},{"$f":"F18A!E30","v":0},{"$f":"F18A!F30","v":0},{"$f":"F18A!G30","v":0}]
[null,null,null,null,null,null,null,{"$f":"F18A!A31","v":0},{"$f":"F18A!B31","v":0},{"$f":"F18A!C31","v":0},{"$f":"F18A!D31","v":0},{"$f":"F18A!E31","v":0},{"$f":"F18A!F31","v":0},{"$f":"F18A!G31","v":0}]
[null,null,null,null,null,null,null,{"$f":"F18A!A32","v":0},{"$f":"F18A!B32","v":0},{"$f":"F18A!C32","v":0},{"$f":"F18A!D32","v":0},{"$f":"F18A!E32","v":0},{"$f":"F18A!F32","v":0},{"$f":"F18A!G32","v":0}]
[null,null,null,null,null,null,null,{"$f":"F18A!A33","v":0},{"$f":"F18A!B33","v":0},{"$f":"F18A!C33","v":0},{"$f":"F18A!D33","v":0},{"$f":"F18A!E33","v":0},{"$f":"F18A!F33","v":0},{"$f":"F18A!G33","v":0}]
[null,null,null,null,null,null,"TOTAL DEL GASTO NO ETIQUETADO",null,{"$f":"F18A!B34","v":0},{"$f":"F18A!C34","v":0},{"$f":"F18A!D34","v":0},{"$f":"F18A!E34","v":0},{"$f":"F18A!F34","v":0},{"$f":"F18A!G34","v":0}]
[null,null,null,null,null,null,"II. GASTO ETIQUETADO"]
[null,null,null,null,null,null,null,{"$f":"F18A!A36","v":0},{"$f":"F18A!B36","v":0},{"$f":"F18A!C36","v":0},{"$f":"F18A!D36","v":0},{"$f":"F18A!E36","v":0},{"$f":"F18A!F36","v":0},{"$f":"F18A!G36","v":0}]
[null,null,null,null,null,null,null,{"$f":"F18A!A37","v":0},{"$f":"F18A!B37","v":0},{"$f":"F18A!C37","v":0},{"$f":"F18A!D37","v":0},{"$f":"F18A!E37","v":0},{"$f":"F18A!F37","v":0},{"$f":"F18A!G37","v":0}]
[null,null,null,null,null,null,null,{"$f":"F18A!A38","v":0},{"$f":"F18A!B38","v":0},{"$f":"F18A!C38","v":0},{"$f":"F18A!D38","v":0},{"$f":"F18A!E38","v":0},{"$f":"F18A!F38","v":0},{"$f":"F18A!G38","v":0}]
[null,null,null,null,null,null,null,{"$f":"F18A!A39","v":0},{"$f":"F18A!B39","v":0},{"$f":"F18A!C39","v":0},{"$f":"F18A!D39","v":0},{"$f":"F18A!E39","v":0},{"$f":"F18A!F39","v":0},{"$f":"F18A!G39","v":0}]
[null,null,null,null,null,null,null,{"$f":"F18A!A40","v":0},{"$f":"F18A!B40","v":0},{"$f":"F18A!C40","v":0},{"$f":"F18A!D40","v":0},{"$f":"F18A!E40","v":0},{"$f":"F18A!F40","v":0},{"$f":"F18A!G40","v":0}]
[null,null,null,null,null,null,null,{"$f":"F18A!A41","v":0},{"$f":"F18A!B41","v":0},{"$f":"F18A!C41","v":0},{"$f":"F18A!D41","v":0},{"$f":"F18A!E41","v":0},{"$f":"F18A!F41","v":0},{"$f":"F18A!G41","v":0}]
[null,null,null,null,null,null,null,{"$f":"F18A!A42","v":0},{"$f":"F18A!B42","v":0},{"$f":"F18A!C42","v":0},{"$f":"F18A!D42","v":0},{"$f":"F18A!E42","v":0},{"$f":"F18A!F42","v":0},{"$f":"F18A!G42","v":0}]
[null,null,null,null,null,null,null,{"$f":"F18A!A43","v":0},{"$f":"F18A!B43","v":0},{"$f":"F18A!C43","v":0},{"$f":"F18A!D43","v":0},{"$f":"F18A!E43","v":0},{"$f":"F18A!F43","v":0},{"$f":"F18A!G43","v":0}]
[null,null,null,null,null,null,null,{"$f":"F18A!A44","v":0},{"$f":"F18A!B44","v":0},{"$f":"F18A!C44","v":0},{"$f":"F18A!D44","v":0},{"$f":"F18A!E44","v":0},{"$f":"F18A!F44","v":0},{"$f":"F18A!G44","v":0}]
[null,null,null,null,null,null,null,{"$f":"F18A!A45","v":0},{"$f":"F18A!B45","v":0},{"$f":"F18A!C45","v":0},{"$f":"F18A!D45","v":0},{"$f":"F18A!E45","v":0},{"$f":"F18A!F45","v":0},{"$f":"F18A!G45","v":0}]
[null,null,null,null,null,null,null,{"$f":"F18A!A46","v":0},{"$f":"F18A!B46","v":0},{"$f":"F18A!C46","v":0},{"$f":"F18A!D46","v":0},{"$f":"F18A!E46","v":0},{"$f":"F18A!F46","v":0},{"$f":"F18A!G46","v":0}]
[null,null,null,null,null,null,null,{"$f":"F18A!A47","v":0},{"$f":"F18A!B47","v":0},{"$f":"F18A!C47","v":0},{"$f":"F18A!D47","v":0},{"$f":"F18A!E47","v":0},{"$f":"F18A!F47","v":0},{"$f":"F18A!G47","v":0}]
[null,null,null,null,null,null,null,{"$f":"F18A!A48","v":0},{"$f":"F18A!B48","v":0},{"$f":"F18A!C48","v":0},{"$f":"F18A!D48","v":0},{"$f":"F18A!E48","v":0},{"$f":"F18A!F48","v":0},{"$f":"F18A!G48","v":0}]
[null,null,null,null,null,null,null,{"$f":"F18A!A49","v":0},{"$f":"F18A!B49","v":0},{"$f":"F18A!C49","v":0},{"$f":"F18A!D49","v":0},{"$f":"F18A!E49","v":0},{"$f":"F18A!F49","v":0},{"$f":"F18A!G49","v":0}]
[null,null,null,null,null,null,null,{"$f":"F18A!A50","v":0},{"$f":"F18A!B50","v":0},{"$f":"F18A!C50","v":0},{"$f":"F18A!D50","v":0},{"$f":"F18A!E50","v":0},{"$f":"F18A!F50","v":0},{"$f":"F18A!G50","v":0}]
[null,null,null,null,null,null,null,{"$f":"F18A!A51","v":0},{"$f":"F18A!B51","v":0},{"$f":"F18A!C51","v":0},{"$f":"F18A!D51","v":0},{"$f":"F18A!E51","v":0},{"$f":"F18A!F51","v":0},{"$f":"F18A!G51","v":0}]
[null,null,null,null,null,null,null,{"$f":"F18A!A52","v":0},{"$f":"F18A!B52","v":0},{"$f":"F18A!C52","v":0},{"$f":"F18A!D52","v":0},{"$f":"F18A!E52","v":0},{"$f":"F18A!F52","v":0},{"$f":"F18A!G52","v":0}]
[null,null,null,null,null,null,null,{"$f":"F18A!A53","v":0},{"$f":"F18A!B53","v":0},{"$f":"F18A!C53","v":0},{"$f":"F18A!D53","v":0},{"$f":"F18A!E53","v":0},{"$f":"F18A!F53","v":0},{"$f":"F18A!G53","v":0}]
[null,null,null,null,null,null,null,{"$f":"F18A!A54","v":0},{"$f":"F18A!B54","v":0},{"$f":"F18A!C54","v":0},{"$f":"F18A!D54","v":0},{"$f":"F18A!E54","v":0},{"$f":"F18A!F54","v":0},{"$f":"F18A!G54","v":0}]
[null,null,null,null,null,null,null,{"$f":"F18A!A55","v":0},{"$f":"F18A!B55","v":0},{"$f":"F18A!C55","v":0},{"$f":"F18A!D55","v":0},{"$f":"F18A!E55","v":0},{"$f":"F18A!F55","v":0},{"$f":"F18A!G55","v":0}]
[null,null,null,null,null,null,null,{"$f":"F18A!A56","v":0},{"$f":"F18A!B56","v":0},{"$f":"F18A!C56","v":0},{"$f":"F18A!D56","v":0},{"$f":"F18A!E56","v":0},{"$f":"F18A!F56","v":0},{"$f":"F18A!G56","v":0}]
[null,null,null,null,null,null,null,{"$f":"F18A!A57","v":0},{"$f":"F18A!B57","v":0},{"$f":"F18A!C57","v":0},{"$f":"F18A!D57","v":0},{"$f":"F18A!E57","v":0},{"$f":"F18A!F57","v":0},{"$f":"F18A!G57","v":0}]
[null,null,null,null,null,null,null,{"$f":"F18A!A58","v":0},{"$f":"F18A!B58","v":0},{"$f":"F18A!C58","v":0},{"$f":"F18A!D58","v":0},{"$f":"F18A!E58","v":0},{"$f":"F18A!F58","v":0},{"$f":"F18A!G58","v":0}]
[null,null,null,null,null,null,null,{"$f":"F18A!A59","v":0},{"$f":"F18A!B59","v":0},{"$f":"F18A!C59","v":0},{"$f":"F18A!D59","v":0},{"$f":"F18A!E59","v":0},{"$f":"F18A!F59","v":0},{"$f":"F18A!G59","v":0}]
[null,null,null,null,null,null,null,{"$f":"F18A!A60","v":0},{"$f":"F18A!B60","v":0},{"$f":"F18A!C60","v":0},{"$f":"F18A!D60","v":0},{"$f":"F18A!E60","v":0},{"$f":"F18A!F60","v":0},{"$f":"F18A!G60","v":0}]
[null,null,null,null,null,null,"TOTAL DEL GASTO ETIQUETADO",null,{"$f":"F18A!B61","v":0},{"$f":"F18A!C61","v":0},{"$f":"F18A!D61","v":0},{"$f":"F18A!E61","v":0},{"$f":"F18A!F61","v":0},{"$f":"F18A!G61","v":0}]
[null,null,null,null,null,null,"TOTAL DEL GASTO",null,{"$f":"F18A!B62","v":0},{"$f":"F18A!C62","v":0},{"$f":"F18A!D62","v":0},{"$f":"F18A!E62","v":0},{"$f":"F18A!F62","v":0},{"$f":"F18A!G62","v":0}]
[null,null,null,null,null,null,"F19"]
[null,null,null,null,null,null,"Gobierno",{"$f":"'F19'!C8","v":0},{"$f":"'F19'!D8","v":0},{"$f":"'F19'!E8","v":0},{"$f":"'F19'!F8","v":0},{"$f":"'F19'!G8","v":0},{"$f":"'F19'!H8","v":0}]
[null,null,null,null,null,null,"Legislación",{"$f":"'F19'!C9","v":0},{"$f":"'F19'!D9","v":0},{"$f":"'F19'!E9","v":0},{"$f":"'F19'!F9","v":0},{"$f":"'F19'!G9","v":0},{"$f":"'F19'!H9","v":0}]
[null,null,null,null,null,null,"Justicia",{"$f":"'F19'!C10","v":0},{"$f":"'F19'!D10","v":0},{"$f":"'F19'!E10","v":0},{"$f":"'F19'!F10","v":0},{"$f":"'F19'!G10","v":0},{"$f":"'F19'!H10","v":0}]
[null,null,null,null,null,null,"Coordinación de la política de gobierno",{"$f":"'F19'!C11","v":0},{"$f":"'F19'!D11","v":0},{"$f":"'F19'!E11","v":0},{"$f":"'F19'!F11","v":0},{"$f":"'F19'!G11","v":0},{"$f":"'F19'!H11","v":0}]
[null,null,null,null,null,null,"Relaciones exteriores",{"$f":"'F19'!C12","v":0},{"$f":"'F19'!D12","v":0},{"$f":"'F19'!E12","v":0},{"$f":"'F19'!F12","v":0},{"$f":"'F19'!G12","v":0},{"$f":"'F19'!H12","v":0}]
[null,null,null,null,null,null,"Asuntos financieros y hacendarios",{"$f":"'F19'!C13","v":0},{"$f":"'F19'!D13","v":0},{"$f":"'F19'!E13","v":0},{"$f":"'F19'!F13","v":0},{"$f":"'F19'!G13","v":0},{"$f":"'F19'!H13","v":0}]
[null,null,null,null,null,null,"Seguridad nacional",{"$f":"'F19'!C14","v":0},{"$f":"'F19'!D14","v":0},{"$f":"'F19'!E14","v":0},{"$f":"'F19'!F14","v":0},{"$f":"'F19'!G14","v":0},{"$f":"'F19'!H14","v":0}]
[null,null,null,null,null,null,"Asuntos de orden público y de seguridad interior",{"$f":"'F19'!C15","v":0},{"$f":"'F19'!D15","v":0},{"$f":"'F19'!E15","v":0},{"$f":"'F19'!F15","v":0},{"$f":"'F19'!G15","v":0},{"$f":"'F19'!H15","v":0}]
[null,null,null,null,null,null,"Otros servicios generales",{"$f":"'F19'!C16","v":0},{"$f":"'F19'!D16","v":0},{"$f":"'F19'!E16","v":0},{"$f":"'F19'!F16","v":0},{"$f":"'F19'!G16","v":0},{"$f":"'F19'!H16","v":0}]
[null,null,null,null,null,null,"Desarrollo social",{"$f":"'F19'!C17","v":0},{"$f":"'F19'!D17","v":0},{"$f":"'F19'!E17","v":0},{"$f":"'F19'!F17","v":0},{"$f":"'F19'!G17","v":0},{"$f":"'F19'!H17","v":0}]
[null,null,null,null,null,null,"Protección ambiental",{"$f":"'F19'!C18","v":0},{"$f":"'F19'!D18","v":0},{"$f":"'F19'!E18","v":0},{"$f":"'F19'!F18","v":0},{"$f":"'F19'!G18","v":0},{"$f":"'F19'!H18","v":0}]
[null,null,null,null,null,null,"Vivienda y servicios a la comunidad",{"$f":"'F19'!C19","v":0},{"$f":"'F19'!D19","v":0},{"$f":"'F19'!E19","v":0},{"$f":"'F19'!F19","v":0},{"$f":"'F19'!G19","v":0},{"$f":"'F19'!H19","v":0}]
[null,null,null,null,null,null,"Salud",{"$f":"'F19'!C20","v":0},{"$f":"'F19'!D20","v":0},{"$f":"'F19'!E20","v":0},{"$f":"'F19'!F20","v":0},{"$f":"'F19'!G20","v":0},{"$f":"'F19'!H20","v":0}]
[null,null,null,null,null,null,"Recreación, cultura y otras manifestaciones sociales",{"$f":"'F19'!C21","v":0},{"$f":"'F19'!D21","v":0},{"$f":"'F19'!E21","v":0},{"$f":"'F19'!F21","v":0},{"$f":"'F19'!G21","v":0},{"$f":"'F19'!H21","v":0}]
[null,null,null,null,null,null,"Educación",{"$f":"'F19'!C22","v":0},{"$f":"'F19'!D22","v":0},{"$f":"'F19'!E22","v":0},{"$f":"'F19'!F22","v":0},{"$f":"'F19'!G22","v":0},{"$f":"'F19'!H22","v":0}]
[null,null,null,null,null,null,"Protección social",{"$f":"'F19'!C23","v":0},{"$f":"'F19'!D23","v":0},{"$f":"'F19'!E23","v":0},{"$f":"'F19'!F23","v":0},{"$f":"'F19'!G23","v":0},{"$f":"'F19'!H23","v":0}]
[null,null,null,null,null,null,"Otros asuntos sociales",{"$f":"'F19'!C24","v":0},{"$f":"'F19'!D24","v":0},{"$f":"'F19'!E24","v":0},{"$f":"'F19'!F24","v":0},{"$f":"'F19'!G24","v":0},{"$f":"'F19'!H24","v":0}]
[null,null,null,null,null,null,"Desarrollo económico",{"$f":"'F19'!C25","v":0},{"$f":"'F19'!D25","v":0},{"$f":"'F19'!E25","v":0},{"$f":"'F19'!F25","v":0},{"$f":"'F19'!G25","v":0},{"$f":"'F19'!H25","v":0}]
[null,null,null,null,null,null,"Asuntos económicos, comerciales y laborales en general",{"$f":"'F19'!C26","v":0},{"$f":"'F19'!D26","v":0},{"$f":"'F19'!E26","v":0},{"$f":"'F19'!F26","v":0},{"$f":"'F19'!G26","v":0},{"$f":"'F19'!H26","v":0}]
[null,null,null,null,null,null,"Agropecuaria, silvicultura, pesca y caza",{"$f":"'F19'!C27","v":0},{"$f":"'F19'!D27","v":0},{"$f":"'F19'!E27","v":0},{"$f":"'F19'!F27","v":0},{"$f":"'F19'!G27","v":0},{"$f":"'F19'!H27","v":0}]
[null,null,null,null,null,null,"Combustibles y energía",{"$f":"'F19'!C28","v":0},{"$f":"'F19'!D28","v":0},{"$f":"'F19'!E28","v":0},{"$f":"'F19'!F28","v":0},{"$f":"'F19'!G28","v":0},{"$f":"'F19'!H28","v":0}]
[null,null,null,null,null,null,"Minería, manufacturas y construcción",{"$f":"'F19'!C29","v":0},{"$f":"'F19'!D29","v":0},{"$f":"'F19'!E29","v":0},{"$f":"'F19'!F29","v":0},{"$f":"'F19'!G29","v":0},{"$f":"'F19'!H29","v":0}]
[null,null,null,null,null,null,"Transporte",{"$f":"'F19'!C30","v":0},{"$f":"'F19'!D30","v":0},{"$f":"'F19'!E30","v":0},{"$f":"'F19'!F30","v":0},{"$f":"'F19'!G30","v":0},{"$f":"'F19'!H30","v":0}]
[null,null,null,null,null,null,"Comunicaciones",{"$f":"'F19'!C31","v":0},{"$f":"'F19'!D31","v":0},{"$f":"'F19'!E31","v":0},{"$f":"'F19'!F31","v":0},{"$f":"'F19'!G31","v":0},{"$f":"'F19'!H31","v":0}]
[null,null,null,null,null,null,"Turismo",{"$f":"'F19'!C32","v":0},{"$f":"'F19'!D32","v":0},{"$f":"'F19'!E32","v":0},{"$f":"'F19'!F32","v":0},{"$f":"'F19'!G32","v":0},{"$f":"'F19'!H32","v":0}]
[null,null,null,null,null,null,"Ciencia, tecnología e innovación",{"$f":"'F19'!C33","v":0},{"$f":"'F19'!D33","v":0},{"$f":"'F19'!E33","v":0},{"$f":"'F19'!F33","v":0},{"$f":"'F19'!G33","v":0},{"$f":"'F19'!H33","v":0}]
[null,null,null,null,null,null,"Otras industrias y otros asuntos económicos",{"$f":"'F19'!C34","v":0},{"$f":"'F19'!D34","v":0},{"$f":"'F19'!E34","v":0},{"$f":"'F19'!F34","v":0},{"$f":"'F19'!G34","v":0},{"$f":"'F19'!H34","v":0}]
[null,null,null,null,null,null,"Otras no clasificadas en fdunciones anteriores",{"$f":"'F19'!C35","v":0},{"$f":"'F19'!D35","v":0},{"$f":"'F19'!E35","v":0},{"$f":"'F19'!F35","v":0},{"$f":"'F19'!G35","v":0},{"$f":"'F19'!H35","v":0}]
[null,null,null,null,null,null,"Transacciones de la deuda publica / costo financiero de la deuda",{"$f":"'F19'!C36","v":0},{"$f":"'F19'!D36","v":0},{"$f":"'F19'!E36","v":0},{"$f":"'F19'!F36","v":0},{"$f":"'F19'!G36","v":0},{"$f":"'F19'!H36","v":0}]
[null,null,null,null,null,null,"Transferencias, participaciones y aportaciones entre diferentes niveles y órdenes de gobierno",{"$f":"'F19'!C37","v":0},{"$f":"'F19'!D37","v":0},{"$f":"'F19'!E37","v":0},{"$f":"'F19'!F37","v":0},{"$f":"'F19'!G37","v":0},{"$f":"'F19'!H37","v":0}]
[null,null,null,null,null,null,"Saneamiento del sistema financiero",{"$f":"'F19'!C38","v":0},{"$f":"'F19'!D38","v":0},{"$f":"'F19'!E38","v":0},{"$f":"'F19'!F38","v":0},{"$f":"'F19'!G38","v":0},{"$f":"'F19'!H38","v":0}]
[null,null,null,null,null,null,"Adeudos de ejercicios fiscales anteriores",{"$f":"'F19'!C39","v":0},{"$f":"'F19'!D39","v":0},{"$f":"'F19'!E39","v":0},{"$f":"'F19'!F39","v":0},{"$f":"'F19'!G39","v":0},{"$f":"'F19'!H39","v":0}]
[null,null,null,null,null,null,"TOTAL DEL GASTO",{"$f":"'F19'!C40","v":0},{"$f":"'F19'!D40","v":0},{"$f":"'F19'!E40","v":0},{"$f":"'F19'!F40","v":0},{"$f":"'F19'!G40","v":0},{"$f":"'F19'!H40","v":0}]
[null,null,null,null,null,null,"F19A"]
[null,null,null,null,null,null,"GASTO NO ETIQUETADO"]
[null,null,null,null,null,null,"Gobierno",{"$f":"F19A!D9","v":0},{"$f":"F19A!E9","v":0},{"$f":"F19A!F9","v":0},{"$f":"F19A!G9","v":0},{"$f":"F19A!H9","v":0},{"$f":"F19A!I9","v":0}]
[null,null,null,null,null,null,"Legislación",{"$f":"F19A!D10","v":0},{"$f":"F19A!E10","v":0},{"$f":"F19A!F10","v":0},{"$f":"F19A!G10","v":0},{"$f":"F19A!H10","v":0},{"$f":"F19A!I10","v":0}]
[null,null,null,null,null,null,"Justicia",{"$f":"F19A!D11","v":0},{"$f":"F19A!E11","v":0},{"$f":"F19A!F11","v":0},{"$f":"F19A!G11","v":0},{"$f":"F19A!H11","v":0},{"$f":"F19A!I11","v":0}]
[null,null,null,null,null,null,"Coordinación de la política de gobierno",{"$f":"F19A!D12","v":0},{"$f":"F19A!E12","v":0},{"$f":"F19A!F12","v":0},{"$f":"F19A!G12","v":0},{"$f":"F19A!H12","v":0},{"$f":"F19A!I12","v":0}]
[null,null,null,null,null,null,"Relaciones exteriores",{"$f":"F19A!D13","v":0},{"$f":"F19A!E13","v":0},{"$f":"F19A!F13","v":0},{"$f":"F19A!G13","v":0},{"$f":"F19A!H13","v":0},{"$f":"F19A!I13","v":0}]
[null,null,null,null,null,null,"Asuntos financieros y hacendarios",{"$f":"F19A!D14","v":0},{"$f":"F19A!E14","v":0},{"$f":"F19A!F14","v":0},{"$f":"F19A!G14","v":0},{"$f":"F19A!H14","v":0},{"$f":"F19A!I14","v":0}]
[null,null,null,null,null,null,"Seguridad nacional",{"$f":"F19A!D15","v":0},{"$f":"F19A!E15","v":0},{"$f":"F19A!F15","v":0},{"$f":"F19A!G15","v":0},{"$f":"F19A!H15","v":0},{"$f":"F19A!I15","v":0}]
[null,null,null,null,null,null,"Asuntos de orden público y de seguridad interior",{"$f":"F19A!D16","v":0},{"$f":"F19A!E16","v":0},{"$f":"F19A!F16","v":0},{"$f":"F19A!G16","v":0},{"$f":"F19A!H16","v":0},{"$f":"F19A!I16","v":0}]
[null,null,null,null,null,null,"Otros servicios generales",{"$f":"F19A!D17","v":0},{"$f":"F19A!E17","v":0},{"$f":"F19A!F17","v":0},{"$f":"F19A!G17","v":0},{"$f":"F19A!H17","v":0},{"$f":"F19A!I17","v":0}]
[null,null,null,null,null,null,"Desarrollo social",{"$f":"F19A!D18","v":0},{"$f":"F19A!E18","v":0},{"$f":"F19A!F18","v":0},{"$f":"F19A!G18","v":0},{"$f":"F19A!H18","v":0},{"$f":"F19A!I18","v":0}]
[null,null,null,null,null,null,"Protección ambiental",{"$f":"F19A!D19","v":0},{"$f":"F19A!E19","v":0},{"$f":"F19A!F19","v":0},{"$f":"F19A!G19","v":0},{"$f":"F19A!H19","v":0},{"$f":"F19A!I19","v":0}]
[null,null,null,null,null,null,"Vivienda y servicios a la comunidad",{"$f":"F19A!D20","v":0},{"$f":"F19A!E20","v":0},{"$f":"F19A!F20","v":0},{"$f":"F19A!G20","v":0},{"$f":"F19A!H20","v":0},{"$f":"F19A!I20","v":0}]
[null,null,null,null,null,null,"Salud",{"$f":"F19A!D21","v":0},{"$f":"F19A!E21","v":0},{"$f":"F19A!F21","v":0},{"$f":"F19A!G21","v":0},{"$f":"F19A!H21","v":0},{"$f":"F19A!I21","v":0}]
[null,null,null,null,null,null,"Recreación, cultura y otras manifestaciones sociales",{"$f":"F19A!D22","v":0},{"$f":"F19A!E22","v":0},{"$f":"F19A!F22","v":0},{"$f":"F19A!G22","v":0},{"$f":"F19A!H22","v":0},{"$f":"F19A!I22","v":0}]
[null,null,null,null,null,null,"Educación",{"$f":"F19A!D23","v":0},{"$f":"F19A!E23","v":0},{"$f":"F19A!F23","v":0},{"$f":"F19A!G23","v":0},{"$f":"F19A!H23","v":0},{"$f":"F19A!I23","v":0}]
[null,null,null,null,null,null,"Protección social",{"$f":"F19A!D24","v":0},{"$f":"F19A!E24","v":0},{"$f":"F19A!F24","v":0},{"$f":"F19A!G24","v":0},{"$f":"F19A!H24","v":0},{"$f":"F19A!I24","v":0}]
[null,null,null,null,null,null,"Otros asuntos sociales",{"$f":"F19A!D25","v":0},{"$f":"F19A!E25","v":0},{"$f":"F19A!F25","v":0},{"$f":"F19A!G25","v":0},{"$f":"F19A!H25","v":0},{"$f":"F19A!I25","v":0}]
[null,null,null,null,null,null,"Desarrollo económico",{"$f":"F19A!D26","v":0},{"$f":"F19A!E26","v":0},{"$f":"F19A!F26","v":0},{"$f":"F19A!G26","v":0},{"$f":"F19A!H26","v":0},{"$f":"F19A!I26","v":0}]
[null,null,null,null,null,null,"Asuntos económicos, comerciales y laborales en general",{"$f":"F19A!D27","v":0},{"$f":"F19A!E27","v":0},{"$f":"F19A!F27","v":0},{"$f":"F19A!G27","v":0},{"$f":"F19A!H27","v":0},{"$f":"F19A!I27","v":0}]
[null,null,null,null,null,null,"Agropecuaria, silvicultura, pesca y caza",{"$f":"F19A!D28","v":0},{"$f":"F19A!E28","v":0},{"$f":"F19A!F28","v":0},{"$f":"F19A!G28","v":0},{"$f":"F19A!H28","v":0},{"$f":"F19A!I28","v":0}]
[null,null,null,null,null,null,"Combustibles y energía",{"$f":"F19A!D29","v":0},{"$f":"F19A!E29","v":0},{"$f":"F19A!F29","v":0},{"$f":"F19A!G29","v":0},{"$f":"F19A!H29","v":0},{"$f":"F19A!I29","v":0}]
[null,null,null,null,null,null,"Minería, manufacturas y construcción",{"$f":"F19A!D30","v":0},{"$f":"F19A!E30","v":0},{"$f":"F19A!F30","v":0},{"$f":"F19A!G30","v":0},{"$f":"F19A!H30","v":0},{"$f":"F19A!I30","v":0}]
[null,null,null,null,null,null,"Transporte",{"$f":"F19A!D31","v":0},{"$f":"F19A!E31","v":0},{"$f":"F19A!F31","v":0},{"$f":"F19A!G31","v":0},{"$f":"F19A!H31","v":0},{"$f":"F19A!I31","v":0}]
[null,null,null,null,null,null,"Comunicaciones",{"$f":"F19A!D32","v":0},{"$f":"F19A!E32","v":0},{"$f":"F19A!F32","v":0},{"$f":"F19A!G32","v":0},{"$f":"F19A!H32","v":0},{"$f":"F19A!I32","v":0}]
[null,null,null,null,null,null,"Turismo",{"$f":"F19A!D33","v":0},{"$f":"F19A!E33","v":0},{"$f":"F19A!F33","v":0},{"$f":"F19A!G33","v":0},{"$f":"F19A!H33","v":0},{"$f":"F19A!I33","v":0}]
[null,null,null,null,null,null,"Ciencia, tecnología e innovación",{"$f":"F19A!D34","v":0},{"$f":"F19A!E34","v":0},{"$f":"F19A!F34","v":0},{"$f":"F19A!G34","v":0},{"$f":"F19A!H34","v":0},{"$f":"F19A!I34","v":0}]
[null,null,null,null,null,null,"Otras industrias y otros asuntos económicos",{"$f":"F19A!D35","v":0},{"$f":"F19A!E35","v":0},{"$f":"F19A!F35","v":0},{"$f":"F19A!G35","v":0},{"$f":"F19A!H35","v":0},{"$f":"F19A!I35","v":0}]
[null,null,null,null,null,null,"Otras no clasificadas en fdunciones anteriores",{"$f":"F19A!D36","v":0},{"$f":"F19A!E36","v":0},{"$f":"F19A!F36","v":0},{"$f":"F19A!G36","v":0},{"$f":"F19A!H36","v":0},{"$f":"F19A!I36","v":0}]
[null,null,null,null,null,null,"Transacciones de la deuda publica / costo financiero de la deuda",{"$f":"F19A!D37","v":0},{"$f":"F19A!E37","v":0},{"$f":"F19A!F37","v":0},{"$f":"F19A!G37","v":0},{"$f":"F19A!H37","v":0},{"$f":"F19A!I37","v":0}]
[null,null,null,null,null,null,"Transferencias, participaciones y aportaciones entre diferentes niveles y órdenes de gobierno",{"$f":"F19A!D38","v":0},{"$f":"F19A!E38","v":0},{"$f":"F19A!F38","v":0},{"$f":"F19A!G38","v":0},{"$f":"F19A!H38","v":0},{"$f":"F19A!I38","v":0}]
[null,null,null,null,null,null,"Saneamiento del sistema financiero",{"$f":"F19A!D39","v":0},{"$f":"F19A!E39","v":0},{"$f":"F19A!F39","v":0},{"$f":"F19A!G39","v":0},{"$f":"F19A!H39","v":0},{"$f":"F19A!I39","v":0}]
[null,null,null,null,null,null,"Adeudos de ejercicios fiscales anteriores",{"$f":"F19A!D40","v":0},{"$f":"F19A!E40","v":0},{"$f":"F19A!F40","v":0},{"$f":"F19A!G40","v":0},{"$f":"F19A!H40","v":0},{"$f":"F19A!I40","v":0}]
[null,null,null,null,null,null,"TOTAL DEL GASTO NO ETIQUETADO",{"$f":"F19A!D41","v":0},{"$f":"F19A!E41","v":0},{"$f":"F19A!F41","v":0},{"$f":"F19A!G41","v":0},{"$f":"F19A!H41","v":0},{"$f":"F19A!I41","v":0}]
[null,null,null,null,null,null,"GASTO ETIQUETADO"]
[null,null,null,null,null,null,"Gobierno",{"$f":"F19A!D43","v":0},{"$f":"F19A!E43","v":0},{"$f":"F19A!F43","v":0},{"$f":"F19A!G43","v":0},{"$f":"F19A!H43","v":0},{"$f":"F19A!I43","v":0}]
[null,null,null,null,null,null,"Legislación",{"$f":"F19A!D44","v":0},{"$f":"F19A!E44","v":0},{"$f":"F19A!F44","v":0},{"$f":"F19A!G44","v":0},{"$f":"F19A!H44","v":0},{"$f":"F19A!I44","v":0}]
[null,null,null,null,null,null,"Justicia",{"$f":"F19A!D45","v":0},{"$f":"F19A!E45","v":0},{"$f":"F19A!F45","v":0},{"$f":"F19A!G45","v":0},{"$f":"F19A!H45","v":0},{"$f":"F19A!I45","v":0}]
[null,null,null,null,null,null,"Coordinación de la política de gobierno",{"$f":"F19A!D46","v":0},{"$f":"F19A!E46","v":0},{"$f":"F19A!F46","v":0},{"$f":"F19A!G46","v":0},{"$f":"F19A!H46","v":0},{"$f":"F19A!I46","v":0}]
[null,null,null,null,null,null,"Relaciones exteriores",{"$f":"F19A!D47","v":0},{"$f":"F19A!E47","v":0},{"$f":"F19A!F47","v":0},{"$f":"F19A!G47","v":0},{"$f":"F19A!H47","v":0},{"$f":"F19A!I47","v":0}]
[null,null,null,null,null,null,"Asuntos financieros y hacendarios",{"$f":"F19A!D48","v":0},{"$f":"F19A!E48","v":0},{"$f":"F19A!F48","v":0},{"$f":"F19A!G48","v":0},{"$f":"F19A!H48","v":0},{"$f":"F19A!I48","v":0}]
[null,null,null,null,null,null,"Seguridad nacional",{"$f":"F19A!D49","v":0},{"$f":"F19A!E49","v":0},{"$f":"F19A!F49","v":0},{"$f":"F19A!G49","v":0},{"$f":"F19A!H49","v":0},{"$f":"F19A!I49","v":0}]
[null,null,null,null,null,null,"Asuntos de orden público y de seguridad interior",{"$f":"F19A!D50","v":0},{"$f":"F19A!E50","v":0},{"$f":"F19A!F50","v":0},{"$f":"F19A!G50","v":0},{"$f":"F19A!H50","v":0},{"$f":"F19A!I50","v":0}]
[null,null,null,null,null,null,"Otros servicios generales",{"$f":"F19A!D51","v":0},{"$f":"F19A!E51","v":0},{"$f":"F19A!F51","v":0},{"$f":"F19A!G51","v":0},{"$f":"F19A!H51","v":0},{"$f":"F19A!I51","v":0}]
[null,null,null,null,null,null,"Desarrollo social",{"$f":"F19A!D52","v":0},{"$f":"F19A!E52","v":0},{"$f":"F19A!F52","v":0},{"$f":"F19A!G52","v":0},{"$f":"F19A!H52","v":0},{"$f":"F19A!I52","v":0}]
[null,null,null,null,null,null,"Protección ambiental",{"$f":"F19A!D53","v":0},{"$f":"F19A!E53","v":0},{"$f":"F19A!F53","v":0},{"$f":"F19A!G53","v":0},{"$f":"F19A!H53","v":0},{"$f":"F19A!I53","v":0}]
[null,null,null,null,null,null,"Vivienda y servicios a la comunidad",{"$f":"F19A!D54","v":0},{"$f":"F19A!E54","v":0},{"$f":"F19A!F54","v":0},{"$f":"F19A!G54","v":0},{"$f":"F19A!H54","v":0},{"$f":"F19A!I54","v":0}]
[null,null,null,null,null,null,"Salud",{"$f":"F19A!D55","v":0},{"$f":"F19A!E55","v":0},{"$f":"F19A!F55","v":0},{"$f":"F19A!G55","v":0},{"$f":"F19A!H55","v":0},{"$f":"F19A!I55","v":0}]
[null,null,null,null,null,null,"Recreación, cultura y otras manifestaciones sociales",{"$f":"F19A!D56","v":0},{"$f":"F19A!E56","v":0},{"$f":"F19A!F56","v":0},{"$f":"F19A!G56","v":0},{"$f":"F19A!H56","v":0},{"$f":"F19A!I56","v":0}]
[null,null,null,null,null,null,"Educación",{"$f":"F19A!D57","v":0},{"$f":"F19A!E57","v":0},{"$f":"F19A!F57","v":0},{"$f":"F19A!G57","v":0},{"$f":"F19A!H57","v":0},{"$f":"F19A!I57","v":0}]
[null,null,null,null,null,null,"Protección social",{"$f":"F19A!D58","v":0},{"$f":"F19A!E58","v":0},{"$f":"F19A!F58","v":0},{"$f":"F19A!G58","v":0},{"$f":"F19A!H58","v":0},{"$f":"F19A!I58","v":0}]
[null,null,null,null,null,null,"Otros asuntos sociales",{"$f":"F19A!D59","v":0},{"$f":"F19A!E59","v":0},{"$f":"F19A!F59","v":0},{"$f":"F19A!G59","v":0},{"$f":"F19A!H59","v":0},{"$f":"F19A!I59","v":0}]
[null,null,null,null,null,null,"Desarrollo económico",{"$f":"F19A!D60","v":0},{"$f":"F19A!E60","v":0},{"$f":"F19A!F60","v":0},{"$f":"F19A!G60","v":0},{"$f":"F19A!H60","v":0},{"$f":"F19A!I60","v":0}]
[null,null,null,null,null,null,"Asuntos económicos, comerciales y laborales en general",{"$f":"F19A!D61","v":0},{"$f":"F19A!E61","v":0},{"$f":"F19A!F61","v":0},{"$f":"F19A!G61","v":0},{"$f":"F19A!H61","v":0},{"$f":"F19A!I61","v":0}]
[null,null,null,null,null,null,"Agropecuaria, silvicultura, pesca y caza",{"$f":"F19A!D62","v":0},{"$f":"F19A!E62","v":0},{"$f":"F19A!F62","v":0},{"$f":"F19A!G62","v":0},{"$f":"F19A!H62","v":0},{"$f":"F19A!I62","v":0}]
[null,null,null,null,null,null,"Combustibles y energía",{"$f":"F19A!D63","v":0},{"$f":"F19A!E63","v":0},{"$f":"F19A!F63","v":0},{"$f":"F19A!G63","v":0},{"$f":"F19A!H63","v":0},{"$f":"F19A!I63","v":0}]
[null,null,null,null,null,null,"Minería, manufacturas y construcción",{"$f":"F19A!D64","v":0},{"$f":"F19A!E64","v":0},{"$f":"F19A!F64","v":0},{"$f":"F19A!G64","v":0},{"$f":"F19A!H64","v":0},{"$f":"F19A!I64","v":0}]
[null,null,null,null,null,null,"Transporte",{"$f":"F19A!D65","v":0},{"$f":"F19A!E65","v":0},{"$f":"F19A!F65","v":0},{"$f":"F19A!G65","v":0},{"$f":"F19A!H65","v":0},{"$f":"F19A!I65","v":0}]
[null,null,null,null,null,null,"Comunicaciones",{"$f":"F19A!D66","v":0},{"$f":"F19A!E66","v":0},{"$f":"F19A!F66","v":0},{"$f":"F19A!G66","v":0},{"$f":"F19A!H66","v":0},{"$f":"F19A!I66","v":0}]
[null,null,null,null,null,null,"Turismo",{"$f":"F19A!D67","v":0},{"$f":"F19A!E67","v":0},{"$f":"F19A!F67","v":0},{"$f":"F19A!G67","v":0},{"$f":"F19A!H67","v":0},{"$f":"F19A!I67","v":0}]
[null,null,null,null,null,null,"Ciencia, tecnología e innovación",{"$f":"F19A!D68","v":0},{"$f":"F19A!E68","v":0},{"$f":"F19A!F68","v":0},{"$f":"F19A!G68","v":0},{"$f":"F19A!H68","v":0},{"$f":"F19A!I68","v":0}]
[null,null,null,null,null,null,"Otras industrias y otros asuntos económicos",{"$f":"F19A!D69","v":0},{"$f":"F19A!E69","v":0},{"$f":"F19A!F69","v":0},{"$f":"F19A!G69","v":0},{"$f":"F19A!H69","v":0},{"$f":"F19A!I69","v":0}]
[null,null,null,null,null,null,"Otras no clasificadas en fdunciones anteriores",{"$f":"F19A!D70","v":0},{"$f":"F19A!E70","v":0},{"$f":"F19A!F70","v":0},{"$f":"F19A!G70","v":0},{"$f":"F19A!H70","v":0},{"$f":"F19A!I70","v":0}]
[null,null,null,null,null,null,"Transacciones de la deuda publica / costo financiero de la deuda",{"$f":"F19A!D71","v":0},{"$f":"F19A!E71","v":0},{"$f":"F19A!F71","v":0},{"$f":"F19A!G71","v":0},{"$f":"F19A!H71","v":0},{"$f":"F19A!I71","v":0}]
[null,null,null,null,null,null,"Transferencias, participaciones y aportaciones entre diferentes niveles y órdenes de gobierno",{"$f":"F19A!D72","v":0},{"$f":"F19A!E72","v":0},{"$f":"F19A!F72","v":0},{"$f":"F19A!G72","v":0},{"$f":"F19A!H72","v":0},{"$f":"F19A!I72","v":0}]
[null,null,null,null,null,null,"Saneamiento del sistema financiero",{"$f":"F19A!D73","v":0},{"$f":"F19A!E73","v":0},{"$f":"F19A!F73","v":0},{"$f":"F19A!G73","v":0},{"$f":"F19A!H73","v":0},{"$f":"F19A!I73","v":0}]
[null,null,null,null,null,null,"Adeudos de ejercicios fiscales anteriores",{"$f":"F19A!D74","v":0},{"$f":"F19A!E74","v":0},{"$f":"F19A!F74","v":0},{"$f":"F19A!G74","v":0},{"$f":"F19A!H74","v":0},{"$f":"F19A!I74","v":0}]
[null,null,null,null,null,null,"TOTAL DEL GASTO ETIQUETADO",{"$f":"F19A!D75","v":0},{"$f":"F19A!E75","v":0},{"$f":"F19A!F75","v":0},{"$f":"F19A!G75","v":0},{"$f":"F19A!H75","v":0},{"$f":"F19A!I75","v":0}]
[null,null,null,null,null,null,"TOTAL DEL GASTO",{"$f":"F19A!D76","v":0},{"$f":"F19A!E76","v":0},{"$f":"F19A!F76","v":0},{"$f":"F19A!G76","v":0},{"$f":"F19A!H76","v":0},{"$f":"F19A!I76","v":0}]
[null,null,null,null,null,null,"F21"]
[null,null,null,null,null,null,"GASTOS NO ETIQUETADOS"]
[null,null,null,null,null,null,"A Personal administrativo y de servicio público",{"$f":"'F21'!D9","v":0},{"$f":"'F21'!E9","v":0},{"$f":"'F21'!F9","v":0},{"$f":"'F21'!G9","v":0},{"$f":"'F21'!H9","v":0},{"$f":"'F21'!I9","v":0}]
[null,null,null,null,null,null,"B Magisterio",{"$f":"'F21'!D10","v":0},{"$f":"'F21'!E10","v":0},{"$f":"'F21'!F10","v":0},{"$f":"'F21'!G10","v":0},{"$f":"'F21'!H10","v":0},{"$f":"'F21'!I10","v":0}]
[null,null,null,null,null,null,"C Servicios de salud",{"$f":"'F21'!D11","v":0},{"$f":"'F21'!E11","v":0},{"$f":"'F21'!F11","v":0},{"$f":"'F21'!G11","v":0},{"$f":"'F21'!H11","v":0},{"$f":"'F21'!I11","v":0}]
[null,null,null,null,null,null,"Personal administrativo ",{"$f":"'F21'!D12","v":0},{"$f":"'F21'!E12","v":0},{"$f":"'F21'!F12","v":0},{"$f":"'F21'!G12","v":0},{"$f":"'F21'!H12","v":0},{"$f":"'F21'!I12","v":0}]
[null,null,null,null,null,null,"Personal médico, paramédico y afín",{"$f":"'F21'!D13","v":0},{"$f":"'F21'!E13","v":0},{"$f":"'F21'!F13","v":0},{"$f":"'F21'!G13","v":0},{"$f":"'F21'!H13","v":0},{"$f":"'F21'!I13","v":0}]
[null,null,null,null,null,null,"D Seguridad pública",{"$f":"'F21'!D14","v":0},{"$f":"'F21'!E14","v":0},{"$f":"'F21'!F14","v":0},{"$f":"'F21'!G14","v":0},{"$f":"'F21'!H14","v":0},{"$f":"'F21'!I14","v":0}]
[null,null,null,null,null,null,"E Gastos asociados a la implementación  de nuevas leyes federales o reformas a las mismas",{"$f":"'F21'!D15","v":0},{"$f":"'F21'!E15","v":0},{"$f":"'F21'!F15","v":0},{"$f":"'F21'!G15","v":0},{"$f":"'F21'!H15","v":0},{"$f":"'F21'!I15","v":0}]
[null,null,null,null,null,null,"Nombre del programa o ley",{"$f":"'F21'!D16","v":0},{"$f":"'F21'!E16","v":0},{"$f":"'F21'!F16","v":0},{"$f":"'F21'!G16","v":0},{"$f":"'F21'!H16","v":0},{"$f":"'F21'!I16","v":0}]
[null,null,null,null,null,null,"Nombre del programa o ley",{"$f":"'F21'!D17","v":0},{"$f":"'F21'!E17","v":0},{"$f":"'F21'!F17","v":0},{"$f":"'F21'!G17","v":0},{"$f":"'F21'!H17","v":0},{"$f":"'F21'!I17","v":0}]
[null,null,null,null,null,null,"F Sentencias laborales definitivas",{"$f":"'F21'!D18","v":0},{"$f":"'F21'!E18","v":0},{"$f":"'F21'!F18","v":0},{"$f":"'F21'!G18","v":0},{"$f":"'F21'!H18","v":0},{"$f":"'F21'!I18","v":0}]
[null,null,null,null,null,null,"TOTAL DEL GASTO NO ETIQUETADO",{"$f":"'F21'!D19","v":0},{"$f":"'F21'!E19","v":0},{"$f":"'F21'!F19","v":0},{"$f":"'F21'!G19","v":0},{"$f":"'F21'!H19","v":0},{"$f":"'F21'!I19","v":0}]
[null,null,null,null,null,null,"GASTOS ETIQUETADOS"]
[null,null,null,null,null,null,"A Personal administrativo y de servicio público",{"$f":"'F21'!D21","v":0},{"$f":"'F21'!E21","v":0},{"$f":"'F21'!F21","v":0},{"$f":"'F21'!G21","v":0},{"$f":"'F21'!H21","v":0},{"$f":"'F21'!I21","v":0}]
[null,null,null,null,null,null,"B Magisterio",{"$f":"'F21'!D22","v":0},{"$f":"'F21'!E22","v":0},{"$f":"'F21'!F22","v":0},{"$f":"'F21'!G22","v":0},{"$f":"'F21'!H22","v":0},{"$f":"'F21'!I22","v":0}]
[null,null,null,null,null,null,"C Servicios de salud",{"$f":"'F21'!D23","v":0},{"$f":"'F21'!E23","v":0},{"$f":"'F21'!F23","v":0},{"$f":"'F21'!G23","v":0},{"$f":"'F21'!H23","v":0},{"$f":"'F21'!I23","v":0}]
[null,null,null,null,null,null,"Personal administrativo ",{"$f":"'F21'!D24","v":0},{"$f":"'F21'!E24","v":0},{"$f":"'F21'!F24","v":0},{"$f":"'F21'!G24","v":0},{"$f":"'F21'!H24","v":0},{"$f":"'F21'!I24","v":0}]
[null,null,null,null,null,null,"Personal médico, paramédico y afín",{"$f":"'F21'!D25","v":0},{"$f":"'F21'!E25","v":0},{"$f":"'F21'!F25","v":0},{"$f":"'F21'!G25","v":0},{"$f":"'F21'!H25","v":0},{"$f":"'F21'!I25","v":0}]
[null,null,null,null,null,null,"D Seguridad pública",{"$f":"'F21'!D26","v":0},{"$f":"'F21'!E26","v":0},{"$f":"'F21'!F26","v":0},{"$f":"'F21'!G26","v":0},{"$f":"'F21'!H26","v":0},{"$f":"'F21'!I26","v":0}]
[null,null,null,null,null,null,"E Gastos asociados a la implementación  de nuevas leyes federales o reformas a las mismas",{"$f":"'F21'!D27","v":0},{"$f":"'F21'!E27","v":0},{"$f":"'F21'!F27","v":0},{"$f":"'F21'!G27","v":0},{"$f":"'F21'!H27","v":0},{"$f":"'F21'!I27","v":0}]
[null,null,null,null,null,null,"Nombre del programa o ley",{"$f":"'F21'!D28","v":0},{"$f":"'F21'!E28","v":0},{"$f":"'F21'!F28","v":0},{"$f":"'F21'!G28","v":0},{"$f":"'F21'!H28","v":0},{"$f":"'F21'!I28","v":0}]
[null,null,null,null,null,null,"Nombre del programa o ley",{"$f":"'F21'!D29","v":0},{"$f":"'F21'!E29","v":0},{"$f":"'F21'!F29","v":0},{"$f":"'F21'!G29","v":0},{"$f":"'F21'!H29","v":0},{"$f":"'F21'!I29","v":0}]
[null,null,null,null,null,null,"F Sentencias laborales definitivas",{"$f":"'F21'!D30","v":0},{"$f":"'F21'!E30","v":0},{"$f":"'F21'!F30","v":0},{"$f":"'F21'!G30","v":0},{"$f":"'F21'!H30","v":0},{"$f":"'F21'!I30","v":0}]
[null,null,null,null,null,null,"TOTAL DEL GASTO ETIQUETADO",{"$f":"'F21'!D31","v":0},{"$f":"'F21'!E31","v":0},{"$f":"'F21'!F31","v":0},{"$f":"'F21'!G31","v":0},{"$f":"'F21'!H31","v":0},{"$f":"'F21'!I31","v":0}]
[null,null,null,null,null,null,"TOTAL DEL GASTO DE SERVICIOS PERSONALES",{"$f":"'F21'!D32","v":0},{"$f":"'F21'!E32","v":0},{"$f":"'F21'!F32","v":0},{"$f":"'F21'!G32","v":0},{"$f":"'F21'!H32","v":0},{"$f":"'F21'!I32","v":0}]
[null,null,null,null,null,null,"F22"]
[null,null,null,null,null,null,"A Ingresos totales",{"$f":"'F22'!E6","v":0},{"$f":"'F22'!F6","v":0},{"$f":"'F22'!G6","v":0}]
[null,null,null,null,null,null,"A1 Ingresos de libre disposición",{"$f":"'F22'!E7","v":0},{"$f":"'F22'!F7","v":0},{"$f":"'F22'!G7","v":0}]
[null,null,null,null,null,null,"A2 Transferencias federales etiquetadas",{"$f":"'F22'!E8","v":0},{"$f":"'F22'!F8","v":0},{"$f":"'F22'!G8","v":0}]
[null,null,null,null,null,null,"A3 Financiamiento neto",{"$f":"'F22'!E9","v":0},{"$f":"'F22'!F9","v":0},{"$f":"'F22'!G9","v":0}]
[null,null,null,null,null,null,"B Egresos presupuestarios",{"$f":"'F22'!E10","v":0},{"$f":"'F22'!F10","v":0},{"$f":"'F22'!G10","v":0}]
[null,null,null,null,null,null,"B1 Gastos no etiquetado (sin incluir amortización de la deuda pública)",{"$f":"'F22'!E11","v":0},{"$f":"'F22'!F11","v":0},{"$f":"'F22'!G11","v":0}]
[null,null,null,null,null,null,"B2 Gasto etiquetado (sin incluir amortización de la deuda pública)",{"$f":"'F22'!E12","v":0},{"$f":"'F22'!F12","v":0},{"$f":"'F22'!G12","v":0}]
[null,null,null,null,null,null,"C Remanentes del ejercicio anterior",{"$f":"'F22'!E13","v":0},{"$f":"'F22'!F13","v":0},{"$f":"'F22'!G13","v":0}]
[null,null,null,null,null,null,"C1 Remanentes de ingresos de libre disposición aplicados en el periodo",{"$f":"'F22'!E14","v":0},{"$f":"'F22'!F14","v":0},{"$f":"'F22'!G14","v":0}]
[null,null,null,null,null,null,"C2 Remanentes de transferencias federales etiquetadas aplicados en el periodo",{"$f":"'F22'!E15","v":0},{"$f":"'F22'!F15","v":0},{"$f":"'F22'!G15","v":0}]
[null,null,null,null,null,null,"I Balance presupuestario",{"$f":"'F22'!E16","v":0},{"$f":"'F22'!F16","v":0},{"$f":"'F22'!G16","v":0}]
[null,null,null,null,null,null,"II Balance presupuestario sin financiamiento neto",{"$f":"'F22'!E17","v":0},{"$f":"'F22'!F17","v":0},{"$f":"'F22'!G17","v":0}]
[null,null,null,null,null,null,"III Balance presupuestario sin financiamiento neto y sin remanentes del ejercicio anterior",{"$f":"'F22'!E18","v":0},{"$f":"'F22'!F18","v":0},{"$f":"'F22'!G18","v":0}]
[null,null,null,null,null,null,"CONCEPTO"]
[null,null,null,null,null,null,"E Intereses, comisiones y gastos de la deuda",{"$f":"'F22'!E21","v":0},{"$f":"'F22'!F21","v":0},{"$f":"'F22'!G21","v":0}]
[null,null,null,null,null,null,"E1 Intereses, comisiones y gastos de la deuda con gasto no etiquetado",{"$f":"'F22'!E22","v":0},{"$f":"'F22'!F22","v":0},{"$f":"'F22'!G22","v":0}]
[null,null,null,null,null,null,"E2 Intereses, comisiones y gastos de la deuda con gasto etiquetado",{"$f":"'F22'!E23","v":0},{"$f":"'F22'!F23","v":0},{"$f":"'F22'!G23","v":0}]
[null,null,null,null,null,null,"IV Balance primario",{"$f":"'F22'!E24","v":0},{"$f":"'F22'!F24","v":0},{"$f":"'F22'!G24","v":0}]
[null,null,null,null,null,null,"CONCEPTO"]
[null,null,null,null,null,null,"F Financiamiento ",{"$f":"'F22'!E27","v":0},{"$f":"'F22'!F27","v":0},{"$f":"'F22'!G27","v":0}]
[null,null,null,null,null,null,"F1 Financiamiento con fuente de pago de ingresos de libre disposición",{"$f":"'F22'!E28","v":0},{"$f":"'F22'!F28","v":0},{"$f":"'F22'!G28","v":0}]
[null,null,null,null,null,null,"F2 Financiamiento con fuente de pago de transferencias federales etiquetadas",{"$f":"'F22'!E29","v":0},{"$f":"'F22'!F29","v":0},{"$f":"'F22'!G29","v":0}]
[null,null,null,null,null,null,"G Amortización de la deuda",{"$f":"'F22'!E30","v":0},{"$f":"'F22'!F30","v":0},{"$f":"'F22'!G30","v":0}]
[null,null,null,null,null,null,"G1 Amortización de la deuda pública con gasto no etiquetado",{"$f":"'F22'!E31","v":0},{"$f":"'F22'!F31","v":0},{"$f":"'F22'!G31","v":0}]
[null,null,null,null,null,null,"G2 Amortización de la deuda pública con gasto etiquetado",{"$f":"'F22'!E32","v":0},{"$f":"'F22'!F32","v":0},{"$f":"'F22'!G32","v":0}]
[null,null,null,null,null,null,"A3 Financiamiento Neto",{"$f":"'F22'!E33","v":0},{"$f":"'F22'!F33","v":0},{"$f":"'F22'!G33","v":0}]
[null,null,null,null,null,null,"CONCEPTO"]
[null,null,null,null,null,null,"A1 Ingresos de libre disposición",{"$f":"'F22'!E36","v":0},{"$f":"'F22'!F36","v":0},{"$f":"'F22'!G36","v":0}]
[null,null,null,null,null,null,"A3.1 Financiamiento neto con fuente de pago de ingresos de libre disposición",{"$f":"'F22'!E37","v":0},{"$f":"'F22'!F37","v":0},{"$f":"'F22'!G37","v":0}]
[null,null,null,null,null,null,"F1 Financiamiento con fuente de pago de ingresos de libre disposición",{"$f":"'F22'!E38","v":0},{"$f":"'F22'!F38","v":0},{"$f":"'F22'!G38","v":0}]
[null,null,null,null,null,null,"G1 Amortización de la deuda pública con gasto etiquetado",{"$f":"'F22'!E39","v":0},{"$f":"'F22'!F39","v":0},{"$f":"'F22'!G39","v":0}]
[null,null,null,null,null,null,"B1 Gasto no etiquetado  (sin incluir amortización de la deuda pública)",{"$f":"'F22'!E40","v":0},{"$f":"'F22'!F40","v":0},{"$f":"'F22'!G40","v":0}]
[null,null,null,null,null,null,"C1 Remanente de ingresos de libre disposición aplicados en el periodo",{"$f":"'F22'!E41","v":0},{"$f":"'F22'!F41","v":0},{"$f":"'F22'!G41","v":0}]
[null,null,null,null,null,null,"V Balance presupuestario de recursos disponibles",{"$f":"'F22'!E42","v":0},{"$f":"'F22'!F42","v":0},{"$f":"'F22'!G42","v":0}]
[null,null,null,null,null,null,"VI Balance presupuestario de recursos disponibles sin financiamiento neto",{"$f":"'F22'!E43","v":0},{"$f":"'F22'!F43","v":0},{"$f":"'F22'!G43","v":0}]
[null,null,null,null,null,null,"CONCEPTO"]
[null,null,null,null,null,null,"A2 Transferencias federales etiquetadas",{"$f":"'F22'!E46","v":0},{"$f":"'F22'!F46","v":0},{"$f":"'F22'!G46","v":0}]
[null,null,null,null,null,null,"A3.2 Financiamiento neto con fuente de pago de transferencias federales etiquetadas",{"$f":"'F22'!E47","v":0},{"$f":"'F22'!F47","v":0},{"$f":"'F22'!G47","v":0}]
[null,null,null,null,null,null,"F2 Financiamiento con fuente de pago de transferencias federales",{"$f":"'F22'!E48","v":0},{"$f":"'F22'!F48","v":0},{"$f":"'F22'!G48","v":0}]
[null,null,null,null,null,null,"G2 Amortización de la deuda pública con gasto  etiquetado",{"$f":"'F22'!E49","v":0},{"$f":"'F22'!F49","v":0},{"$f":"'F22'!G49","v":0}]
[null,null,null,null,null,null,"B2 Gasto  etiquetado  (sin incluir amortización de la deuda pública)",{"$f":"'F22'!E50","v":0},{"$f":"'F22'!F50","v":0},{"$f":"'F22'!G50","v":0}]
[null,null,null,null,null,null,"C2 Remanente de transferencias federales etiquetadas aplicados en el periodo",{"$f":"'F22'!E51","v":0},{"$f":"'F22'!F51","v":0},{"$f":"'F22'!G51","v":0}]
[null,null,null,null,null,null,"VII Balance presupuestario de recursos etiquetados",{"$f":"'F22'!E52","v":0},{"$f":"'F22'!F52","v":0},{"$f":"'F22'!G52","v":0}]
[null,null,null,null,null,null,"VIII Balance presupuestario de recursos etiquetados sin financiamiento neto",{"$f":"'F22'!E53","v":0},{"$f":"'F22'!F53","v":0},{"$f":"'F22'!G53","v":0}]

{"sheet":"Validacion","index":2,"n_rows":756,"n_cols":39,"rows_kept":756,"cut":false,"hidden":false,"merged":[[57,6,57,11],[57,24,57,39],[55,18,55,23],[55,12,55,17],[55,6,55,11],[55,0,55,5],[55,24,55,39],[31,0,31,16383],[12,0,12,16383],[24,0,24,16383],[41,0,41,16383],[44,0,44,16383],[181,2,181,39],[182,2,182,39],[0,32,0,39],[0,0,0,31],[1,0,3,39],[10,0,10,37],[10,38,10,39],[11,0,11,39],[47,0,47,39],[48,24,48,39],[48,12,48,23],[48,0,48,11],[49,24,49,39],[49,12,49,23],[49,0,49,11],[50,0,50,11],[50,24,50,39],[50,12,50,23],[51,24,51,39],[51,12,51,23],[51,0,51,11],[56,12,57,17],[56,24,56,39],[56,0,56,5],[159,2,159,39],[159,0,164,1],[160,2,160,39],[161,2,161,39],[162,2,162,39],[163,2,163,39],[164,2,164,39],[165,2,165,39],[165,0,182,1],[166,2,166,39],[167,2,167,39],[168,2,168,39],[169,2,169,39],[170,2,170,39],[171,2,171,39],[172,2,172,39],[173,2,173,39],[174,2,174,39],[175,2,175,39],[176,2,176,39],[177,2,177,39],[178,2,178,39],[179,2,179,39],[180,2,180,39],[147,2,147,39],[147,0,158,1],[148,2,148,39],[149,2,149,39],[150,2,150,39],[151,2,151,39],[152,2,152,39],[153,2,153,39],[154,2,154,39],[155,2,155,39],[156,2,156,39],[157,2,157,39],[158,2,158,39],[131,0,134,1],[132,2,132,39],[133,2,133,39],[134,2,134,39],[131,2,131,39],[135,0,146,1],[135,2,135,39],[136,2,136,39],[137,2,137,39],[138,2,138,39],[139,2,139,39],[140,2,140,39],[141,2,141,39],[142,2,142,39],[143,2,143,39],[144,2,144,39],[145,2,145,39],[146,2,146,39],[117,0,122,1],[117,2,117,39],[118,2,118,39],[119,2,119,39],[120,2,120,39],[121,2,121,39],[122,2,122,39],[123,0,130,1],[123,2,123,39],[124,2,124,39],[125,2,125,39],[126,2,126,39],[127,2,127,39],[128,2,128,39],[129,2,129,39],[130,2,130,39],[100,2,100,39],[100,0,102,1],[101,2,101,39],[102,2,102,39],[103,0,105,1],[103,2,103,39],[104,2,104,39],[105,2,105,39],[106,0,116,1],[106,2,106,39],[107,2,107,39],[108,2,108,39],[109,2,109,39],[110,2,110,39],[111,2,111,39],[112,2,112,39],[113,2,113,39],[114,2,114,39],[115,2,115,39],[116,2,116,39],[91,0,95,1],[91,2,91,39],[92,2,92,39],[93,2,93,39],[94,2,94,39],[95,2,95,39],[96,2,96,39],[96,0,99,1],[97,2,97,39],[98,2,98,39],[99,2,99,39],[76,0,80,1],[76,2,76,39],[77,2,77,39],[78,2,78,39],[79,2,79,39],[80,2,80,39],[81,2,81,39],[81,0,90,1],[82,2,82,39],[83,2,83,39],[84,2,84,39],[85,2,85,39],[86,2,86,39],[87,2,87,39],[88,2,88,39],[89,2,89,39],[90,2,90,39],[66,0,68,1],[66,2,66,39],[67,2,67,39],[68,2,68,39],[69,0,71,1],[69,2,69,39],[70,2,70,39],[71,2,71,39],[72,0,75,1],[72,2,72,39],[73,2,73,39],[74,2,74,39],[75,2,75,39],[62,0,62,39],[63,0,65,1],[63,2,63,39],[64,2,64,39],[65,2,65,39],[4,0,4,39],[5,0,5,39],[6,0,6,39],[7,0,7,39],[8,0,8,39],[9,0,9,39],[52,24,52,39],[52,12,52,23],[52,0,52,11],[53,24,53,39],[53,0,53,11],[53,12,53,23],[54,12,54,23],[54,0,54,11],[54,24,54,39],[56,6,56,11],[56,18,56,23],[57,0,57,5],[57,18,57,23],[60,12,61,17],[60,0,60,5],[60,6,60,11],[60,18,60,23],[60,24,60,39],[61,6,61,11],[61,18,61,23],[61,24,61,39],[61,0,61,5],[58,18,58,23],[58,24,58,39],[58,6,58,11],[58,12,59,17],[58,0,58,5],[59,6,59,11],[59,18,59,23],[59,24,59,39],[59,0,59,5]]}
["NOMBRE DEL ENTE PÚBLICO",null,null,null,null,null,null,null,null,null,null,null,null,null,null,null,null,null,null,null,null,null,null,null,null,null,null,null,null,null,null,null,"Versión 2023.02"]
["Ayutla"]
[]
[]
["INFORMACIÓN"]
["Nombre del presidente municipal o titular de la entidad pública"]
["C. José Ángel Prudencio Vargas"]
["Nombre del encargado de la hacienda pública o finanzas de la entidad pública"]
["L.C.P. Regina Itzel Bedoya Cruz"]
["Mes o corte a informar"]
["SEPTIEMBRE",null,null,null,null,null,null,null,null,null,null,null,null,null,null,null,null,null,null,null,null,null,null,null,null,null,null,null,null,null,null,null,null,null,null,null,null,null,{"$f":"IF(A11=\"ENERO\",1,IF(A11=\"FEBRERO\",2,IF(A11=\"MARZO\",3,IF(A11=\"ABRIL\",4,IF(A11=\"MAYO\",5,IF(A11=\"JUNIO, 1er. Informe de Avance de Gestión Financiera y Corte Semestral\",6,IF(A11=\"JULIO\",7,IF(A11=\"AGOSTO\",8,IF(A11=\"SEPTIEMBRE\",9,IF(A11=\"OCTUBRE\",10,IF(A11=\"NOVIEMBRE\",11,IF(A11=\"DICIEMBRE, 2do. Informe de Avance de Gestión Financiera y Corte Anual\",12,\"\"))))))))))))","v":9}]
["VERIFICACIÓN DE ESTADOS E INFORMES FINANCIEROS"]
["Estados e informes contables:"]
[{"$f":"IF(ROUND(SUM(A50:L52),2)>0,IF(ROUND((M50),2)=ROUND((M51+M52),2),IF(ROUND(A50,2)=ROUND((A51+A52),2),\"X\",\"\")),\"\")","v":"X"},"Estado analítico de situación financiera (F1)"]
[{"$f":"IF(ROUND(SUM(A50:L52),2)>0,IF(ROUND((M50),2)=ROUND((M51+M52),2),IF(ROUND(A50,2)=ROUND((A51+A52),2),\"X\",\"\")),\"\")","v":"X"},"Estado de situación financiera (F1A)"]
[{"$f":"IF(ROUND('F2'!G33,2)=0,\"\",\"X\")","v":"X"},"Estado de variación de la hacienda pública (F2)"]
[{"$f":"IF(ROUND('F3'!F60,2)>0,\"X\",\"\")","v":""},"Estado de flujo de efectivo (F3)"]
[{"$f":"IF(ROUND(F4A1!D18,2)>0,\"X\",\"\")","v":""},"Conciliación entre los ingresos presupuestarios y contables (F4A1)"]
[{"$f":"IF(ROUND(F4A2!D37,2)>0,\"X\",\"\")","v":""},"Conciliación entre los egresos presupuestarios y los gastos contables (F4A2)"]
[{"$f":"IF(ROUND('F5'!H6,2)>0,\"X\",\"\")","v":"X"},"Estado analítico del activo (F5)"]
[{"$f":"IF(ROUND(SUM(A53:L54),2)>0,IF(ROUND(M53,2)>0,\"X\",\"\"),\"\")","v":"X"},"Estado analítico de actividades (F6)"]
[{"$f":"IF(ROUND(SUM(A53:L54),2)>0,IF(ROUND(M53,2)>0,\"X\",\"\"),\"\")","v":"X"},"Estado de actividades (F6A)"]
[{"$f":"IF(ROUND('F16'!E4,2)-ROUND('F16'!F4,2)=0,IF('F16'!E4+'F16'!F4>0,\"X\",\"\"),\"\")","v":"X"},"Estado de cambios en la situación financiera (F16)"]
[{"$f":"IF('F11'!A6>0,\"X\",\"\")","v":"X"},"Informe sobre pasivos contingentes (F11)"]
["Estados e informes presupuestarios:"]
[{"$f":"IF(ROUND(SUM('F7'!E70:F70),2)>0,\"X\",\"\")","v":""},"Estado analítico de ingresos por clasificación por rubro de ingresos (F7)"]
[{"$f":"IF(ROUND(SUM(F7A!F23:G23),2)>0,\"X\",\"\")","v":""},"Estado analítico de ingresos por clasificación por fuente de financiamiento (F7A)"]
[{"$f":"IF(ROUND(SUM('F8'!E80:F80),2)>0,\"X\",\"\")","v":""},"Estado analítico del ejercicio del presupuesto de egresos por clasificación por objeto del gasto (F8)"]
[{"$f":"IF(ROUND(SUM('F17'!E13:F13),2)>0,\"X\",\"\")","v":""},"Estado analítico del ejercicio del presupuesto de egresos por clasificación por tipo de gasto (F17)"]
[{"$f":"IF(ROUND(SUM('F18'!D58:E58),2)>0,\"X\",\"\")","v":""},"Estado analítico del ejercicio del presupuesto de egresos por clasificación administrativa (F18)"]
[{"$f":"IF(ROUND(SUM('F19'!E40:F40),2)>0,\"X\",\"\")","v":""},"Estado analítico del ejercicio del presupuesto de egresos por clasificación funcional (F19)"]
["Estados e informes de la Ley de Disciplina Financiera:"]
[{"$f":"IF(ROUND(SUM(A50:L52),2)>0,IF(ROUND(M50,2)=ROUND((M51+M52),2),IF(ROUND(A50,2)=ROUND((A51+A52),2),\"X\",\"\")),\"\")","v":"X"},"Estado de situación financiera detallado - LDF (F1LDF)"]
[{"$f":"IF('F9-IDP'!J3>0,\"X\",\"\")","v":"X"},"Estado e informe analítico de la deuda pública y otros pasivos (F9-EDP)"]
[{"$f":"IF('F9-IAO'!C12>0,\"X\",\"\")","v":"X"},"Informe analítico de obligaciones diferentes de financiamiento (F9-IAO)"]
[{"$f":"IF(ROUND(SUM('F22'!F10:G10),2)>0,\"X\",\"\")","v":""},"Balance presupuestario - LDF (F22)"]
[{"$f":"IF(ROUND(SUM(F7B!E64:F64),2)>0,\"X\",\"\")","v":""},"Estado analítico de ingresos detallados - LDF (F7B)"]
[{"$f":"IF(ROUND(SUM(F8B!F155:G155),2)>0,\"X\",\"\")","v":""},"Estado analítico del ejercicio del presupuesto de egresos detallado - LDF por clasificación por objeto del gasto (F8B)"]
[{"$f":"IF(ROUND(SUM(F18A!F62:G62),2)>0,\"X\",\"\")","v":""},"Estado analítico del ejercicio del presupuesto de egresos detallado - LDF por clasificación administrativa (F18A)"]
[{"$f":"IF(ROUND(SUM(F19A!F76:G76),2)>0,\"X\",\"\")","v":""},"Estado analítico del ejercicio del presupuesto de egresos detallado - LDF por clasificación funcional (F19A)"]
[{"$f":"IF(ROUND(SUM('F21'!F32:G32),2)>0,\"X\",\"\")","v":""},"Estado analítico del ejercicio del presupuesto de egresos detallado - LDF por servicios personales por categoría (F21)"]
["Informes complementarios:"]
[{"$f":"IF('F10'!B6>0,\"X\",\"\")","v":"X"},"Informativa de proveedores (F10)"]
[{"$f":"IF('F23'!A9>0,\"X\",\"\")","v":""},"Informativa de obra pública (F23)"]
["Informe de Avances de Gestión Financiera"]
[{"$f":"IF(ROUND(SUM('F12'!E30:F30),2)>0,\"X\",\"\")","v":""},"Flujo contable de ingresos y egresos (F12)"]
[{"$f":"IF(ROUND(SUM('F13'!AA2:AI2),2)>0,\"X\",\"\")","v":""},"Avance de programas y/o procesos concluidos (F13)"]
["INFORMACIÓN FINANCIERA GENERAL"]
["EJERCICIO 2023",null,null,null,null,null,null,null,null,null,null,null,"EJERCICIO 2022",null,null,null,null,null,null,null,null,null,null,null,"CONCEPTO"]
[{"$f":"ROUND('F1'!AF106,2)","v":417965686.44},null,null,null,null,null,null,null,null,null,null,null,{"$f":"ROUND('F1'!AG106,2)","v":404360352.94},null,null,null,null,null,null,null,null,null,null,null,"Activo"]
[{"$f":"ROUND('F1'!BM80,2)","v":8882980.5800000001},null,null,null,null,null,null,null,null,null,null,null,{"$f":"ROUND('F1'!BN80,2)","v":10855479.130000001},null,null,null,null,null,null,null,null,null,null,null,"Pasivo"]
[{"$f":"ROUND('F1'!BM104,2)","v":409082705.86000001},null,null,null,null,null,null,null,null,null,null,null,{"$f":"ROUND('F1'!BN104,2)","v":393504873.81},null,null,null,null,null,null,null,null,null,null,null,"Hacienda pública/patrimonio"]
[{"$f":"ROUND('F6'!AX184,2)","v":41167320.840000004},null,null,null,null,null,null,null,null,null,null,null,{"$f":"ROUND('F6'!AY184,2)","v":85356413.620000005},null,null,null,null,null,null,null,null,null,null,null,"Ingresos"]
[{"$f":"ROUND('F6'!AX539,2)","v":25589488.789999999},null,null,null,null,null,null,null,null,null,null,null,{"$f":"ROUND('F6'!AY539,2)","v":62725236.619999997},null,null,null,null,null,null,null,null,null,null,null,"Egresos"]
[{"$f":"ROUND('F6'!AX540,2)","v":15577832.050000001},null,null,null,null,null,null,null,null,null,null,null,{"$f":"ROUND('F6'!AY540,2)","v":22631177},null,null,null,null,null,null,null,null,null,null,null,"Ahorro/desahorro"]
["F1",null,null,null,null,null,"F9-EDP",null,null,null,null,null,"F1",null,null,null,null,null,"F9-EDP",null,null,null,null,null,"CONCEPTO"]
[{"$f":"ROUND('F1'!BM23,2)","v":0},null,null,null,null,null,{"$f":"ROUND('F9-EDP'!AP12,2)","v":0},null,null,null,null,null,{"$f":"ROUND('F1'!BN23+'F1'!BN60,2)","v":0},null,null,null,null,null,{"$f":"ROUND('F9-EDP'!N12,2)","v":0},null,null,null,null,null,"Deuda pública instituciones de crédito C/P"]
[{"$f":"ROUND('F1'!BM60,2)","v":0},null,null,null,null,null,{"$f":"ROUND('F9-EDP'!AP16,2)","v":0},null,null,null,null,null,null,null,null,null,null,null,{"$f":"ROUND('F9-EDP'!N16,2)","v":0},null,null,null,null,null,"Deuda pública instituciones de crédito L/P"]
[{"$f":"ROUND('F1'!BM27,2)","v":0},null,null,null,null,null,{"$f":"ROUND('F9-EDP'!AP13,2)","v":0},null,null,null,null,null,{"$f":"ROUND('F1'!BN27+'F1'!BN58,2)","v":0},null,null,null,null,null,{"$f":"ROUND('F9-EDP'!N13,2)","v":0},null,null,null,null,null,"Deuda pública títulos y valores C/P"]
[{"$f":"ROUND('F1'!BM58,2)","v":0},null,null,null,null,null,{"$f":"ROUND('F9-EDP'!AP17,2)","v":0},null,null,null,null,null,null,null,null,null,null,null,{"$f":"ROUND('F9-EDP'!N17,2)","v":0},null,null,null,null,null,"Deuda pública títulos y valores L/P"]
[{"$f":"ROUND('F1'!BM25,2)","v":0},null,null,null,null,null,{"$f":"ROUND('F9-EDP'!AP14,2)","v":0},null,null,null,null,null,{"$f":"ROUND('F1'!BN25+'F1'!BN62,2)","v":0},null,null,null,null,null,{"$f":"ROUND('F9-EDP'!N14,2)","v":0},null,null,null,null,null,"Deuda pública arrendamiento financiero C/P"]
[{"$f":"ROUND('F1'!BM62,2)","v":0},null,null,null,null,null,{"$f":"ROUND('F9-EDP'!AP18,2)","v":0},null,null,null,null,null,null,null,null,null,null,null,{"$f":"ROUND('F9-EDP'!N18,2)","v":0},null,null,null,null,null,"Deuda pública arrendamiento financiero L/P"]
["INCONSISTENCIAS"]
["1. Validación a la balanza de comprobación (contable)",null,{"$f":"IF(ROUND(Balanza!$C$753,2)=ROUND(Balanza!$D$753,2),\"\",\"1.1. BALANZA DE COMPROBACIÓN (contable) descuadarada en el SALDO INICIAL.\")","v":""}]
[null,null,{"$f":"IF(ROUND(Balanza!$E$753,2)=ROUND(Balanza!$F$753,2),\"\",\"1.2. BALANZA DE COMPROBACIÓN (contable) descuadarada en los MOVIMIENTOS DE CARGO y ABONO.\")","v":""}]
[null,null,{"$f":"IF(ROUND(Balanza!$G$753,2)=ROUND(Balanza!$H$753,2),\"\",\"1.3. BALANZA DE COMPROBACIÓN (contable) descuadarada en el SALDO FINAL.\")","v":""}]
["2. Validación a la balanza de comprobación (orden género 7)",null,{"$f":"IF(ROUND(Balanza!$C$792,2)=ROUND(Balanza!$D$792,2),\"\",\"2.1. BALANZA DE COMPROBACIÓN (cuentas de orden) descuadarada en el SALDO INICIAL.\")","v":""}]
[null,null,{"$f":"IF(ROUND(Balanza!$E$792,2)=ROUND(Balanza!$F$792,2),\"\",\"2.2. BALANZA DE COMPROBACIÓN (cuentas de orden) descuadarada en los MOVIMIENTOS DE CARGO y ABONO.\")","v":""}]
[null,null,{"$f":"IF(ROUND(Balanza!$G$792,2)=ROUND(Balanza!$H$792,2),\"\",\"2.3. BALANZA DE COMPRBACIÓN (cuentas de orden) descuadarada en el SALDO FINAL.\")","v":""}]
["3. Validación a la balanza de comprobación (orden presupuestal)",null,{"$f":"IF(ROUND(Balanza!$C$2222,2)=ROUND(Balanza!$D$2222,2),\"\",\"3.1. BALANZA DE COMPROBACIÓN (cuentas de orden presupuestal) descuadarada en el SALDO INICIAL.\")","v":""}]
[null,null,{"$f":"IF(ROUND(Balanza!$E$2222,2)=ROUND(Balanza!$F$2222,2),\"\",\"3.2. BALANZA DE COMPROBACIÓN (cuentas de orden presupuestal) descuadarada en los MOVIMIENTOS DE CARGO y ABONO.\")","v":""}]
[null,null,{"$f":"IF(ROUND(Balanza!$G$2222,2)=ROUND(Balanza!$H$2222,2),\"\",\"3.3. BALANZA DE COMPROBACIÓN (cuentas de orden presupuestal) descuadarada en el SALDO FINAL.\")","v":""}]
["4. Validación al estado de situación financiera\n(F1, F1A y F1LDF)",null,{"$f":"IF(ROUND($M$50,2)=ROUND(($M$51+$M$52),2),\"\",\"4.1. En el ESTADO DE SITUACIÓN FINANCIERA (FI, F1A, F1LDF) columna ejercicio 2022, no es igual el TOTAL DEL ACTIVO y el TOTAL DEL PASIVO MÁS LA HACIENDA PÚBLICA/PATRIMONIO.\")","v":""}]
[null,null,{"$f":"IF(ROUND($A$50,2)=ROUND(($A$51+$A$52),2),\"\",\"4.2. En el ESTADO DE SITUACIÓN FINANCIERA (F1, F1A, F1LDF) columna ejercicio 2023, no es igual el TOTAL DEL ACTIVO y el TOTAL DEL PASIVO MÁS LA HACIENDA PÚBLICA/PATRIMONIO.\")","v":""}]
[null,null,{"$f":"IF(ROUND('F6'!$AY$540,2)=ROUND('F1'!$BN$87,2),\"\",\"4.3. El RESULTADO DEL EJERCICIO (AHORRO/DESAHORRO) del ESTADO DE ACTIVIDADES (F6, F6A) no es igual al RESULTADO DEL EJERCICIO del ESTADO DE SITUACIÓN FINANCIERA (F1, F1A, F1LDF) ejercicio 2022.\")","v":""}]
[null,null,{"$f":"IF(ROUND('F6'!$AX$540,2)=ROUND('F1'!$BM$87,2),\"\",\"4.4. El RESULTADO DEL EJERCICIO (AHORRO/DESAHORRO) del ESTADO DE ACTIVIDADES (F6, F6A) no es igual al RESULTADO DEL EJERCICIO del ESTADO DE SITUACIÓN FINANCIERA (F1, F1A, F1LDF) ejercicio 2023.\")","v":""}]
["5. Validación al estado de variación en la hacienda pública (F2)",null,{"$f":"IF(ROUND('F2'!C6,2)=ROUND('F1'!BN82,2),\"\",\"5.1. El saldo de la HACIENDA PÚBLICA/PATRIMONIO CONTRIBUIDO NETO de 2022 en el ESTADO DE VARIACIÓN EN LA HACIENDA PÚBLICA (F2), no es igual a la HACIENDA PÚBLICA/PATRIMONIO CONTRIBUIDO del ESTADO DE SITUACIÓN FINANCIERA (F1A) en la columna ejercicio 2022.\")","v":""}]
[null,null,{"$f":"IF(ROUND('F2'!G10,2)=ROUND('F1'!BN86,2),\"\",\"5.2. El saldo de la HACIENDA PÚBLICA/PATRIMONIO GENERADO NETO del 2022 de la columna total en el ESTADO DE VARIACIÓN EN LA HACIENDA PÚBLICA (F2), no es igual a la HACIENDA PÚBLICA/PATRIMONIO GENERADO \"&\"del ESTADO DE SITUACIÓN FINANCIERA (F1A) en la columna ejercicio 2022.\")","v":""}]
[null,null,{"$f":"IF(ROUND('F2'!G16,2)=ROUND('F1'!BN101,2),\"\",\"5.3. El saldo del EXCESO O INSUFICIENCIA EN LA ACTUALIZACIÓN EN LA HACIENDA PÚBLICA/PATRIMONIO NETO de 2022 de la columna TOTAL en el ESTADO DE VARIACIÓN EN LA HACIENDA PÚBLICA (F2),\"&\" no es igual al EXCESO O INSUFICIENCIA EN LA ACTUALIZACIÓN DE LA HACIENDA PÚBLICA/PATRIMONIO del estado de SITUACIÓN FINANCIERA (F1A) en la columna ejercicio 2022.\")","v":""}]
[null,null,{"$f":"IF(ROUND('F2'!G19,2)=ROUND('F1'!BN104,2),\"\",\"5.4. El saldo de la HACIENDA PÚBLICA/PATRIMONIO NETO FINAL DE 2022 de la columna TOTAL en el ESTADO DE VARIACIÓN EN LA HACIENDA PÚBLICA (F2),\"&\" no es igual al TOTAL DE LA HACIENDA PÚBLICA/PATRIMONIO del ESTADO DE SITUACIÓN FINANCIERA (F1A) en la columna ejercicio 2022.\")","v":""}]
[null,null,{"$f":"IF(ROUND('F2'!G33,2)=ROUND('F1'!BM104,2),\"\",\"5.5. El saldo de la HACIENDA PÚBLICA/PATRIMONIO NETO FINAL DE 2023 de la columna TOTAL en el ESTADO DE VARIACIÓN EN LA HACIENDA PÚBLICA (F2),\"&\" no es igual al TOTAL DE LA HACIENDA PÚBLICA/PATRIMONIO del ESTADO DE SITUACIÓN FINANCIERA (F1A) en la columna ejercicio 2023.\")","v":""}]
["6A. Validación de conciliaciones prespu. vs conta. (F4A1)",null,{"$f":"IF(ROUND(F4A1!D18,2)=ROUND('F6'!AX184,2),\"\",\"6A.1. El TOTAL DE INGRESO CONTABLES de la CONCILIACIÓN ENTRE LOS INGRESOS PRESUPUESTAL Y CONTABLE (F4A1),\"&\" no es igual al TOTAL DE INGRESOS del ESTADO DE ACTIVIDADES (F6A) en la columna ejercicio 2023.\")","v":"6A.1. El TOTAL DE INGRESO CONTABLES de la CONCILIACIÓN ENTRE LOS INGRESOS PRESUPUESTAL Y CONTABLE (F4A1), no es igual al TOTAL DE INGRESOS del ESTADO DE ACTIVIDADES (F6A) en la columna ejercicio 2023."}]
[null,null,{"$f":"IF(ROUND('F7'!$F$7,2)=ROUND(F6A!$AX$8,2),\"\",\"6A.2. El total de IMPUESTOS en su momento devengado del ESTADO ANALÍTICO DE INGRESOS (F7),\"&\" no es igual a los IMPUESTOS del ESTADO DE ACTIVIDADES (F6A) en la columna ejercicio 2023.\")","v":"6A.2. El total de IMPUESTOS en su momento devengado del ESTADO ANALÍTICO DE INGRESOS (F7), no es igual a los IMPUESTOS del ESTADO DE ACTIVIDADES (F6A) en la columna ejercicio 2023."}]
[null,null,{"$f":"IF(ROUND('F7'!$F$17,2)=ROUND(F6A!$AX$9,2),\"\",\"6A.3. El total de CUOTAS Y APORTACIONES DE SEGURIDAD SOCIAL en su momento devengado del ESTADO ANALÍTICO DE INGRESOS (F7),\"&\" no es igual a los CUOTAS Y APORTACIONES DE SEGURIDAD SOCIAL del ESTADO DE ACTIVIDADES (F6A) en la columna ejercicio 2023.\")","v":""}]
[null,null,{"$f":"IF(ROUND('F7'!$F$23,2)=ROUND(F6A!$AX$10,2),\"\",\"6A.4. El total de CONTRIBUCIONES DE MEJORAS en su momento devengado del ESTADO ANALÍTICO DE INGRESOS (F7),\"&\" no es igual a los CONTRIBUCIONES DE MEJORAS del ESTADO DE ACTIVIDADES (F6A) en la columna ejercicio 2023.\")","v":"6A.4. El total de CONTRIBUCIONES DE MEJORAS en su momento devengado del ESTADO ANALÍTICO DE INGRESOS (F7), no es igual a los CONTRIBUCIONES DE MEJORAS del ESTADO DE ACTIVIDADES (F6A) en la columna ejercicio 2023."}]
[null,null,{"$f":"IF(ROUND('F7'!$F$26,2)=ROUND(F6A!$AX$11,2),\"\",\"6A.5. El total de DERECHOS en su momento devengado del ESTADO ANALÍTICO DE INGRESOS (F7),\"&\" no es igual a los DERECHOS del ESTADO DE ACTIVIDADES (F6A) en la columna ejercicio 2023.\")","v":"6A.5. El total de DERECHOS en su momento devengado del ESTADO ANALÍTICO DE INGRESOS (F7), no es igual a los DERECHOS del ESTADO DE ACTIVIDADES (F6A) en la columna ejercicio 2023."}]
[null,null,{"$f":"IF(ROUND('F7'!$F$33,2)=ROUND(F6A!$AX$12,2),\"\",\"6A.6. El total de PRODUCTOS en su momento devengado del ESTADO ANALÍTICO DE INGRESOS (F7),\"&\" no es igual a los PRODUCTOS del ESTADO DE ACTIVIDADES (F6A) en la columna ejercicio 2023.\")","v":"6A.6. El total de PRODUCTOS en su momento devengado del ESTADO ANALÍTICO DE INGRESOS (F7), no es igual a los PRODUCTOS del ESTADO DE ACTIVIDADES (F6A) en la columna ejercicio 2023."}]
[null,null,{"$f":"IF(ROUND('F7'!$F$37,2)=ROUND(F6A!$AX$13+F4A1!$C$15+F4A1!C17,2),\"\",\"6A.7. El total de APROVECHAMIENTOS en su momento devengado del ESTADO ANALÍTICO DE INGRESOS (F7),\"&\" no es igual a los APROVECHAMIENTOS del ESTADO DE ACTIVIDADES (F6A) en la columna ejercicio 2023.\")","v":"6A.7. El total de APROVECHAMIENTOS en su momento devengado del ESTADO ANALÍTICO DE INGRESOS (F7), no es igual a los APROVECHAMIENTOS del ESTADO DE ACTIVIDADES (F6A) en la columna ejercicio 2023."}]
[null,null,{"$f":"IF(ROUND('F7'!$F$42,2)=ROUND(F6A!$AX$14,2),\"\",\"6A.8. El total de INGRESOS POR VENTA DE BIENES Y PRESTACIÓN DE SERVICIOS en su momento devengado del ESTADO ANALÍTICO DE INGRESOS (F7),\"&\" no es igual a los INGRESOS POR VENTA DE BIENES Y PRESTACIÓN DE SERVICIOS del ESTADO DE ACTIVIDADES (F6A) en la columna ejercicio 2023.\")","v":""}]
[null,null,{"$f":"IF(ROUND('F7'!$F$52,2)=ROUND(F6A!$AX$16,2),\"\",\"6A.9. El total de PARTICIPACIONES, APORTACIONES, CONVENIOS, INCENTIVOS DERIVADOS E LA COLABORACIÓN FISCAL, FONDOS DISTINTOS DE APORTACIONES en su momento devengado del ESTADO ANALÍTICO DE INGRESOS (F7),\"&\" no es igual a los PARTICIPACIONES, APORTACIONES, CONVENIOS, INCENTIVOS DERIVADOS E LA COLABORACIÓN FISCAL, FONDOS DISTINTOS DE APORTACIONES del ESTADO DE ACTIVIDADES (F6A) en la columna ejercicio 2023.\")","v":"6A.9. El total de PARTICIPACIONES, APORTACIONES, CONVENIOS, INCENTIVOS DERIVADOS E LA COLABORACIÓN FISCAL, FONDOS DISTINTOS DE APORTACIONES en su momento devengado del ESTADO ANALÍTICO DE INGRESOS (F7), no es igual a los PARTICIPACIONES, APORTACIONES, CONVENIOS, INCENTIVOS DERIVADOS E LA COLABORACIÓN FISCAL, FONDOS DISTINTOS DE APORTACIONES del ESTADO DE ACTIVIDADES (F6A) en la columna ejercicio 2023."}]
[null,null,{"$f":"IF(ROUND('F7'!$F$58,2)=ROUND(F6A!$AX$17,2),\"\",\"6A.10. El total de TRANSFERENCIAS, ASIGNACIONES, SUBSIDIOS Y SUBVENCIONES, PENSIONES Y JUBILACIONES en su momento devengado del ESTADO ANALÍTICO DE INGRESOS (F7),\"&\" no es igual a los TRANSFERENCIAS, ASIGNACIONES, SUBSIDIOS Y SUBVENCIONES, PENSIONES Y JUBILACIONES del ESTADO DE ACTIVIDADES (F6A) en la columna ejercicio 2023.\")","v":""}]
["6B. Validación de conciliaciones prespu. vs conta. (F4A2)",null,{"$f":"IF(ROUND(F4A2!$D$37,2)=ROUND(F6A!$AX$57,2),\"\",\"6B.1. El TOTAL DE GASTOS CONTABLES de la CONCILIACIÓN ENTRE LOS EGRESOS PRESUPUESTARIOS Y LOS GASTOS CONTABLES (F4A2),\"&\" no es igual al TOTAL DE GASTOS Y OTRAS PERDIDAS del ESTADO DE ACTIVIDADES (F6A) en la columna ejercicio 2023.\")","v":"6B.1. El TOTAL DE GASTOS CONTABLES de la CONCILIACIÓN ENTRE LOS EGRESOS PRESUPUESTARIOS Y LOS GASTOS CONTABLES (F4A2), no es igual al TOTAL DE GASTOS Y OTRAS PERDIDAS del ESTADO DE ACTIVIDADES (F6A) en la columna ejercicio 2023."}]
[null,null,{"$f":"IF(ROUND('F8'!$F$8,2)=ROUND(F6A!$AX$27,2),\"\",\"6B.2. El total de SERVICIOS PERSONALES en su momento devengado del ESTADO ANALÍTICO DEL EJERCICIO DEL PRESUPUESTO DE EGRESOS (F8),\"&\" no es igual en SERVICIOS PERSONALES del ESTADO DE ACTIVIDADES (F6A) en la columna ejercicio 2023.\")","v":"6B.2. El total de SERVICIOS PERSONALES en su momento devengado del ESTADO ANALÍTICO DEL EJERCICIO DEL PRESUPUESTO DE EGRESOS (F8), no es igual en SERVICIOS PERSONALES del ESTADO DE ACTIVIDADES (F6A) en la columna ejercicio 2023."}]
[null,null,{"$f":"IF(ROUND('F8'!$F$16,2)=ROUND(F6A!$AX$28,2),\"\",\"6B.3. El total de MATERIALES Y SUMINISTROS en su momento devengado del ESTADO ANALÍTICO DEL EJERCICIO DEL PRESUPUESTO DE EGRESOS (F8),\"&\" no es igual en MATERIALES Y SUMINISTROS del ESTADO DE ACTIVIDADES (F6A) en la columna ejercicio 2023.\")","v":"6B.3. El total de MATERIALES Y SUMINISTROS en su momento devengado del ESTADO ANALÍTICO DEL EJERCICIO DEL PRESUPUESTO DE EGRESOS (F8), no es igual en MATERIALES Y SUMINISTROS del ESTADO DE ACTIVIDADES (F6A) en la columna ejercicio 2023."}]
[null,null,{"$f":"IF(ROUND('F8'!$F$26,2)=ROUND(F6A!$AX$29,2),\"\",\"6B.4. El total de SERVICIOS GENERALES en su momento devengado del ESTADO ANALÍTICO DEL EJERCICIO DEL PRESUPUESTO DE EGRESOS (F8),\"&\" no es igual en SERVICIOS GENERALES del ESTADO DE ACTIVIDADES (F6A) en la columna ejercicio 2023.\")","v":"6B.4. El total de SERVICIOS GENERALES en su momento devengado del ESTADO ANALÍTICO DEL EJERCICIO DEL PRESUPUESTO DE EGRESOS (F8), no es igual en SERVICIOS GENERALES del ESTADO DE ACTIVIDADES (F6A) en la columna ejercicio 2023."}]
[null,null,{"$f":"IF(ROUND('F8'!$F$36,2)=ROUND(F6A!$AX$30,2),\"\",\"6B.5. El total de TRANSFERENCIAS, ASIGNACIONES, SUBSIDIOS Y OTRAS AYUDAS en su momento devengado del ESTADO ANALÍTICO DEL EJERCICIO DEL PRESUPUESTO DE EGRESOS (F8),\"&\" no es igual en TRANSFERENCIAS, ASIGNACIONES, SUBSIDIOS Y OTRAS AYUDAS del ESTADO DE ACTIVIDADES (F6A) en la columna ejercicio 2023.\")","v":"6B.5. El total de TRANSFERENCIAS, ASIGNACIONES, SUBSIDIOS Y OTRAS AYUDAS en su momento devengado del ESTADO ANALÍTICO DEL EJERCICIO DEL PRESUPUESTO DE EGRESOS (F8), no es igual en TRANSFERENCIAS, ASIGNACIONES, SUBSIDIOS Y OTRAS AYUDAS del ESTADO DE ACTIVIDADES (F6A) en la columna ejercicio 2023."}]
["7. Validación al estado de cambios de la situación financiera (F16)",null,{"$f":"IF(ROUND(ABS('F16'!E43-'F16'!F43),2)=ROUND(ABS('F2'!C20),2),\"\",\"7.1. El saldo de la HACIENDA PÚBLICA/PATRIMONIO CONTRIBUIDO NETO DEL 2023 del ESTADO DE VARIACIÓN EN LA HACIENDA PÚBLICA (F2), \"&\"es diferente a la HACIENDA PÚBLICA/PATRIMONIO CONTRIBUIDO del ESTADO DE CAMBIOS DE LA SITUACIÓN FINANCIERA (F16) en la columna ejercicio 2023.\")","v":""}]
[null,null,{"$f":"IF(ROUND(ABS(SUM('F16'!E50:E52)-SUM('F16'!F50:F52)),2)=ROUND(ABS(SUM('F2'!E27:E29)),2),\"\",\"7.2. La suma de las filas de REVALÚOS, RESERVAS Y RECLASIFICACIONES DE RESULTADOS DE EJERCICIOS ANTERIORES 2023, del ESTADO DE VARIACIÓN EN LA HACIENDA PÚBLICA (F2), \"&\"es diferente a la que se muestra en estos rubros del ESTADO DE CAMBIOS DE LA SITUACIÓN FINANCIERA (F16) en la columna ejercicio 2023.\")","v":""}]
[null,null,{"$f":"IF(ROUND(ABS('F16'!E49+'F16'!F49),2)=ROUND(ABS('F2'!D24),2),\"\",\"7.3. El saldo del RESULTADO DE EJERCIOS ANTERIORES del apartado VARIACIONES DE LA HACIENDA PÚBLICA/PATRIMONIO CONTRIBUIDO NETO DE 2023 del ESTADO DE VARIACION EN LA HACIENDA PÚBLICA (F2), \"&\"es diferente al apartado de EJERCICIOS ANTERIORES del ESTADO DE CAMBIOS DE LA SITUACIÓN FINANCIERA (F16) en la columna ejercicio 2023.\")","v":""}]
[null,null,{"$f":"IF(ROUND(ABS('F16'!E53-'F16'!F53),2)=ROUND(ABS('F2'!F30),2),\"\",\"7.4. El saldo del EXCESO O INSUFICIENCIA EN LA ACTUALIZACIÓN DE LA HACIENDA PÚBLICA/PATRIMONIO NETO 2023, del ESTADO DE VARIACIÓN EN LA HACIENDA PÚBLICA (F2), \"&\"es diferente al apartado del EXCESO O INSUFICIENCIA EN LA ACTUALIZACIÓN DE LA HACIENDA PÚBLICA/PATRIMONIO del ESTADO DE CAMBIOS DE LA SITUACIÓN FINANCIERA (F16) en la columna ejercicio 2023.\")","v":""}]
["8. Validación al estado de flujo de efectivo (F3)",null,{"$f":"IF(ROUND(ABS('F3'!F58),2)=ROUND(ABS('F16'!E8+'F16'!F8),2),\"\",\"8.1. El INCREMENTO/DISMINUCIÓN NETA EN EL EFECTIVO Y EQUIVALENTES del FLUJO DE EFECTIVO (F3) de la columna 2023, no es igual al que se muestra en el ESTADO DE \"&\"CAMBIOS EN LA SITUACIÓN FINANCIERA (F16) en la fila de EFECTIVO Y EQUIVALENTES de la columna de origen o aplicación.\")","v":"8.1. El INCREMENTO/DISMINUCIÓN NETA EN EL EFECTIVO Y EQUIVALENTES del FLUJO DE EFECTIVO (F3) de la columna 2023, no es igual al que se muestra en el ESTADO DE CAMBIOS EN LA SITUACIÓN FINANCIERA (F16) en la fila de EFECTIVO Y EQUIVALENTES de la columna de origen o aplicación."}]
[null,null,{"$f":"IF(ROUND('F3'!G60,2)=ROUND('F1'!AG8,2),\"\",\"8.2. El EFECTIVO Y EQUIVALENTES AL EFECTIVO AL FINAL DEL EJERCICIO columna 2022, del ESTADO DE FLUJO DE EFECTIVO (F3), es diferente al saldo del\"&\" rubro de EFECTIVO Y EQUIVALENTES de la columna 2022 del ESTADO DE SITUACIÓN FINANCIERA (F1A).\")","v":"8.2. El EFECTIVO Y EQUIVALENTES AL EFECTIVO AL FINAL DEL EJERCICIO columna 2022, del ESTADO DE FLUJO DE EFECTIVO (F3), es diferente al saldo del rubro de EFECTIVO Y EQUIVALENTES de la columna 2022 del ESTADO DE SITUACIÓN FINANCIERA (F1A)."}]
[null,null,{"$f":"IF(ROUND('F3'!F60,2)=ROUND('F1'!AF8,2),\"\",\"8.3. El EFECTIVO Y EQUIVALENTES AL EFECTIVO AL FINAL DEL EJERCICIO columna 2023, del ESTADO DE FLUJO DE EFECTIVO (F3), es diferente al saldo del\"&\" rubro de EFECTIVO Y EQUIVALENTES de la columna 2023 del ESTADO DE SITUACIÓN FINANCIERA (F1A).\")","v":"8.3. El EFECTIVO Y EQUIVALENTES AL EFECTIVO AL FINAL DEL EJERCICIO columna 2023, del ESTADO DE FLUJO DE EFECTIVO (F3), es diferente al saldo del rubro de EFECTIVO Y EQUIVALENTES de la columna 2023 del ESTADO DE SITUACIÓN FINANCIERA (F1A)."}]
["9. Validación al estado analítico del activo (F5)",null,{"$f":"IF(ROUND('F5'!E6,2)=ROUND('F1'!AG106,2),\"\",\"9.1. El TOTAL DEL ACTIVO del ESTADO ANALÍTICO DEL ACTIVO (F5) en la columna de SALDO INICIAL, es diferente al TOTAL DEL ACTIVO en el ESTADO DE SITUACIÓN FINANCIERA (F1A), en la columna correspondiente al ejercicio 2022\")","v":""}]
[null,null,{"$f":"IF(ROUND('F5'!H6,2)=ROUND('F1'!AF106,2),\"\",\"9.2. El TOTAL DEL ACTIVO del ESTADO ANALÍTICO DEL ACTIVO (F5) en la columna de SALDO FINAL, es diferente al TOTAL DEL ACTIVO en el ESTADO DE SITUACIÓN FINANCIERA (F1A), en la columna correspondiente al ejercicio 2023\")","v":""}]
[null,null,{"$f":"IF(ROUND(ABS('F5'!I6),2)=ROUND(ABS('F16'!E6-'F16'!F6),2),\"\",\"9.3. La cifra de la fila del rubro de ACTIVO de la columna de VARIACIÓN DEL PERIODO del ESTADO ANALÍTICO DEL ACTIVO (F5), es diferente a los rubros del ACTIVO en las columnas de ORIGEN O APLICACIÓN del ESTADO DE CAMBIOS EN LA SITUACIÓN FINANCIERA (F16)\")","v":""}]
["10. Validación al estado analítico de la deuda y otros pasivos (F9)",null,{"$f":"IF(ROUND((S57+S58),2)=ROUND(M57,2),\"\",\"10.1. El SALDO AL 1° DE ENERO DE 2023 con INSTITUCIONES DE CRÉDITO a corto y largo plazo  del ESTADO E INFORME ANALÍTICO DE LA DEUDA PÚBLICA Y \"&\"OTROS PASIVOS (F9-EDP), no es igual a la suma de los rubros 2131 y 2233 de la DEUDA PÚBLICA INTERNA POR PAGAR a corto y largo plazo columna ejercicio 2022) del ESTADO ANALÍTICO DE SITUACIÓN FINANCIERA (F1A).\")","v":""}]
[null,null,{"$f":"IF(ROUND((S59+S60),2)=ROUND(M59,2),\"\",\"10.2. El SALDO AL 1° DE ENERO DE 2023 en TÍTULOS Y VALORES de corto y largo plazo, del ESTADO E INFORME ANALÍTICO DE LA DEUDA PÚBLICA Y OTROS \"&\"PASIVOS (F9-EDP), no es igual a la suma de los rubro 2141 y 2231 TÍTULOS Y VALORES por pagar a corto y largo plazo columna ejercicio 2022) del ESTADO ANALÍTICO DE SITUACIÓN FINANCIERA (F1A).\")","v":""}]
[null,null,{"$f":"IF(ROUND((S61+S62),2)=ROUND(M61,2),\"\",\"10.3. El SALDO AL 1° DE ENERO DE 2023 en ARRENDAMIENTO FINANCIERO de corto y largo plazo, del ESTADO E INFORME ANALÍTICO DE LA DEUDA PÚBLICA Y \"&\"OTROS PASIVOS (F9-EDP), no es igual a los rubro de2133 Y 2235 ARRENDAMIENTO FINANCIERO por pagar a corto y largo plazo columna ejercicio 2022 del ESTADO ANALÍTICO DE SITUACIÓN FINANCIERA (F1A).\")","v":""}]
[null,null,{"$f":"IF(ROUND(A57,2)=ROUND(G57,2),\"\",\"10.4. El SALDO DEL PERIODO con INSTITUCIONES DE CRÉDITO a corto plazo, del ESTADO E INFORME ANALÍTICO DE LA DEUDA PÚBLICA Y OTROS PASIVOS (F9-EDP), \"&\"no es igual al rubro 2131 PORCIÓN DE LA DEUDA PÚBLICA INTERNA POR PAGAR A CORTO PLAZO columna ejercicio 2023 del ESTADO ANALÍTICO DE SITUACIÓN FINANCIERA (F1A).\")","v":""}]
[null,null,{"$f":"IF(ROUND(A58,2)=ROUND(G58,2),\"\",\"10.5. El SALDO DEL PERIODO con INSTITUCIONES DE CRÉDITO a largo plazo, del ESTADO ANALÍTICO DE LA DEUDA PÚBLICA Y OTROS PASIVOS (F9-EDP), \"&\"no es igual al rubro 2233 de PRÉSTAMOS DE LA DEUDA PÚBLICA INTERNA POR PAGAR A LARGO PLAZO columna ejercicio 2023) del ESTADO ANALÍTICO DE SITUACIÓN FINANCIERA (F1A).\")","v":""}]
[null,null,{"$f":"IF(ROUND(A59,2)=ROUND(G59,2),\"\",\"10.6. El SALDO DEL PERIODO en TÍTULOS Y VALORES a corto plazo, del ESTADO E INFORME ANALÍTICO DE LA DEUDA PÚBLICA Y OTROS PASIVOS (F9-EDP), no es \"&\"igual al rubro 2141 de TÍTULOS Y VALORES DE LA EUDA PÚBLICA INTERNA POR PAGAR A CORTO PLAZO columna ejercicio 2023 del ESTADO ANALÍTICO DE SITUACIÓN FINANCIERA (F1A).\")","v":""}]
[null,null,{"$f":"IF(ROUND(A60,2)=ROUND(G60,2),\"\",\"10.7. El SALDO DEL PERIODO en TÍTULOS Y VALORES a largo plazo, del ESTADO E INFORME ANALÍTICO DE LA DEUDA PÚBLICA Y OTROS PASIVOS (F9-EDP), no es \"&\"igual al rubro 2231 de TÍTULOS Y VALORES DE LA DEUDA PÚBLICA INTERNA POR PAGAR A LARGO PLAZO columna ejercicio 2023 del ESTADO ANALÍTICO DE SITUACIÓN FINANCIERA (F1A).\")","v":""}]
[null,null,{"$f":"IF(ROUND(A61,2)=ROUND(G61,2),\"\",\"10.8. El SALDO DEL PERIODO en ARRENDAMIENTO FINANCIERO a corto plazo, del ESTADO E INFORME ANALÍTICO DE LA DEUDA PÚBLICA Y OTROS PASIVOS\"&\" (F9-EDP), no es igual al rubro 2133 de la PORCIÓN DE ARRENDAMIENTO FINANCIERO DE LA DEUDA PÚBLICA INTERGA POR PAGAR A CORTO PLAZO columna ejercicio 2023 del ESTADO ANALÍTICO DE SITUACIÓN FINANCIERA (F1A).\")","v":""}]
[null,null,{"$f":"IF(ROUND(A62,2)=ROUND(G62,2),\"\",\"10.9. El SALDO DEL PERIODO en ARRENDAMIENTO FINANCIERO A LARGO PLAZO del ESTADO E INFORME ANALÍTICO DE LA DEUDA PÚBLICA Y OTROS PASIVOS (F9-EDP), \"&\"no es igual al rubro 2235 de ARRENDAMIENTO FINANCIERO DE LA DEUDA PÚBLICA INTERNA POR PAGAR A LARGO PLAZO columna ejercicio 2023 del ESTADO DE SITUACIÓN FINANCIERA (F1A).\")","v":""}]
[null,null,{"$f":"IF(ROUND('F9-EDP'!N20,2)=ROUND('F1'!BN80,2),\"\",\"10.10. El TOTAL DE LA DEUDA PÚBLICA Y OTROS PASIVOS al inicio del ejercicio 2023 del ESTADO E INFORME ANALÍTICO DE LA DEUDA PÚBLICA Y OTROS PASIVOS (F9-EDP), \"&\"no es igua al TOTAL DEL PASIVO columna del ejercicio 2022 del ESTADO DE SITUACIÓN FINANCIERA (F1A).\")","v":""}]
[null,null,{"$f":"IF(ROUND('F9-EDP'!AP20,2)=ROUND('F1'!BM80,2),\"\",\"10.11. El TOTAL DE LA DEUDA PÚBLICA Y OTROS PASIVOS del ejercicio 2023 del ESTADO E INFORME ANALÍTICO DE LA DEUDA PÚLICA Y OTROS PASIVOS (F9-EDP), no es igua al TOTAL DEL PASIVO columna del ejercicio 2023 en el ESTADO DE SITUACIÓN FINANCIERA (F1A).\")","v":""}]
["11. Validación flujo contable de ingresos y egresos (F12)",null,{"$f":"IF(ROUND('F7'!C70,2)=ROUND('F12'!C17,2),\"\",\"11.1. El TOTAL DE INGRESOS momento ESTIMADO del ESTADO ANALÍTICO DE INGRESOS (F7),\"&\" no es igual al TOTAL INGRESOS del FLUJO CONTABLE DE INGRESOS Y EGRESOS (F12) columna ESTIMADO.\")","v":""}]
[null,null,{"$f":"IF(ROUND('F7'!D70,2)=ROUND('F12'!D17,2),\"\",\"11.2. El TOTAL DE INGRESOS de la AMPLIACIONES Y REDUCCIONES del ESTADO ANALÍTICO DE INGRESOS (F7),\"&\" no es igual al TOTAL INGRESOS del FLUJO CONTABLE DE INGRESOS Y EGRESOS (F12) columna AMPLIACIÓN Y REDUCCIÓN.\")","v":""}]
[null,null,{"$f":"IF(ROUND('F7'!F70,2)=ROUND('F12'!F17,2),\"\",\"11.3. El TOTAL DE INGRESOS del momento DEVENGADO del ESTADO ANALÍTICO DE INGRESOS (F7),\"&\" no es igual al TOTAL INGRESOS del FLUJO CONTABLE DE INGRESOS Y EGRESOS (F12) columna DEVENGADO.\")","v":""}]
[null,null,{"$f":"IF(ROUND('F8'!C80,2)=ROUND('F12'!C30,2),\"\",\"11.4. El TOTAL DE EGRESOS del momento APROBADO del ESTADO ANALÍTICO DEL EJERCICIO DEL PRESUPUESTO DE EGRESOS (F8),\"&\" no es igual al TOTAL DE EGRESOS del FLUJO CONTABLE DE INGRESOS Y EGRESOS (F12) columna APROBADO.\")","v":""}]
[null,null,{"$f":"IF(ROUND('F8'!D80,2)=ROUND('F12'!D30,2),\"\",\"11.5. El TOTAL DE EGRESOS de las AMPLACIONES Y REDUCCIONES del ESTADO ANALÍTICO DEL EJERCICIO DEL PRESUPUESTO DE EGRESOS (F8),\"&\" no es igual al TOTAL EGRESOS del FLUJO CONTABLE DE INGRESOS Y EGRESOS (F12) columna AMPLIACIÓN Y REDUCCIÓN.\")","v":""}]
[null,null,{"$f":"IF(ROUND('F8'!F80,2)=ROUND('F12'!F30,2),\"\",\"11.6. El TOTAL DE EGRESOS del momento DEVENGADO del ESTADO ANALÍTICO DEL EJERCICIO DEL PRESUPUESTO DE EGRESOS (F8),\"&\" no es igual al TOTAL EGRESOS del FLUJO CONTABLE DE INGRESOS Y EGRESOS (F12) columna DEVENGADO.\")","v":""}]
["12. Validación Estado Analítico del Ingreso - LDF (F7B)",null,{"$f":"IF(ROUND('F7'!C70,2)=ROUND(F7B!C64,2),\"\",\"12.1. El TOTAL DE INGRESOS del momento ESTIMADO del ESTADO ANALÍTICO DE INGRESOS DETALLADO - LDF (F7B),\"&\" no es igual al ESTADO ANALÍTICO DE INGRESOS (F7) columna ESTIMADO.\")","v":""}]
[null,null,{"$f":"IF(ROUND('F7'!D70,2)=ROUND(F7B!D64,2),\"\",\"12.2. El TOTAL DE INGRESOS del momento MODIFICADO del ESTADO ANALÍTICO DE INGRESOS DETALLADO - LDF (F7B),\"&\" no es igual al ESTADO ANALÍTICO DE INGRESOS (F7) columna MODFICADO.\")","v":""}]
[null,null,{"$f":"IF(ROUND('F7'!F70,2)=ROUND(F7B!F64,2),\"\",\"12.3. El TOTAL DE INGRESOS del momento DEVENGADO del ESTADO ANALÍTICO DE INGRESOS DETALLADO - LDF (F7B),\"&\" no es igual al ESTADO ANALÍTICO DE INGRESOS (F7) columna DEVENGADO.\")","v":""}]
[null,null,{"$f":"IF(ROUND('F7'!G70,2)=ROUND(F7B!G64,2),\"\",\"12.4. El TOTAL DE INGRESOS del momento RECAUDADO del ESTADO ANALÍTICO DE INGRESOS DETALLADO - LDF (F7B),\"&\" no es igual al ESTADO ANALÍTICO DE INGRESOS (F7) columna RECAUDADO.\")","v":""}]
[null,null,{"$f":"IF(ROUND(F7B!C39,2)=ROUND(F8B!D80,2),\"\",\"12.5. No existe equilibro entre los ingresos ESTIMADO de recursos no etiquetados del ESTADO ANALÍTICO DE INGRESOS DETALLADO - LDF (F7B),\"&\" y el ESTADO ANALÍTICO DEL EJERCICIO DEL PRESUPUESTO DE EGRESOS DETALLADO - LDF (F8B) columna APROBADO de recurso no etiquetado.\")","v":""}]
[null,null,{"$f":"IF(ROUND(F7B!C61,2)=ROUND(F8B!D154,2),\"\",\"12.6. No existe equilibrio entre los ingresos ESTIMADO de recursos etiquetados del ESTADO ANALÍTICO DE INGRESOS DETALLADO - LDF (F7B),\"&\" y el ESTADO ANALÍTICO DEL EJERCICIO DEL PRESUPUESTO DE EGRESOS DETALLADO - LDF (F8B) columna APROBADO de recurso etiquetado.\")","v":""}]
[null,null,{"$f":"IF(ROUND(F7B!F39,2)>0,IF(ROUND(F8B!G80,2)>0,\"\",\"12.7. Se tiene ingresos DEVENGADO de recursos no etiquetados en el ESTADO ANALÍTICO DE INGRESOS DETALLADO - LDF (F7B),\"&\" y en el ESTADO ANALÍTICO DEL EJERCICIO DEL PRESUPUESTO DE EGRESOS DETALLADO - LDF (F8B) columna DEVENGADO no existen erogaciones con recursos no etiquetados.\"),\"\")","v":""}]
[null,null,{"$f":"IF(ROUND(F7B!F61,2)>0,IF(ROUND(F8B!G154,2)>0,\"\",\"12.8. Se tiene ingresos DEVENGADO de recursos etiquetados en el ESTADO ANALÍTICO DE INGRESOS DETALLADO - LDF (F7B),\"&\" y en el ESTADO ANALÍTICO DEL EJERCICIO DEL PRESUPUESTO DE EGRESOS DETALLADO - LDF (F8B) columna DEVENGADO no existe erogaciones con recursos etiquetados.\"),\"\")","v":""}]
["13. Validación Estado Analítico del Egreso (COG) - LDF (F8B)",null,{"$f":"IF(ROUND(F8B!D155,2)=ROUND('F8'!C80,2),\"\",\"13.1. El TOTAL DEL GASTO en lo correspondiente al APROBADO del ESTADO ANALÍTICO DEL EJERCICIO DEL PRESUPUESTO DE EGRESOS DETALLADO - LDF (F8A),\"&\" no es igual al ESTADO ANALÍTICO DEL EJERCICIO DEL PRESUPUESTO DE EGRESOS (F8) columna APROBADO.\")","v":""}]
[null,null,{"$f":"IF(ROUND(F8B!F155,2)=ROUND('F8'!E80,2),\"\",\"13.2. El TOTAL DEL GASTO en lo correspondiente al MODFICADO del ESTADO ANALÍTICO DEL EJERCICIO DEL PRESUPUESTO DE EGRESOS DETALLADO - LDF (F8A),\"&\" no es igual al ESTADO ANALÍTICO DEL EJERCICIO DEL PRESUPUESTO DE EGRESOS (F8) columna MODIFICADO.\")","v":""}]
[null,null,{"$f":"IF(ROUND(F8B!G155,2)=ROUND('F8'!F80,2),\"\",\"13.3. El TOTAL DEL GASTO en lo correspondiente al DEVENGADO del ESTADO ANALÍTICO DEL EJERCICIO DEL PRESUPUESTO DE EGRESOS DETALLADO - LDF (F8A),\"&\" no es igual al ESTADO ANALÍTICO DEL EJERCICIO DEL PRESUPUESTO DE EGRESOS (F8) columna DEVENGADO.\")","v":""}]
[null,null,{"$f":"IF(ROUND(F8B!H155,2)=ROUND('F8'!G80,2),\"\",\"13.4. El TOTAL DEL GASTO en lo correspondiente al PAGADO del ESTADO ANALÍTICO DEL EJERCICIO DEL PRESPUESTO DE EGRESOS DETALLADO - LDF (F8A),\"&\" no es igual al ESTADO ANALÍTICO DEL EJERCICIO DEL PRESPUESTO DE EGRESOS (F8) columna PAGADO.\")","v":""}]
["14. Validación Estado Analítico del Egreso (CF) -  (F19A)",null,{"$f":"IF(ROUND(F19A!D76,2)=ROUND('F19'!C40,2),\"\",\"14.1. El TOTAL DEL GASTO en lo correspondiente al APROVADO del ESTADO ANALÍTICO DEL EJERCICIO DEL PRESUPUESTO DE EGRESOS DETALLADO - LDF (F19A),\"&\" no es igual al ESTADO ANALÍTICO DEL EJERCICIO DEL PRESUPUESTO DE EGRESOS (F19) columna APROVADO.\")","v":""}]
[null,null,{"$f":"IF(ROUND(F19A!F76,2)=ROUND('F19'!E40,2),\"\",\"14.2. El TOTAL DEL GASTO en lo correspondiente al MODFICADO del ESTADO ANALÍTICO DEL EJERCICIO DEL PRESUPUESTO DE EGRESOS DETALLADO - LDF (F19A),\"&\" no es igual al ESTADO ANALÍTICO DEL EJERCICIO DEL PRESUPUESTO DE EGRESOS (F19) columna MODIFICADO.\")","v":""}]
[null,null,{"$f":"IF(ROUND(F19A!G76,2)=ROUND('F19'!F40,2),\"\",\"14.3. El TOTAL DEL GASTO en lo correspondiente al DEVENGADO del ESTADO ANALÍTCO DEL EJERCICIO DEL PRESUPUESTO DE EGRESOS DETALLADO - LDF (F19A),\"&\" no es igual al ESTADO ANALÍTICO DEL EJERCICIO DEL PRESUPUESTO DE EGRESOS (F19) columna DEVENGADO.\")","v":""}]
[null,null,{"$f":"IF(ROUND(F19A!H76,2)=ROUND('F19'!G40,2),\"\",\"14.4. El TOTAL DEL GASTO en lo correspondiente al PAGADO del ESTADO ANALÍTCO DEL EJERCICIO DEL PRESUPUESTO DE EGRESO DETALLADO - LDF (F19A),\"&\" no es igual al ESTADO ANALÍTICO DEL EJERCICIO DEL PRESUPUESTO DE EGRESOS (F19) columna PAGADO.\")","v":""}]
[null,null,{"$f":"IF(ROUND(F19A!$D$41,2)=ROUND(F8B!$D$80,2),\"\",\"14.5. El TOTAL DEL GASTO NO ETIQUETADO en lo correspondiente al APROBADO del ESTADO ANALÍTICO DEL EJERCICIO DEL PRESUPUESTO DE EGRESO DETALLADO - LDF (F19A),\"&\" no es igual al TOTAL DEL GASTO NO ETIQUETADO en el momento APROBADO del ESTADO ANALÍTICO DEL EJERCICIO DEL PRESUPUESTO DE EGRESOS (F8A).\")","v":""}]
[null,null,{"$f":"IF(ROUND(F19A!$F$41,2)=ROUND(F8B!$F$80,2),\"\",\"14.6. El TOTAL DEL GASTO NO ETIQUETADO en lo correspondiente al MODIFICADO del ESTADO ANALÍTICO DEL EJERCICIO DEL PRESUPUESTO DE EGRESO DETALLADO - LDF (F19A),\"&\" no es igual al TOTAL DEL GASTO NO ETIQUETADO en el momento MODIFICADO del ESTADO ANALÍTICO DEL EJERCICIO DEL PRESUPUESTO DE EGRESOS (F8A).\")","v":""}]
[null,null,{"$f":"IF(ROUND(F19A!$G$41,2)=ROUND(F8B!$G$80,2),\"\",\"14.7. El TOTAL DEL GASTO NO ETIQUETADO en lo correspondiente al DEVENGADO del ESTADO ANALÍTICO DEL EJERCICIO DEL PRESUPUESTO DE EGRESO DETALLADO - LDF (F19A),\"&\" no es igual al TOTAL DEL GASTO NO ETIQUETADO en el momento DEVENGADO del ESTADO ANALÍTICO DEL EJERCICIO DEL PRESUPUESTO DE EGRESOS (F8A).\")","v":""}]
[null,null,{"$f":"IF(ROUND(F19A!$H$41,2)=ROUND(F8B!$H$80,2),\"\",\"14.8. El TOTAL DEL GASTO NO ETIQUETADO en lo correspondiente al PAGADO del ESTADO ANALÍTICO DEL EJERCICIO DEL PRESUPUESTO DE EGRESO DETALLADO - LDF (F19A),\"&\" no es igual al TOTAL DEL GASTO NO ETIQUETADO en el momento PAGADO del ESTADO ANALÍTICO DEL EJERCICIO DEL PRESUPUESTO DE EGRESOS (F8A).\")","v":""}]
[null,null,{"$f":"IF(ROUND(F19A!$D$75,2)=ROUND(F8B!$D$154,2),\"\",\"14.9. El TOTAL DEL GASTO ETIQUETADO en lo correspondiente al APROBADO del ESTADO ANALÍTICO DEL EJERCICIO DEL PRESUPUESTO DE EGRESO DETALLADO - LDF (F19A),\"&\" no es igual al TOTAL DEL GASTO ETIQUETADO en el momento APROBADO del ESTADO ANALÍTICO DEL EJERCICIO DEL PRESUPUESTO DE EGRESOS (F8A).\")","v":""}]
[null,null,{"$f":"IF(ROUND(F19A!$F$75,2)=ROUND(F8B!$F$154,2),\"\",\"14.10. El TOTAL DEL GASTO ETIQUETADO en lo correspondiente al MODIFICADO del ESTADO ANALÍTICO DEL EJERCICIO DEL PRESUPUESTO DE EGRESO DETALLADO - LDF (F19A),\"&\" no es igual al TOTAL DEL GASTO ETIQUETADO en el momento MODIFICADO del ESTADO ANALÍTICO DEL EJERCICIO DEL PRESUPUESTO DE EGRESOS (F8A).\")","v":""}]
[null,null,{"$f":"IF(ROUND(F19A!$G$75,2)=ROUND(F8B!$G$154,2),\"\",\"14.11. El TOTAL DEL GASTO ETIQUETADO en lo correspondiente al DEVENGADO del ESTADO ANALÍTICO DEL EJERCICIO DEL PRESUPUESTO DE EGRESO DETALLADO - LDF (F19A),\"&\" no es igual al TOTAL DEL GASTO ETIQUETADO en el momento DEVENGADO del ESTADO ANALÍTICO DEL EJERCICIO DEL PRESUPUESTO DE EGRESOS (F8A).\")","v":""}]
[null,null,{"$f":"IF(ROUND(F19A!$H$75,2)=ROUND(F8B!$H$154,2),\"\",\"14.12. El TOTAL DEL GASTO ETIQUETADO en lo correspondiente al PAGADO del ESTADO ANALÍTICO DEL EJERCICIO DEL PRESUPUESTO DE EGRESO DETALLADO - LDF (F19A),\"&\" no es igual al TOTAL DEL GASTO ETIQUETADO en el momento PAGADO del ESTADO ANALÍTICO DEL EJERCICIO DEL PRESUPUESTO DE EGRESOS (F8A).\")","v":""}]
["15. Validación Estado Analítico del Egreso (CA) - LDF (F18A)",null,{"$f":"IF(ROUND(F18A!B62,2)=ROUND('F18'!B58,2),\"\",\"15.1. El TOTAL DEL GASTO del momento APROBADO del ESTADO ANALÍTICO DEL EJERCICIO DEL PRESUPUESTO DE EGRESOS DETALLADO - LDF (F18A),\"&\" no es igual al ESTADO ANALÍTICO DEL EJERCICIO DEL PRESUPUESTO DE EGRESOS (F18) columna APROBADO.\")","v":""}]
[null,null,{"$f":"IF(ROUND(F18A!C62,2)=ROUND('F18'!C58,2),\"\",\"15.2. El  TOTAL DEL GASTO del momento MODIFICADO del ESTADO ANALÍTICO DEL EJERCICIO DEL PRESUPUESTO DE EGRESOS DETALLADO - LDF (F18A),\"&\" no es igual al ESTADO ANALÍTICO DEL EJERCICIO DEL PRESUPUESTO DE EGRESOS (F18) columna MODIFICADO.\")","v":""}]
[null,null,{"$f":"IF(ROUND(F18A!E62,2)=ROUND('F18'!E58,2),\"\",\"15.3. El TOTAL DEL GASTO del momento DEVENGADO del ESTADO ANALÍTICO DEL EJERCICIO DEL PRESUPUESTO DE EGRESOS DETALLADO - LDF (F18A),\"&\" no es igual al ESTADO ANALÍTICO DEL EJERCICIO DEL PRESUPUESTO DE EGRESOS (F18) columna DEVENGADO.\")","v":""}]
[null,null,{"$f":"IF(ROUND(F18A!F62,2)=ROUND('F18'!F58,2),\"\",\"15.4. El TOTAL DEL GASTO del momento PAGADO del ESTADO ANALÍTICO DEL EJERCICIO DEL PRESUPUESTO DE EGRESOS DETALLADO - LDF (F18A),\"&\" no es igual al ESTADO ANALÍTICO DEL EJERCICIO DEL PRESUPUESTO DE EGRESOS (F18) columna PAGADO.\")","v":""}]
[null,null,{"$f":"IF(ROUND(F18A!$B$34,2)=ROUND(F8B!$D$80,2),\"\",\"15.5. El TOTAL DEL GASTO NO ETIQUETADO en lo correspondiente al APROBADO del ESTADO ANALÍTICO DEL EJERCICIO DEL PRESUPUESTO DE EGRESO DETALLADO - LDF (F18A),\"&\" no es igual al TOTAL DEL GASTO NO ETIQUETADO en el momento APROBADO del ESTADO ANALÍTICO DEL EJERCICIO DEL PRESUPUESTO DE EGRESOS (F8A).\")","v":""}]
[null,null,{"$f":"IF(ROUND(F18A!$D$34,2)=ROUND(F8B!$F$80,2),\"\",\"15.6. El TOTAL DEL GASTO NO ETIQUETADO en lo correspondiente al MODIFICADO del ESTADO ANALÍTICO DEL EJERCICIO DEL PRESUPUESTO DE EGRESO DETALLADO - LDF (F18A),\"&\" no es igual al TOTAL DEL GASTO NO ETIQUETADO en el momento MODIFICADO del ESTADO ANALÍTICO DEL EJERCICIO DEL PRESUPUESTO DE EGRESOS (F8A).\")","v":""}]
[null,null,{"$f":"IF(ROUND(F18A!$E$34,2)=ROUND(F8B!$G$80,2),\"\",\"15.7. El TOTAL DEL GASTO NO ETIQUETADO en lo correspondiente al DEVENGADO del ESTADO ANALÍTICO DEL EJERCICIO DEL PRESUPUESTO DE EGRESO DETALLADO - LDF (F18A),\"&\" no es igual al TOTAL DEL GASTO NO ETIQUETADO en el momento DEVENGADO del ESTADO ANALÍTICO DEL EJERCICIO DEL PRESUPUESTO DE EGRESOS (F8A).\")","v":""}]
[null,null,{"$f":"IF(ROUND(F18A!$F$34,2)=ROUND(F8B!$H$80,2),\"\",\"15.8. El TOTAL DEL GASTO NO ETIQUETADO en lo correspondiente al PAGADO del ESTADO ANALÍTICO DEL EJERCICIO DEL PRESUPUESTO DE EGRESO DETALLADO - LDF (F18A),\"&\" no es igual al TOTAL DEL GASTO NO ETIQUETADO en el momento PAGADO del ESTADO ANALÍTICO DEL EJERCICIO DEL PRESUPUESTO DE EGRESOS (F8A).\")","v":""}]
[null,null,{"$f":"IF(ROUND(F18A!$B$61,2)=ROUND(F8B!$D$154,2),\"\",\"15.9. El TOTAL DEL GASTO ETIQUETADO en lo correspondiente al APROBADO del ESTADO ANALÍTICO DEL EJERCICIO DEL PRESUPUESTO DE EGRESO DETALLADO - LDF (F18A),\"&\" no es igual al TOTAL DEL GASTO ETIQUETADO en el momento APROBADO del ESTADO ANALÍTICO DEL EJERCICIO DEL PRESUPUESTO DE EGRESOS (F8A).\")","v":""}]
[null,null,{"$f":"IF(ROUND(F18A!$D$61,2)=ROUND(F8B!$F$154,2),\"\",\"15.10. El TOTAL DEL GASTO ETIQUETADO en lo correspondiente al MODIFICADO del ESTADO ANALÍTICO DEL EJERCICIO DEL PRESUPUESTO DE EGRESO DETALLADO - LDF (F18A),\"&\" no es igual al TOTAL DEL GASTO ETIQUETADO en el momento MODIFICADO del ESTADO ANALÍTICO DEL EJERCICIO DEL PRESUPUESTO DE EGRESOS (F8A).\")","v":""}]
[null,null,{"$f":"IF(ROUND(F18A!$E$61,2)=ROUND(F8B!$G$154,2),\"\",\"15.11. El TOTAL DEL GASTO ETIQUETADO en lo correspondiente al DEVENGADO del ESTADO ANALÍTICO DEL EJERCICIO DEL PRESUPUESTO DE EGRESO DETALLADO - LDF (F18A),\"&\" no es igual al TOTAL DEL GASTO ETIQUETADO en el momento DEVENGADO del ESTADO ANALÍTICO DEL EJERCICIO DEL PRESUPUESTO DE EGRESOS (F8A).\")","v":""}]
[null,null,{"$f":"IF(ROUND(F18A!$F$61,2)=ROUND(F8B!$H$154,2),\"\",\"15.12. El TOTAL DEL GASTO ETIQUETADO en lo correspondiente al PAGADO del ESTADO ANALÍTICO DEL EJERCICIO DEL PRESUPUESTO DE EGRESO DETALLADO - LDF (F18A),\"&\" no es igual al TOTAL DEL GASTO ETIQUETADO en el momento PAGADO del ESTADO ANALÍTICO DEL EJERCICIO DEL PRESUPUESTO DE EGRESOS (F8A).\")","v":""}]
["16. Validación Balance Presupuestario - LDF (F22)",null,{"$f":"IF(ROUND(SUM('F22'!E7:E8)+('F22'!E27),2)=ROUND('F7'!C70,2),\"\",\"16.1. El importe de INGRESOS TOTALES del momento ESTIMADO del BALANCE PRESUPUESTARIO - LDF (F22),\"&\" no es igual al ESTADO ANALÍTICO DE INGRESOS (F7) columna ESTIMADO.\")","v":""}]
[null,null,{"$f":"IF(ROUND(SUM('F22'!F7:F8)+('F22'!F27),2)=ROUND('F7'!F70,2),\"\",\"16.2. El importe de INGRESOS TOTALES del momento DEVENGADO del BALANCE PRESUPUESTARIO - LDF (F22),\"&\" no es igual al ESTADO ANALÍTICO DE INGRESOS (F7) columna DEVENGADO.\")","v":""}]
[null,null,{"$f":"IF(ROUND(SUM('F22'!G7:G8)+('F22'!G27),2)=ROUND('F7'!G70,2),\"\",\"16.3. El importe de INGRESOS TOTALES del momento RECAUDADO del BALANCE PRESUPUESTARIO - LDF (F22),\"&\" no es igual al ESTADO ANALÍTICO DE INGRESOS (F7) columna RECAUDADO.\")","v":""}]
[null,null,{"$f":"IF(ROUND(('F22'!E10+'F22'!E30),2)=ROUND('F8'!C80,2),\"\",\"16.4. El importe de EGRESOS PRESUPUESTARIOS del momento APROBADO del BALANCE PRESUPUESTARIO - LDF (F22),\"&\" no es igual al ESTADO ANALÍTICO DEL EJERCICIO DEL PRESUPUESTO DE EGRESOS (F8) columna APROBADO.\")","v":""}]
[null,null,{"$f":"IF(ROUND(('F22'!F10+'F22'!F30),2)=ROUND('F8'!F80,2),\"\",\"16.5. El importe de EGRESOS PRESUPUESTARIOS del momento DEVENGADO del BALNCE PRESUPUESTARIO - LDF (F22),\"&\" no es igual al ESTADO ANALÍTICO DEL EJERCICIO DEL PRESUPUESTO DE EGRESOS (F8) columna DEVENGADO.\")","v":""}]
[null,null,{"$f":"IF(ROUND(('F22'!G10+'F22'!G30),2)=ROUND('F8'!G80,2),\"\",\"16.6. El importe de EGRESOS PRESUPUESTARIOS del momento PAGADO del BALANCE PRESUPUESTARIO - LDF (F22),\"&\" no es igual al ESTADO ANALÍTCO DEL EJERCICIO DEL PRESUPUESTO DE EGRESOS (F8) columna PAGADO.\")","v":""}]
["17. Validación Avance de programas y/o procesos concluidos (F13)",null,{"$f":"IF(ROUND('F13'!$P$2,2)=ROUND('F12'!$E$21,2),\"\",\"17.1. El total del CAPÍTULO 1000 del AVANCE DE PROGRAMAS Y/O PROCESOS CONCLUIDOS (F13),\"&\" no es igual al informado en el FLUJO CONTABLE DE INGRESOS Y EGRESOS (F12) columna MODIFICADO.\")","v":""}]
[null,null,{"$f":"IF(ROUND('F13'!$Q$2,2)=ROUND('F12'!$E$22,2),\"\",\"17.2. El total del CAPÍTULO 2000 del AVANCE DE PROGRAMAS Y/O PROCESOS CONCLUIDOS (F13),\"&\" no es igual al informado en el FLUJO CONTABLE DE INGRESOS Y EGRESOS (F12) columna MODFICADO.\")","v":""}]
[null,null,{"$f":"IF(ROUND('F13'!$R$2,2)=ROUND('F12'!$E$23,2),\"\",\"17.3. El total del CAPÍTULO 3000 del AVANCE DE PROGRAMAS Y/O PROCESOS CONCLUIDOS (F13),\"&\" no es igual al informado en el FLUJO CONTABLE DE INGRESOS Y EGRESOS (F12) columna MODFICADO.\")","v":""}]
[null,null,{"$f":"IF(ROUND('F13'!$S$2,2)=ROUND('F12'!$E$24,2),\"\",\"17.4. El total del CAPÍTULO 4000 del AVANCE DE PROGRAMAS Y/O PROCESOS CONCLUIDOS (F13),\"&\" no es igual al informado en el FLUJO CONTABLE DE INGRESOS Y EGRESOS (F12) columna MODIFICADO.\")","v":""}]
[null,null,{"$f":"IF(ROUND('F13'!$T$2,2)=ROUND('F12'!$E$25,2),\"\",\"17.5. El total del CAPÍTULO 5000 del AVANCE DE PROGRAMAS Y/O PROCESOS CONCLUIDOS (F13),\"&\" no es igual al informado en el FLUJO CONTABLE DE INGRESOS Y EGRESOS (F12) columna MODIFICADO.\")","v":""}]
[null,null,{"$f":"IF(ROUND('F13'!$U$2,2)=ROUND('F12'!$E$26,2),\"\",\"17.6. El total del CAPÍTULO 6000 del AVANCE DE PROGRAMAS Y/O PROCESOS CONCLUIDOS (F13),\"&\" no es igual al informado en el FLUJO CONTABLE DE INGRESOS Y EGRESOS (F12) columna MODFICADO.\")","v":""}]
[null,null,{"$f":"IF(ROUND('F13'!$V$2,2)=ROUND('F12'!$E$27,2),\"\",\"17.7. El total del CAPÍTULO 7000 del AVANCE DE PROGRAMAS Y/O PROCESOS CONCLUIDOS (F13),\"&\" no es igual al informado en el FLUJO CONTABLE DE INGRESOS Y EGRESOS (F12) columna MODIFICADO.\")","v":""}]
[null,null,{"$f":"IF(ROUND('F13'!$W$2,2)=ROUND('F12'!$E$28,2),\"\",\"17.8. El total del CAPÍTULO 8000 del AVANCE DE PROGRAMAS Y/O PROCESOS CONCLUIDOS (F13),\"&\" no es igual al informado en el FLUJO CONTABLE DE INGRESOS Y EGRESOS (F12) columna MODIFICADO.\")","v":""}]
[null,null,{"$f":"IF(ROUND('F13'!$X$2,2)=ROUND('F12'!$E$29,2),\"\",\"17.9. El total del CAPÍTULO 9000 del AVANCE DE PROGRAMAS Y/O PROCESOS CONCLUIDOS (F13),\"&\" no es igual al informado en el FLUJO CONTABLE DE INGRESOS Y EGRESOS (F12) columna MODFICADO.\")","v":""}]
[null,null,{"$f":"IF(ROUND('F13'!$AA$2,2)=ROUND('F12'!$F$21,2),\"\",\"17.10. El total del CAPÍTULO 1000 del AVANCE DE PROGRAMAS Y/O PROCESOS CONCLUIDOS (F13),\"&\" no es igual al informado en el FLUJO CONTABLE DE INGRESOS Y EGRESOS (F12) columna DEVENGADO.\")","v":""}]
[null,null,{"$f":"IF(ROUND('F13'!$AB$2,2)=ROUND('F12'!$F$22,2),\"\",\"17.11. El total del CAPÍTULO 2000 del AVANCE DE PROGRAMAS Y/O PROCESOS CONCLUIDOS (F13),\"&\" no es igual al informado en el FLUJO CONTABLE DE INGRESOS Y EGRESOS (F12) columna DEVENGADO.\")","v":""}]
[null,null,{"$f":"IF(ROUND('F13'!$AC$2,2)=ROUND('F12'!$F$23,2),\"\",\"17.12. El total del CAPÍTULO 3000 del AVANCE DE PROGRAMAS Y/O PROCESOS CONCLUIDOS (F13),\"&\" no es igual al informado en el FLUJO CONTABLE DE INGRESOS Y EGRESOS (F12) columna DEVENGADO.\")","v":""}]
[null,null,{"$f":"IF(ROUND('F13'!$AD$2,2)=ROUND('F12'!$F$24,2),\"\",\"17.13. El total del CAPÍTULO 4000 del AVANCE DE PROGRAMAS Y/O PROCESOS CONCLUIDOS (F13),\"&\" no es igual al informado en el FLUJO CONTABLE DE INGRESOS Y EGRESOS (F12) columna DEVENGADO.\")","v":""}]
[null,null,{"$f":"IF(ROUND('F13'!$AE$2,2)=ROUND('F12'!$F$25,2),\"\",\"17.14. El total del CAPÍTULO 5000 del AVANCE DE PROGRAMAS Y/O PREOCESOS CONCLUIDOS (F13),\"&\" no es igual al informado en el FLUJO CONTABLE DE INGRESOS Y EGRESOS (F12) columna DEVENGADO.\")","v":""}]
[null,null,{"$f":"IF(ROUND('F13'!$AF$2,2)=ROUND('F12'!$F$26,2),\"\",\"17.15. El total del CAPÍTULO 6000 del AVANCE DE PROGRAMAS Y/O PROCESOS CONCLUIDOS (F13),\"&\" no es igual al informado en el FLUJO CONTABLE DE INGRESOS Y EGRESOS (F12) columna DEVENGADO.\")","v":""}]
[null,null,{"$f":"IF(ROUND('F13'!$AG$2,2)=ROUND('F12'!$F$27,2),\"\",\"17.16. El total del CAPÍTULO 7000 del AVANCE DE PROGRAMAS Y/O PROCESOS CONCLUIDOS (F13),\"&\" no es igual al informado en el FLUJO CONTABLE DE INGRESOS Y EGRESOS (F12) columna DEVENGADO.\")","v":""}]
[null,null,{"$f":"IF(ROUND('F13'!$AH$2,2)=ROUND('F12'!$F$28,2),\"\",\"17.17. El total del CAPÍTULO 8000 del AVANCE DE PROGRAMAS Y/O PROCESOS CONCLUIDOS (F13),\"&\" no es igual al informado en el FLUJO CONTABLE DE INGRESOS Y EGRESOS (F12) columna DEVENGADO.\")","v":""}]
[null,null,{"$f":"IF(ROUND('F13'!$AI$2,2)=ROUND('F12'!$F$29,2),\"\",\"17.18. El total del CAPÍTULO 9000 del AVANCE DE PROGRAMAS Y/O PROCESOS CONCLUIDOS (F13),\"&\" no es igual al informado en el FLUJO CONTABLE DE INGRESOS Y EGRESOS (F12) columna DEVENGADO.\")","v":""}]
[]
[null,"Acatic","ENERO","31 de Enero de 2023","Del 1° al 31 de Enero de 2023"]
[null,"Acatlán de Juárez","FEBRERO","28 de Febrero de 2023","Del 1° al 28 de Febrero de 2023"]
[null,"Administración de Estacionómetros para la Asistencia Social del Municipio de Zapotlán el Grande","MARZO","31 de Marzo de 2023","Del 1° al 31 de Marzo de 2023"]
[null,"Agencia de Energía del Estado de Jalisco","ABRIL","30 de Abril de 2023","Del 1° al 30 de Abril de 2023"]
[null,"Agencia Estatal de Entretenimiento de Jalisco","MAYO","31 de Mayo de 2023","Del 1° al 31 de Mayo de 2023"]
[null,"Agencia Integral de Regulación de Emisiones","JUNIO, 1er. Informe de Avance de Gestión Financiera y Corte Semestral","30 de Junio de 2023","Del 1° al 30 de Junio de 2023"]
[null,"Agencia Metropolitana de Bosques Urbanos del Área Metropolitana de Guadalajara ","JULIO","31 de Julio de 2023","Del 1° al 31 de Julio de 2023"]
[null,"Agencia Metropolitana de Servicios de Infraestructura para la Movilidad del Área Metropolitana de Guadalajara ","AGOSTO","31 de Agosto de 2023","Del 1° al 31 de Agosto de 2023"]
[null,"Agencia para el Desarrollo de Industrias Creativas y Digitales","SEPTIEMBRE","30 de Septiembre de 2023","Del 1° al 30 de Septiembre de 2023"]
[null,"Agua y Saneamiento del Municipio de Tepatitlán de Morelos, Jalisco (ASTEPA)","OCTUBRE","31 de Octubre de 2023","Del 1° al 31 de Octubre de 2023"]
[null,"Ahualulco de Mercado","NOVIEMBRE","30 de Noviembre de 2023","Del 1° al 30 de Noviembre de 2023"]
[null,"Albergue Las Cuadritas \"Fray Antonio Alcalde\"","DICIEMBRE, 2do. Informe de Avance de Gestión Financiera y Corte Anual","31 de Diciembre de 2023","Del 1° al 31 de Diciembre de 2023"]
[null,"Amacueca"]
[null,"Amatitán"]
[null,"Ameca"]
[null,"Arandas"]
[null,"Asociación Intermunicipal para la Protección del Medio Ambiente y el Desarrollo Sustentable del Lago de Chapala"]
[null,"Atemajac de Brizuela"]
[null,"Atengo"]
[null,"Atenguillo"]
[null,"Atotonilco el Alto"]
[null,"Atoyac"]
[null,"Auditoría Superior del Estado de Jalisco"]
[null,"Autlán de Navarro"]
[null,"Ayotlán"]
[null,"Ayutla"]
[null,"Bolaños"]
[null,"Bosque la Primavera"]
[null,"Cabo Corrientes"]
[null,"Cañadas de Obregón"]
[null,"Casimiro Castillo"]
[null,"Centro de Atención para las Víctimas del Delito"]
[null,"Centro de Coordinación, Comando, Control, Comunicaciones y Cómputo del Estado de Jalisco \"Escudo Urbano C5\""]
[null,"Centro de Estimulación para Personas con Discapacidad Intelectual de Tlajomulco de Zúñiga"]
[null,"Centro Ferial de Guadalajara"]
[null,"Chapala"]
[null,"Chimaltitán"]
[null,"Chiquilistlán"]
[null,"Cihuatlán"]
[null,"Cocula"]
[null,"Colegio de Bachilleres del Estado de Jalisco"]
[null,"Colegio de Educación Profesional Técnica del Estado de Jalisco"]
[null,"Colegio de Estudios Científicos y Tecnológicos del Estado de Jalisco"]
[null,"Colotlán"]
[null,"Comisión de Arbitraje Médico del Estado de Jalisco"]
[null,"Comisión de Valuación del Estado de Jalisco"]
[null,"Comisión Estatal de Agua y Saneamiento de Jalisco"]
[null,"Comisión Estatal de Derechos Humanos Jalisco"]
[null,"Comisión Estatal del Agua de Jalisco"]
[null,"Comisión Estatal Indígena"]
[null,"Comité de Feria de Zapotlán el Grande, Jalisco"]
[null,"Comité del Carnaval Sayula"]
[null,"Concepción de Buenos Aires"]
[null,"Congreso del Estado de Jalisco"]
[null,"Consejo de la Judicatura del Estado"]
[null,"Consejo Económico y Social del Estado de Jalisco para el Desarrollo y Competitividad"]
[null,"Consejo Estatal de Ciencia y Tecnología de Jalisco"]
[null,"Consejo Estatal de Promoción Económica"]
[null,"Consejo Estatal de Trasplantes de Órganos y Tejidos"]
[null,"Consejo Estatal para el Desarrollo Turístico"]
[null,"Consejo Estatal para el Fomento Deportivo"]
[null,"Consejo Forestal y de la Fauna del Estado de Jalisco"]
[null,"Consejo Municipal contra las Adicciones en San Pedro Tlaquepaque"]
[null,"Consejo Municipal del Deporte de Ahualulco de Mercado"]
[null,"Consejo Municipal del Deporte de Ayutla"]
[null,"Consejo Municipal del Deporte de Degollado, Jalisco"]
[null,"Consejo Municipal del Deporte de Guadalajara"]
[null,"Consejo Municipal del Deporte de Jocotepec"]
[null,"Consejo Municipal del Deporte de La Barca"]
[null,"Consejo Municipal del Deporte de Ocotlán, Jalisco"]
[null,"Consejo Municipal del Deporte de Puerto Vallarta"]
[null,"Consejo Municipal del Deporte de San Pedro Tlaquepaque"]
[null,"Consejo Municipal del Deporte de Tonalá"]
[null,"Consejo Municipal del Deporte de Yahualica"]
[null,"Consejo Municipal del Deporte de Zapopan, Jalisco"]
[null,"Consejo Social de Cooperación para el Desarrollo Urbano de Guadalajara"]
[null,"Contraloría del Estado"]
[null,"Coordinación General Estratégica de Crecimiento y Desarrollo Económico"]
[null,"Coordinación General Estratégica de Desarrollo Social"]
[null,"Coordinación General Estratégica de Gestión del Territorio"]
[null,"Coordinación General Estratégica de Seguridad"]
[null,"Cruz Roja Delegación Jalisco"]
[null,"Cuautitlán de García Barragán"]
[null,"Cuautla"]
[null,"Cuquío"]
[null,"Degollado"]
[null,"DIF Municipal de Amacueca"]
[null,"DIF Municipal de Chimaltitán"]
[null,"DIF Municipal de Guachinango"]
[null,"DIF Municipal de Mexticacán"]
[null,"DIF Municipal de Pihuamo"]
[null,"DIF Municipal de San Marcos"]
[null,"DIF Municipal de San Martín de Bolaños"]
[null,"DIF Municipal de Techaluta de Montenegro"]
[null,"DIF Municipal de Tepatitlán de Morelos"]
[null,"DIF Municipal de Villa Purificación"]
[null,"Ejutla"]
[null,"El Arenal"]
[null,"El Colegio de Jalisco A.C."]
[null,"El Grullo"]
[null,"El Limón"]
[null,"El Salto"]
[null,"Encarnación de Díaz"]
[null,"Escuela de Conservación y Restauración de Occidente"]
[null,"Estado de Jalisco"]
[null,"Etzatlán"]
[null,"Fideicomiso Bosque de la Primavera"]
[null,"Fideicomiso Coeficiente de Utilización del Suelo"]
[null,"Fideicomiso Comisión de Filmaciones del Estado de Jalisco"]
[null,"Fideicomiso de Administración Irrevocable del Proyecto Maestro de Rehabilitación de la Imagen Urbana de Tequila Jalisco"]
[null,"Fideicomiso de Apoyo de Seguridad Social (FIASS)"]
[null,"Fideicomiso de Desarrollo Urbano de Jalisco"]
[null,"Fideicomiso de Equipamiento e Infraestructura Urbana y Vial en la Zona del Bajío"]
[null,"Fideicomiso de Inversión y Administración del \"Fondo Estatal de Protección al Ambiente del Estado de Jalisco\""]
[null,"Fideicomiso de Inversión y Administración para la Mejora de la Seguridad Vial"]
[null,"Fideicomiso de Inversión y Fuente de Pago para la Administración de Recursos Asignados al Programa Especial Denominado \"Caracol\""]
[null,"Fideicomiso de la Alianza para el Campo en el Estado de Jalisco"]
[null,"Fideicomiso de la Orquesta Filarmónica del Estado de Jalisco"]
[null,"Fideicomiso de Pensiones y Jubilaciones de los Servidores Públicos de Base del Organismo Público Descentralizado del Hospital Civil de Guadalajara"]
[null,"Fideicomiso de Turismo de la Zona Metropolitana de Guadalajara"]
[null,"Fideicomiso de Turismo de los Municipios del Interior del Estado de Jalisco"]
[null,"Fideicomiso de Turismo de Puerto Vallarta"]
[null,"Fideicomiso de Turismo de San Juan de los Lagos"]
[null,"Fideicomiso del Centro Cultural Universitario"]
[null,"Fideicomiso del Fondo Metropolitano de Ocotlán"]
[null,"Fideicomiso del Fondo Metropolitano de Puerto Vallarta y Bahía de Banderas"]
[null,"Fideicomiso Fondo de Apoyo al Programa Especial de Financiamiento a la Vivienda para el Magisterio en el Estado"]
[null,"Fideicomiso Fondo de Apoyo al Proyecto de Tecnologías Educativas y de Información para Maestros de Educación Básica del Estado de Jalisco"]
[null,"Fideicomiso Fondo de Garantía de las Empresas de Solidaridad del Estado de Jalisco"]
[null,"Fideicomiso Fondo Jalisco de Fomento Empresarial"]
[null,"Fideicomiso Hecho por Mujeres de Zapopan"]
[null,"Fideicomiso Irrevocable \"Fondo Mixto para el Desarrollo y Publicidad Turística de Ciudades Coloniales\""]
[null,"Fideicomiso Irrevocable de Administración y Fuente Alterna de Pago para la Reestructura de la Deuda del SIAPA"]
[null,"Fideicomiso Irrevocable de Administración y Fuente de Pago con (SANTANDER-BANORTE)"]
[null,"Fideicomiso Irrevocable de Administración y Fuente de Pago con Santander"]
[null,"Fideicomiso Irrevocable de Administración y Fuente de Pago entre SIAPA y Santander"]
[null,"Fideicomiso Irrevocable de Administración y Fuente de Pago Línea de Crédito Global Municipal"]
[null,"Fideicomiso Irrevocable de Administración y Pago \"Adquisición de Vagones para la Línea 1 del Tren eléctrico Urbano de Guadalajara\""]
[null,"Fideicomiso Irrevocable de Administración y Pago \"Batallón La Ringlera\""]
[null,"Fideicomiso Irrevocable de Administración y Pago con Banamex"]
[null,"Fideicomiso Irrevocable de Administración y Pago Fondo de Aportaciones para la Infraestructura Social"]
[null,"Fideicomiso Irrevocable de Garantía y Administración \"Fondo de Garantía Agropecuaria del Estado de Jalisco\""]
[null,"Fideicomiso Irrevocable de Garantía, Administración y Fuente de Pago \"INVEX\" Solucash"]
[null,"Fideicomiso Irrevocable de Garantía, Administración y Fuente de Pago (Zapopan)"]
[null,"Fideicomiso Irrevocable de Inversión y Fuente de Pago \"Fondo Estatal de Desastres Naturales Jalisco (FOEDEN)\""]
[null,"Fideicomiso Maestro Ciudad Creativa Digital"]
[null,"Fideicomiso Maestro de Fomento Económico para el Municipio de Zapopan (FIMAFEZ)"]
[null,"Fideicomiso Nuevo Sistema de Justicia Penal para el Estado de Jalisco"]
[null,"Fideicomiso para el Desarrollo de Infraestructura y Equipamiento Deportivo de Diversas Obligaciones de Pago a cargo del Gobierno del Estado"]
[null,"Fideicomiso para el Desarrollo de la Región Centro Occidente"]
[null,"Fideicomiso para el Desarrollo de los Sistemas de Enseñanza Vivencial e Indagatoria de la Ciencia en el Estado de Jalisco (SEVIC Jalisco)"]
[null,"Fideicomiso para el Desarrollo Rural del Estado de Jalisco"]
[null,"Fideicomiso para la Administración del Programa de Desarrollo Forestal de Jalisco"]
[null,"Fideicomiso para la Protección del Estero del Salado y Desarrollo de las Áreas Colindantes"]
[null,"Fideicomiso Plan Múltiple de Beneficios para los Trabajadores del Gobierno del Estado - FPBTGE"]
[null,"Fideicomiso Premio IJAS"]
[null,"Fideicomiso Público de Administración e Inversión \"Fondo Metropolitano Ciudad de Guadalajara\""]
[null,"Fideicomiso Público de Administración e Inversión \"Fondo Metropolitano de Ocotlán\""]
[null,"Fideicomiso Público de Administración e Inversión Fondo Mixto CONACYT-Gobierno del Estado de Jalisco"]
[null,"Fideicomiso Público de Administración, Garantía y Fuente de Pago para la Concesión de Alumbrado Público del Municipio de Zapopan, Jalisco"]
[null,"Fideicomiso Público Irrevocable de Administración e Inversión \"Fondo Metropolitano de Puerto Vallarta\""]
[null,"Fideicomiso Público Revocable de Administración y Fuente de Pago Fuerza Única y de Seguridad Pública del Estado de Jalisco"]
[null,"Fideicomiso Público Revocable de Administración y Medio de Pago del Nuevo Sistema de Justicia Penal y Juicios Orales del Estado de Jalisco"]
[null,"Fideicomiso Público Revocable para el Relleno Sanitario de la Zona Metropolitana de Guadalajara (PICACHOS)"]
[null,"Fideicomiso Revocable de Administración e Inversión \"Por mi Jalisco\""]
[null,"Fideicomiso Revocable de Administración, Inversión y Fuente de Pago \"Av. Juan Palomar Arias\""]
[null,"Fideicomiso Revocable de Administración, Inversión y Fuente de Pago para la Atención de los Jaliscienses en el Extranjero (Migrantes)"]
[null,"Fideicomiso Revocable de Inversión y Administración del Programa Nacional de Becas y Financiamiento (Pronabes/Manutención)"]
[null,"Fideicomiso Revocable de Inversión y Administración Fondo Estatal de Fomento para la Cultura y las Artes"]
[null,"Fideicomiso Revocable de Inversión y Asignación de Recursos \"Programa Escuelas de Calidad\""]
[null,"Fideicomiso Revocable de Inversión, Administración y Fuente de Pago Fondo Evalúa Jalisco"]
[null,"Fideicomiso Sistema Estatal de Ahorro para el Retiro de los Servidores Públicos del Estado de Jalisco"]
[null,"Fideicomiso Sistema Macrobús"]
[null,"Fideicomiso Vive Incluyente"]
[null,"Fiscalía Estatal"]
[null,"Fiscalía General del Estado"]
[null,"Fondo de Seguridad Pública en el Estado de Jalisco"]
[null,"Gómez Farías"]
[null,"Guachinango"]
[null,"Guadalajara"]
[null,"Hogar Juan Cruz Ruíz de Cabañas y Crespo"]
[null,"Hospital Civil de Guadalajara"]
[null,"Hostotipaquillo"]
[null,"Huejúcar"]
[null,"Huejuquilla el Alto"]
[null,"Industria Jalisciense de Rehabilitación Social"]
[null,"Instituto Cultural Cabañas"]
[null,"Instituto de Alternativas para los Jóvenes de Tlajomulco de Zúñiga"]
[null,"Instituto de Alternativas para los Jóvenes de Tonalá"]
[null,"Instituto de Artesanía Jalisciense"]
[null,"Instituto de Atención a la Juventud Teocaltichense"]
[null,"Instituto de Cultura, Recreación y Deporte del Municipio de Tlajomulco de Zúñiga"]
[null,"Instituto de Estudios del Federalismo Prisciliano Sánchez"]
[null,"Instituto de Fomento al Comercio Exterior del Estado de Jalisco"]
[null,"Instituto de Formación para el Trabajo del Estado de Jalisco"]
[null,"Instituto de Información Estadística y Geográfica del Estado de Jalisco"]
[null,"Instituto de Información Territorial del Estado de Jalisco"]
[null,"Instituto de Justicia Alternativa"]
[null,"Instituto de la Infraestructura Física Educativa del Estado de Jalisco"]
[null,"Instituto de la Juventud de La Barca"]
[null,"Instituto de la Juventud San Gabriel"]
[null,"Instituto de la Mujer Tenamaxtlán"]
[null,"Instituto de las Mujeres de Cuquío"]
[null,"Instituto de las Mujeres y para la Igualdad Sustantiva del Municipio de San Pedro Tlaquepaque"]
[null,"Instituto de Movilidad y Transporte del Estado de Jalisco"]
[null,"Instituto de Pensiones del Estado de Jalisco"]
[null,"Instituto de Planeación y Gestión del Desarrollo"]
[null,"Instituto de Transparencia, Información Pública y Protección de Datos Personales del Estado de Jalisco"]
[null,"Instituto Electoral y de Participación Ciudadana del Estado de Jalisco"]
[null,"Instituto Estatal para la Educación de Jóvenes y Adultos"]
[null,"Instituto Jalisciense de Asistencia Social"]
[null,"Instituto Jalisciense de Cancerología"]
[null,"Instituto Jalisciense de Ciencias Forenses"]
[null,"Instituto Jalisciense de la Juventud"]
[null,"Instituto Jalisciense de la Vivienda"]
[null,"Instituto Jalisciense de las Mujeres"]
[null,"Instituto Jalisciense del Adulto Mayor"]
[null,"Instituto Jalisciense del Emprendedor"]
[null,"Instituto Municipal de Atención a la Juventud de Guadalajara"]
[null,"Instituto Municipal de Atención a la Juventud de Jocotepec, Jalisco"]
[null,"Instituto Municipal de la Juventud de Ixtlahuacán de los Membrillos"]
[null,"Instituto Municipal de la Juventud en San Pedro Tlaquepaque"]
[null,"Instituto Municipal de la Juventud Mazamitla"]
[null,"Instituto Municipal de la Mujer de Tonalá"]
[null,"Instituto Municipal de la Mujer de Zapotitlán de Vadillo"]
[null,"Instituto Municipal de la Mujer del Municipio de Autlán de Navarro"]
[null,"Instituto Municipal de la Mujer en La Barca"]
[null,"Instituto Municipal de la Mujer en San Diego de Alejandría"]
[null,"Instituto Municipal de la Mujer Pihuamense"]
[null,"Instituto Municipal de la Mujer Tlajomulquense de Tlajomulco de Zúñiga"]
[null,"Instituto Municipal de la Mujer Yahualicense de Yahualica de González Gallo"]
[null,"Instituto Municipal de la Mujer Zapotlense en Zapotlán el Grande"]
[null,"Instituto Municipal de la Vivienda de Guadalajara"]
[null,"Instituto Municipal de las Mujeres de El Grullo"]
[null,"Instituto Municipal de las Mujeres de Ixtlahuacán de los Membrillos"]
[null,"Instituto Municipal de las Mujeres de Jilotlán"]
[null,"Instituto Municipal de las Mujeres de Mazamitla"]
[null,"Instituto Municipal de las Mujeres de San Ignacio Cerro Gordo"]
[null,"Instituto Municipal de las Mujeres de San Julián"]
[null,"Instituto Municipal de las Mujeres de Teocaltiche"]
[null,"Instituto Municipal de las Mujeres en Guadalajara"]
[null,"Instituto Municipal de las Mujeres en Jamay, Jalisco"]
[null,"Instituto Municipal de las Mujeres Tamazulenses"]
[null,"Instituto Municipal de las Mujeres Tonayenses"]
[null,"Instituto Municipal de las Mujeres Zapopanas para la Igualdad Sustantiva"]
[null,"Instituto Municipal de Planeación de Lagos de Moreno"]
[null,"Instituto Para la Igualdad Sustantiva entre Hombres y Mujeres de Jocotepec"]
[null,"Instituto Tecalitlense de la Juventud"]
[null,"Instituto Tecalitlense de la Mujer"]
[null,"Instituto Tecnológico José Mario Molina Pasquel y Henríquez"]
[null,"Instituto Tecnológico Superior de Arandas"]
[null,"Instituto Tecnológico Superior de Chapala"]
[null,"Instituto Tecnológico Superior de Cocula"]
[null,"Instituto Tecnológico Superior de El Grullo"]
[null,"Instituto Tecnológico Superior de La Huerta"]
[null,"Instituto Tecnológico Superior de Lagos de Moreno"]
[null,"Instituto Tecnológico Superior de Mascota"]
[null,"Instituto Tecnológico Superior de Puerto Vallarta"]
[null,"Instituto Tecnológico Superior de Tala"]
[null,"Instituto Tecnológico Superior de Tamazula de Gordiano"]
[null,"Instituto Tecnológico Superior de Tequila"]
[null,"Instituto Tecnológico Superior de Zapopan"]
[null,"Instituto Tecnológico Superior de Zapotlanejo"]
[null,"Instituto Vallartense de Cultura"]
[null,"Instituto Zapotlense de la Juventud del municipio de Zapotlán el Grande, Jalisco "]
[null,"Ixtlahuacán de los Membrillos"]
[null,"Ixtlahuacán del Río"]
[null,"Jalostotitlán"]
[null,"Jamay"]
[null,"Jesús María"]
[null,"Jilotlán de los Dolores"]
[null,"Jocotepec"]
[null,"Juanacatlán"]
[null,"Juchitlán"]
[null,"Junta Intermunicipal de Medio Ambiente Altos Sur"]
[null,"Junta Intermunicipal de Medio Ambiente de la Costa Sur"]
[null,"Junta Intermunicipal de Medio Ambiente de Sierra Occidental y Costa"]
[null,"Junta Intermunicipal de Medio Ambiente del Ayuquila Alto (JIMA Ayuquila Alto)"]
[null,"Junta Intermunicipal de Medio Ambiente Lagunas"]
[null,"Junta Intermunicipal de Medio Ambiente para la Gestión Integral de la Cuenca del Río Coahuayana (JIRCO)"]
[null,"Junta Intermunicipal de Medio Ambiente para la Gestión Integral de la Región Norte del Estado de Jalisco (JINOR)"]
[null,"Junta Intermunicipal de Medio Ambiente para la Gestión Integral de la Región Valles (JIMAV)"]
[null,"Junta Intermunicipal del Medio Ambiente para la Gestión Integral de la Cuenca Baja del Río Ayuquila "]
[null,"La Barca"]
[null,"La Huerta"]
[null,"La Manzanilla de la Paz"]
[null,"Lagos de Moreno"]
[null,"Magdalena"]
[null,"Mascota"]
[null,"Mazamitla"]
[null,"Mexticacán"]
[null,"Mezquitic"]
[null,"Mixtlán"]
[null,"Museos, Exposiciones y Galerías de Jalisco"]
[null,"Ocotlán"]
[null,"Ojuelos de Jalisco"]
[null,"Organismo Operador del Parque de la Solidaridad y Roberto Montenegro"]
[null,"Organismo Público Descentralizado Servicios de Salud del Municipio de Zapopan"]
[null,"Organismo Público Descentralizado Sierra de Quila (OPD Sierra de Quila) "]
[null,"Organismo Público Descentralizado Zoológico Guadalajara"]
[null,"Parque Metropolitano de Guadalajara"]
[null,"Patronato de las Fiestas de Octubre de la Zona Metropolitana de Guadalajara"]
[null,"Patronato de las Instalaciones de la Feria de Lagos de Moreno"]
[null,"Patronato del Centro Histórico y Barrios Tradicionales de Tonalá, Jalisco \"Tonalá Mágico\""]
[null,"Patronato del Centro Histórico y Franja Turística de Puerto Vallarta"]
[null,"Patronato del Centro Histórico, Barrios y Zonas Tradicionales de la ciudad de Guadalajara"]
[null,"Patronato del Museo de Periodismo y Artes Gráficas"]
[null,"Patronato Nacional de la Cerámica"]
[null,"Pihuamo"]
[null,"Plataforma Abierta de Innovación y Desarrollo de Jalisco"]
[null,"Policía Metropolitana de Guadalajara"]
[null,"Poncitlán"]
[null,"Procuraduría de Desarrollo Urbano"]
[null,"Procuraduría Social del Estado"]
[null,"Puerto Vallarta"]
[null,"Quitupan"]
[null,"Régimen Estatal de Protección Social en Salud de Jalisco"]
[null,"San Cristóbal de la Barranca"]
[null,"San Diego de Alejandría"]
[null,"San Gabriel"]
[null,"San Ignacio Cerro Gordo"]
[null,"San Juan de los Lagos"]
[null,"San Juanito de Escobedo"]
[null,"San Julián"]
[null,"San Marcos"]
[null,"San Martín de Bolaños"]
[null,"San Martín Hidalgo"]
[null,"San Miguel el Alto"]
[null,"San Pedro Tlaquepaque"]
[null,"San Sebastián del Oeste"]
[null,"Santa María de los Ángeles"]
[null,"Santa María del Oro"]
[null,"Sayula"]
[null,"Secretaría de Administración"]
[null,"Secretaría de Administración"]
[null,"Secretaría de Agricultura y Desarrollo Rural"]
[null,"Secretaría de Cultura"]
[null,"Secretaría de Desarrollo e Integración Social"]
[null,"Secretaría de Desarrollo Económico"]
[null,"Secretaría de Desarrollo Rural"]
[null,"Secretaría de Desarrollo Urbano"]
[null,"Secretaría de Educación"]
[null,"Secretaría de Finanzas"]
[null,"Secretaría de Gestión Integral del Agua"]
[null,"Secretaría de Igualdad Sustantiva entre Mujeres y Hombres"]
[null,"Secretaría de Infraestructura y Obra Pública"]
[null,"Secretaría de Innovación, Ciencia y Tecnología"]
[null,"Secretaría de la Hacienda Pública"]
[null,"Secretaría de Medio Ambiente y Desarrollo Territorial"]
[null,"Secretaría de Movilidad"]
[null,"Secretaría de Planeación"]
[null,"Secretaría de Planeación y Participación Ciudadana"]
[null,"Secretaría de Planeación, Administración y Finanzas"]
[null,"Secretaría de Promoción Económica"]
[null,"Secretaría de Salud"]
[null,"Secretaría de Seguridad"]
[null,"Secretaría de Turismo"]
[null,"Secretaría de Vialidad y Transporte"]
[null,"Secretaría del Sistema de Asistencia Social"]
[null,"Secretaría del Trabajo y Previsión Social"]
[null,"Secretaría del Transporte"]
[null,"Secretaría Ejecutiva del Sistema Estatal Anticorrupción"]
[null,"Secretaría General de Gobierno"]
[null,"Servicios de Salud Jalisco"]
[null,"Servicios y Transportes"]
[null,"Sistema Administrativo Municipal de Agua Potable y Alcantarillado de Ixtlahuacán de los Membrillos"]
[null,"Sistema Barquense de Agua Potable, Alcantarillado y Saneamiento (SIBAPAS) "]
[null,"Sistema de Agua Potable y Alcantarillado de Mascota"]
[null,"Sistema de Agua Potable y Alcantarillado de Tamazula de Gordiano"]
[null,"Sistema de Agua Potable y Alcantarillado de Zapotlanejo, Jalisco"]
[null,"Sistema de Agua Potable y Alcantarillado del Municipio de Unión de Tula"]
[null,"Sistema de Agua Potable, Alcantarillado y Saneamiento de Magdalena"]
[null,"Sistema de Agua Potable, Alcantarillado y Saneamiento del Municipio de Amacueca, Jalisco (SAPASA)"]
[null,"Sistema de Agua Potable, Alcantarillado y Saneamiento del Municipio de Ameca"]
[null,"Sistema de Agua Potable, Alcantarillado y Saneamiento del Municipio de Arandas Jalisco (SIMAPAAJAJ)"]
[null,"Sistema de Agua Potable, Alcantarillado y Saneamiento del Municipio de Atotonilco el Alto (SAPAMA)"]
[null,"Sistema de Agua Potable, Alcantarillado y Saneamiento del Municipio de Chapala, Jalisco (SIMAPA)"]
[null,"Sistema de Agua Potable, Alcantarillado y Saneamiento del Municipio de Colotlán, Jalisco (SAPASCO)"]
[null,"Sistema de Agua Potable, Alcantarillado y Saneamiento del Municipio de Degollado (SIAPADEG)"]
[null,"Sistema de Agua Potable, Alcantarillado y Saneamiento del Municipio de Jamay (SIMAPAS)"]
[null,"Sistema de Agua Potable, Alcantarillado y Saneamiento del Municipio de La Huerta"]
[null,"Sistema de Agua Potable, Alcantarillado y Saneamiento del Municipio de Mazamitla Jalisco"]
[null,"Sistema de Agua Potable, Alcantarillado y Saneamiento del Municipio de San Ignacio Cerro Gordo"]
[null,"Sistema de Agua Potable, Alcantarillado y Saneamiento del Municipio de San Julián (SAPAJ)"]
[null,"Sistema de Agua Potable, Alcantarillado y Saneamiento del Municipio de San Martín de Hidalgo, Jalisco"]
[null,"Sistema de Agua Potable, Alcantarillado y Saneamiento del Municipio de San Miguel el Alto, Jalisco (SAPASMA)"]
[null,"Sistema de Agua Potable, Alcantarillado y Saneamiento del Municipio de Talpa de Allende"]
[null,"Sistema de Agua Potable, Alcantarillado y Saneamiento del Municipio de Tototlán"]
[null,"Sistema de Agua Potable, Alcantarillado y Saneamiento del Municipio de Villa Hidalgo, Jalisco"]
[null,"Sistema de Agua Potable, Alcantarillado y Saneamiento del Municipio de Zapotlán el Grande"]
[null,"Sistema de Agua Potable, Alcantarillados y Saneamiento del Municipio de Mezquitic"]
[null,"Sistema de los Servicios de Agua Potable, Drenaje y Alcantarillado de Puerto Vallarta, Jalisco"]
[null,"Sistema de Transporte Colectivo de la Zona Metropolitana (SISTECOZOME)"]
[null,"Sistema de Tren Eléctrico Urbano"]
[null,"Sistema Integral de Agua de Tapalpa"]
[null,"Sistema Integral del Agua de Ayotlán (SIAA)"]
[null,"Sistema Intermunicipal de los Servicios de Agua Potable y Alcantarillado (SIAPA)"]
[null,"Sistema Intermunicipal de Manejo de Residuos Ayuquila - Llano (SIMAR Ayuquila - Llano)"]
[null,"Sistema Intermunicipal de Manejo de Residuos Ayuquila Valles (SIMAR Ayuquila Valles)"]
[null,"Sistema Intermunicipal de Manejo de Residuos Lagunas (SIMAR Lagunas)"]
[null,"Sistema Intermunicipal de Manejo de Residuos sólidos urbanos Sierra Sur (SIMAR Sierra Sur)"]
[null,"Sistema Intermunicipal de Manejo de Residuos Sureste (SIMAR Sureste)"]
[null,"Sistema Intermunicipal de Manejo de Residuos Sur-Sureste (SIMAR Sur-Sureste)"]
[null,"Sistema Jalisciense de Radio y Televisión"]
[null,"Sistema para el Desarrollo Integral de la Familia de San Martín Hidalgo, Jalisco "]
[null,"Sistema para el Desarrollo Integral de la Familia del Estado de Jalisco"]
[null,"Sistema para el Desarrollo Integral de la Familia del municipio Ahualulco de Mercado"]
[null,"Sistema para el Desarrollo Integral de la Familia del municipio de Acatic"]
[null,"Sistema para el Desarrollo Integral de la Familia del municipio de Acatlán de Juárez"]
[null,"Sistema para el Desarrollo Integral de la Familia del municipio de Amatitán, Jalisco"]
[null,"Sistema para el Desarrollo Integral de la Familia del municipio de Ameca, Jalisco "]
[null,"Sistema para el Desarrollo Integral de la Familia del municipio de Arandas, Jalisco"]
[null,"Sistema para el Desarrollo Integral de la Familia del municipio de Atemajac de Brizuela"]
[null,"Sistema para el Desarrollo Integral de la Familia del municipio de Atengo"]
[null,"Sistema para el Desarrollo Integral de la Familia del municipio de Atenguillo"]
[null,"Sistema para el Desarrollo Integral de la Familia del municipio de Atotonilco el Alto, Jalisco"]
[null,"Sistema para el Desarrollo Integral de la Familia del municipio de Atoyac, Jalisco"]
[null,"Sistema para el Desarrollo Integral de la Familia del municipio de Autlán de Navarro, Jal. "]
[null,"Sistema para el Desarrollo Integral de la Familia del municipio de Ayotlán, Jalisco"]
[null,"Sistema para el Desarrollo Integral de la Familia del municipio de Ayutla, Jalisco"]
[null,"Sistema para el Desarrollo Integral de la Familia del municipio de Bolaños"]
[null,"Sistema para el Desarrollo Integral de la Familia del municipio de Cabo Corrientes"]
[null,"Sistema para el Desarrollo Integral de la Familia del municipio de Cañadas de Obregón, Jalisco"]
[null,"Sistema para el Desarrollo Integral de la Familia del municipio de Casimiro Castillo"]
[null,"Sistema para el Desarrollo Integral de la Familia del municipio de Chapala"]
[null,"Sistema para el Desarrollo Integral de la Familia del municipio de Chiquilistlán"]
[null,"Sistema para el Desarrollo Integral de la Familia del municipio de Cihuatlán"]
[null,"Sistema para el Desarrollo Integral de la Familia del municipio de Ciudad Guzmán, Jalisco"]
[null,"Sistema para el Desarrollo Integral de la Familia del municipio de Cocula"]
[null,"Sistema para el Desarrollo Integral de la Familia del municipio de Colotlán, Jalisco"]
[null,"Sistema para el Desarrollo Integral de la Familia del municipio de Concepción de Buenos Aires"]
[null,"Sistema para el Desarrollo Integral de la Familia del municipio de Cuautitlán de García Barragán"]
[null,"Sistema para el Desarrollo Integral de la Familia del municipio de Cuautla"]
[null,"Sistema para el Desarrollo Integral de la Familia del municipio de Cuquío"]
[null,"Sistema para el Desarrollo Integral de la Familia del municipio de Degollado"]
[null,"Sistema para el Desarrollo Integral de la Familia del municipio de Ejutla"]
[null,"Sistema para el Desarrollo Integral de la Familia del municipio de El Arenal"]
[null,"Sistema para el Desarrollo Integral de la Familia del municipio de El Grullo"]
[null,"Sistema para el Desarrollo Integral de la Familia del municipio de El Limón"]
[null,"Sistema para el Desarrollo Integral de la Familia del municipio de El Salto"]
[null,"Sistema para el Desarrollo Integral de la Familia del municipio de Encarnación de Díaz"]
[null,"Sistema para el Desarrollo Integral de la Familia del municipio de Etzatlán"]
[null,"Sistema para el Desarrollo Integral de la Familia del municipio de Gómez Farías"]
[null,"Sistema para el Desarrollo Integral de la Familia del Municipio de Guadalajara"]
[null,"Sistema para el Desarrollo Integral de la Familia del municipio de Hostotipaquillo"]
[null,"Sistema para el Desarrollo Integral de la Familia del municipio de Huejúcar"]
[null,"Sistema para el Desarrollo Integral de la Familia del municipio de Huejuquilla el Alto"]
[null,"Sistema para el Desarrollo Integral de la Familia del municipio de Ixtlahuacán de los Membrillos"]
[null,"Sistema para el Desarrollo Integral de la Familia del municipio de Ixtlahuacán del Río"]
[null,"Sistema para el Desarrollo Integral de la Familia del municipio de Jalostotitlán"]
[null,"Sistema para el Desarrollo Integral de la Familia del municipio de Jamay"]
[null,"Sistema para el Desarrollo Integral de la Familia del municipio de Jesús María"]
[null,"Sistema para el Desarrollo Integral de la Familia del municipio de Jilotlán de los Dolores"]
[null,"Sistema para el Desarrollo Integral de la Familia del municipio de Jocotepec"]
[null,"Sistema para el Desarrollo Integral de la Familia del municipio de Juanacatlán"]
[null,"Sistema para el Desarrollo Integral de la Familia del municipio de Juchitlán"]
[null,"Sistema para el Desarrollo Integral de la Familia del municipio de La Barca, Jalisco"]
[null,"Sistema para el Desarrollo Integral de la Familia del municipio de La Huerta"]
[null,"Sistema para el Desarrollo Integral de la Familia del municipio de La Manzanilla de la Paz"]
[null,"Sistema para el Desarrollo Integral de la Familia del municipio de Lagos de Moreno"]
[null,"Sistema para el Desarrollo Integral de la Familia del municipio de Magdalena"]
[null,"Sistema para el Desarrollo Integral de la Familia del municipio de Mascota, Jalisco"]
[null,"Sistema para el Desarrollo Integral de la Familia del municipio de Mazamitla"]
[null,"Sistema para el Desarrollo Integral de la Familia del municipio de Mezquitic"]
[null,"Sistema para el Desarrollo Integral de la Familia del municipio de Mixtlán, Jalisco"]
[null,"Sistema para el Desarrollo Integral de la Familia del municipio de Ocotlán, Jalisco"]
[null,"Sistema para el Desarrollo Integral de la Familia del municipio de Ojuelos de Jalisco"]
[null,"Sistema para el Desarrollo Integral de la Familia del municipio de Poncitlán"]
[null,"Sistema para el Desarrollo Integral de la Familia del municipio de Puerto Vallarta"]
[null,"Sistema para el Desarrollo Integral de la Familia del municipio de Quitupan"]
[null,"Sistema para el Desarrollo Integral de la Familia del municipio de San Cristóbal de la Barranca"]
[null,"Sistema para el Desarrollo Integral de la Familia del municipio de San Diego de Alejandría"]
[null,"Sistema para el Desarrollo Integral de la Familia del municipio de San Gabriel"]
[null,"Sistema para el Desarrollo Integral de la Familia del municipio de San Ignacio Cerro Gordo"]
[null,"Sistema para el Desarrollo Integral de la Familia del municipio de San Juan de los Lagos"]
[null,"Sistema para el Desarrollo Integral de la Familia del municipio de San Juanito de Escobedo"]
[null,"Sistema para el Desarrollo Integral de la Familia del municipio de San Julián"]
[null,"Sistema para el Desarrollo Integral de la Familia del municipio de San Miguel el Alto, Jalisco"]
[null,"Sistema para el Desarrollo Integral de la Familia del municipio de San Pedro Tlaquepaque"]
[null,"Sistema para el Desarrollo Integral de la Familia del municipio de San Sebastián del Oeste, Jalisco"]
[null,"Sistema para el Desarrollo Integral de la Familia del municipio de Santa María de los Ángeles"]
[null,"Sistema para el Desarrollo Integral de la Familia del municipio de Santa María del Oro"]
[null,"Sistema para el Desarrollo Integral de la Familia del municipio de Sayula"]
[null,"Sistema para el Desarrollo Integral de la Familia del municipio de Tala"]
[null,"Sistema para el Desarrollo Integral de la Familia del municipio de Talpa de Allende"]
[null,"Sistema para el Desarrollo Integral de la Familia del municipio de Tamazula de Gordiano"]
[null,"Sistema para el Desarrollo Integral de la Familia del municipio de Tapalpa"]
[null,"Sistema para el Desarrollo Integral de la Familia del municipio de Tecalitlán"]
[null,"Sistema para el Desarrollo Integral de la Familia del municipio de Tecolotlán"]
[null,"Sistema para el Desarrollo Integral de la Familia del municipio de Tenamaxtlán"]
[null,"Sistema para el Desarrollo Integral de la Familia del municipio de Teocaltiche"]
[null,"Sistema para el Desarrollo Integral de la Familia del municipio de Teocuitatlán de Corona"]
[null,"Sistema para el Desarrollo Integral de la Familia del municipio de Tequila, Jalisco"]
[null,"Sistema para el Desarrollo Integral de la Familia del municipio de Teuchitlán"]
[null,"Sistema para el Desarrollo Integral de la Familia del municipio de Tizapán el Alto, Jalisco"]
[null,"Sistema para el Desarrollo Integral de la Familia del municipio de Tlajomulco de Zúñiga"]
[null,"Sistema para el Desarrollo Integral de la Familia del municipio de Tolimán"]
[null,"Sistema para el Desarrollo Integral de la Familia del municipio de Tomatlán"]
[null,"Sistema para el Desarrollo Integral de la Familia del municipio de Tonalá"]
[null,"Sistema para el Desarrollo Integral de la Familia del municipio de Tonaya"]
[null,"Sistema para el Desarrollo Integral de la Familia del municipio de Tonila"]
[null,"Sistema para el Desarrollo Integral de la Familia del municipio de Totatiche"]
[null,"Sistema para el Desarrollo Integral de la Familia del municipio de Tototlán"]
[null,"Sistema para el Desarrollo Integral de la Familia del municipio de Tuxcacuesco"]
[null,"Sistema para el Desarrollo Integral de la Familia del municipio de Tuxcueca"]
[null,"Sistema para el Desarrollo Integral de la Familia del municipio de Tuxpan"]
[null,"Sistema para el Desarrollo Integral de la Familia del municipio de Unión de San Antonio"]
[null,"Sistema para el Desarrollo Integral de la Familia del municipio de Unión de Tula"]
[null,"Sistema para el Desarrollo Integral de la Familia del municipio de Valle de Guadalupe"]
[null,"Sistema para el Desarrollo Integral de la Familia del municipio de Valle de Juárez"]
[null,"Sistema para el Desarrollo Integral de la Familia del municipio de Villa Corona"]
[null,"Sistema para el Desarrollo Integral de la Familia del municipio de Villa Guerrero"]
[null,"Sistema para el Desarrollo Integral de la Familia del municipio de Villa Hidalgo"]
[null,"Sistema para el Desarrollo Integral de la Familia del municipio de Yahualica de González Gallo"]
[null,"Sistema para el Desarrollo Integral de la Familia del municipio de Zacoalco de Torres"]
[null,"Sistema para el Desarrollo Integral de la Familia del municipio de Zapopan"]
[null,"Sistema para el Desarrollo Integral de la Familia del municipio de Zapotiltic"]
[null,"Sistema para el Desarrollo Integral de la Familia del municipio de Zapotitlán de Vadillo"]
[null,"Sistema para el desarrollo Integral de la Familia del municipio de Zapotlán del Rey, Jalisco"]
[null,"Sistema para el Desarrollo Integral de la Familia del municipio de Zapotlanejo"]
[null,"Supremo Tribunal de Justicia"]
[null,"Tala"]
[null,"Talpa de Allende"]
[null,"Tamazula de Gordiano"]
[null,"Tapalpa"]
[null,"Tecalitlán"]
[null,"Techaluta de Montenegro"]
[null,"Tecolotlán"]
[null,"Tenamaxtlán"]
[null,"Teocaltiche"]
[null,"Teocuitatlán de Corona"]
[null,"Tepatitlán de Morelos"]
[null,"Tequila"]
[null,"Teuchitlán"]
[null,"Tizapán el Alto"]
[null,"Tlajomulco de Zúñiga"]
[null,"Tolimán"]
[null,"Tomatlán"]
[null,"Tonalá"]
[null,"Tonaya"]
[null,"Tonila"]
[null,"Totatiche"]
[null,"Tototlán"]
[null,"Tribunal de Arbitraje y Escalafón"]
[null,"Tribunal de Justicia Administrativa"]
[null,"Tribunal Electoral del Estado de Jalisco"]
[null,"Tribunal Electoral del Poder Judicial del Estado de Jalisco"]
[null,"Tuxcacuesco"]
[null,"Tuxcueca"]
[null,"Tuxpan"]
[null,"Unidad Estatal de Protección Civil y Bomberos"]
[null,"Unidades Administrativas de Apoyo al Gobernador del Estado"]
[null,"Unión de San Antonio"]
[null,"Unión de Tula"]
[null,"Universidad de Guadalajara"]
[null,"Universidad Politécnica de la Zona Metropolitana de Guadalajara"]
[null,"Universidad Tecnológica de Jalisco"]
[null,"Universidad Tecnológica de la Zona Metropolitana de Guadalajara"]
[null,"Valle de Guadalupe"]
[null,"Valle de Juárez"]
[null,"Villa Corona"]
[null,"Villa Guerrero"]
[null,"Villa Hidalgo"]
[null,"Villa Purificación"]
[null,"Yahualica de González Gallo"]
[null,"Zacoalco de Torres"]
[null,"Zapopan"]
[null,"Zapotiltic"]
[null,"Zapotitlán de Vadillo"]
[null,"Zapotlán del Rey"]
[null,"Zapotlán el Grande"]
[null,"Zapotlanejo"]

{"sheet":"Balanza","index":3,"n_rows":2222,"n_cols":8,"rows_kept":2222,"cut":false,"hidden":false,"merged":[[0,6,0,7],[0,0,1,0],[0,1,1,1],[0,2,0,3],[0,4,0,5]]}
["No. DE CUENTA","NOMBRE DE LA CUENTA","SALDO AL 31 DE\n DICIEMBRE DE 2022",null,"MOVIMIENTO",null,"SALDO FINAL DEL PERIODO A INFORMAR EJERCICIO 2023"]
[null,null,"DEUDOR","ACREEDOR","DEUDOR","ACREEDOR","DEUDOR","ACREEDOR"]
[10000,"ACTIVO ",{"$f":"C4+C43","v":404360352.94},null,{"$f":"E4+E43","v":97897184.609999999},{"$f":"F4+F43","v":84291851.109999999},{"$f":"G4+G43","v":417965686.44}]
[11000,"ACTIVO CIRCULANTE",{"$f":"C5+C13+C21+C27+C33+C35+C38","v":7006188.3300000001},null,{"$f":"E5+E13+E21+E27+E33+E35+E38","v":87099501.950000003},{"$f":"F5+F13+F21+F27+F33+F35+F38","v":84291851.109999999},{"$f":"G5+G13+G21+G27+G33+G35+G38","v":9813839.1699999999}]
[11100,"EFECTIVO Y EQUIVALENTES",{"$f":"SUM(C6:C12)","v":6811307.4900000002},null,{"$f":"SUM(E6:E12)","v":42372388.300000004},{"$f":"SUM(F6:F12)","v":41733433.259999998},{"$f":"SUM(G6:G12)","v":7450262.5300000003}]
[11110,"Efectivo",35587,null,534468.78,442338.66,{"$f":"ROUND(C6+E6-F6,2)","v":127717.12}]
[11120,"Bancos/Tesorería",5722997.1100000003,null,41762878.100000001,41288321.600000001,{"$f":"ROUND(C7+E7-F7,2)","v":6197553.6100000003}]
[11130,"Bancos/Dependencias y otros",0,null,0,0,0]
[11140,"Inversiones temporales (hasta 3 meses)",0,null,0,0,0]
[11150,"Fondos con afectación específica",0,null,0,0,0]
[11160,"Depósitos de fondos de terceros en garantía y/o administración",0,null,0,0,0]
[11190,"Otros efectivos y equivalentes",1052723.3799999999,null,75041.42,2773,1124991.8]
[11200,"DERECHOS A RECIBIR EFECTIVO O EQUIVALENTES",{"$f":"SUM(C14:C20)","v":194880.84},null,{"$f":"SUM(E14:E20)","v":44367290.789999999},{"$f":"SUM(F14:F20)","v":42198594.990000002},{"$f":"SUM(G14:G20)","v":2363576.64}]
[11210,"Inversiones financieras de corto plazo",0,null,2200000,0,{"$f":"ROUND(C14+E14-F14,2)","v":2200000}]
[11220,"Cuentas por cobrar a corto plazo",194880.84,null,33770121.32,33811925.520000003,153076.64000000001]
["11230","Deudores diversos por cobrar a corto plazo",0,null,0,0,0]
["11240","Ingresos por recuperar a corto plazo",0,null,8176119.4699999997,8168619.4699999997,7500]
["11250","Deudores por anticipos de la tesorería a corto plazo",0,null,215050,215050,0]
["11260","Préstamos otorgados a corto plazo",0,null,6000,3000,3000]
["11290","Otros derechos a recibir efectivo o equivalentes a corto plazo",0,null,0,0,0]
["11300","DERECHOS A RECIBIR BIENES O SERVICIOS",{"$f":"SUM(C22:C26)","v":0},null,{"$f":"SUM(E22:E26)","v":359822.86},{"$f":"SUM(F22:F26)","v":359822.86},{"$f":"SUM(G22:G26)","v":0}]
["11310","Anticipo a proveedores por adquisición de bienes y prestación de servicios a corto plazo",0,null,359822.86,359822.86,{"$f":"ROUND(C22+E22-F22,2)","v":0}]
["11320","Anticipo a proveedores por adquisición de bienes inmuebles y muebles a corto plazo",0,null,0,0,0]
["11330","Anticipo a proveedores por adquisición de bienes intangibles a corto plazo",0,null,0,0,0]
["11340","Anticipo a contratistas por obras públicas a corto plazo",0,null,0,0,0]
["11390","Otros derechos a recibir bienes o servicios a corto plazo",0,null,0,0,0]
["11400","INVENTARIOS",{"$f":"SUM(C28:C32)","v":0},null,{"$f":"SUM(E28:E32)","v":0},{"$f":"SUM(F28:F32)","v":0},{"$f":"SUM(G28:G32)","v":0}]
["11410","Inventario de mercancías para venta"]
["11420","Inventario de mercancías terminadas"]
["11430","Inventario de mercancías en proceso de elaboración"]
["11440","Inventario de materias primas, materiales y suministros para producción"]
["11450","Bienes en tránsito"]
["11500","ALMACENES",{"$f":"SUM(C34)","v":0},null,{"$f":"SUM(E34)","v":0},{"$f":"SUM(F34)","v":0},{"$f":"SUM(G34)","v":0}]
["11510","Almacén de materiales y suministros de consumo",0,null,0,0,{"$f":"ROUND(C34+E34-F34,2)","v":0}]
["11600","ESTIMACIÓN POR PÉRDIDA O DETERIORO DE ACTIVOS CIRCULANTES",{"$f":"SUM(C36:C37)","v":0},null,{"$f":"SUM(E36:E37)","v":0},{"$f":"SUM(F36:F37)","v":0},{"$f":"SUM(G36:G37)","v":0}]
["11610","Estimaciones para cuentas incobrables por derechos a recibir efectivo o equivalentes",0,null,0,0,{"$f":"ROUND(C36+E36-F36,2)","v":0}]
["11620","Estimación por deterioro de inventarios",0,null,0,0,0]
["11900","OTROS ACTIVOS CIRCULANTES",{"$f":"SUM(C39:C42)","v":0},null,{"$f":"SUM(E39:E42)","v":0},{"$f":"SUM(F39:F42)","v":0},{"$f":"SUM(G39:G42)","v":0}]
["11910","Valores en garantía",0,null,0,0,{"$f":"ROUND(C39+E39-F39,2)","v":0}]
["11920","Bienes en garantía (excluye depósitos de fondos)",0,null,0,0,0]
["11930","Bienes derivados de embargos,  decomisos, aseguramientos y dación en pago",0,null,0,0,0]
["11940","Adquisición con fondos de terceros",null,null,null,null,0]
["12000","ACTIVO NO CIRCULANTE",{"$f":"C44+C49+C55+C63+C72+C78+C84+C91+C97-D43","v":397354164.61000001},{"$f":"D44+D49+D55+D63+D72+D78+D84+D91+D97","v":8070930.9799999995},{"$f":"E44+E49+E55+E63+E72+E78+E84+E91+E97","v":10797682.66},{"$f":"F44+F49+F55+F63+F72+F78+F84+F91+F97","v":0},{"$f":"G44+G49+G55+G63+G72+G78+G84+G91+G97-H43","v":408151847.26999998},{"$f":"H44+H49+H55+H63+H72+H78+H84+H91+H97","v":8070930.9799999995}]
["12100","INVERSIONES FINANCIERAS A LARGO PLAZO",{"$f":"SUM(C45:C48)","v":5000},null,{"$f":"SUM(E45:E48)","v":0},{"$f":"SUM(F45:F48)","v":0},{"$f":"SUM(G45:G48)","v":5000}]
["12110","Inversiones a largo plazo",0,null,0,0,{"$f":"ROUND(C45+E45-F45,2)","v":0}]
["12120","Títulos y valores a largo plazo",0,null,0,0,0]
["12130","Fideicomisos, mandatos y contratos análogos",5000,null,0,0,5000]
["12140","Participaciones y aportaciones de capital",0,null,0,0,0]
["12200","DERECHOS A RECIBIR EFECTIVO O EQUIVALENTES A LARGO PLAZO",{"$f":"SUM(C50:C54)","v":0},null,{"$f":"SUM(E50:E54)","v":0},{"$f":"SUM(F50:F54)","v":0},{"$f":"SUM(G50:G54)","v":0}]
["12210","Documentos por cobrar a largo plazo",0,null,0,0,{"$f":"ROUND(C50+E50-F50,2)","v":0}]
["12220","Deudores diversos a largo plazo",0,null,0,0,0]
["12230","Ingresos por recuperar a largo plazo",0,null,0,0,0]
["12240","Préstamos otorgados a largo plazo",0,null,0,0,0]
["12290","Otros derechos a recibir efectivo o equivalentes a largo plazo",0,null,0,0,0]
["12300","BIENES INMUEBLES, INFRAESTRUCTURA Y CONSTRUCCIONES EN PROCESO",{"$f":"SUM(C56:C62)","v":394674462.90000004},null,{"$f":"SUM(E56:E62)","v":10450933.92},{"$f":"SUM(F56:F62)","v":0},{"$f":"SUM(G56:G62)","v":405125396.81999999}]
["12310","Terrenos",20022321.66,null,615000,0,{"$f":"ROUND(C56+E56-F56,2)","v":20637321.66}]
["12320","Viviendas",0,null,0,0,0]
["12330","Edificios no habitacionales",374652141.24000001,null,331526.15999999997,0,374983667.39999998]
["12340","Infraestructura",0,null,0,0,0]
["12350","Construcciones en proceso en bienes de dominio público",0,null,9504407.7599999998,0,9504407.7599999998]
["12360","Construcciones en proceso en bienes propios",0,null,0,0,0]
["12390","Otros bienes inmuebles",0,null,0,0,0]
["12400","BIENES MUEBLES",{"$f":"SUM(C64:C71)","v":10509827.43},null,{"$f":"SUM(E64:E71)","v":346748.74},{"$f":"SUM(F64:F71)","v":0},{"$f":"SUM(G64:G71)","v":10856576.17}]
["12410","Mobiliario y equipo de administración",1408530.84,null,39781.769999999997,0,{"$f":"ROUND(C64+E64-F64,2)","v":1448312.61}]
["12420","Mobiliario y equipo educacional y recreativo",2239,null,118408.76,0,120647.76]
["12430","Equipo e instrumental médico y de laboratorio",82500,null,83520,0,166020]
["12440","Vehículos y equipo de transporte",2705860,null,0,0,2705860]
["12450","Equipo de defensa y seguridad",173090.5,null,0,0,173090.5]
["12460","Maquinaria, otros equipos y herramientas",6137607.0899999999,null,105038.21,0,6242645.2999999998]
["12470","Colecciones, obras de arte y objetos valiosos",0,null,0,0,0]
["12480","Activos biológicos",0,null,0,0,0]
["12500","ACTIVOS INTANGIBLES",{"$f":"SUM(C73:C77)","v":235805.26},null,{"$f":"SUM(E73:E77)","v":0},{"$f":"SUM(F73:F77)","v":0},{"$f":"SUM(G73:G77)","v":235805.26}]
["12510","Software",178485.26,null,0,0,{"$f":"ROUND(C73+E73-F73,2)","v":178485.26}]
["12520","Patentes, marcas y derechos",0,null,0,0,0]
["12530","Concesiones y franquicias",0,null,0,0,0]
["12540","Licencias",0,null,0,0,0]
["12590","Otros activos intangibles",57320,null,0,0,57320]
["12600","DEPRECIACIÓN, DETERIORO Y AMORTIZACIÓN ACUMULADA DE BIENES",null,{"$f":"SUM(D79:D83)","v":8070930.9799999995},{"$f":"SUM(E79:E83)","v":0},{"$f":"SUM(F79:F83)","v":0},null,{"$f":"D78+F78-E78","v":8070930.9799999995}]
["12610","Depreciación acumulada de bienes inmuebles",null,6166845.7599999998,0,0,null,{"$f":"ROUND(D79+F79-E79,2)","v":6166845.7599999998}]
["12620","Depreciación acumulada de infraestructura",null,1904085.22,0,0,null,{"$f":"ROUND(D80+F80-E80,2)","v":1904085.22}]
["12630","Depreciación acumulada de bienes muebles",null,0,0,0,null,0]
["12640","Deterioro acumulado de bienes",null,0,0,0,null,0]
["12650","Amortización acumulada de activos intangibles",null,0,0,0,null,0]
["12700","ACTIVOS DIFERIDOS",{"$f":"SUM(C85:C90)","v":0},null,{"$f":"SUM(E85:E90)","v":0},{"$f":"SUM(F85:F90)","v":0},{"$f":"SUM(G85:G90)","v":0}]
["12710","Estudios, formulación y evaluación de proyectos",0,null,0,0,{"$f":"ROUND(C85+E85-F85,2)","v":0}]
["12720","Derechos sobre bienes en régimen de arrendamiento financiero",0,null,0,0,0]
["12730","Gastos pagados por adelantado a largo plazo",0,null,0,0,0]
["12740","Anticipos a largo plazo",0,null,0,0,0]
["12750","Beneficios al retiro de empleados pagados por adelantado",0,null,0,0,0]
["12790","Otros activos diferidos",0,null,0,0,0]
["12800","ESTIMACIÓN POR PÉRDIDA O DETERIORO DE ACTIVOS NO CIRCULANTES",null,{"$f":"SUM(D92:D96)","v":0},{"$f":"SUM(E92:E96)","v":0},{"$f":"SUM(F92:F96)","v":0},null,{"$f":"D91+F91-E91","v":0}]
["12810","Estimaciones por pérdida de cuentas incobrables de documentos por cobrar a largo plazo",null,0,0,0,null,{"$f":"ROUND(D92+F92-E92,2)","v":0}]
["12820","Estimaciones por pérdida de cuentas incobrables de deudores diversos por cobrar a largo plazo",null,0,0,0,null,0]
["12830","Estimaciones por pérdida de cuentas incobrables de ingresos por cobrar a largo plazo",null,0,0,0,null,0]
["12840","Estimaciones por pérdida de cuentas incobrables de préstamos otorgados a largo plazo",null,0,0,0,null,0]
["12890","Estimaciones por pérdida de otras cuentas incobrables a largo plazo",null,0,0,0,null,{"$f":"ROUND(D96+F96-E96,2)","v":0}]
["12900","OTROS ACTIVOS NO CIRCULANTES",{"$f":"SUM(C98:C100)","v":0},null,{"$f":"SUM(E98:E100)","v":0},{"$f":"SUM(F98:F100)","v":0},{"$f":"SUM(G98:G100)","v":0}]
["12910","Bienes en concesión",0,null,0,0,{"$f":"ROUND(C98+E98-F98,2)","v":0}]
["12920","Bienes en arrendamiento financiero",0,null,0,0,0]
["12930","Bienes en comodato",0,null,0,0,0]
["20000","PASIVO",null,{"$f":"D102+D143","v":10855479.129999999},{"$f":"E102+E143","v":39347313.360000007},{"$f":"F102+F143","v":37374814.810000002},null,{"$f":"H102+H143","v":8882980.5800000001}]
["21000","PASIVO CIRCULANTE",null,{"$f":"D103+D113+D117+D121+D124+D128+D135+D139","v":4423775.72},{"$f":"E103+E113+E117+E121+E124+E128+E135+E139","v":38003169.730000004},{"$f":"F103+F113+F117+F121+F124+F128+F135+F139","v":37374814.810000002},null,{"$f":"H103+H113+H117+H121+H124+H128+H135+H139","v":3795420.8}]
["21100","CUENTAS POR PAGAR A CORTO PLAZO",null,{"$f":"SUM(D104:D112)","v":4423775.72},{"$f":"SUM(E104:E112)","v":38003169.730000004},{"$f":"SUM(F104:F112)","v":37374814.810000002},null,{"$f":"SUM(H104:H112)","v":3795420.8}]
["21110","Servicios personales por pagar a corto plazo",null,3050,11354385.800000001,11351335.800000001,null,{"$f":"ROUND(D104+F104-E104,2)","v":0}]
["21120","Proveedores por pagar a corto plazo",null,2430205.2999999998,13401034.699999999,12523694.560000001,null,1552865.16]
["21130","Contratistas por obras públicas por pagar a corto plazo",null,220221.37,9724629.1300000008,9504407.7599999998,null,0]
["21140","Participaciones y aportaciones por pagar a corto plazo",null,0,0,0,null,0]
["21150","Transferencias otorgadas por pagar a corto plazo",null,0,3161215.1,3161215.1,null,0]
["21160","Intereses, comisiones y otros gastos de la deuda pública por pagar a corto plazo",null,0,0,0,null,0]
["21170","Retenciones y contribuciones por pagar a corto plazo",null,1770299.05,361905,834161.59,null,2242555.64]
["21180","Devoluciones de la ley de ingresos por pagar a corto plazo",null,0,0,0,null,0]
["21190","Otras cuentas por pagar a corto plazo",null,0,0,0,null,0]
["21200","DOCUMENTOS POR PAGAR A CORTO PLAZO",null,{"$f":"SUM(D114:D116)","v":0},{"$f":"SUM(E114:E116)","v":0},{"$f":"SUM(F114:F116)","v":0},null,{"$f":"SUM(H114:H116)","v":0}]
["21210","Documentos  comerciales por pagar a corto plazo",null,0,0,0,null,{"$f":"ROUND(D114+F114-E114,2)","v":0}]
["21220","Documentos con contratistas por obras públicas por pagar a corto plazo",null,0,0,0,null,0]
["21290","Otros documentos por pagar a corto plazo",null,0,0,0,null,0]
["21300","PORCIÓN A CORTO PLAZO DE LA DEUDA PÚBLICA A LARGO PLAZO",null,{"$f":"SUM(D118+D120)","v":0},{"$f":"SUM(E118+E120)","v":0},{"$f":"SUM(F118+F120)","v":0},null,{"$f":"SUM(H118+H120)","v":0}]
["21310","Porción a corto plazo de la deuda pública interna",null,0,0,0,null,{"$f":"ROUND(D118+F118-E118,2)","v":0}]
["21320","Porción a corto plazo de la deuda pública externa"]
["21330","Porción a corto plazo de arrendamiento financiero",null,0,0,0,null,{"$f":"ROUND(D120+F120-E120,2)","v":0}]
["21400","TÍTULOS Y VALORES A CORTO PLAZO",null,{"$f":"SUM(D122)","v":0},{"$f":"SUM(E122)","v":0},{"$f":"SUM(F122)","v":0},null,{"$f":"SUM(H122)","v":0}]
["21410","Títulos y valores de la deuda pública interna a corto plazo",null,0,0,0,null,{"$f":"ROUND(D122+F122-E122,2)","v":0}]
["21420","Títulos y valores de la deuda pública externa a corto plazo"]
["21500","PASIVOS DIFERIDOS A CORTO PLAZO",null,{"$f":"SUM(D125:D127)","v":0},{"$f":"SUM(E125:E127)","v":0},{"$f":"SUM(F125:F127)","v":0},null,{"$f":"SUM(H125:H127)","v":0}]
["21510","Ingresos cobrados por adelantado a corto plazo",null,0,0,0,null,{"$f":"ROUND(D125+F125-E125,2)","v":0}]
["21520","Intereses cobrados por adelantado a corto plazo",null,0,0,0,null,0]
["21590","Otros pasivos diferidos a corto plazo",null,0,0,0,null,0]
["21600","FONDOS Y BIENES DE TERCEROS EN GARANTÍA Y/O ADMINISTRACIÓN A CORTO PLAZO",null,{"$f":"SUM(D129:D134)","v":0},{"$f":"SUM(E129:E134)","v":0},{"$f":"SUM(F129:F134)","v":0},null,{"$f":"SUM(H129:H134)","v":0}]
["21610","Fondos en garantía a corto plazo",null,0,0,0,null,{"$f":"ROUND(D129+F129-E129,2)","v":0}]
["21620","Fondos en administración a corto plazo",null,0,0,0,null,0]
["21630","Fondos contingentes a corto plazo",null,0,0,0,null,0]
["21640","Fondos de fideicomisos, mandatos y contratos análogos a corto plazo",null,0,0,0,null,0]
["21650","Otros fondos de terceros en garantía y/o administración a corto plazo",null,0,0,0,null,0]
["21660","Valores y bienes en garantía a corto plazo",null,0,0,0,null,0]
["21700","PROVISIONES A CORTO PLAZO",null,{"$f":"SUM(D136:D138)","v":0},{"$f":"SUM(E136:E138)","v":0},{"$f":"SUM(F136:F138)","v":0},null,{"$f":"SUM(H136:H138)","v":0}]
["21710","Provisión para demandas y juicios a corto plazo",null,0,0,0,null,{"$f":"ROUND(D136+F136-E136,2)","v":0}]
["21720","Provisión para contingencias a corto plazo",null,0,0,0,null,0]
["21790","Otras provisiones a corto plazo",null,0,0,0,null,0]
["21900","OTROS PASIVOS A CORTO PLAZO",null,{"$f":"SUM(D140:D142)","v":0},{"$f":"SUM(E140:E142)","v":0},{"$f":"SUM(F140:F142)","v":0},null,{"$f":"SUM(H140:H142)","v":0}]
["21910","Ingresos por clasificar",null,0,0,0,null,{"$f":"ROUND(D140+F140-E140,2)","v":0}]
["21920","Recaudación por participar",null,0,0,0,null,0]
["21990","Otros pasivos circulantes",null,0,0,0,null,0]
["22000","PASIVO NO CIRCULANTE",null,{"$f":"SUM(D144+D147+D151+D157+D161+D168)","v":6431703.4100000001},{"$f":"SUM(E144+E147+E151+E157+E161+E168)","v":1344143.63},{"$f":"SUM(F144+F147+F151+F157+F161+F168)","v":0},null,{"$f":"SUM(H144+H147+H151+H157+H161+H168)","v":5087559.78}]
["22100","CUENTAS POR PAGAR A LARGO PLAZO",null,{"$f":"SUM(D145:D146)","v":6431703.4100000001},{"$f":"SUM(E145:E146)","v":1344143.63},{"$f":"SUM(F145:F146)","v":0},null,{"$f":"SUM(H145:H146)","v":5087559.78}]
["22110","Proveedores por pagar a largo plazo",null,0,0,0,null,{"$f":"ROUND(D145+F145-E145,2)","v":0}]
["22120","Contratistas por obras públicas por pagar a largo plazo",null,6431703.4100000001,1344143.63,0,null,5087559.78]
["22200","DOCUMENTOS POR PAGAR A LARGO PLAZO",null,{"$f":"SUM(D148:D150)","v":0},{"$f":"SUM(E148:E150)","v":0},{"$f":"SUM(F148:F150)","v":0},null,{"$f":"SUM(H148:H150)","v":0}]
["22210","Documentos comerciales por pagar a largo plazo",null,0,0,0,null,{"$f":"ROUND(D148+F148-E148,2)","v":0}]
["22220","Documentos con contratistas por obras públicas por pagar a largo plazo",null,0,0,0,null,0]
["22290","Otros documentos por pagar a largo plazo",null,0,0,0,null,0]
["22300","DEUDA PÚBLICA A LARGO PLAZO",null,{"$f":"SUM(D152:D156)","v":0},{"$f":"SUM(E152:E156)","v":0},{"$f":"SUM(F152:F156)","v":0},null,{"$f":"SUM(H152:H156)","v":0}]
["22310","Títulos y valores de la deuda pública interna a largo plazo",null,0,0,0,null,{"$f":"ROUND(D152+F152-E152,2)","v":0}]
["22320","Títulos y valores de la deuda pública externa a largo plazo"]
["22330","Préstamos de la deuda pública interna por pagar a largo plazo",null,0,0,0,null,{"$f":"ROUND(D154+F154-E154,2)","v":0}]
["22340","Préstamos de la deuda pública externa por pagar a largo plazo"]
["22350","Arrendamiento financiero por pagar a largo plazo",null,0,0,0,null,{"$f":"ROUND(D156+F156-E156,2)","v":0}]
["22400","PASIVOS DIFERIDOS A LARGO PLAZO",null,{"$f":"SUM(D158:D160)","v":0},{"$f":"SUM(E158:E160)","v":0},{"$f":"SUM(F158:F160)","v":0},null,{"$f":"SUM(H158:H160)","v":0}]
["22410","Créditos diferidos a largo plazo",null,0,0,0,null,{"$f":"ROUND(D158+F158-E158,2)","v":0}]
["22420","Intereses cobrados por adelantado a largo plazo",null,0,0,0,null,0]
["22490","Otros pasivos diferidos a largo plazo",null,0,0,0,null,0]
["22500","FONDOS Y BIENES DE TERCEROS EN GARANTÍA Y/O ADMINISTRACIÓN A LARGO PLAZO",null,{"$f":"SUM(D162:D167)","v":0},{"$f":"SUM(E162:E167)","v":0},{"$f":"SUM(F162:F167)","v":0},null,{"$f":"SUM(H162:H167)","v":0}]
["22510","Fondos en garantía a largo plazo",null,0,0,0,null,{"$f":"ROUND(D162+F162-E162,2)","v":0}]
["22520","Fondos en administración a largo plazo",null,0,0,0,null,0]
["22530","Fondos contingentes a largo plazo",null,0,0,0,null,0]
["22540","Fondos de fideicomisos, mandatos y contratos análogos a largo plazo",null,0,0,0,null,0]
["22550","Otros fondos de terceros en garantía y/o administración a largo plazo",null,0,0,0,null,0]
["22560","Valores y bienes en garantía a largo plazo",null,0,0,0,null,0]
["22600","PROVISIONES A LARGO PLAZO",null,{"$f":"SUM(D169:D172)","v":0},{"$f":"SUM(E169:E172)","v":0},{"$f":"SUM(F169:F172)","v":0},null,{"$f":"SUM(H169:H172)","v":0}]
["22610","Provisión para demandas y juicios a largo plazo",null,0,0,0,null,{"$f":"ROUND(D169+F169-E169,2)","v":0}]
["22620","Provisión para pensiones a largo plazo",null,0,0,0,null,0]
["22630","Provisión para contingencias a largo plazo",null,0,0,0,null,0]
["22690","Otras provisiones a largo plazo",null,0,0,0,null,0]
["30000","HACIENDA PÚBLICA/PATRIMONIO",null,{"$f":"D174+D178+D193","v":393504873.81},{"$f":"E174+E178+E193","v":0},{"$f":"F174+F178+F193","v":15577832.050000004},null,{"$f":"H174+H178+H193","v":409082705.86000001}]
["31000","HACIENDA PÚBLICA/PATRIMONIO CONTRIBUIDO",null,{"$f":"SUM(D175:D177)","v":0},{"$f":"SUM(E175:E177)","v":0},{"$f":"SUM(F175:F177)","v":0},null,{"$f":"SUM(H175:H177)","v":0}]
["31100","APORTACIONES",null,0,0,0,null,{"$f":"ROUND(D175+F175-E175,2)","v":0}]
["31200","DONACIONES DE CAPITAL",null,0,0,0,null,0]
["31300","ACTUALIZACIÓN DE LA HACIENDA PÚBLICA/PATRIMONIO",null,0,0,0,null,0]
["32000","HACIENDA PÚBLICA/PATRIMONIO GENERADO",null,{"$f":"D179+D180+D181+D186+D190","v":393504873.81},{"$f":"E179+E180+E181+E186+E190","v":0},{"$f":"F179+F180+F181+F186+F190","v":15577832.050000004},null,{"$f":"H179+H180+H181+H186+H190","v":409082705.86000001}]
["32100","RESULTADOS DEL EJERCICIO (AHORRO/ DESAHORRO)",null,{"$f":"IF(C751>D752,C751,(D752)*-1)","v":22631177.000000007},{"$f":"F752","v":0},{"$f":"E751","v":15577832.050000004},null,{"$f":"ROUND(F179-E179,2)","v":15577832.050000001}]
["32200","RESULTADOS DE EJERCICIOS ANTERIORES",null,292813425.75,null,null,null,{"$f":"ROUND(D179+D180+F180-E180,2)","v":315444602.75}]
["32300","REVALÚOS",null,{"$f":"SUM(D182:D185)","v":77719390},{"$f":"SUM(E182:E185)","v":0},{"$f":"SUM(F182:F185)","v":0},null,{"$f":"SUM(H182:H185)","v":77719390}]
["32310","Revalúo de bienes inmuebles",null,71385689,null,null,null,{"$f":"ROUND(D182+F182-E182,2)","v":71385689}]
["32320","Revalúo de bienes muebles",null,6333701,null,null,null,6333701]
["32330","Revalúo de bienes intangibles",null,null,null,null,null,0]
["32390","Otros revalúos",null,null,null,null,null,0]
["32400","RESERVAS",null,{"$f":"SUM(D187:D189)","v":0},{"$f":"SUM(E187:E189)","v":0},{"$f":"SUM(F187:F189)","v":0},null,{"$f":"SUM(H187:H189)","v":0}]
["32410","Reservas de patrimonio",null,null,null,null,null,{"$f":"ROUND(D187+F187-E187,2)","v":0}]
["32420","Reservas territoriales",null,null,null,null,null,0]
["32430","Reservas por contingencias",null,null,null,null,null,0]
["32500","RECTIFICACIONES DE RESULTADOS DE EJERCICIOS ANTERIORES",null,{"$f":"SUM(D191:D192)","v":340881.06},{"$f":"SUM(E191:E192)","v":0},{"$f":"SUM(F191:F192)","v":0},null,{"$f":"SUM(H191:H192)","v":340881.06}]
["32510","Cambios en políticas contables",null,0,0,0,null,{"$f":"ROUND(D191+F191-E191,2)","v":0}]
["32520","Cambios por errores contables",null,340881.06,0,0,null,340881.06]
["33000","EXCESO O INSUFICIENCIA EN LA ACTUALIZACIÓN  DE LA HACIENDA PÚBLICA/PATRIMONIO",null,{"$f":"SUM(D194:D195)","v":0},{"$f":"SUM(E194:E195)","v":0},{"$f":"SUM(F194:F195)","v":0},null,{"$f":"SUM(H194:H195)","v":0}]
["33100","RESULTADO POR POSICIÓN MONETARIA",null,0,0,0,null,{"$f":"ROUND(D194+F194-E194,2)","v":0}]
["33200","RESULTADO POR TENENCIA DE ACTIVOS NO MONETARIOS",null,0,0,0,null,0]
["40000","INGRESOS Y OTROS BENEFICIOS",null,{"$f":"D197+D307+D355","v":85356413.620000005},{"$f":"E197+E307+E355","v":0},{"$f":"F197+F307+F355","v":41167320.840000004},null,{"$f":"H197+H307+H355","v":41167320.840000004}]
["41000","INGRESOS DE GESTIÓN",null,{"$f":"D198+D219+D225+D230+D262+D271+D292+D304","v":10162303.850000001},{"$f":"E198+E219+E225+E230+E262+E271+E292+E304","v":0},{"$f":"F198+F219+F225+F230+F262+F271+F292+F304","v":8169035.5200000005},null,{"$f":"H198+H219+H225+H230+H262+H271+H292+H304","v":8169035.5200000005}]
["41100","IMPUESTOS",null,{"$f":"D199+D201+D205+D206+D207+D208+D209+D215+D217","v":3775730.5},{"$f":"E199+E201+E205+E206+E207+E208+E209+E215+E217","v":0},{"$f":"F199+F201+F205+F206+F207+F208+F209+F215+F217","v":2967353.3},null,{"$f":"H199+H201+H205+H206+H207+H208+H209+H215+H217","v":2967353.3}]
[41110,"Impuestos sobre los ingresos",null,{"$f":"SUM(D200)","v":0},{"$f":"SUM(E200)","v":0},{"$f":"SUM(F200)","v":0},null,{"$f":"SUM(H200)","v":0}]
["41110-1","Impuestos sobre espectáculos públicos",null,null,null,null,null,{"$f":"ROUND(F200-E200,2)","v":0}]
[41120,"Impuestos sobre el patrimonio",null,{"$f":"SUM(D202:D204)","v":3763123.5},{"$f":"SUM(E202:E204)","v":0},{"$f":"SUM(F202:F204)","v":2884685.67},null,{"$f":"SUM(H202:H204)","v":2884685.67}]
["41120-1","Impuesto predial ",null,2353448.1800000002,null,2233728.81,null,2233728.81]
["41120-2","Impuestos sobre transmisiones patrimoniales",null,1409675.32,null,650956.86,null,650956.86]
["41120-3","Impuestos sobre negocios jurídicos",null,null,null,null,null,0]
["41130","Impuesto sobre la producción, el consumo y las transacciones",null,null,null,null,null,0]
["41140","Impuestos al comercio exterior",null,null,null,null,null,0]
["41150","Impuestos sobre nóminas y asimilables",null,null,null,null,null,0]
["41160","Impuestos ecológicos",null,null,null,null,null,0]
["41170","Accesorios de impuestos",null,{"$f":"SUM(D210:D214)","v":12607},{"$f":"SUM(E210:E214)","v":0},{"$f":"SUM(F210:F214)","v":221.31},null,{"$f":"SUM(H210:H214)","v":221.31}]
["41170-1","Recargos",null,12607,null,null,null,0]
["41170-2","Actualizaciones",null,null,null,null,null,0]
["41170-3","Multas",null,null,null,null,null,0]
["41170-4","Gastos de ejecución",null,null,null,221.31,null,221.31]
["41170-5","Otros no especificados",null,null,null,null,null,0]
["41180","Impuestos no comprendidos en la ley de ingresos vigente, causados en ejercicios fiscales anteriores pendientes de liquidar o pago",null,{"$f":"SUM(D216)","v":0},{"$f":"SUM(E216)","v":0},{"$f":"SUM(F216)","v":0},null,{"$f":"SUM(H216)","v":0}]
["41180-1","Impuestos no comprendidos en la ley de ingresos vigente, causados en ejercicios fiscales anteriores pendientes de liquidar o pago",null,null,null,null,null,0]
["41190","Otros impuestos",null,{"$f":"SUM(D218)","v":0},{"$f":"SUM(E218)","v":0},{"$f":"SUM(F218)","v":82446.320000000007},null,{"$f":"SUM(H218)","v":82446.320000000007}]
["41190-1","Otros impuestos",null,null,null,82446.320000000007,null,82446.320000000007]
["41200","CUOTAS Y APORTACIONES DE SEGURIDAD SOCIAL",null,{"$f":"SUM(D220:D224)","v":0},{"$f":"SUM(E220:E224)","v":0},{"$f":"SUM(F220:F224)","v":0},null,{"$f":"SUM(H220:H224)","v":0}]
["41210","Aportaciones para fondos de vivienda"]
["41220","Cuotas para la seguridad social "]
["41230","Cuotas de ahorro para el retiro"]
["41240","Accesorios de cuotas y aportaciones de seguridad social"]
["41290","Otras cuotas y aportaciones para la seguridad social"]
["41300","CONTRIBUCIONES DE MEJORAS",null,{"$f":"SUM(D226+D228)","v":78355.199999999997},{"$f":"SUM(E226+E228)","v":0},{"$f":"SUM(F226+F228)","v":20229},null,{"$f":"SUM(H226+H228)","v":20229}]
["41310","Contribución de mejoras por obras públicas",null,{"$f":"SUM(D227)","v":78355.199999999997},{"$f":"SUM(E227)","v":0},{"$f":"SUM(F227)","v":20229},null,{"$f":"SUM(H227)","v":20229}]
["41310-1","Contribuciones de mejoras por obras públicas",null,78355.199999999997,null,20229,null,{"$f":"ROUND(F227-E227,2)","v":20229}]
["41320","Contribuciones de mejoras no comprendidas en la ley de ingresos vigente, causadas en ejercicios fiscales anteriores pendientes de liquidación o pago",null,{"$f":"SUM(D229)","v":0},{"$f":"SUM(E229)","v":0},{"$f":"SUM(F229)","v":0},null,{"$f":"SUM(H229)","v":0}]
["41320-1","Contribuciones de mejoras no comprendidas en la ley de ingresos vigente, causadas en ejercicios fiscales anteriores pendientes de liquidación o pago",null,null,null,null,null,0]
["41400","DERECHOS",null,{"$f":"D231+D236+D237+D258+D260+D252","v":5364009.6899999995},{"$f":"E231+E236+E237+E258+E260+E252","v":0},{"$f":"F231+F236+F237+F258+F260+F252","v":4710921.1000000006},null,{"$f":"H231+H236+H237+H258+H260+H252","v":4710921.1000000006}]
["41410","Derechos por el uso, goce, aprovechamiento o explotación de bienes de dominio público",null,{"$f":"SUM(D232:D235)","v":12920},{"$f":"SUM(E232:E235)","v":0},{"$f":"SUM(F232:F235)","v":7959.25},null,{"$f":"SUM(H232:H235)","v":7959.25}]
["41410-1","Derechos por el uso del piso",null,null,null,null,null,{"$f":"ROUND(F232-E232,2)","v":0}]
["41410-2","Derechos por el uso de los estacionamientos",null,null,null,null,null,0]
["41410-3","Derechos de uso de cementerios y panteones municipales",null,2610,null,3247,null,3247]
["41410-4","Derechos de concesiones y demás inmuebles de propiedad municipal",null,10310,null,4712.25,null,4712.25]
["41420","Derechos a los hidrocarburos (derogada)"]
["41430","Derechos por prestación de servicios",null,{"$f":"SUM(D238:D251)","v":5080131.22},{"$f":"SUM(E238:E251)","v":0},{"$f":"SUM(F238:F251)","v":4439654.8500000006},null,{"$f":"SUM(H238:H251)","v":4439654.8500000006}]
["41430-1","Derechos de licencias y permisos de giros",null,309184.34000000003,null,324391.81,null,{"$f":"ROUND(F238-E238,2)","v":324391.81}]
["41430-2","Derechos de licencias y permisos de anuncios",null,24193.18,null,17138,null,17138]
["41430-3","Derechos de licencias de construcción, reconstrucción, reparación o demolición de obras",null,84154.21,null,34644.230000000003,null,34644.230000000003]
["41430-4","Derechos de regularizaciones de los registros de obra",null,null,null,null,null,0]
["41430-5","Derechos de alineamiento, designación de número oficial e inspección",null,9175.9,null,17411,null,17411]
["41430-6","Derechos de licencias de cambio de régimen de propiedad y urbanización",null,129490.98,null,15860,null,15860]
["41430-7","Derechos de servicios de obra",null,12949.21,null,null,null,0]
["41430-8","Derechos de servicios de sanidad",null,20751,null,9598,null,9598]
["41430-9","Derechos de servicio de limpieza, recolección, traslado, tratamiento y disposición final de residuos",null,null,null,null,null,0]
["41430-10","Derechos de agua potable, drenaje, alcantarillado, tratamiento y disposición final de aguas residuales",null,2880051.76,null,3324697.01,null,3324697.01]
["41430-11","Derechos del rastro",null,493540,null,173368.02,null,173368.02]
["41430-12","Derechos del registro civil",null,543826,null,260447,null,260447]
["41430-13","Derechos de las certificaciones",null,46769,null,80266.55,null,80266.55]
["41430-14","Derechos de los servicios de catastro",null,526045.64,null,181833.23,null,181833.23]
["41440","Accesorios de derecho",null,{"$f":"SUM(D253:D257)","v":52700.97},{"$f":"SUM(E253:E257)","v":0},{"$f":"SUM(F253:F257)","v":263307},null,{"$f":"SUM(H253:H257)","v":263307}]
["41440-1","Recargos",null,52700.97,null,15351,null,15351]
["41440-2","Actualizaciones",null,null,null,null,null,0]
["41440-3","Multas",null,null,null,null,null,0]
["41440-4","Gastos de ejecución",null,null,null,null,null,0]
["41440-5","Otros no especificados",null,null,null,247956,null,247956]
["41450","Derechos no comprendidos en la ley de ingresos vigente, causados en ejercicios fiscales anteriores pendientes de liquidación o pago",null,{"$f":"SUM(D259)","v":0},{"$f":"SUM(E259)","v":0},{"$f":"SUM(F259)","v":0},null,{"$f":"SUM(H259)","v":0}]
["41450-1","Derechos no comprendidos en la ley de ingresos vigente, causados en ejercicios fiscales anteriores pendientes de liquidación o pago",null,null,null,null,null,0]
["41490","Otros derechos",null,{"$f":"SUM(D261)","v":218257.5},{"$f":"SUM(E261)","v":0},{"$f":"SUM(F261)","v":0},null,{"$f":"SUM(H261)","v":0}]
["41490-1","Otros derechos",null,218257.5,null,null,null,0]
["41500","PRODUCTOS",null,{"$f":"D263+D266+D267+D268+D270","v":380275.05},{"$f":"E263+E266+E267+E268+E270","v":0},{"$f":"F263+F266+F267+F268+F270","v":236390},null,{"$f":"H263+H266+H267+H268+H270","v":236390}]
["41510","Productos",null,{"$f":"SUM(D264:D265)","v":380275.05},{"$f":"SUM(E264:E265)","v":0},{"$f":"SUM(F264:F265)","v":236390},null,{"$f":"SUM(H264:H265)","v":236390}]
["41510-1","Uso, goce, aprovechamiento o explotación de bienes de dominio privado",null,380275.05,null,null,null,{"$f":"ROUND(F264-E264,2)","v":0}]
["41510-2","Productos diversos",null,null,null,236390,null,236390]
["41520","Enajenación de bienes muebles no sujetos a ser inventariados (derogada)"]
["41530","Accesorios de productos (derogada)"]
["41540","Productos no comprendidos en la ley de ingresos vigente, causadas en ejercicios fiscales anteriores pendientes de liquidación o pago",null,{"$f":"SUM(D269)","v":0},{"$f":"SUM(E269)","v":0},{"$f":"SUM(F269)","v":0},null,{"$f":"SUM(H269)","v":0}]
["41540-1","Productos no comprendidos en la ley de ingresos vigente, causadas en ejercicios fiscales anteriores pendientes de liquidación o pago",null,null,null,null,null,{"$f":"ROUND(F269-E269,2)","v":0}]
["41590","Otros productos que generan ingresos corrientes (derogada)"]
["41600","APROVECHAMIENTOS",null,{"$f":"SUM(D273+D275+D277+D279+D281+D290+D284)","v":563933.41},{"$f":"SUM(E273+E275+E277+E279+E281+E290+E284)","v":0},{"$f":"SUM(F273+F275+F277+F279+F281+F290+F284)","v":234142.12},null,{"$f":"SUM(H273+H275+H277+H279+H281+H290+H284)","v":234142.12}]
["41610","Incentivos derivados de la colaboración fiscal (derogada)"]
["41620","Multas",null,{"$f":"SUM(D274)","v":337123.4},{"$f":"SUM(E274)","v":0},{"$f":"SUM(F274)","v":0},null,{"$f":"SUM(H274)","v":0}]
["41620-1","Multas",null,337123.4,null,null,null,{"$f":"ROUND(F274-E274,2)","v":0}]
["41630","Indemnizaciones",null,{"$f":"SUM(D276)","v":0},{"$f":"SUM(E276)","v":0},{"$f":"SUM(F276)","v":0},null,{"$f":"SUM(H276)","v":0}]
["41630-1","Indemnizaciones",null,null,null,null,null,0]
["41640","Reintegros",null,{"$f":"SUM(D278)","v":0},{"$f":"SUM(E278)","v":0},{"$f":"SUM(F278)","v":0},null,{"$f":"SUM(H278)","v":0}]
["41640-1","Reintegros",null,null,null,null,null,0]
["41650","Aprovechamientos provenientes de obras públicas",null,{"$f":"SUM(D280)","v":0},{"$f":"SUM(E280)","v":0},{"$f":"SUM(F280)","v":0},null,{"$f":"SUM(H280)","v":0}]
["41650-1","Aprovechamientos provenientes de obras públicas",null,null,null,null,null,0]
["41660","Aprovechamientos no comprendidos en la ley de ingresos vigente, causados en ejercicios fiscales anteriores pendientes de liquidación o pago",null,{"$f":"SUM(D282)","v":0},{"$f":"SUM(E282)","v":0},{"$f":"SUM(F282)","v":0},null,{"$f":"SUM(H282)","v":0}]
["41660-1","Aprovechamientos no comprendidos en la ley de ingresos vigente, causados en ejercicios fiscales anteriores pendientes de liquidación o pago",null,null,null,null,null,0]
["41670","Aprovechamientos por aportaciones y cooperaciones (derogada)"]
["41680","Accesorios de aprovechamiento",null,{"$f":"SUM(D285:D289)","v":0},{"$f":"SUM(E285:E289)","v":0},{"$f":"SUM(F285:F289)","v":0},null,{"$f":"SUM(H285:H289)","v":0}]
["41680-1","Recargos",null,null,null,null,null,{"$f":"ROUND(F285-E285,2)","v":0}]
["41680-2","Actualizaciones",null,null,null,null,null,0]
["41680-3","Multas",null,null,null,null,null,0]
["41680-4","Gastos de ejecución",null,null,null,null,null,0]
["41680-5","Otros no especificados",null,null,null,null,null,0]
["41690","Otros aprovechamientos",null,{"$f":"SUM(D291)","v":226810.01},{"$f":"SUM(E291)","v":0},{"$f":"SUM(F291)","v":234142.12},null,{"$f":"SUM(H291)","v":234142.12}]
["41690-1","Otros aprovechamientos",null,226810.01,null,234142.12,null,234142.12]
["41700","INGRESOS POR VENTAS DE BIENES Y PRESTACIÓN DE SERVICIOS",null,{"$f":"D293+D295+D296+D298+D299+D300+D301+D303","v":0},{"$f":"E293+E295+E296+E298+E299+E300+E301+E303","v":0},{"$f":"F293+F295+F296+F298+F299+F300+F301+F303","v":0},null,{"$f":"H293+H295+H296+H298+H299+H300+H301+H303","v":0}]
["41710","Ingresos por venta de bienes y prestación de servicios de instituciones públicas de seguridad social",null,{"$f":"SUM(D294)","v":0},{"$f":"SUM(E294)","v":0},{"$f":"SUM(F294)","v":0},null,{"$f":"SUM(H294)","v":0}]
["41710-1","Ingresos por venta de bienes y prestación de servicios de instituciones públicas de seguridad social",null,null,null,null,null,{"$f":"ROUND(F294-E294,2)","v":0}]
["41720","Ingresos por venta de bienes y prestación de servicios de empresas productivas del estado",null,null,null,null,null,0]
["41730","Ingresos por venta de bienes y prestación de servicios de entidades paraestatales y fideicomisos no empresariales y no financieros",null,{"$f":"SUM(D297)","v":0},{"$f":"SUM(E297)","v":0},{"$f":"SUM(F297)","v":0},null,{"$f":"SUM(H297)","v":0}]
["41730-1","Ingresos por venta de bienes y prestación de servicios de entidades paraestatales y fideicomisos no empresariales y no financieros",null,null,null,null,null,0]
["41740","Ingresos por venta de bienes y prestación de servicios de entidades paraestatales empresariales no financieras con participación estatal mayoritaria",null,null,null,null,null,0]
["41750","Ingresos por venta de bienes y prestación de servicios de entidades paraestatales empresariales financieras monetarias con participación estatal mayoritaria",null,null,null,null,null,0]
["41760","Ingresos por venta de bienes y prestación de servicios de entidades paraestatales empresariales financieras no monetarias con participación estatal mayoritaria",null,null,null,null,null,0]
["41770","Ingresos por venta de bienes y prestación de servicios de fideicomisos financieros públicos con participación estatal mayoritaria",null,{"$f":"SUM(D302)","v":0},{"$f":"SUM(E302)","v":0},{"$f":"SUM(F302)","v":0},null,{"$f":"SUM(H302)","v":0}]
["41770-1","Ingresos por venta de bienes y prestación de servicios de fideicomisos financieros públicos con participación estatal mayoritaria",null,null,null,null,null,0]
["41780","Ingresos por venta de bienes y prestación de servicios de los poderes legislativo y judicial, y de los órganismos autónomos",null,null,null,null,null,0]
["41900","INGRESOS NO COMPRENDIDOS EN LAS FRACCIONES DE LA LEY DE INGRESOS CAUSADOS EN EJERCICIOS FISCALES ANTERIORES PENDIENTES DE LIQUIDACIÓN O PAGO (DEROGADA) ",null,{"$f":"SUM(D305:D306)","v":0},{"$f":"SUM(E305:E306)","v":0},{"$f":"SUM(F305:F306)","v":0},null,{"$f":"SUM(H305:H306)","v":0}]
["41910","Impuestos no comprendidos en las fracciones de la ley de ingresos causados en ejercicios fiscales anteriores pendientes de liquidación o pago (derogada)"]
["41920","Cont. de mejoras, derechos, productos y aprovechamientos no comprendidos en las frac. de ley de la ingresos causados en ejercicios fiscales anteriores pendientes de liquidación o pago (derogada)"]
["42000","PARTICIPACIONES, APORTACIONES, CONVENIOS, INCENTIVOS DERIVADOS DE LA COLABORACIÓN FISCAL, FONDOS DISTINTOS DE APORTACIONES, TRANSFERENCIAS, ASIGNACIONES, SUBSIDIOS Y SUBVENCIONES, Y PENSIONES Y JUBILACIONES",null,{"$f":"D308+D341","v":75194109.769999996},{"$f":"E308+E341","v":0},{"$f":"F308+F341","v":32998285.32},null,{"$f":"H308+H341","v":32998285.32}]
["42100","PARTICIPACIONES, APORTACIONES, CONVENIOS, INCENTIVOS DERIVADOS DE LA COLABORACIÓN FISCAL Y FONDOS DISTINTOS DE APORTACIONES",null,{"$f":"D309+D322+D325+D332+D338","v":75194109.769999996},{"$f":"E309+E322+E325+E332+E338","v":0},{"$f":"F309+F322+F325+F332+F338","v":32998285.32},null,{"$f":"H309+H322+H325+H332+H338","v":32998285.32}]
["42110","Participaciones",null,{"$f":"SUM(D310:D321)","v":42738133.469999999},{"$f":"SUM(E310:E321)","v":0},{"$f":"SUM(F310:F321)","v":21011174.580000002},null,{"$f":"SUM(H310:H321)","v":21011174.580000002}]
["42110-1","Fondo general de participaciones (federal)",null,32432847.539999999,null,14603299.289999999,null,{"$f":"ROUND(F310-E310,2)","v":14603299.289999999}]
["42110-2","Fondo de fomento municipal (federal)",null,5792788.2400000002,null,4437061.3,null,4437061.3]
["42110-3","Fondo de fiscalización y recaudación (federal)",null,1024670.79,null,436104.37,null,436104.37]
["42110-4","Fondo de compensación (federal)",null,22538.44,null,1.68,null,1.68]
["42110-5","Fondo de extracción de hidrocarburos (federal)",null,null,null,null,null,0]
["42110-6","Impuesto especial sobre producción y servicios (federal)",null,1042466.86,null,459814.68,null,459814.68]
["42110-7","0.136% de la recaudación federal participable (federal)",null,null,null,null,null,0]
["42110-8","3.17% sobre extracción de petróleo (federal)",null,null,null,null,null,0]
["42110-9","Gasolinas y diésel (federal)",null,676852.81,null,405954.14,null,405954.14]
["42110-10","Fondo del impuesto sobre la renta (federal)",null,1573677.44,null,589400.46,null,589400.46]
["42110-11","Fondo de estabilización de los ingresos de las entidades federativas (federal)",null,null,null,null,null,0]
["42110-12","Participaciones del estado",null,172291.35,null,79538.66,null,79538.66]
["42120","Aportaciones",null,{"$f":"SUM(D323:D324)","v":21607210.420000002},{"$f":"SUM(E323:E324)","v":0},{"$f":"SUM(F323:F324)","v":11503752.1},null,{"$f":"SUM(H323:H324)","v":11503752.1}]
["42120-1","Fondo de aportaciones para la infraestructura social municipal",null,11995567.970000001,null,6716090.5,null,6716090.5]
["42120-2","Fondo de aportaciones para el fortalecimiento municipal",null,9611642.4499999993,null,4787661.5999999996,null,4787661.5999999996]
["42130","Convenios",null,{"$f":"SUM(D326:D331)","v":9825000},{"$f":"SUM(E326:E331)","v":0},{"$f":"SUM(F326:F331)","v":57442.5},null,{"$f":"SUM(H326:H331)","v":57442.5}]
["42130-1","Convenios de protección social en salud",null,null,null,null,null,0]
["42130-2","Convenios de descentralizados",null,null,null,null,null,0]
["42130-3","Convenio de reasignación",null,null,null,null,null,0]
["42130-4","Otros convenios y subsidios (Con ingresos de libre disposición)",null,null,null,null,null,0]
["42130-5","Otros convenios y subsidios (Con ingresos etiquetados federales)",null,9825000,null,57442.5,null,57442.5]
["42130-6","Otros convenios y subsidios (Con ingresos etiquetados estatales)",null,null,null,null,null,0]
["42140","Incentivos derivados de la colaboración fiscal",null,{"$f":"SUM(D333:D337)","v":1023765.88},{"$f":"SUM(E333:E337)","v":0},{"$f":"SUM(F333:F337)","v":425916.14},null,{"$f":"SUM(H333:H337)","v":425916.14}]
["42140-1","Tenencia o uso de vehículos",null,10.36,null,6.57,null,6.57]
["42140-2","Fondo de compensación ISAN",null,188703.78,null,60894.3,null,60894.3]
["42140-3","Impuesto sobre automóviles nuevos",null,733346.6,null,365015.27,null,365015.27]
["42140-4","Fondo de compensación de repecos-intermedios",null,null,null,null,null,0]
["42140-5","Otros incentivos económicos",null,101705.14,null,null,null,0]
["42150","Fondos distintos de aportaciones",null,{"$f":"SUM(D339:D340)","v":0},{"$f":"SUM(E339:E340)","v":0},{"$f":"SUM(F339:F340)","v":0},null,{"$f":"SUM(H339:H340)","v":0}]
["42150-1","Fondo para entidades federativas y municipios productores de hidrocarburos",null,null,null,null,null,0]
["42150-2","Fondo minero",null,null,null,null,null,0]
["42200","TRANSFERENCIAS, ASIGNACIONES, SUBSIDIOS Y SUBVENCIONES, Y PENSIONES Y JUBILACIONES",null,{"$f":"D342+D345+D346+D349+D350+D352+D353","v":0},{"$f":"E342+E345+E346+E349+E350+E352+E353","v":0},{"$f":"F342+F345+F346+F349+F350+F352+F353","v":0},null,{"$f":"H342+H345+H346+H349+H350+H352+H353","v":0}]
["42210","Transferencias y asignaciones",null,{"$f":"SUM(D343:D344)","v":0},{"$f":"SUM(E343:E344)","v":0},{"$f":"SUM(F343:F344)","v":0},null,{"$f":"SUM(H343:H344)","v":0}]
["42210-1","Transferencias y asignaciones (con ingresos de libre disposición)",null,null,null,null,null,{"$f":"ROUND(F343-E343,2)","v":0}]
["42210-2","Transferencias y asignaciones (con ingresos etiquetados)",null,null,null,null,null,0]
["42220","Transferencias del sector público (derogada)"]
["42230","Subsidios y subvenciones",null,{"$f":"SUM(D347:D348)","v":0},{"$f":"SUM(E347:E348)","v":0},{"$f":"SUM(F347:F348)","v":0},null,{"$f":"SUM(H347:H348)","v":0}]
["42230-1","Subsidios y subvenciones (con ingresos de libre disposición)",null,null,null,null,null,{"$f":"ROUND(F347-E347,2)","v":0}]
["42230-2","Subsidios y subvenciones (con ingresos etiquetados)",null,null,null,null,null,0]
["42240","Ayudas sociales (derogada)"]
["42250","Pensiones y jubilaciones",null,{"$f":"SUM(D351)","v":0},{"$f":"SUM(E351)","v":0},{"$f":"SUM(F351)","v":0},null,{"$f":"SUM(H351)","v":0}]
["42250-1","Pensiones y jubilaciones",null,null,null,null,null,{"$f":"ROUND(F351-E351,2)","v":0}]
["42260","Transferencias del exterior (derogada)"]
["42270","Transferencias del fondo mexicano del petróleo para la estabilización y el desarrollo",null,{"$f":"SUM(D354)","v":0},{"$f":"SUM(E354)","v":0},{"$f":"SUM(F354)","v":0},null,{"$f":"SUM(H354)","v":0}]
["42270-1","Transferencias del fondo mexicano del petróleo para la estabilización y el desarrollo",null,null,null,null,null,{"$f":"ROUND(F354-E354,2)","v":0}]
["43000","OTROS INGRESOS Y BENEFICIOS",null,{"$f":"D356+D361+D367+D370+D373","v":0},{"$f":"E356+E361+E367+E370+E373","v":0},{"$f":"F356+F361+F367+F370+F373","v":0},null,{"$f":"H356+H361+H367+H370+H373","v":0}]
["43100","INGRESOS FINANCIEROS",null,{"$f":"D357+D359","v":0},{"$f":"E357+E359","v":0},{"$f":"F357+F359","v":0},null,{"$f":"H357+H359","v":0}]
["43110","Intereses ganados de títulos, valores y demás instrumentos financieros",null,{"$f":"SUM(D358)","v":0},{"$f":"SUM(E358)","v":0},{"$f":"SUM(F358)","v":0},null,{"$f":"SUM(H358)","v":0}]
["43110-1","Intereses ganados de títulos, valores y demás instrumentos financieros",null,null,null,null,null,{"$f":"ROUND(F358-E358,2)","v":0}]
["43190","Otros ingresos financieros",null,{"$f":"SUM(D360)","v":0},{"$f":"SUM(E360)","v":0},{"$f":"SUM(F360)","v":0},null,{"$f":"SUM(H360)","v":0}]
["43190-1","Otros ingresos financieros",null,null,null,null,null,0]
["43200","INCREMENTO POR VARIACIÓN DE INVENTARIOS",null,{"$f":"SUM(D362:D366)","v":0},{"$f":"SUM(E362:E366)","v":0},{"$f":"SUM(F362:F366)","v":0},null,{"$f":"SUM(H362:H366)","v":0}]
["43210","Incremento por variación de inventarios de mercancías para venta"]
["43220","Incremento por variación de inventarios de mercancías terminadas"]
["43230","Incremento por variación de inventarios de mercancías en proceso de elaboración"]
["43240","Incremento por variación de inventarios de materias primas, materiales y suministros para producción"]
["43250","Incremento por variación de almacén de mercancías primas, materiales y suministros de consumo"]
["43300","DISMINUCIÓN DEL EXCESO DE ESTIMACIONES POR PÉRDIDA O DETERIORO U OBSOLESCENCIA",null,{"$f":"SUM(D368)","v":0},0,0,null,{"$f":"SUM(H368)","v":0}]
["43310","Disminución del exceso de estimaciones por pérdida o deterioro u obsolescencia",null,0,0,0,null,0]
["43310-1","Disminución del exceso de estimaciones por pérdida o deterioro u obsolescencia",null,null,null,null,null,{"$f":"ROUND(F369-E369,2)","v":0}]
["43400","DISMINUCIÓN DEL EXCESO DE PROVISIONES",null,{"$f":"SUM(D371)","v":0},0,0,null,{"$f":"SUM(H371)","v":0}]
["43410","Disminución del exceso de provisiones",null,0,0,0,null,0]
["43410-1","Disminución del exceso de provisiones",null,null,null,null,null,{"$f":"ROUND(F372-E372,2)","v":0}]
["43900","OTROS INGRESOS Y BENEFICIOS VARIOS",null,{"$f":"D375+D377+D379+D381+D383+D385+D387","v":0},{"$f":"E375+E377+E379+E381+E383+E385+E387","v":0},{"$f":"F375+F377+F379+F381+F383+F385+F387","v":0},null,{"$f":"H375+H377+H379+H381+H383+H385+H387","v":0}]
["43910","Otros ingresos de ejercicios anteriores (derogada)"]
["43920","Bonificaciones y descuentos obtenidos",null,{"$f":"SUM(D376)","v":0},{"$f":"SUM(E376)","v":0},{"$f":"SUM(F376)","v":0},null,{"$f":"SUM(H376)","v":0}]
["43920-1","Bonificaciones y descuentos obtenidos",null,null,null,null,null,{"$f":"ROUND(F376-E376,2)","v":0}]
["43930","Diferencias por tipo de cambio a favor",null,{"$f":"SUM(D378)","v":0},{"$f":"SUM(E378)","v":0},{"$f":"SUM(F378)","v":0},null,{"$f":"SUM(H378)","v":0}]
["43930-1","Diferencias por tipo de cambio a favor",null,null,null,null,null,0]
["43940","Diferencias de cotizaciones a favor en valores negociables",null,{"$f":"SUM(D380)","v":0},{"$f":"SUM(E380)","v":0},{"$f":"SUM(F380)","v":0},null,{"$f":"SUM(H380)","v":0}]
["43940-1","Diferencias de cotizaciones a favor en valores negociables",null,null,null,null,null,0]
["43950","Resultado por posición monetaria",null,{"$f":"SUM(D382)","v":0},{"$f":"SUM(E382)","v":0},{"$f":"SUM(F382)","v":0},null,{"$f":"SUM(H382)","v":0}]
["43950-1","Resultado por posición monetaria",null,null,null,null,null,0]
["43960","Utilidades por participación patrimonial",null,{"$f":"SUM(D384)","v":0},{"$f":"SUM(E384)","v":0},{"$f":"SUM(F384)","v":0},null,{"$f":"SUM(H384)","v":0}]
["43960-1","Utilidades por participación patrimonial",null,null,null,null,null,0]
["43970","Diferencias por reestructuración de deuda pública a favor",null,{"$f":"SUM(D386)","v":0},{"$f":"SUM(E386)","v":0},{"$f":"SUM(F386)","v":0},null,{"$f":"SUM(H386)","v":0}]
["43970-1","Diferencias por reestructuración de deuda pública a favor",null,null,null,null,null,0]
["43990","Otros ingresos y beneficios varios",null,{"$f":"SUM(D388)","v":0},{"$f":"SUM(E388)","v":0},{"$f":"SUM(F388)","v":0},null,{"$f":"SUM(H388)","v":0}]
["43990-1","Otros ingresos y beneficios varios",null,null,null,null,null,0]
["50000","GASTOS Y OTRAS PÉRDIDAS",{"$f":"C390+C576+C659+C683+C713+C746","v":62725236.619999997},null,{"$f":"E390+E576+E659+E683+E713+E746","v":25589488.789999999},{"$f":"F390+F576+F659+F683+F713+F746","v":0},{"$f":"G390+G576+G659+G683+G713+G746","v":25589488.789999999}]
["51000","GASTOS DE FUNCIONAMIENTO",{"$f":"C391+C426+C491","v":55635757.649999999},null,{"$f":"E391+E426+E491","v":22428273.690000001},{"$f":"F391+F426+F491","v":0},{"$f":"G391+G426+G491","v":22428273.690000001}]
["51100","SERVICIOS PERSONALES",{"$f":"SUM(C392+C397+C402+C411+C416+C423)","v":28818625.819999997},null,{"$f":"SUM(E392+E397+E402+E411+E416+E423)","v":11351335.800000001},{"$f":"SUM(F392+F397+F402+F411+F416+F423)","v":0},{"$f":"SUM(G392+G397+G402+G411+G416+G423)","v":11351335.800000001}]
["51110","Remuneraciones al personal de carácter permanente",{"$f":"SUM(C393:C396)","v":19103484.25},null,{"$f":"SUM(E393:E396)","v":8457691.370000001},{"$f":"SUM(F393:F396)","v":0},{"$f":"SUM(G393:G396)","v":8457691.370000001}]
["51110-1","Dietas",1305720,null,716165,null,{"$f":"ROUND(E393-F393,2)","v":716165}]
["51110-2","Haberes"]
["51110-3","Sueldos base al personal permanente",17797764.25,null,7741526.3700000001,null,7741526.3700000001]
["51110-4","Remuneraciones por adscripción laboral en el extranjero"]
["51120","Remuneraciones al personal de carácter transitorio",{"$f":"SUM(C398:C401)","v":4638750.4000000004},null,{"$f":"SUM(E398:E401)","v":2568775.4300000002},{"$f":"SUM(F398:F401)","v":0},{"$f":"SUM(G398:G401)","v":2568775.4300000002}]
["51120-1","Honorarios asimilables a salarios",720,null,null,null,{"$f":"ROUND(E398-F398,2)","v":0}]
["51120-2","Sueldos base al personal eventual",4638030.4000000004,null,2568775.4300000002,null,2568775.4300000002]
["51120-3","Retribuciones por servicios de carácter social",null,null,null,null,0]
["51120-4","Retribución a los representantes de los trabajadores y de los patrones en la Junta de Conciliación y Arbitraje",null,null,null,null,0]
["51130","Remuneraciones adicionales y especiales",{"$f":"SUM(C403:C410)","v":4710817.95},null,{"$f":"SUM(E403:E410)","v":321744},{"$f":"SUM(F403:F410)","v":0},{"$f":"SUM(G403:G410)","v":321744}]
["51130-1","Primas por años de servicios efectivos prestados",102207.87,null,null,null,0]
["51130-2","Primas de vacaciones, dominical y gratificación de fin de año",3612843.28,null,4847,null,4847]
["51130-3","Horas extraordinarias",995766.8,null,316897,null,316897]
["51130-4","Compensaciones",null,null,null,null,0]
["51130-5","Sobrehaberes",null,null,null,null,0]
["51130-6","Asignaciones de técnico, de mando, por comisión, de vuelo y de técnico especial",null,null,null,null,0]
["51130-7","Honorarios especiales",null,null,null,null,0]
["51130-8","Participaciones por vigilancia en el cumplimiento de la leyes y custodia de valores",null,null,null,null,0]
["51140","Seguridad social",{"$f":"SUM(C412:C415)","v":0},null,{"$f":"SUM(E412:E415)","v":0},{"$f":"SUM(F412:F415)","v":0},{"$f":"SUM(G412:G415)","v":0}]
["51140-1","Aportaciones de seguridad social",null,null,null,null,0]
["51140-2","Aportaciones a fondos de vivienda",null,null,null,null,0]
["51140-3","Aportaciones al sistema para el retiro",null,null,null,null,0]
["51140-4","Aportaciones para seguros",null,null,null,null,0]
["51150","Otras prestaciones sociales y económicas",{"$f":"SUM(C417:C422)","v":365573.22},null,{"$f":"SUM(E417:E422)","v":3125},{"$f":"SUM(F417:F422)","v":0},{"$f":"SUM(G417:G422)","v":3125}]
["51150-1","Cuotas para el fondo de ahorro y fondo de trabajo",null,null,null,null,0]
["51150-2","Indemnizaciones",250000,null,3125,null,3125]
["51150-3","Prestaciones y haberes de retiro",115573.22,null,null,null,0]
["51150-4","Prestaciones contractuales",null,null,null,null,0]
["51150-5","Apoyos a la capacitación de los servidores públicos",null,null,null,null,0]
["51150-6","Otras prestaciones sociales y económicas",null,null,null,null,0]
["51160","Pago de estímulos a servidores públicos",{"$f":"SUM(C424:C425)","v":0},null,{"$f":"SUM(E424:E425)","v":0},{"$f":"SUM(F424:F425)","v":0},{"$f":"SUM(G424:G425)","v":0}]
["51160-1","Estímulos",null,null,null,null,0]
["51160-2","Recompensas",null,null,null,null,0]
["51200","MATERIALES Y SUMINISTROS",{"$f":"C427+C436+C440+C450+C460+C468+C471+C477+C481","v":12834285.48},null,{"$f":"E427+E436+E440+E450+E460+E468+E471+E477+E481","v":4885619.29},{"$f":"F427+F436+F440+F450+F460+F468+F471+F477+F481","v":0},{"$f":"G427+G436+G440+G450+G460+G468+G471+G477+G481","v":4885619.29}]
["51210","Materiales de administración, emisión de documentos y artículos oficiales",{"$f":"SUM(C428:C435)","v":995922.68},null,{"$f":"SUM(E428:E435)","v":305484.88},{"$f":"SUM(F428:F435)","v":0},{"$f":"SUM(G428:G435)","v":305484.88}]
["51210-1","Materiales, útiles y equipos menores de oficina",673202.83,null,237457.11,null,{"$f":"ROUND(E428-F428,2)","v":237457.11}]
["51210-2","Materiales y útiles de impresión y reproducción",207506.87,null,3503,null,3503]
["51210-3","Material estadístico y geográfico",null,null,null,null,0]
["51210-4","Materiales, útiles y equipos menores de tecnologías de la información y comunicaciones",942,null,5856,null,5856]
["51210-5","Material impreso e información digital",7887.31,null,null,null,0]
["51210-6","Material de limpieza",105183.67,null,58668.77,null,58668.77]
["51210-7","Materiales y útiles de enseñanza",null,null,null,null,0]
["51210-8","Materiales para el registro e identificación de bienes y personas",1200,null,null,null,0]
["51220","Alimentos y utensilios",{"$f":"SUM(C437:C439)","v":362437.79},null,{"$f":"SUM(E437:E439)","v":120865.38},{"$f":"SUM(F437:F439)","v":0},{"$f":"SUM(G437:G439)","v":120865.38}]
["51220-1","Productos alimenticios para personas",362437.79,null,120865.38,null,120865.38]
["51220-2","Productos alimenticios para animales",null,null,null,null,0]
["51220-3","Utensilios para el servicio de alimentación",null,null,null,null,0]
["51230","Materias primas y materiales de producción y comercialización",{"$f":"SUM(C441:C449)","v":0},null,{"$f":"SUM(E441:E449)","v":0},{"$f":"SUM(F441:F449)","v":0},{"$f":"SUM(G441:G449)","v":0}]
["51230-1","Productos alimenticios, agropecuarios y forestales adquiridos como materia prima"]
["51230-2","Insumos textiles adquiridos como materia prima"]
["51230-3","Productos de papel, cartón e impresos adquiridos como materia prima"]
["51230-4","Combustibles, lubricantes, aditivos, carbón y sus derivados adquiridos como materia prima"]
["51230-5","Productos químicos, farmacéuticos y de laboratorio adquiridos como materia prima"]
["51230-6","Productos metálicos y a base de minerales no metálicos adquiridos como materia prima"]
["51230-7","Productos de cuero, piel, plástico y hule adquiridos como materia prima"]
["51230-8","Mercancías adquiridas para su comercialización"]
["51230-9","Otros productos adquiridos como materia prima"]
["51240","Materiales y artículos de construcción y de reparación",{"$f":"SUM(C451:C459)","v":118168.65},null,{"$f":"SUM(E451:E459)","v":0},{"$f":"SUM(F451:F459)","v":0},{"$f":"SUM(G451:G459)","v":0}]
["51240-1","Productos minerales no metálicos",null,null,null,null,{"$f":"ROUND(E451-F451,2)","v":0}]
["51240-2","Cemento y productos de concreto",null,null,null,null,0]
["51240-3","Cal, yeso y productos de yeso",null,null,null,null,0]
["51240-4","Madera y productos de madera",8358.7199999999993,null,null,null,0]
["51240-5","Vidrio y productos de vidrio",null,null,null,null,0]
["51240-6","Material eléctrico y electrónico",109809.93,null,null,null,0]
["51240-7","Artículos metálicos para la construcción",null,null,null,null,0]
["51240-8","Materiales complementarios",null,null,null,null,0]
["51240-9","Otros materiales y artículos de construcción y reparación",null,null,null,null,0]
["51250","Productos químicos, farmacéuticos y de laboratorio",{"$f":"SUM(C461:C467)","v":1660759.9},null,{"$f":"SUM(E461:E467)","v":460377.77},{"$f":"SUM(F461:F467)","v":0},{"$f":"SUM(G461:G467)","v":460377.77}]
["51250-1","Productos químicos básicos",1053014.51,null,186252.44,null,186252.44]
["51250-2","Fertilizantes, pesticidas y otros agroquímicos",37558.550000000003,null,8714.81,null,8714.81]
["51250-3","Medicinas y productos farmacéuticos",570186.84,null,265410.52,null,265410.52]
["51250-4","Materiales, accesorios y suministros médicos",null,null,null,null,0]
["51250-5","Materiales, accesorios y suministros de laboratorio",null,null,null,null,0]
["51250-6","Fibras sintéticas, hules plásticos y derivados",null,null,null,null,0]
["51250-7","Otros productos químicos",null,null,null,null,0]
["51260","Combustibles, lubricantes y aditivos",{"$f":"SUM(C469:C470)","v":7177629.5099999998},null,{"$f":"SUM(E469:E470)","v":2428837.14},{"$f":"SUM(F469:F470)","v":0},{"$f":"SUM(G469:G470)","v":2428837.14}]
["51260-1","Combustibles, lubricantes y aditivos",7177629.5099999998,null,2428837.14,null,2428837.14]
["51260-2","Carbón y sus derivados",null,null,null,null,0]
["51270","Vestuario, blancos, prendas de protección y artículos deportivos",{"$f":"SUM(C472:C476)","v":139754.32999999999},null,{"$f":"SUM(E472:E476)","v":50463.12},{"$f":"SUM(F472:F476)","v":0},{"$f":"SUM(G472:G476)","v":50463.12}]
["51270-1","Vestuario y uniformes",76391.48,null,27685.72,null,27685.72]
["51270-2","Prendas de seguridad y protección personal",28169.040000000001,null,null,null,0]
["51270-3","Artículos deportivos",35193.81,null,22777.4,null,22777.4]
["51270-4","Productos textiles",null,null,null,null,0]
["51270-5","Blancos y otros productos textiles, excepto prendas de vestir",null,null,null,null,0]
["51280","Materiales y suministros para seguridad",{"$f":"SUM(C478:C480)","v":0},null,{"$f":"SUM(E478:E480)","v":198109.25},{"$f":"SUM(F478:F480)","v":0},{"$f":"SUM(G478:G480)","v":198109.25}]
["51280-1","Sustancias y materiales explosivos",null,null,null,null,0]
["51280-2","Materiales de seguridad pública",null,null,198109.25,null,198109.25]
["51280-3","Prendas de protección para seguridad pública y nacional",null,null,null,null,0]
["51290","Herramientas, refacciones y accesorios menores",{"$f":"SUM(C482:C490)","v":2379612.62},null,{"$f":"SUM(E482:E490)","v":1321481.75},{"$f":"SUM(F482:F490)","v":0},{"$f":"SUM(G482:G490)","v":1321481.75}]
["51290-1","Herramientas menores",56303.25,null,118252.15,null,118252.15]
["51290-2","Refacciones y accesorios menores de edificios",null,null,null,null,0]
["51290-3","Refacciones y accesorios menores de mobiliario  y equipo de administración, educacional y recreativo",null,null,21381.99,null,21381.99]
["51290-4","Refacciones y accesorios menores de equipo de cómputo y tecnologías de la información",null,null,null,null,0]
["51290-5","Refacciones y accesorios menores de equipo e instrumental médico y de laboratorio",null,null,null,null,0]
["51290-6","Refacciones y accesorios menores de equipo de transporte",1556417.3,null,493793.21,null,493793.21]
["51290-7","Refacciones y accesorios menores de equipo de defensa y seguridad",null,null,null,null,0]
["51290-8","Refacciones y accesorios menores de maquinaria y otros equipos",766892.07,null,688054.4,null,688054.4]
["51290-9","Refacciones y accesorios menores otros bienes muebles",null,null,null,null,0]
["51300","SERVICIOS GENERALES",{"$f":"C492+C502+C512+C522+C532+C542+C560+C566+C550","v":13982846.35},null,{"$f":"E492+E502+E512+E522+E532+E542+E560+E566+E550","v":6191318.6000000006},{"$f":"F492+F502+F512+F522+F532+F542+F560+F566+F550","v":0},{"$f":"G492+G502+G512+G522+G532+G542+G560+G566+G550","v":6191318.6000000006}]
["51310","Servicios básicos",{"$f":"SUM(C493:C501)","v":8361797.540000001},null,{"$f":"SUM(E493:E501)","v":3665869.29},{"$f":"SUM(F493:F501)","v":0},{"$f":"SUM(G493:G501)","v":3665869.29}]
["51310-1","Energía eléctrica",8189034,null,3531888,null,{"$f":"ROUND(E493-F493,2)","v":3531888}]
["51310-2","Gas ",2885.91,null,2320.54,null,2320.54]
["51310-3","Agua",25819.95,null,5976,null,5976]
["51310-4","Telefonía tradicional",93703,null,56969,null,56969]
["51310-5","Telefonía celular",null,null,400,null,400]
["51310-6","Servicios de telecomunicaciones y satélites",null,null,null,null,0]
["51310-7","Servicios de acceso de Internet, redes y procesamiento de información",44247.32,null,66925.67,null,66925.67]
["51310-8","Servicios postales y telegráficos",6107.36,null,1390.08,null,1390.08]
["51310-9","Servicios integrales y otros servicios",null,null,null,null,0]
["51320","Servicios de arrendamiento",{"$f":"SUM(C503:C511)","v":652522},null,{"$f":"SUM(E503:E511)","v":275136},{"$f":"SUM(F503:F511)","v":0},{"$f":"SUM(G503:G511)","v":275136}]
["51320-1","Arrendamiento de terrenos",null,null,null,null,0]
["51320-2","Arrendamiento de edificios",72600,null,49700,null,49700]
["51320-3","Arrendamiento de mobiliario y equipo de administración, educacional y recreativo",131814,null,5568,null,5568]
["51320-4","Arrendamiento de equipo e instrumental médico y de laboratorio",null,null,null,null,0]
["51320-5","Arrendamiento de equipo de transporte",35380,null,6380,null,6380]
["51320-6","Arrendamiento de maquinaria, otros equipos y herramientas",412728,null,213488,null,213488]
["51320-7","Arrendamiento de activos intangibles",null,null,null,null,0]
["51320-8","Arrendamiento financiero",null,null,null,null,0]
["51320-9","Otros arrendamientos",null,null,null,null,0]
["51330","Servicios profesionales, científicos, técnicos y otros servicios",{"$f":"SUM(C513:C521)","v":85552.98000000001},null,{"$f":"SUM(E513:E521)","v":104052},{"$f":"SUM(F513:F521)","v":0},{"$f":"SUM(G513:G521)","v":104052}]
["51330-1","Servicios legales, de contabilidad, auditoría y relacionados",29999.99,null,null,null,0]
["51330-2","Servicios de diseño, arquitectura, ingeniería y actividades relacionadas",null,null,28768,null,28768]
["51330-3","Servicios de consultoría administrativa, procesos, técnica y en tecnologías de la información",null,null,null,null,0]
["51330-4","Servicios de capacitación",null,null,null,null,0]
["51330-5","Servicios de investigación científica y desarrollo",16617,null,null,null,0]
["51330-6","Servicios de apoyo administrativo, traducción, fotocopiado e impresión",null,null,null,null,0]
["51330-7","Servicios de protección y seguridad",null,null,null,null,0]
["51330-8","Servicios de vigilancia",null,null,null,null,0]
["51330-9","Servicios profesionales, científicos y técnicos integrales",38935.99,null,75284,null,75284]
["51340","Servicios financieros, bancarios y comerciales",{"$f":"SUM(C523:C531)","v":413140.04},null,{"$f":"SUM(E523:E531)","v":47530.039999999994},{"$f":"SUM(F523:F531)","v":0},{"$f":"SUM(G523:G531)","v":47530.039999999994}]
["51340-1","Servicios financieros y bancarios",17520.2,null,4150.9399999999996,null,4150.9399999999996]
["51340-2","Servicios de cobranza, investigación crediticia y similar",null,null,null,null,0]
["51340-3","Servicios de recaudación, traslado y custodia de valores",null,null,null,null,0]
["51340-4","Seguros de responsabilidad patrimonial y fianzas",22994.1,null,23516.1,null,23516.1]
["51340-5","Seguro de bienes patrimoniales",316312.87,null,11743,null,11743]
["51340-6","Almacenaje, envase y embalaje",null,null,null,null,0]
["51340-7","Fletes y maniobras",56312.87,null,8120,null,8120]
["51340-8","Comisiones por ventas",null,null,null,null,0]
["51340-9","Servicios financieros, bancarios y comerciales integrales",null,null,null,null,0]
["51350","Servicios de instalación, reparación, mantenimiento y conservación",{"$f":"SUM(C533:C541)","v":2556551.85},null,{"$f":"SUM(E533:E541)","v":878866.75},{"$f":"SUM(F533:F541)","v":0},{"$f":"SUM(G533:G541)","v":878866.75}]
["51350-1","Conservación y mantenimiento menor de inmuebles",1706241.06,null,522764.2,null,522764.2]
["51350-2","Instalación, reparación y mantenimiento de mobiliario y equipo de administración, educacional y recreativo",null,null,21460,null,21460]
["51350-3","Instalación, reparación y mantenimiento de equipo de cómputo y tecnología de la información",55132.480000000003,null,2088,null,2088]
["51350-4","Instalación, reparación y mantenimiento de equipo e instrumental médico y de laboratorio",null,null,null,null,0]
["51350-5","Reparación y mantenimiento de equipo de transporte",312775.78000000003,null,49983.98,null,49983.98]
["51350-6","Reparación y mantenimiento de equipo de defensa y seguridad",null,null,null,null,0]
["51350-7","Instalación, reparación y mantenimiento de maquinaria, otros equipos y herramienta",482402.53,null,282570.57,null,282570.57]
["51350-8","Servicios de limpieza y manejo de desechos",null,null,null,null,0]
["51350-9","Servicios de jardinería y fumigación",null,null,null,null,0]
["51360","Servicios de comunicación social y publicidad",{"$f":"SUM(C543:C549)","v":0},null,{"$f":"SUM(E543:E549)","v":0},{"$f":"SUM(F543:F549)","v":0},{"$f":"SUM(G543:G549)","v":0}]
["51360-1","Difusión por radio, televisión y otros medios de mensajes sobre programas y actividades gubernamentales",null,null,null,null,0]
["51360-2","Difusión por radio, televisión y otros medios de mensajes comerciales para promover la venta de bienes o servicios",null,null,null,null,0]
["51360-3","Servicios de creatividad, preproducción y producción de publicidad, excepto Internet",null,null,null,null,0]
["51360-4","Servicios de revelado de  fotografías",null,null,null,null,0]
["51360-5","Servicios de la industria fílmica, del sonido y del video",null,null,null,null,0]
["51360-6","Servicio de creación y difusión de contenido exclusivamente a través de Internet",null,null,null,null,0]
["51360-7","Otros servicios de información",null,null,null,null,0]
["51370","Servicios de traslado y viáticos",{"$f":"SUM(C551:C559)","v":224463.34999999998},null,{"$f":"SUM(E551:E559)","v":120755.97},{"$f":"SUM(F551:F559)","v":0},{"$f":"SUM(G551:G559)","v":120755.97}]
["51370-1","Pasajes aéreos",null,null,16009,null,16009]
["51370-2","Pasajes terrestres",null,null,null,null,0]
["51370-3","Pasajes marítimos, lacustres y fluviales",null,null,null,null,0]
["51370-4","Autotransporte",null,null,null,null,0]
["51370-5","Viáticos en el país",174309,null,94746.97,null,94746.97]
["51370-6","Viáticos en el extranjero ",null,null,null,null,{"$f":"ROUND(E556-F556,2)","v":0}]
["51370-7","Gastos de instalación y traslado de menaje",null,null,null,null,0]
["51370-8","Servicios integrales de traslado y viáticos",6600.08,null,null,null,0]
["51370-9","Otros servicios de traslado y hospedaje",43554.27,null,10000,null,10000]
["51380","Servicios oficiales",{"$f":"SUM(C561:C565)","v":1357096.75},null,{"$f":"SUM(E561:E565)","v":518520.32000000001},{"$f":"SUM(F561:F565)","v":0},{"$f":"SUM(G561:G565)","v":518520.32000000001}]
["51380-1","Gastos de ceremonial",null,null,null,null,0]
["51380-2","Gastos de orden  social y cultural",1357096.75,null,518520.32000000001,null,518520.32000000001]
["51380-3","Congresos y convenciones",null,null,null,null,0]
["51380-4","Exposiciones",null,null,null,null,0]
["51380-5","Gastos de representación",null,null,null,null,0]
["51390","Otros servicios generales",{"$f":"SUM(C567:C575)","v":331721.84000000003},null,{"$f":"SUM(E567:E575)","v":580588.23},{"$f":"SUM(F567:F575)","v":0},{"$f":"SUM(G567:G575)","v":580588.23}]
["51390-1","Servicios funerarios y de cementerios",null,null,null,null,0]
["51390-2","Impuestos y derechos",331721.84000000003,null,580575.41,null,580575.41]
["51390-3","Impuestos y derechos de importación",null,null,null,null,0]
["51390-4","Sentencias y resoluciones por autoridad competente",null,null,12.82,null,12.82]
["51390-5","Penas, multas, accesorios y actualizaciones",null,null,null,null,0]
["51390-6","Otros gastos por responsabilidades",null,null,null,null,0]
["51390-7","Utilidades",null,null,null,null,0]
["51390-8","Impuesto sobre nómina y otros que se deriven de una relación laboral",null,null,null,null,0]
["51390-9","Otros servicios generales",null,null,null,null,0]
["52000","TRANSFERENCIAS, ASIGNACIONES, SUBSIDIOS Y OTRAS  AYUDAS",{"$f":"C577+C589+C597+C609+C622+C629+C639+C642+C653","v":7089478.9699999997},null,{"$f":"E577+E589+E597+E609+E622+E629+E639+E642+E653","v":3161215.0999999996},{"$f":"F577+F589+F597+F609+F622+F629+F639+F642+F653","v":0},{"$f":"G577+G589+G597+G609+G622+G629+G639+G642+G653","v":3161215.0999999996}]
["52100","TRANSFERENCIAS INTERNAS Y ASIGNACIONES AL SECTOR PÚBLICO",{"$f":"SUM(C578:C588)","v":0},null,{"$f":"SUM(E578:E588)","v":0},0,0]
["52110","Asignaciones al sector público",null,null,null,null,{"$f":"ROUND(E578-F578,2)","v":0}]
["52110-1","Asignaciones presupuestarias al Poder Ejecutivo",null,null,null,null,0]
["52110-2","Asignaciones presupuestarias al Poder Legislativo",null,null,null,null,0]
["52110-3","Asignaciones presupuestarias al Poder Judicial",null,null,null,null,0]
["52110-4","Asignaciones presupuestarias a Órganos Autónomos",null,null,null,null,0]
["52110-5","Transferencias internas otorgadas a entidades paraestatales no empresariales y no financieras",null,null,null,null,0]
["52110-6","Transferencias internas otorgadas a entidades paraestatales empresariales y no financieras",null,null,null,null,0]
["52110-7","Transferencias internas otorgadas a fideicomisos públicos empresariales y no financieros",null,null,null,null,0]
["52110-8","Transferencias internas otorgadas a instituciones paraestatales públicas financieras",null,null,null,null,0]
["52110-9","Transferencias internas otorgadas a fideicomisos públicos financieros",null,null,null,null,0]
["52120","Transferencias internas al sector público",null,null,null,null,0]
["52200","TRANSFERENCIAS AL RESTO DEL SECTOR PÚBLICO",{"$f":"C590+C594","v":1856000},null,{"$f":"E590+E594","v":1026835},{"$f":"F590+F594","v":0},{"$f":"G590+G594","v":1026835}]
[52210,"Transferencias a entidades paraestatales",{"$f":"SUM(C591:C593)","v":1856000},null,{"$f":"SUM(E591:E593)","v":1026835},{"$f":"SUM(F591:F593)","v":0},{"$f":"SUM(G591:G593)","v":1026835}]
["52210-1","Transferencias otorgadas a entidades paraestatales no empresariales y no financieras",1856000,null,1026835,null,{"$f":"ROUND(E591-F591,2)","v":1026835}]
["52210-2","Transferencias otorgadas para entidades paraestatales empresariales y no financieras",null,null,null,null,0]
["52210-3","Transferencias otorgadas para instituciones paraestatales públicas financieras  ",null,null,null,null,0]
[52220,"Transferencias a entidades federativas y municipios",{"$f":"SUM(C595:C596)","v":0},null,{"$f":"SUM(E595:E596)","v":0},{"$f":"SUM(F595:F596)","v":0},{"$f":"SUM(G595:G596)","v":0}]
["52220-1","Transferencias otorgadas a entidades federativas y municipios",null,null,null,null,0]
["52220-2","Transferencias a fideicomisos de entidades federativas y municipios",null,null,null,null,0]
["52300","SUBSIDIOS Y SUBVENCIONES",{"$f":"SUM(C598+C607)","v":0},null,{"$f":"SUM(E598+E607)","v":0},{"$f":"SUM(F598+F607)","v":0},{"$f":"SUM(G598+G607)","v":0}]
["52310","Subsidios",{"$f":"SUM(C599:C606)","v":0},null,{"$f":"SUM(E599:E606)","v":0},{"$f":"SUM(F599:F606)","v":0},{"$f":"SUM(G599:G606)","v":0}]
["52310-1","Subsidios a la producción",null,null,null,null,{"$f":"ROUND(E599-F599,2)","v":0}]
["52310-2","Subsidios a la distribución",null,null,null,null,0]
["52310-3","Subsidios a la inversión",null,null,null,null,0]
["52310-4","Subsidios a la prestación de servicios públicos",null,null,null,null,0]
["52310-5","Subsidios para cubrir diferenciales de tasas de interés",null,null,null,null,0]
["52310-6","Subsidios a la vivienda ",null,null,null,null,0]
["52310-7","Subsidios a entidades federativas y municipios",null,null,null,null,0]
["52310-8","Otros subsidios",null,null,null,null,0]
["52320","Subvenciones",{"$f":"SUM(C608)","v":0},null,{"$f":"SUM(E608)","v":0},{"$f":"SUM(F608)","v":0},{"$f":"SUM(G608)","v":0}]
["52320-1","Subvenciones al consumo",null,null,null,null,0]
["52400","AYUDAS SOCIALES",{"$f":"C610+C612+C614+C620","v":3379409.85},null,{"$f":"E610+E612+E614+E620","v":1297007.8399999999},{"$f":"F610+F612+F614+F620","v":0},{"$f":"G610+G612+G614+G620","v":1297007.8399999999}]
["52410","Ayudas sociales a personas",{"$f":"SUM(C611)","v":2693932.85},null,{"$f":"SUM(E611)","v":356255.63},{"$f":"SUM(F611)","v":0},{"$f":"SUM(G611)","v":356255.63}]
["52410-1","Ayudas sociales a personas ",2693932.85,null,356255.63,null,{"$f":"ROUND(E611-F611,2)","v":356255.63}]
["52420","Becas",{"$f":"SUM(C613)","v":21500},null,{"$f":"SUM(E613)","v":2000},{"$f":"SUM(F613)","v":0},{"$f":"SUM(G613)","v":2000}]
["52420-1","Becas y otras ayudas para programas de capacitación",21500,null,2000,null,2000]
["52430","Ayudas sociales a instituciones",{"$f":"SUM(C615:C619)","v":663977},null,{"$f":"SUM(E615:E619)","v":938752.21},{"$f":"SUM(F615:F619)","v":0},{"$f":"SUM(G615:G619)","v":938752.21}]
["52430-1","Ayudas sociales a instituciones de enseñanza",202516,null,831975.21,null,831975.21]
["52430-2","Ayudas sociales a actividades científicas o académicas",null,null,null,null,0]
["52430-3","Ayudas sociales a instituciones sin fines de lucro",461461,null,106777,null,106777]
["52430-4","Ayudas sociales a cooperativas",null,null,null,null,0]
["52430-5","Ayudas sociales a entidades de interés público",null,null,null,null,0]
["52440","Ayudas sociales por desastres naturales y otros siniestros",{"$f":"SUM(C621)","v":0},null,{"$f":"SUM(E621)","v":0},{"$f":"SUM(F621)","v":0},{"$f":"SUM(G621)","v":0}]
["52440-1","Ayudas por desastres naturales y otros siniestros",null,null,null,null,0]
["52500","PENSIONES Y JUBILACIONES",{"$f":"C623+C625+C627","v":1854069.12},null,{"$f":"E623+E625+E627","v":837372.26},{"$f":"F623+F625+F627","v":0},{"$f":"G623+G625+G627","v":837372.26}]
["52510","Pensiones",{"$f":"SUM(C624)","v":1854069.12},null,{"$f":"SUM(E624)","v":837372.26},{"$f":"SUM(F624)","v":0},{"$f":"SUM(G624)","v":837372.26}]
["52510-1","Pensiones",1854069.12,null,837372.26,null,{"$f":"ROUND(E624-F624,2)","v":837372.26}]
["52520","Jubilaciones",{"$f":"SUM(C626)","v":0},null,{"$f":"SUM(E626)","v":0},{"$f":"SUM(F626)","v":0},{"$f":"SUM(G626)","v":0}]
["52520-1","Jubilaciones",null,null,null,null,0]
["52590","Otras pensiones y jubilaciones",{"$f":"SUM(C628)","v":0},null,{"$f":"SUM(E628)","v":0},{"$f":"SUM(F628)","v":0},{"$f":"SUM(G628)","v":0}]
["52590-1","Otras pensiones y jubilaciones",null,null,null,null,0]
["52600","TRANSFERENCIAS A FIDEICOMISOS, MANDATOS Y CONTRATOS ANÁLOGOS",{"$f":"C630+C634","v":0},null,{"$f":"E630+E634","v":0},{"$f":"F630+F634","v":0},{"$f":"G630+G634","v":0}]
["52610","Transferencias a fideicomisos, mandatos y contratos análogos al gobierno",{"$f":"SUM(C631:C633)","v":0},null,{"$f":"SUM(E631:E633)","v":0},{"$f":"SUM(F631:F633)","v":0},{"$f":"SUM(G631:G633)","v":0}]
["52610-1","Transferencias a fideicomisos del Poder Ejecutivo",null,null,null,null,{"$f":"ROUND(E631-F631,2)","v":0}]
["52610-2","Transferencias a fideicomisos del Poder Legislativo",null,null,null,null,0]
["52610-3","Transferencias a fideicomisos del Poder Judicial",null,null,null,null,0]
["52620","Transferencias a fideicomisos, mandatos y contratos análogos a entidades paraestatales",{"$f":"SUM(C635:C638)","v":0},null,{"$f":"SUM(E635:E638)","v":0},{"$f":"SUM(F635:F638)","v":0},{"$f":"SUM(G635:G638)","v":0}]
["52620-1","Transferencias a fideicomisos públicos de entidades paraestatales no empresariales y no financieras",null,null,null,null,0]
["52620-2","Transferencias a fideicomisos públicos de entidades paraestatales empresariales y no financieras",null,null,null,null,0]
["52620-3","Transferencias a fideicomisos de instituciones públicas financieras",null,null,null,null,0]
["52620-4","Otras transferencias a fideicomisos   ",null,null,null,null,0]
["52700","TRANSFERENCIAS A LA SEGURIDAD SOCIAL",{"$f":"SUM(C640)","v":0},null,{"$f":"SUM(E640)","v":0},0,0]
["52710","Transferencias por obligaciones de ley",{"$f":"SUM(C641)","v":0},null,0,0,0]
["52710-1","Transferencias por obligación de ley",null,null,null,null,{"$f":"ROUND(E641-F641,2)","v":0}]
["52800","DONATIVOS",{"$f":"C643+C645+C647+C649+C651","v":0},null,{"$f":"E643+E645+E647+E649+E651","v":0},{"$f":"F643+F645+F647+F649+F651","v":0},{"$f":"G643+G645+G647+G649+G651","v":0}]
["52810","Donativos a instituciones sin fines de lucro",{"$f":"SUM(C644)","v":0},null,{"$f":"SUM(E644)","v":0},{"$f":"SUM(F644)","v":0},{"$f":"SUM(G644)","v":0}]
["52810-1","Donativos a instituciones sin fines de lucro",null,null,null,null,{"$f":"ROUND(E644-F644,2)","v":0}]
["52820","Donativos a entidades federativas y municipios",{"$f":"SUM(C646)","v":0},null,{"$f":"SUM(E646)","v":0},{"$f":"SUM(F646)","v":0},{"$f":"SUM(G646)","v":0}]
["52820-1","Donativos a entidades federativas ",null,null,null,null,0]
["52830","Donativos a fideicomisos, mandatos y contratos análogos privados",{"$f":"SUM(C648)","v":0},null,{"$f":"SUM(E648)","v":0},{"$f":"SUM(F648)","v":0},{"$f":"SUM(G648)","v":0}]
["52830-1","Donativos a fideicomisos privados",null,null,null,null,0]
["52840","Donativos a fideicomisos mandatos y contratos análogos estatales",{"$f":"SUM(C650)","v":0},null,{"$f":"SUM(E650)","v":0},{"$f":"SUM(F650)","v":0},{"$f":"SUM(G650)","v":0}]
["52840-1","Donativos a fideicomisos estatales",null,null,null,null,0]
["52850","Donativos internacionales",{"$f":"SUM(C652)","v":0},null,{"$f":"SUM(E652)","v":0},{"$f":"SUM(F652)","v":0},{"$f":"SUM(G652)","v":0}]
["52850-1","Donativos internacionales",null,null,null,null,0]
["52900","TRANSFERENCIAS AL EXTERIOR",{"$f":"C654+C657","v":0},null,{"$f":"E654+E657","v":0},{"$f":"F654+F657","v":0},{"$f":"G654+G657","v":0}]
["52910","Transferencias al exterior a gobiernos extranjeros y organismos internacionales",{"$f":"SUM(C655:C656)","v":0},null,{"$f":"SUM(E655:E656)","v":0},{"$f":"SUM(F655:F656)","v":0},{"$f":"SUM(G655:G656)","v":0}]
["52910-1","Transferencias para gobiernos extranjeros",null,null,null,null,{"$f":"ROUND(E655-F655,2)","v":0}]
["52910-2","Transferencias para organismos internacionales",null,null,null,null,0]
["52920","Transferencias al sector privado externo",{"$f":"SUM(C658)","v":0},null,{"$f":"SUM(E658)","v":0},{"$f":"SUM(F658)","v":0},{"$f":"SUM(G658)","v":0}]
["52920-1","Transferencias para el sector privado externo",null,null,null,null,0]
["53000","PARTICIPACIONES Y APORTACIONES",{"$f":"C660+C669+C677","v":0},null,{"$f":"E660+E669+E677","v":0},{"$f":"F660+F669+F677","v":0},{"$f":"G660+G669+G677","v":0}]
["53100","PARTICIPACIONES",{"$f":"C661+C665","v":0},null,{"$f":"E661+E665","v":0},{"$f":"F661+F665","v":0},{"$f":"G661+G665","v":0}]
["53110","Participaciones de la federación a entidades federativas y municipios",{"$f":"SUM(C662:C664)","v":0},null,{"$f":"SUM(E662:E664)","v":0},{"$f":"SUM(F662:F664)","v":0},{"$f":"SUM(G662:G664)","v":0}]
["53110-1","Fondo general de participaciones",null,null,null,null,{"$f":"ROUND(E662-F662,2)","v":0}]
["53110-2","Otros conceptos participables de la Federación a entidades federativas",null,null,null,null,0]
["53110-3","Fondo de fomento municipal",null,null,null,null,0]
["53120","Participaciones de las entidades federativas a los municipios",{"$f":"SUM(C666:C668)","v":0},null,{"$f":"SUM(E666:E668)","v":0},{"$f":"SUM(F666:F668)","v":0},{"$f":"SUM(G666:G668)","v":0}]
["53120-1","Participaciones de las entidades federativas a los municipios",null,null,null,null,0]
["53120-2","Otros conceptos participables de la Federación a municipios",null,null,null,null,0]
["53120-3","Convenios de colaboración administrativa",null,null,null,null,0]
["53200","APORTACIONES",{"$f":"C670+C675","v":0},null,{"$f":"E670+E675","v":0},{"$f":"F670+F675","v":0},{"$f":"G670+G675","v":0}]
["53210","Aportaciones de la federación a entidades federativas y municipios",{"$f":"SUM(C671:C674)","v":0},null,{"$f":"SUM(E671:E674)","v":0},{"$f":"SUM(F671:F674)","v":0},{"$f":"SUM(G671:G674)","v":0}]
["53210-1","Aportaciones de la Federación a las entidades federativas",null,null,null,null,{"$f":"ROUND(E671-F671,2)","v":0}]
["53210-2","Aportaciones de la Federación a municipios",null,null,null,null,0]
["53210-3","Aportaciones  previstas en leyes y decretos al sistema de protección social",null,null,null,null,0]
["53210-4","Aportaciones previstas en leyes y decretos compensatorias a entidades federativas y municipios",null,null,null,null,0]
["53220","Aportaciones de las entidades federativas a los municipios",{"$f":"SUM(C676)","v":0},null,{"$f":"SUM(E676)","v":0},{"$f":"SUM(F676)","v":0},{"$f":"SUM(G676)","v":0}]
["53220-1","Aportaciones de las entidades federativas a los municipios",null,null,null,null,0]
["53300","CONVENIOS",{"$f":"C678+C680","v":0},null,{"$f":"E678+E680","v":0},{"$f":"F678+F680","v":0},{"$f":"G678+G680","v":0}]
["53310","Convenios de reasignación",{"$f":"SUM(C679)","v":0},null,{"$f":"SUM(E679)","v":0},{"$f":"SUM(F679)","v":0},{"$f":"SUM(G679)","v":0}]
["53310-1","Convenios de reasignación",null,null,null,null,{"$f":"ROUND(E679-F679,2)","v":0}]
["53320","Convenios de descentralización y otros",{"$f":"SUM(C681:C682)","v":0},null,{"$f":"SUM(E681:E682)","v":0},{"$f":"SUM(F681:F682)","v":0},0]
["53320-1","Convenios de descentralización",null,null,null,null,0]
["53320-2","Otros convenios",null,null,null,null,0]
["54000","INTERESES, COMISIONES Y OTROS GASTOS DE LA DEUDA PÚBLICA",{"$f":"C684+C695+C700+C705+C708","v":0},null,{"$f":"E684+E695+E700+E705+E708","v":0},{"$f":"F684+F695+F700+F705+F708","v":0},{"$f":"G684+G695+G700+G705+G708","v":0}]
["54100","INTERESES DE LA DEUDA PÚBLICA",{"$f":"C685+C689","v":0},null,{"$f":"E685+E689","v":0},{"$f":"F685+F689","v":0},{"$f":"G685+G689","v":0}]
["54110","Intereses de la deuda pública interna",{"$f":"SUM(C686:C688)","v":0},null,{"$f":"SUM(E686:E688)","v":0},{"$f":"SUM(F686:F688)","v":0},{"$f":"SUM(G686:G688)","v":0}]
["54110-1","Intereses de la deuda interna con instituciones de crédito",null,null,null,null,{"$f":"ROUND(E686-F686,2)","v":0}]
["54110-2","Intereses derivados de la colocación de títulos y valores",null,null,null,null,0]
["54110-3","Intereses por arrendamientos  financieros nacionales",null,null,null,null,0]
["54120","Intereses de la deuda pública externa",{"$f":"SUM(C690:C694)","v":0},null,{"$f":"SUM(E690:E694)","v":0},{"$f":"SUM(F690:F694)","v":0},{"$f":"SUM(G690:G694)","v":0}]
["54120-1","Intereses de la deuda externa con instituciones de crédito "]
["54120-2","Intereses de la deuda con organismos financieros internacionales"]
["54120-3","Intereses de la deuda bilateral  "]
["54120-4","Intereses derivados de la colocación de títulos y valores en el exterior"]
["54120-5","Intereses por arrendamientos financieros internacionales"]
["54200","COMISIONES DE LA DEUDA PÚBLICA",{"$f":"SUM(C696+C698)","v":0},null,{"$f":"SUM(E696+E698)","v":0},{"$f":"SUM(F696+F698)","v":0},{"$f":"SUM(G696+G698)","v":0}]
["54210","Comisiones de la deuda pública interna",{"$f":"SUM(C697)","v":0},null,{"$f":"SUM(E697)","v":0},{"$f":"SUM(F697)","v":0},{"$f":"SUM(G697)","v":0}]
["54210-1","Comisiones de la deuda pública interna",null,null,null,null,{"$f":"ROUND(E697-F697,2)","v":0}]
["54220","Comisiones de la deuda pública externa",{"$f":"SUM(C699)","v":0},null,{"$f":"SUM(E699)","v":0},{"$f":"SUM(F699)","v":0},0]
["54220-1","Comisiones de la deuda pública externa"]
["54300","GASTOS DE LA DEUDA PÚBLICA",{"$f":"SUM(C701+C703)","v":0},null,{"$f":"SUM(E701+E703)","v":0},{"$f":"SUM(F701+F703)","v":0},{"$f":"SUM(G701+G703)","v":0}]
["54310","Gastos de la deuda pública interna",{"$f":"SUM(C702)","v":0},null,{"$f":"SUM(E702)","v":0},{"$f":"SUM(F702)","v":0},{"$f":"SUM(G702)","v":0}]
["54310-1","Gastos de la deuda pública interna",null,null,null,null,{"$f":"ROUND(E702-F702,2)","v":0}]
["54320","Gastos de la deuda pública externa",{"$f":"SUM(C704)","v":0},null,{"$f":"SUM(E704)","v":0},{"$f":"SUM(F704)","v":0},{"$f":"SUM(G704)","v":0}]
["54320-1","Gastos de la deuda  pública externa"]
["54400","COSTO POR COBERTURAS",{"$f":"C706","v":0},null,{"$f":"E706","v":0},{"$f":"F706","v":0},{"$f":"G706","v":0}]
["54410","Costo por coberturas",{"$f":"SUM(C707)","v":0},null,{"$f":"SUM(E707)","v":0},{"$f":"SUM(F707)","v":0},{"$f":"SUM(G707)","v":0}]
["54410-1","Costos por coberturas",null,null,null,null,{"$f":"ROUND(E707-F707,2)","v":0}]
["54500","APOYOS FINANCIEROS",{"$f":"C709+C711","v":0},null,{"$f":"E709+E711","v":0},{"$f":"F709+F711","v":0},{"$f":"G709+G711","v":0}]
["54510","Apoyos financieros a intermediarios",{"$f":"SUM(C710)","v":0},null,{"$f":"SUM(E710)","v":0},{"$f":"SUM(F710)","v":0},{"$f":"SUM(G710)","v":0}]
["54510-1","Apoyos a intermediarios financieros",null,null,null,null,{"$f":"ROUND(E710-F710,2)","v":0}]
["54520","Apoyos financieros a ahorradores y deudores del sistema financiero nacional",{"$f":"SUM(C712)","v":0},null,{"$f":"SUM(E712)","v":0},{"$f":"SUM(F712)","v":0},{"$f":"SUM(G712)","v":0}]
["54520-1","Apoyos a ahorradores y deudores del Sistema Financiero Nacional",null,null,null,null,0]
["55000","OTROS GASTOS Y PÉRDIDAS EXTRAORDINARIAS",{"$f":"C714+C723+C726+C732+C734+C736","v":0},null,{"$f":"E714+E723+E726+E732+E734+E736","v":0},{"$f":"F714+F723+F726+F732+F734+F736","v":0},{"$f":"G714+G723+G726+G732+G734+G736","v":0}]
["55100","ESTIMACIONES, DEPRECIACIONES, DETERIOROS, OBSOLESCENCIA Y AMORTIZACIONES",{"$f":"SUM(C715:C722)","v":0},null,{"$f":"SUM(E715:E722)","v":0},{"$f":"SUM(F715:F722)","v":0},{"$f":"SUM(G715:G722)","v":0}]
["55110","Estimaciones de pérdida por deterioro de activos circulantes",null,null,null,null,{"$f":"ROUND(E715-F715,2)","v":0}]
["55120","Estimaciones de pérdida por deterioro de activo no circulante",null,null,null,null,0]
["55130","Depreciación de bienes inmuebles",null,null,null,null,0]
["55140","Depreciación de infraestructura",null,null,null,null,0]
["55150","Depreciación de bienes muebles",null,null,null,null,0]
["55160","Deterioro de bienes",null,null,null,null,0]
["55170","Amortización de activos intangibles",null,null,null,null,0]
["55180","Disminución de bienes por pérdida u obsolescencia",null,null,null,null,0]
["55200","PROVISIONES  ",{"$f":"SUM(C724:C725)","v":0},null,{"$f":"SUM(E724:E725)","v":0},{"$f":"SUM(F724:F725)","v":0},{"$f":"SUM(G724:G725)","v":0}]
["55210","Provisiones de pasivos a corto plazo",null,null,null,null,{"$f":"ROUND(E724-F724,2)","v":0}]
["55220","Provisiones de pasivos a largo plazo",null,null,null,null,0]
["55300","DISMINUCIÓN DE INVENTARIOS",{"$f":"SUM(C727:C731)","v":0},null,{"$f":"SUM(E727:E731)","v":0},{"$f":"SUM(F727:F731)","v":0},{"$f":"SUM(G727:G731)","v":0}]
["55310","Disminución de inventarios de mercancías para venta"]
["55320","Disminución de inventarios de mercancías terminadas"]
["55330","Disminución de inventarios de mercancías en proceso de elaboración"]
["55340","Disminución de inventarios de materias primas, materiales y suministros para producción"]
["55350","Disminución de almacén de materiales y suministros de consumo"]
["55400","AUMENTO POR INSUFICIENCIA DE ESTIMACIONES POR PÉRDIDA O DETERIORO U OBSOLESCENCIA (Derogada)",{"$f":"SUM(C733)","v":0},null,{"$f":"SUM(E733)","v":0},{"$f":"SUM(F733)","v":0},{"$f":"SUM(G733)","v":0}]
["55410","Aumento por insuficiencia de estimaciones por pérdida o deterioro u obsolescencia (Derogada)"]
["55500","AUMENTO POR INSUFICIENCIA DE PROVISIONES (Derogada)",{"$f":"SUM(C735)","v":0},null,{"$f":"SUM(E735)","v":0},{"$f":"SUM(F735)","v":0},{"$f":"SUM(G735)","v":0}]
["55510","AUMENTO POR INSUFICIENCIA DE PROVISIONES (Derogada)"]
["55900","OTROS GASTOS",{"$f":"SUM(C737:C745)","v":0},null,{"$f":"SUM(E737:E745)","v":0},{"$f":"SUM(F737:F745)","v":0},{"$f":"SUM(G737:G745)","v":0}]
["55910","Gastos de ejercicios anteriores",null,null,null,null,{"$f":"ROUND(E737-F737,2)","v":0}]
["55920","Pérdidas por responsabilidades",null,null,null,null,0]
["55930","Bonificaciones y descuentos otorgados",null,null,null,null,0]
["55940","Diferencias por tipo de cambio negativas",null,null,null,null,0]
["55950","Diferencias de cotizaciones negativas en valores negociables",null,null,null,null,0]
["55960","Resultado por posición monetaria",null,null,null,null,0]
["55970","Pérdidas por participación patrimonial",null,null,null,null,0]
["55980","Diferencias por reestructuración de deuda pública negativas",null,null,null,null,0]
["55990","Otros gastos varios",null,null,null,null,0]
["56000","INVERSIÓN PÚBLICA",{"$f":"C747","v":0},null,{"$f":"E747","v":0},{"$f":"F747","v":0},{"$f":"G747","v":0}]
["56100","INVERSIÓN PÚBLICA NO CAPITALIZABLE",{"$f":"SUM(C748)","v":0},null,{"$f":"SUM(E748)","v":0},{"$f":"SUM(F748)","v":0},{"$f":"SUM(G748)","v":0}]
["56110","Construcción en bienes no capitalizables",null,null,null,null,{"$f":"ROUND(E748-F748,2)","v":0}]
["60000","CUENTAS DE CIERRE CONTABLE",{"$f":"SUM(C750:C752)","v":22631177.000000007},0,15577832.050000004,0,15577832.050000001,0]
["61000","RESUMEN DE INGRESOS Y GASTOS"]
["62000","AHORRO DE LA GESTIÓN",{"$f":"IF(D196>C389,D196-C389,0)","v":22631177.000000007},null,{"$f":"IF((F196-E196)>(E389-F389),((F196-E196)-(E389-F389)),0)","v":15577832.050000004},null,{"$f":"ROUND(E751,2)","v":15577832.050000001}]
["63000","DESAHORRO DE LA GESTIÓN",null,{"$f":"IF(C389>D196,C389-D196,0)","v":0},null,{"$f":"IF((E389-F389)>(F196-E196),((E389-F389)-(F196-E196)),0)","v":0},null,{"$f":"ROUND(F752,2)","v":0}]
[" ","SUMAS IGUALES DE CUENTAS FINANCIERAS",{"$f":"C3+C101+C173+C196+C389+C749","v":489716766.56},489716766.56,178411818.81,178411818.81,459133007.28000003,459133007.27999997]
[70000,"CUENTAS DE ORDEN CONTABLES",{"$f":"C755+C762++C769+C776+C779+C782+C787","v":0},0,0,0,0,0]
[71000,"VALORES",{"$f":"SUM(C756:C761)","v":0},0,0,0,0,0]
[71100,"VALORES EN CUSTODIA",null,null,null,null,{"$f":"ROUND(C756+E756-F756,2)","v":0}]
[71200,"CUSTODIA DE VALORES",null,null,null,null,null,{"$f":"ROUND(D757+F757-E757,2)","v":0}]
[71300,"INSTRUMENTOS DE CRÉDITO PRESTADOS A FORMADORES DE MERCADO",null,null,null,null,{"$f":"ROUND(C758+E758-F758,2)","v":0}]
[71400,"PRÉSTAMO DE INSTRUMENTOS DE CRÉDITO A FORMADORES DE MERCADO Y SU GARANTÍA",null,null,null,null,null,{"$f":"ROUND(D759+F759-E759,2)","v":0}]
[71500,"INSTRUMENTOS DE CRÉDITO RECIBIDOS EN GARANTÍA DE LOS FORMADORES DE MERCADO",null,null,null,null,{"$f":"ROUND(C760+E760-F760,2)","v":0}]
[71600,"GARANTÍA DE CRÉDITOS RECIBIDOS DE LOS FORMADORES DE MERCADO",null,null,null,null,null,{"$f":"ROUND(D761+F761-E761,2)","v":0}]
[72000,"EMISION DE OBLIGACIONES",{"$f":"SUM(C763:C768)","v":0},0,0,0,0,0]
[72100,"AUTORIZACIÓN PARA LA EMISIÓN DE BONOS, TÍTULOS Y VALORES DE LA DEUDA PÚBLICA INTERNA",null,null,null,null,{"$f":"ROUND(C763+E763-F763,2)","v":0}]
[72200,"AUTORIZACIÓN PARA LA EMISIÓN DE BONOS, TÍTULOS Y VALORES DE LA DEUDA PÚBLICA EXTERNA"]
[72300,"EMISIONES AUTORIZADAS DE LA DEUDA PÚBLICA INTERNA Y EXTERNA",null,null,null,null,null,{"$f":"ROUND(D765+F765-E765,2)","v":0}]
[72400,"SUSCRIPCIÓN DE CONTRATOS DE PRÉSTAMOS Y OTRAS OBLIGACIONES DE LA DEUDA PÚBLICA INTERNA",null,null,null,null,{"$f":"ROUND(C766+E766-F766,2)","v":0}]
[72500,"SUSCRIPCIÓN DE CONTRATOS DE PRÉSTAMOS Y OTRAS OBLIGACIONES DE LA DEUDA PÚBLICA EXTERNA"]
[72600,"CONTRATOS DE PRÉSTAMOS Y OTRAS OBLIGACIONES DE LA DEUDA PÚBLICA INTERNA Y EXTERNA",null,null,null,null,null,{"$f":"ROUND(D768+F768-E768,2)","v":0}]
[73000,"AVALES Y GARANTIAS",{"$f":"SUM(C770:C775)","v":0},0,0,0,0,0]
[73100,"AVALES AUTORIZADOS",null,null,null,null,{"$f":"ROUND(C770+E770-F770,2)","v":0}]
[73200,"AVALES FIRMADOS",null,null,null,null,null,{"$f":"ROUND(D771+F771-E771,2)","v":0}]
[73300,"FIANZAS Y GARANTÍAS RECIBIDAS POR DEUDAS A COBRAR",null,null,null,null,{"$f":"ROUND(C772+E772-F772,2)","v":0}]
[73400,"FIANZAS Y GARANTÍAS RECIBIDAS",null,null,null,null,null,{"$f":"ROUND(D773+F773-E773,2)","v":0}]
[73500,"FIANZAS OTORGADAS PARA RESPALDAR OBLIGACIONES NO FISCALES DEL GOBIERNO",null,null,null,null,{"$f":"ROUND(C774+E774-F774,2)","v":0}]
[73600,"FIANZAS OTORGADAS DEL GOBIERNO PARA RESPALDAR OBLIGACIONES NO FISCALES",null,null,null,null,null,{"$f":"ROUND(D775+F775-E775,2)","v":0}]
[74000,"JUICIOS",{"$f":"SUM(C777:C778)","v":0},0,0,0,0,0]
[74100,"DEMANDAS JUDICIAL EN PROCESO DE RESOLUCIÓN",null,0,0,0,{"$f":"ROUND(C777+E777-F777,2)","v":0}]
[74200,"RESOLUCIÓN DE DEMANDAS EN PROCESO JUDICIAL",null,0,0,0,null,{"$f":"ROUND(D778+F778-E778,2)","v":0}]
[75000,"INVERSION MEDIANTE PROYECTOS PARA PRESTACION DE SERVICIOS (PPS) Y SIMILARES",{"$f":"SUM(C780:C781)","v":0},0,0,0,0,0]
[75100,"CONTRATOS PARA INVERSIÓN MEDIANTE PROYECTOS PARA PRESTACIÓN DE SERVICIOS (PPS) Y SIMILARES",null,null,null,null,{"$f":"ROUND(C780+E780-F780,2)","v":0}]
[75200,"INVERSIÓN PÚBLICA CONTRATADA MEDIANTE PROYECTOS PARA PRESTACIÓN DE SERVICIOS (PPS) Y SIMILARES",null,null,null,null,null,{"$f":"ROUND(D781+F781-E781,2)","v":0}]
[76000,"BIENES CONCESIONADOS O EN COMODATO",{"$f":"SUM(C783:C786)","v":0},0,0,0,0,0]
[76100,"BIENES BAJO CONTRATO EN CONCESIÓN",null,null,null,null,{"$f":"ROUND(C783+E783-F783,2)","v":0}]
[76200,"CONTRATO DE CONCESIÓN POR BIENES",null,null,null,null,null,{"$f":"ROUND(D784+F784-E784,2)","v":0}]
[76300,"BIENES BAJO CONTRATO EN COMODATO",null,null,null,null,{"$f":"ROUND(C785+E785-F785,2)","v":0}]
[76400,"CONTRATO DE COMODATO POR BIENES",null,null,null,null,null,{"$f":"ROUND(D786+F786-E786,2)","v":0}]
[77000,"BIENES ARQUEOLÓGICOS, ARTÍSTICOS E HISTÓRICOS",{"$f":"SUM(C788:C791)","v":0},0,0,0,0,0]
[77100,"BIENES ARQUEOLÓGICOS",null,null,null,null,{"$f":"ROUND(C788+E788-F788,2)","v":0}]
[77200,"BIENES ARTÍSTICOS",null,null,null,null,0]
[77300,"BIENES HISTÓRICOS",null,null,null,null,0]
[77400,"ARQUEOLÓGICOS, ARTÍSTICOS E HISTÓRICOS BIENES",null,null,null,null,null,{"$f":"ROUND(D791+F791-E791,2)","v":0}]
[" ","SUMAS IGUALES DE CUENTAS DE ORDEN",{"$f":"C754","v":0},0,0,0,0,0]
[80000,"CUENTAS DE ORDEN PRESUPUESTARIAS",null,null,{"$f":"E794+E1265","v":0},{"$f":"F794+F1265","v":0},{"$f":"G794+G1265","v":0},{"$f":"H794+H1265","v":0}]
[81000,"LEY DE INGRESOS",null,null,{"$f":"E795+E889+E983+E1077+E1171","v":0},{"$f":"F795+F889+F983+F1077+F1171","v":0},{"$f":"G795+G889+G983+G1077+G1171","v":0},{"$f":"H795+H889+H983+H1077+H1171","v":0}]
[81100,"LEY DE INGRESOS ESTIMADA",null,null,{"$f":"E796+E806+E812+E815+E822+E826+E831+E841+E873+E883","v":0},{"$f":"F796+F806+F812+F815+F822+F826+F831+F841+F873+F883","v":0},{"$f":"E795-F795","v":0}]
["81100-10","Impuestos",null,null,{"$f":"SUM(E797:E805)","v":0},{"$f":"SUM(F797:F805)","v":0},{"$f":"SUM(G797:G805)","v":0}]
["81100-11","Impuestos sobre los ingresos",null,null,null,null,{"$f":"ROUND(E797-F797,2)","v":0}]
["81100-12","Impuestos sobre patrimonio",null,null,null,null,{"$f":"ROUND(E798-F798,2)","v":0}]
["81100-13","Impuestos sobre la producción, el consumo y las transacciones",null,null,null,null,0]
["81100-14","Impuestos al comercio exterior",null,null,null,null,{"$f":"E800-F800","v":0}]
["81100-15","Impuestos sobre nóminas y asimilables",null,null,null,null,{"$f":"ROUND(E801-F801,2)","v":0}]
["81100-16","Impuestos ecológicos",null,null,null,null,0]
["81100-17","Accesorios",null,null,null,null,0]
["81100-18","Otros impuestos",null,null,null,null,0]
["81100-19","Impuestos no Comprendidos en la ley de ingresos vigente, causados en ejercicios fiscales anteriores pendientes de liquidar o pago",null,null,null,null,0]
["81100-20","Cuotas y aportaciones de seguridad social",null,null,{"$f":"SUM(E807:E811)","v":0},{"$f":"SUM(F807:F811)","v":0},{"$f":"SUM(G807:G811)","v":0}]
["81100-21","Aportaciones para fondos de vivienda",null,null,null,null,{"$f":"ROUND(E807-F807,2)","v":0}]
["81100-22","Cuotas para la seguridad social",null,null,null,null,0]
["81100-23","Cuotas de ahorro para el retiro",null,null,null,null,0]
["81100-24","Otras cuotas y aportaciones para la seguridad social",null,null,null,null,0]
["81100-25","Accesorios de cuotas y aportaciones de seguridad social",null,null,null,null,0]
["81100-30","Contribuciones de mejora",null,null,{"$f":"SUM(E813:E814)","v":0},{"$f":"SUM(F813:F814)","v":0},{"$f":"SUM(G813:G814)","v":0}]
["81100-31","Contribuciones de mejoras por obras públicas",null,null,null,null,{"$f":"ROUND(E813-F813,2)","v":0}]
["81100-32","Contribuciones de mejoras no  comprendidas en la ley de ingresos vigente, causadas en ejercicios fiscales anteriores pendientes de liquidación o pago",null,null,null,null,0]
["81100-40","Derechos",null,null,{"$f":"SUM(E816:E821)","v":0},{"$f":"SUM(F816:F821)","v":0},{"$f":"SUM(G816:G821)","v":0}]
["81100-41","Derechos por el uso, goce, aprovechamiento o explotación de bienes de dominio público",null,null,null,null,{"$f":"ROUND(E816-F816,2)","v":0}]
["81100-42","Derecho a los hidrocarburos (derogado)",null,null,null,null,0]
["81100-43","Derechos por prestación de servicios",null,null,null,null,{"$f":"ROUND(E818-F818,2)","v":0}]
["81100-44","Otros derechos",null,null,null,null,{"$f":"ROUND(E819-F819,2)","v":0}]
["81100-45","Accesorios de derechos",null,null,null,null,0]
["81100-46","Derechos no comprendidos en la ley de ingresos vigente, causados en ejercicios fiscales anteriores pendientes de liquidación o pago",null,null,null,null,0]
["81100-50","Productos",null,null,{"$f":"SUM(E823:E825)","v":0},{"$f":"SUM(F823:F825)","v":0},{"$f":"SUM(G823:G825)","v":0}]
["81100-51","Productos",null,null,null,null,{"$f":"ROUND(E823-F823,2)","v":0}]
["81100-52","Productos de capital (derogado)",null,null,null,null,0]
["81100-53","Productos no comprendidos en la ley de ingresos vigente, causados en ejercicios fiscales anteriores pendientes de liquidación o pago",null,null,null,null,{"$f":"ROUND(E825-F825,2)","v":0}]
["81100-60","Aprovechamientos",null,null,{"$f":"SUM(E827:E830)","v":0},{"$f":"SUM(F827:F830)","v":0},{"$f":"SUM(G827:G830)","v":0}]
["81100-61","Aprovechamientos",null,null,null,null,{"$f":"ROUND(E827-F827,2)","v":0}]
["81100-62","Aprovechamientos patrimoniales",null,null,null,null,0]
["81100-63","Accesorios de aprovechamientos",null,null,null,null,0]
["81100-64","Aprovechamientos no comprendidos en la ley de ingresos vigente, causados en ejercicios fiscales anteriores pendientes de liquidación o pago",null,null,null,null,0]
["81100-70","Ingresos por venta de bienes, prestación de servicios y otros ingresos",null,null,{"$f":"SUM(E832:E840)","v":0},{"$f":"SUM(F832:F840)","v":0},{"$f":"SUM(G832:G840)","v":0}]
["81100-71","Ingresos por venta de bienes y prestación de servicios de instituciones públicas de seguridad social",null,null,null,null,{"$f":"ROUND(E832-F832,2)","v":0}]
["81100-72","Ingresos por venta de bienes y prestación de servicios de empresas productivas del estado",null,null,null,null,0]
["81100-73","Ingresos por venta de bienes y prestación de servicios de entidades paraestatales y fideicomisos no empresariales y no financieros",null,null,null,null,{"$f":"ROUND(E834-F834,2)","v":0}]
["81100-74","Ingresos por venta de bienes y prestación de servicios de entidades paraestatales empresariales y no financieros con participación estatal mayoritaria",null,null,null,null,0]
["81100-75","Ingresos por venta de bienes y prestación de servicios de entidades paraestatales empresariales financieras monetarias con participación estatal mayoritaria",null,null,null,null,0]
["81100-76","Ingresos por venta de bienes y prestación de servicios de entidades paraestatales empresariales financieras no monetarias con participación estatal mayoritaria",null,null,null,null,0]
["81100-77","Ingresos por venta de bienes y prestación de servicios de fideicomisos financieros públicos con participación estatal mayoritaria",null,null,null,null,{"$f":"ROUND(E838-F838,2)","v":0}]
["81100-78","Ingresos por venta de bienes y prestación de servicios de los poderes legislativo y judicial, y de los órganos autónomos",null,null,null,null,0]
["81100-79","Otros ingresos",null,null,null,null,{"$f":"ROUND(E840-F840,2)","v":0}]
["81100-80","Participaciones, aportaciones, convenios, incentivos derivados de la colaboración fiscal y fondos distintos de aportaciones",null,null,{"$f":"E842+E855+E858+E859+E864+E870","v":0},{"$f":"F842+F855+F858+F859+F864+F870","v":0},{"$f":"G842+G855+G858+G859+G864+G870","v":0}]
["81100-81","Participaciones",null,null,{"$f":"SUM(E843:E854)","v":0},{"$f":"SUM(F843:F854)","v":0},{"$f":"SUM(G843:G854)","v":0}]
["81100-81-1","Fondo general de participaciones (federal)",null,null,null,null,{"$f":"ROUND(E843-F843,2)","v":0}]
["81100-81-2","Fondo de fomento municipal (federal)",null,null,null,null,0]
["81100-81-3","Fondo de fiscalización y recaudación (federal)",null,null,null,null,0]
["81100-81-4","Fondo de compensación (federal)",null,null,null,null,0]
["81100-81-5","Fondo de extracción de hidrocarburos (federal)",null,null,null,null,0]
["81100-81-6","Impuesto especial sobre producción y servicios (federal)",null,null,null,null,0]
["81100-81-7","0.136% de la recaudación federal participable (federal)",null,null,null,null,0]
["81100-81-8","3.17% sobre extracción de petróleo (federal)",null,null,null,null,0]
["81100-81-9","Gasolinas y diésel (federal)",null,null,null,null,0]
["81100-81-10","Fondo de impuesto sobre la renta (federal)",null,null,null,null,0]
["81100-81-11","Fondo de estabilización de los ingresos de las entidades federativas (federal)",null,null,null,null,0]
["81100-81-12","Participaciones en ingresos locales (Participaciones del estado)",null,null,null,null,0]
["81100-82","Aportaciones",null,null,{"$f":"SUM(E856:E857)","v":0},{"$f":"SUM(F856:F857)","v":0},{"$f":"SUM(G856:G857)","v":0}]
["81100-82-1","Fondo de aportaciones para la infraestructura social municipal",null,null,null,null,{"$f":"ROUND(E856-F856,2)","v":0}]
["81100-82-2","Fondo de aportaciones para el fortalecimiento de los municipios y de las demarcaciones territoriales del distrito federal",null,null,null,null,0]
["81100-83","Convenios (Con ingresos de libre disposición)",null,null,null,null,0]
["81100-84","Convenios (Con ingresos etiquetados)",null,null,{"$f":"SUM(E860:E863)","v":0},{"$f":"SUM(F860:F863)","v":0},{"$f":"SUM(G860:G863)","v":0}]
["81100-84-1","Convenios de protección social en salud",null,null,null,null,{"$f":"ROUND(E860-F860,2)","v":0}]
["81100-84-2","Convenios de descentralización",null,null,null,null,0]
["81100-84-3","Convenios de reasignación",null,null,null,null,0]
["81100-84-4","Otros convenios y subsidios",null,null,null,null,0]
["81100-85","Incentivos derivados de la colaboración fiscal",null,null,{"$f":"SUM(E865:E869)","v":0},{"$f":"SUM(F865:F869)","v":0},{"$f":"SUM(G865:G869)","v":0}]
["81100-85-1","Tenencia o uso de vehículos",null,null,null,null,{"$f":"ROUND(E865-F865,2)","v":0}]
["81100-85-2","Fondo de compensación ISAN",null,null,null,null,0]
["81100-85-3","Impuesto sobre automóviles nuevos",null,null,null,null,0]
["81100-85-4","Fondo de compensación de repecos-intermedios",null,null,null,null,0]
["81100-85-5","Otros incentivos económicos",null,null,null,null,0]
["81100-86","Fondos distintos de aportaciones",null,null,{"$f":"SUM(E871:E872)","v":0},{"$f":"SUM(F871:F872)","v":0},{"$f":"SUM(G871:G872)","v":0}]
["81100-86-1","Fondo para entidades federativas y municipios productores de hidrocarburos",null,null,null,null,{"$f":"ROUND(E871-F871,2)","v":0}]
["81100-86-2","Fondo minero",null,null,null,null,0]
["81100-90","Transferencias, asignaciones, subsidios y subvenciones, y pensiones y jubilaciones",null,null,{"$f":"SUM(E874:E882)","v":0},{"$f":"SUM(F874:F882)","v":0},{"$f":"SUM(G874:G882)","v":0}]
["81100-91","Transferencias y asignaciones (Con ingresos de libre disposición)",null,null,null,null,{"$f":"ROUND(E874-F874,2)","v":0}]
["81100-92","Transferencias y asignaciones (Con ingresos etiquetados)",null,null,null,null,0]
["81100-93","Transferencias al resto del sector público (derogado)",null,null,null,null,0]
["81100-94","Subsidios y subvenciones (Con ingresos de libre disposición)",null,null,null,null,{"$f":"ROUND(E877-F877,2)","v":0}]
["81100-95","Subsidios y subvenciones (Con ingresos etiquetados)",null,null,null,null,0]
["81100-96","Ayudas sociales (derogado)",null,null,null,null,0]
["81100-97","Pensiones y jubilaciones",null,null,null,null,{"$f":"ROUND(E880-F880,2)","v":0}]
["81100-98","Transferencias a fideicomisos, mandatos y análogos (derogado)",null,null,null,null,0]
["81100-99","Transferencias del fondo mexicano del petróleo para la estabilización y el desarrollo",null,null,null,null,{"$f":"ROUND(E882-F882,2)","v":0}]
["81100-00","Ingresos derivados de financiamiento",null,null,{"$f":"SUM(E884:E886)","v":0},{"$f":"SUM(F884:F886)","v":0},{"$f":"SUM(G884:G886)","v":0}]
["81100-01","Endeudamiento interno",null,null,null,null,0]
["81100-02","Endeudamiento externo",null,null,null,null,0]
["81100-03","Financiamiento interno",null,null,{"$f":"SUM(E887:E888)","v":0},{"$f":"SUM(F887:F888)","v":0},{"$f":"SUM(G887:G888)","v":0}]
["81100-03-1","Ingresos derivados de financiamiento con fuente de pago de ingresos de libre disposición",null,null,null,null,{"$f":"ROUND(E887-F887,2)","v":0}]
["81100-03-2","Ingresos derivados de financiamiento con fuente de pago de transferencias federales etiquetadas",null,null,null,null,0]
[81200,"LEY DE INGRESOS POR EJECUTAR",null,null,{"$f":"E890+E900+E906+E909+E916+E920+E925+E935+E967+E977","v":0},{"$f":"F890+F900+F906+F909+F916+F920+F925+F935+F967+F977","v":0},null,{"$f":"F889-E889","v":0}]
["81200-10","Impuestos",null,null,{"$f":"SUM(E891:E899)","v":0},{"$f":"SUM(F891:F899)","v":0},null,{"$f":"SUM(H891:H899)","v":0}]
["81200-11","Impuestos sobre los ingresos",null,null,null,null,null,{"$f":"ROUND(F891-E891,2)","v":0}]
["81200-12","Impuestos sobre patrimonio",null,null,null,null,null,{"$f":"ROUND(F892-E892,2)","v":0}]
["81200-13","Impuestos sobre la producción, el consumo y las transacciones",null,null,null,null,null,0]
["81200-14","Impuestos al comercio exterior",null,null,null,null,null,0]
["81200-15","Impuestos sobre nóminas y asimilables",null,null,null,null,null,0]
["81200-16","Impuestos ecológicos",null,null,null,null,null,0]
["81200-17","Accesorios",null,null,null,null,null,0]
["81200-18","Otros impuestos",null,null,null,null,null,0]
["81200-19","Impuestos no Comprendidos en la ley de ingresos vigente, causados en ejercicios fiscales anteriores pendientes de liquidar o pago",null,null,null,null,null,0]
["81200-20","Cuotas y aportaciones de seguridad social",null,null,{"$f":"SUM(E901:E905)","v":0},{"$f":"SUM(F901:F905)","v":0},null,{"$f":"SUM(H901:H905)","v":0}]
["81200-21","Aportaciones para fondos de vivienda",null,null,null,null,null,{"$f":"ROUND(F901-E901,2)","v":0}]
["81200-22","Cuotas para la seguridad social",null,null,null,null,null,0]
["81200-23","Cuotas de ahorro para el retiro",null,null,null,null,null,0]
["81200-24","Otras cuotas y aportaciones para la seguridad social",null,null,null,null,null,0]
["81200-25","Accesorios de cuotas y aportaciones de seguridad social",null,null,null,null,null,0]
["81200-30","Contribuciones de mejora",null,null,{"$f":"SUM(E907:E908)","v":0},{"$f":"SUM(F907:F908)","v":0},null,{"$f":"SUM(H907:H908)","v":0}]
["81200-31","Contribuciones de mejoras por obras públicas",null,null,null,null,null,{"$f":"ROUND(F907-E907,2)","v":0}]
["81200-32","Contribuciones de mejoras no  comprendidas en la ley de ingresos vigente, causadas en ejercicios fiscales anteriores pendientes de liquidación o pago",null,null,null,null,null,0]
["81200-40","Derechos",null,null,{"$f":"SUM(E910:E915)","v":0},{"$f":"SUM(F910:F915)","v":0},null,{"$f":"SUM(H910:H915)","v":0}]
["81200-41","Derechos por el uso, goce, aprovechamiento o explotación de bienes de dominio público",null,null,null,null,null,{"$f":"ROUND(F910-E910,2)","v":0}]
["81200-42","Derecho a los hidrocarburos (derogado)",null,null,null,null,null,{"$f":"F911-E911","v":0}]
["81200-43","Derechos por prestación de servicios",null,null,null,null,null,{"$f":"ROUND(F912-E912,2)","v":0}]
["81200-44","Otros derechos",null,null,null,null,null,0]
["81200-45","Accesorios de derechos",null,null,null,null,null,0]
["81200-46","Derechos no comprendidos en la ley de ingresos vigente, causados en ejercicios fiscales anteriores pendientes de liquidación o pago",null,null,null,null,null,0]
["81200-50","Productos",null,null,{"$f":"SUM(E917:E919)","v":0},{"$f":"SUM(F917:F919)","v":0},null,{"$f":"SUM(H917:H919)","v":0}]
["81200-51","Productos",null,null,null,null,null,{"$f":"ROUND(F917-E917,2)","v":0}]
["81200-52","Productos de capital (derogado)",null,null,null,null,null,0]
["81200-53","Productos no comprendidos en la ley de ingresos vigente, causados en ejercicios fiscales anteriores pendientes de liquidación o pago",null,null,null,null,null,{"$f":"ROUND(F919-E919,2)","v":0}]
["81200-60","Aprovechamientos",null,null,{"$f":"SUM(E921:E924)","v":0},{"$f":"SUM(F921:F924)","v":0},null,{"$f":"SUM(H921:H924)","v":0}]
["81200-61","Aprovechamientos",null,null,null,null,null,{"$f":"ROUND(F921-E921,2)","v":0}]
["81200-62","Aprovechamientos patrimoniales",null,null,null,null,null,0]
["81200-63","Accesorios de aprovechamientos",null,null,null,null,null,0]
["81200-64","Aprovechamientos no comprendidos en la ley de ingresos vigente, causados en ejercicios fiscales anteriores pendientes de liquidación o pago",null,null,null,null,null,0]
["81200-70","Ingresos por venta de bienes, prestación de servicios y otros ingresos",null,null,{"$f":"SUM(E926:E934)","v":0},{"$f":"SUM(F926:F934)","v":0},null,{"$f":"SUM(H926:H934)","v":0}]
["81200-71","Ingresos por venta de bienes y prestación de servicios de instituciones públicas de seguridad social",null,null,null,null,null,{"$f":"ROUND(F926-E926,2)","v":0}]
["81200-72","Ingresos por venta de bienes y prestación de servicios de empresas productivas del estado",null,null,null,null,null,0]
["81200-73","Ingresos por venta de bienes y prestación de servicios de entidades paraestatales y fideicomisos no empresariales y no financieros",null,null,null,null,null,{"$f":"ROUND(F928-E928,2)","v":0}]
["81200-74","Ingresos por venta de bienes y prestación de servicios de entidades paraestatales empresariales y no financieros con participación estatal mayoritaria",null,null,null,null,null,0]
["81200-75","Ingresos por venta de bienes y prestación de servicios de entidades paraestatales empresariales financieras monetarias con participación estatal mayoritaria",null,null,null,null,null,0]
["81200-76","Ingresos por venta de bienes y prestación de servicios de entidades paraestatales empresariales financieras no monetarias con participación estatal mayoritaria",null,null,null,null,null,0]
["81200-77","Ingresos por venta de bienes y prestación de servicios de fideicomisos financieros públicos con participación estatal mayoritaria",null,null,null,null,null,{"$f":"ROUND(F932-E932,2)","v":0}]
["81200-78","Ingresos por venta de bienes y prestación de servicios de los poderes legislativo y judicial, y de los órganos autónomos",null,null,null,null,null,0]
["81200-79","Otros ingresos",null,null,null,null,null,{"$f":"ROUND(F934-E934,2)","v":0}]
["81200-80","Participaciones, aportaciones, convenios, incentivos derivados de la colaboración fiscal y fondos distintos de aportaciones",null,null,{"$f":"E936+E949+E952+E953+E958+E964","v":0},{"$f":"F936+F949+F952+F953+F958+F964","v":0},null,{"$f":"H936+H949+H952+H953+H958+H964","v":0}]
["81200-81","Participaciones",null,null,{"$f":"SUM(E937:E948)","v":0},{"$f":"SUM(F937:F948)","v":0},null,{"$f":"SUM(H937:H948)","v":0}]
["81200-81-1","Fondo general de participaciones (federal)",null,null,null,null,null,{"$f":"ROUND(F937-E937,2)","v":0}]
["81200-81-2","Fondo de fomento municipal (federal)",null,null,null,null,null,0]
["81200-81-3","Fondo de fiscalización y recaudación (federal)",null,null,null,null,null,0]
["81200-81-4","Fondo de compensación (federal)",null,null,null,null,null,0]
["81200-81-5","Fondo de extracción de hidrocarburos (federal)",null,null,null,null,null,0]
["81200-81-6","Impuesto especial sobre producción y servicios (federal)",null,null,null,null,null,0]
["81200-81-7","0.136% de la recaudación federal participable (federal)",null,null,null,null,null,0]
["81200-81-8","3.17% sobre extracción de petróleo (federal)",null,null,null,null,null,0]
["81200-81-9","Gasolinas y diésel (federal)",null,null,null,null,null,0]
["81200-81-10","Fondo de impuesto sobre la renta (federal)",null,null,null,null,null,0]
["81200-81-11","Fondo de estabilización de los ingresos de las entidades federativas (federal)",null,null,null,null,null,0]
["81200-81-12","Participaciones en ingresos locales (Participaciones del estado)",null,null,null,null,null,0]
["81200-82","Aportaciones",null,null,{"$f":"SUM(E950:E951)","v":0},{"$f":"SUM(F950:F951)","v":0},null,{"$f":"SUM(H950:H951)","v":0}]
["81200-82-1","Fondo de aportaciones para la infraestructura social municipal",null,null,null,null,null,{"$f":"ROUND(F950-E950,2)","v":0}]
["81200-82-2","Fondo de aportaciones para el fortalecimiento de los municipios y de las demarcaciones territoriales del distrito federal",null,null,null,null,null,0]
["81200-83","Convenios (Con ingresos de libre disposición)",null,null,null,null,null,0]
["81200-84","Convenios (Con ingresos etiquetados)",null,null,{"$f":"SUM(E954:E957)","v":0},{"$f":"SUM(F954:F957)","v":0},null,{"$f":"SUM(H954:H957)","v":0}]
["81200-84-1","Convenios de protección social en salud",null,null,null,null,null,{"$f":"ROUND(F954-E954,2)","v":0}]
["81200-84-2","Convenios de descentralización",null,null,null,null,null,0]
["81200-84-3","Convenios de reasignación",null,null,null,null,null,0]
["81200-84-4","Otros convenios y subsidios",null,null,null,null,null,0]
["81200-85","Incentivos derivados de la colaboración fiscal",null,null,{"$f":"SUM(E959:E964)","v":0},{"$f":"SUM(F959:F964)","v":0},null,{"$f":"SUM(H959:H964)","v":0}]
["81200-85-1","Tenencia o uso de vehículos",null,null,null,null,null,{"$f":"ROUND(F959-E959,2)","v":0}]
["81200-85-2","Fondo de compensación ISAN",null,null,null,null,null,0]
["81200-85-3","Impuesto sobre automóviles nuevos",null,null,null,null,null,0]
["81200-85-4","Fondo de compensación de repecos-intermedios",null,null,null,null,null,0]
["81200-85-5","Otros incentivos económicos",null,null,null,null,null,0]
["81200-86","Fondos distintos de aportaciones",null,null,{"$f":"SUM(E965:E966)","v":0},{"$f":"SUM(F965:F966)","v":0},null,{"$f":"SUM(H965:H966)","v":0}]
["81200-86-1","Fondo para entidades federativas y municipios productores de hidrocarburos",null,null,null,null,null,{"$f":"ROUND(F965-E965,2)","v":0}]
["81200-86-2","Fondo minero",null,null,null,null,null,0]
["81200-90","Transferencias, asignaciones, subsidios y subvenciones, y pensiones y jubilaciones",null,null,{"$f":"SUM(E968:E976)","v":0},{"$f":"SUM(F968:F976)","v":0},null,{"$f":"SUM(H968:H976)","v":0}]
["81200-91","Transferencias y asignaciones (Con ingresos de libre disposición)",null,null,null,null,null,{"$f":"ROUND(F968-E968,2)","v":0}]
["81200-92","Transferencias y asignaciones (Con ingresos etiquetados)",null,null,null,null,null,0]
["81200-93","Transferencias al resto del sector público (derogado)",null,null,null,null,null,0]
["81200-94","Subsidios y subvenciones (Con ingresos de libre disposición)",null,null,null,null,null,{"$f":"ROUND(F971-E971,2)","v":0}]
["81200-95","Subsidios y subvenciones (Con ingresos etiquetados)",null,null,null,null,null,0]
["81200-96","Ayudas sociales (derogado)",null,null,null,null,null,0]
["81200-97","Pensiones y jubilaciones",null,null,null,null,null,{"$f":"ROUND(F974-E974,2)","v":0}]
["81200-98","Transferencias a fideicomisos, mandatos y análogos (derogado)",null,null,null,null,null,0]
["81200-99","Transferencias del fondo mexicano del petróleo para la estabilización y el desarrollo",null,null,null,null,null,{"$f":"ROUND(F976-E976,2)","v":0}]
["81200-00","Ingresos derivados de financiamiento",null,null,{"$f":"SUM(E978:E980)","v":0},{"$f":"SUM(F978:F980)","v":0},null,{"$f":"SUM(H978:H980)","v":0}]
["81200-01","Endeudamiento interno",null,null,null,null,null,0]
["81200-02","Endeudamiento externo",null,null,null,null,null,{"$f":"F979-E979","v":0}]
["81200-03","Financiamiento interno",null,null,{"$f":"SUM(E981:E982)","v":0},{"$f":"SUM(F981:F982)","v":0},null,{"$f":"SUM(H981:H982)","v":0}]
["81200-03-1","Ingresos derivados de financiamiento con fuente de pago de ingresos de libre disposición",null,null,null,null,null,{"$f":"ROUND(F981-E981,2)","v":0}]
["81200-03-2","Ingresos derivados de financiamiento con fuente de pago de transferencias federales etiquetadas",null,null,null,null,null,0]
[81300,"MODIFICACIONES A LA LEY DE INGRESOS ESTIMADA",null,null,{"$f":"E984+E994+E1000+E1003+E1010+E1014+E1019+E1029+E1061+E1071","v":0},{"$f":"F984+F994+F1000+F1003+F1010+F1014+F1019+F1029+F1061+F1071","v":0},{"$f":"E983-F983","v":0}]
["81300-10","Impuestos",null,null,{"$f":"SUM(E985:E993)","v":0},{"$f":"SUM(F985:F993)","v":0},{"$f":"E984-F984","v":0}]
["81300-11","Impuestos sobre los ingresos",null,null,null,null,{"$f":"ROUND(E985-F985,2)","v":0}]
["81300-12","Impuestos sobre patrimonio",null,null,null,null,{"$f":"ROUND(E986-F986,2)","v":0}]
["81300-13","Impuestos sobre la producción, el consumo y las transacciones",null,null,null,null,0]
["81300-14","Impuestos al comercio exterior",null,null,null,null,0]
["81300-15","Impuestos sobre nóminas y asimilables",null,null,null,null,0]
["81300-16","Impuestos ecológicos",null,null,null,null,0]
["81300-17","Accesorios",null,null,null,null,0]
["81300-18","Otros impuestos",null,null,null,null,0]
["81300-19","Impuestos no Comprendidos en la ley de ingresos vigente, causados en ejercicios fiscales anteriores pendientes de liquidar o pago",null,null,null,null,0]
["81300-20","Cuotas y aportaciones de seguridad social",null,null,{"$f":"SUM(E995:E999)","v":0},{"$f":"SUM(F995:F999)","v":0},{"$f":"SUM(G995:G999)","v":0}]
["81300-21","Aportaciones para fondos de vivienda",null,null,null,null,{"$f":"ROUND(E995-F995,2)","v":0}]
["81300-22","Cuotas para la seguridad social",null,null,null,null,0]
["81300-23","Cuotas de ahorro para el retiro",null,null,null,null,0]
["81300-24","Otras cuotas y aportaciones para la seguridad social",null,null,null,null,0]
["81300-25","Accesorios de cuotas y aportaciones de seguridad social",null,null,null,null,0]
["81300-30","Contribuciones de mejora",null,null,{"$f":"SUM(E1001:E1002)","v":0},{"$f":"SUM(F1001:F1002)","v":0},{"$f":"SUM(G1001:G1002)","v":0}]
["81300-31","Contribuciones de mejoras por obras públicas",null,null,null,null,{"$f":"ROUND(E1001-F1001,2)","v":0}]
["81300-32","Contribuciones de mejoras no  comprendidas en la ley de ingresos vigente, causadas en ejercicios fiscales anteriores pendientes de liquidación o pago",null,null,null,null,0]
["81300-40","Derechos",null,null,{"$f":"SUM(E1004:E1009)","v":0},{"$f":"SUM(F1004:F1009)","v":0},{"$f":"SUM(G1004:G1009)","v":0}]
["81300-41","Derechos por el uso, goce, aprovechamiento o explotación de bienes de dominio público",null,null,null,null,{"$f":"ROUND(E1004-F1004,2)","v":0}]
["81300-42","Derecho a los hidrocarburos (derogado)",null,null,null,null,0]
["81300-43","Derechos por prestación de servicios",null,null,null,null,{"$f":"ROUND(E1006-F1006,2)","v":0}]
["81300-44","Otros derechos",null,null,null,null,0]
["81300-45","Accesorios de derechos",null,null,null,null,0]
["81300-46","Derechos no comprendidos en la ley de ingresos vigente, causados en ejercicios fiscales anteriores pendientes de liquidación o pago",null,null,null,null,0]
["81300-50","Productos",null,null,{"$f":"SUM(E1011:E1013)","v":0},{"$f":"SUM(F1011:F1013)","v":0},{"$f":"SUM(G1011:G1013)","v":0}]
["81300-51","Productos",null,null,null,null,{"$f":"ROUND(E1011-F1011,2)","v":0}]
["81300-52","Productos de capital (derogado)",null,null,null,null,0]
["81300-53","Productos no comprendidos en la ley de ingresos vigente, causados en ejercicios fiscales anteriores pendientes de liquidación o pago",null,null,null,null,{"$f":"ROUND(E1013-F1013,2)","v":0}]
["81300-60","Aprovechamientos",null,null,{"$f":"SUM(E1015:E1018)","v":0},{"$f":"SUM(F1015:F1018)","v":0},{"$f":"SUM(G1015:G1018)","v":0}]
["81300-61","Aprovechamientos",null,null,null,null,{"$f":"ROUND(E1015-F1015,2)","v":0}]
["81300-62","Aprovechamientos patrimoniales",null,null,null,null,0]
["81300-63","Accesorios de aprovechamientos",null,null,null,null,0]
["81300-64","Aprovechamientos no comprendidos en la ley de ingresos vigente, causados en ejercicios fiscales anteriores pendientes de liquidación o pago",null,null,null,null,0]
["81300-70","Ingresos por venta de bienes, prestación de servicios y otros ingresos",null,null,{"$f":"SUM(E1020:E1028)","v":0},{"$f":"SUM(F1020:F1028)","v":0},{"$f":"SUM(G1020:G1028)","v":0}]
["81300-71","Ingresos por venta de bienes y prestación de servicios de instituciones públicas de seguridad social",null,null,null,null,{"$f":"ROUND(E1020-F1020,2)","v":0}]
["81300-72","Ingresos por venta de bienes y prestación de servicios de empresas productivas del estado",null,null,null,null,0]
["81300-73","Ingresos por venta de bienes y prestación de servicios de entidades paraestatales y fideicomisos no empresariales y no financieros",null,null,null,null,{"$f":"ROUND(E1022-F1022,2)","v":0}]
["81300-74","Ingresos por venta de bienes y prestación de servicios de entidades paraestatales empresariales y no financieros con participación estatal mayoritaria",null,null,null,null,0]
["81300-75","Ingresos por venta de bienes y prestación de servicios de entidades paraestatales empresariales financieras monetarias con participación estatal mayoritaria",null,null,null,null,0]
["81300-76","Ingresos por venta de bienes y prestación de servicios de entidades paraestatales empresariales financieras no monetarias con participación estatal mayoritaria",null,null,null,null,0]
["81300-77","Ingresos por venta de bienes y prestación de servicios de fideicomisos financieros públicos con participación estatal mayoritaria",null,null,null,null,{"$f":"ROUND(E1026-F1026,2)","v":0}]
["81300-78","Ingresos por venta de bienes y prestación de servicios de los poderes legislativo y judicial, y de los órganos autónomos",null,null,null,null,0]
["81300-79","Otros ingresos",null,null,null,null,{"$f":"ROUND(E1028-F1028,2)","v":0}]
["81300-80","Participaciones, aportaciones, convenios, incentivos derivados de la colaboración fiscal y fondos distintos de aportaciones",null,null,{"$f":"E1030+E1043+E1046+E1047+E1052+E1058","v":0},{"$f":"F1030+F1043+F1046+F1047+F1052+F1058","v":0},{"$f":"G1030+G1043+G1046+G1047+G1052+G1058","v":0}]
["81300-81","Participaciones",null,null,{"$f":"SUM(E1031:E1042)","v":0},{"$f":"SUM(F1031:F1042)","v":0},{"$f":"SUM(G1031:G1042)","v":0}]
["81300-81-1","Fondo general de participaciones (federal)",null,null,null,null,{"$f":"ROUND(E1031-F1031,2)","v":0}]
["81300-81-2","Fondo de fomento municipal (federal)",null,null,null,null,0]
["81300-81-3","Fondo de fiscalización y recaudación (federal)",null,null,null,null,0]
["81300-81-4","Fondo de compensación (federal)",null,null,null,null,0]
["81300-81-5","Fondo de extracción de hidrocarburos (federal)",null,null,null,null,0]
["81300-81-6","Impuesto especial sobre producción y servicios (federal)",null,null,null,null,0]
["81300-81-7","0.136% de la recaudación federal participable (federal)",null,null,null,null,0]
["81300-81-8","3.17% sobre extracción de petróleo (federal)",null,null,null,null,0]
["81300-81-9","Gasolinas y diésel (federal)",null,null,null,null,0]
["81300-81-10","Fondo de impuesto sobre la renta (federal)",null,null,null,null,0]
["81300-81-11","Fondo de estabilización de los ingresos de las entidades federativas (federal)",null,null,null,null,0]
["81300-81-12","Participaciones en ingresos locales (Participaciones del estado)",null,null,null,null,0]
["81300-82","Aportaciones",null,null,{"$f":"SUM(E1044:E1045)","v":0},{"$f":"SUM(F1044:F1045)","v":0},{"$f":"SUM(G1044:G1045)","v":0}]
["81300-82-1","Fondo de aportaciones para la infraestructura social municipal",null,null,null,null,{"$f":"ROUND(E1044-F1044,2)","v":0}]
["81300-82-2","Fondo de aportaciones para el fortalecimiento de los municipios y de las demarcaciones territoriales del distrito federal",null,null,null,null,0]
["81300-83","Convenios (Con ingresos de libre disposición)",null,null,null,null,0]
["81300-84","Convenios (Con ingresos etiquetados)",null,null,{"$f":"SUM(E1048:E1051)","v":0},{"$f":"SUM(F1048:F1051)","v":0},{"$f":"SUM(G1048:G1051)","v":0}]
["81300-84-1","Convenios de protección social en salud",null,null,null,null,{"$f":"ROUND(E1048-F1048,2)","v":0}]
["81300-84-2","Convenios de descentralización",null,null,null,null,0]
["81300-84-3","Convenios de reasignación",null,null,null,null,0]
["81300-84-4","Otros convenios y subsidios",null,null,null,null,0]
["81300-85","Incentivos derivados de la colaboración fiscal",null,null,{"$f":"SUM(E1053:E1057)","v":0},{"$f":"SUM(F1053:F1057)","v":0},{"$f":"SUM(G1053:G1057)","v":0}]
["81300-85-1","Tenencia o uso de vehículos",null,null,null,null,{"$f":"ROUND(E1053-F1053,2)","v":0}]
["81300-85-2","Fondo de compensación ISAN",null,null,null,null,0]
["81300-85-3","Impuesto sobre automóviles nuevos",null,null,null,null,0]
["81300-85-4","Fondo de compensación de repecos-intermedios",null,null,null,null,0]
["81300-85-5","Otros incentivos económicos",null,null,null,null,0]
["81300-86","Fondos distintos de aportaciones",null,null,{"$f":"SUM(E1059:E1060)","v":0},{"$f":"SUM(F1059:F1060)","v":0},{"$f":"SUM(G1059:G1060)","v":0}]
["81300-86-1","Fondo para entidades federativas y municipios productores de hidrocarburos",null,null,null,null,{"$f":"ROUND(E1059-F1059,2)","v":0}]
["81300-86-2","Fondo minero",null,null,null,null,0]
["81300-90","Transferencias, asignaciones, subsidios y subvenciones, y pensiones y jubilaciones",null,null,{"$f":"SUM(E1062:E1070)","v":0},{"$f":"SUM(F1062:F1070)","v":0},{"$f":"SUM(G1062:G1070)","v":0}]
["81300-91","Transferencias y asignaciones (Con ingresos de libre disposición)",null,null,null,null,{"$f":"ROUND(E1062-F1062,2)","v":0}]
["81300-92","Transferencias y asignaciones (Con ingresos etiquetados)",null,null,null,null,0]
["81300-93","Transferencias al resto del sector público (derogado)",null,null,null,null,0]
["81300-94","Subsidios y subvenciones (Con ingresos de libre disposición)",null,null,null,null,{"$f":"ROUND(E1065-F1065,2)","v":0}]
["81300-95","Subsidios y subvenciones (Con ingresos etiquetados)",null,null,null,null,0]
["81300-96","Ayudas sociales (derogado)",null,null,null,null,0]
["81300-97","Pensiones y jubilaciones",null,null,null,null,{"$f":"ROUND(E1068-F1068,2)","v":0}]
["81300-98","Transferencias a fideicomisos, mandatos y análogos (derogado)",null,null,null,null,0]
["81300-99","Transferencias del fondo mexicano del petróleo para la estabilización y el desarrollo",null,null,null,null,{"$f":"ROUND(E1070-F1070,2)","v":0}]
["81300-00","Ingresos derivados de financiamiento",null,null,{"$f":"SUM(E1072:E1074)","v":0},{"$f":"SUM(F1072:F1074)","v":0},{"$f":"SUM(G1072:G1074)","v":0}]
["81300-01","Endeudamiento interno",null,null,null,null,0]
["81300-02","Endeudamiento externo",null,null,null,null,{"$f":"E1073-F1073","v":0}]
["81300-03","Financiamiento interno",null,null,{"$f":"SUM(E1075:E1076)","v":0},{"$f":"SUM(F1075:F1076)","v":0},{"$f":"SUM(G1075:G1076)","v":0}]
["81300-03-1","Ingresos derivados de financiamiento con fuente de pago de ingresos de libre disposición",null,null,null,null,{"$f":"ROUND(E1075-F1075,2)","v":0}]
["81300-03-2","Ingresos derivados de financiamiento con fuente de pago de transferencias federales etiquetadas",null,null,null,null,0]
[81400,"LEY DE INGRESOS DEVENGADA",null,null,{"$f":"E1078+E1088+E1094+E1097+E1104+E1108+E1113+E1123+E1155+E1165","v":0},{"$f":"F1078+F1088+F1094+F1097+F1104+F1108+F1113+F1123+F1155+F1165","v":0},null,{"$f":"F1077-E1077","v":0}]
["81400-10","Impuestos",null,null,{"$f":"SUM(E1079:E1087)","v":0},{"$f":"SUM(F1079:F1087)","v":0},null,{"$f":"SUM(H1079:H1087)","v":0}]
["81400-11","Impuestos sobre los ingresos",null,null,null,null,null,{"$f":"ROUND(F1079-E1079,2)","v":0}]
["81400-12","Impuestos sobre patrimonio",null,null,null,null,null,{"$f":"ROUND(F1080-E1080,2)","v":0}]
["81400-13","Impuestos sobre la producción, el consumo y las transacciones",null,null,null,null,null,0]
["81400-14","Impuestos al comercio exterior",null,null,null,null,null,0]
["81400-15","Impuestos sobre nóminas y asimilables",null,null,null,null,null,0]
["81400-16","Impuestos ecológicos",null,null,null,null,null,0]
["81400-17","Accesorios",null,null,null,null,null,0]
["81400-18","Otros impuestos",null,null,null,null,null,0]
["81400-19","Impuestos no Comprendidos en la ley de ingresos vigente, causados en ejercicios fiscales anteriores pendientes de liquidar o pago",null,null,null,null,null,0]
["81400-20","Cuotas y aportaciones de seguridad social",null,null,{"$f":"SUM(E1089:E1093)","v":0},{"$f":"SUM(F1089:F1093)","v":0},null,{"$f":"SUM(H1089:H1093)","v":0}]
["81400-21","Aportaciones para fondos de vivienda",null,null,null,null,null,{"$f":"ROUND(F1089-E1089,2)","v":0}]
["81400-22","Cuotas para la seguridad social",null,null,null,null,null,0]
["81400-23","Cuotas de ahorro para el retiro",null,null,null,null,null,0]
["81400-24","Otras cuotas y aportaciones para la seguridad social",null,null,null,null,null,0]
["81400-25","Accesorios de cuotas y aportaciones de seguridad social",null,null,null,null,null,0]
["81400-30","Contribuciones de mejora",null,null,{"$f":"SUM(E1095:E1096)","v":0},{"$f":"SUM(F1095:F1096)","v":0},null,{"$f":"SUM(H1095:H1096)","v":0}]
["81400-31","Contribuciones de mejoras por obras públicas",null,null,null,null,null,{"$f":"ROUND(F1095-E1095,2)","v":0}]
["81400-32","Contribuciones de mejoras no  comprendidas en la ley de ingresos vigente, causadas en ejercicios fiscales anteriores pendientes de liquidación o pago",null,null,null,null,null,0]
["81400-40","Derechos",null,null,{"$f":"SUM(E1098:E1103)","v":0},{"$f":"SUM(F1098:F1103)","v":0},null,{"$f":"SUM(H1098:H1103)","v":0}]
["81400-41","Derechos por el uso, goce, aprovechamiento o explotación de bienes de dominio público",null,null,null,null,null,{"$f":"ROUND(F1098-E1098,2)","v":0}]
["81400-42","Derecho a los hidrocarburos (derogado)",null,null,null,null,null,{"$f":"F1099-E1099","v":0}]
["81400-43","Derechos por prestación de servicios",null,null,null,null,null,{"$f":"ROUND(F1100-E1100,2)","v":0}]
["81400-44","Otros derechos",null,null,null,null,null,0]
["81400-45","Accesorios de derechos",null,null,null,null,null,0]
["81400-46","Derechos no comprendidos en la ley de ingresos vigente, causados en ejercicios fiscales anteriores pendientes de liquidación o pago",null,null,null,null,null,0]
["81400-50","Productos",null,null,{"$f":"SUM(E1105:E1107)","v":0},{"$f":"SUM(F1105:F1107)","v":0},null,{"$f":"SUM(H1105:H1107)","v":0}]
["81400-51","Productos",null,null,null,null,null,{"$f":"ROUND(F1105-E1105,2)","v":0}]
["81400-52","Productos de capital (derogado)",null,null,null,null,null,0]
["81400-53","Productos no comprendidos en la ley de ingresos vigente, causados en ejercicios fiscales anteriores pendientes de liquidación o pago",null,null,null,null,null,{"$f":"ROUND(F1107-E1107,2)","v":0}]
["81400-60","Aprovechamientos",null,null,{"$f":"SUM(E1109:E1112)","v":0},{"$f":"SUM(F1109:F1112)","v":0},null,{"$f":"SUM(H1109:H1112)","v":0}]
["81400-61","Aprovechamientos",null,null,null,null,null,{"$f":"ROUND(F1109-E1109,2)","v":0}]
["81400-62","Aprovechamientos patrimoniales",null,null,null,null,null,0]
["81400-63","Accesorios de aprovechamientos",null,null,null,null,null,0]
["81400-64","Aprovechamientos no comprendidos en la ley de ingresos vigente, causados en ejercicios fiscales anteriores pendientes de liquidación o pago",null,null,null,null,null,0]
["81400-70","Ingresos por venta de bienes, prestación de servicios y otros ingresos",null,null,{"$f":"SUM(E1114:E1122)","v":0},{"$f":"SUM(F1114:F1122)","v":0},null,{"$f":"SUM(H1114:H1122)","v":0}]
["81400-71","Ingresos por venta de bienes y prestación de servicios de instituciones públicas de seguridad social",null,null,null,null,null,{"$f":"ROUND(F1114-E1114,2)","v":0}]
["81400-72","Ingresos por venta de bienes y prestación de servicios de empresas productivas del estado",null,null,null,null,null,0]
["81400-73","Ingresos por venta de bienes y prestación de servicios de entidades paraestatales y fideicomisos no empresariales y no financieros",null,null,null,null,null,{"$f":"ROUND(F1116-E1116,2)","v":0}]
["81400-74","Ingresos por venta de bienes y prestación de servicios de entidades paraestatales empresariales y no financieros con participación estatal mayoritaria",null,null,null,null,null,0]
["81400-75","Ingresos por venta de bienes y prestación de servicios de entidades paraestatales empresariales financieras monetarias con participación estatal mayoritaria",null,null,null,null,null,0]
["81400-76","Ingresos por venta de bienes y prestación de servicios de entidades paraestatales empresariales financieras no monetarias con participación estatal mayoritaria",null,null,null,null,null,0]
["81400-77","Ingresos por venta de bienes y prestación de servicios de fideicomisos financieros públicos con participación estatal mayoritaria",null,null,null,null,null,0]
["81400-78","Ingresos por venta de bienes y prestación de servicios de los poderes legislativo y judicial, y de los órganos autónomos",null,null,null,null,null,0]
["81400-79","Otros ingresos",null,null,null,null,null,0]
["81400-80","Participaciones, aportaciones, convenios, incentivos derivados de la colaboración fiscal y fondos distintos de aportaciones",null,null,{"$f":"E1124+E1137+E1140+E1141+E1146+E1152","v":0},{"$f":"F1124+F1137+F1140+F1141+F1146+F1152","v":0},null,{"$f":"H1124+H1137+H1140+H1141+H1146+H1152","v":0}]
["81400-81","Participaciones",null,null,{"$f":"SUM(E1125:E1136)","v":0},{"$f":"SUM(F1125:F1136)","v":0},null,{"$f":"SUM(H1125:H1136)","v":0}]
["81400-81-1","Fondo general de participaciones (federal)",null,null,null,null,null,{"$f":"ROUND(F1125-E1125,2)","v":0}]
["81400-81-2","Fondo de fomento municipal (federal)",null,null,null,null,null,0]
["81400-81-3","Fondo de fiscalización y recaudación (federal)",null,null,null,null,null,0]
["81400-81-4","Fondo de compensación (federal)",null,null,null,null,null,0]
["81400-81-5","Fondo de extracción de hidrocarburos (federal)",null,null,null,null,null,0]
["81400-81-6","Impuesto especial sobre producción y servicios (federal)",null,null,null,null,null,0]
["81400-81-7","0.136% de la recaudación federal participable (federal)",null,null,null,null,null,0]
["81400-81-8","3.17% sobre extracción de petróleo (federal)",null,null,null,null,null,0]
["81400-81-9","Gasolinas y diésel (federal)",null,null,null,null,null,0]
["81400-81-10","Fondo de impuesto sobre la renta (federal)",null,null,null,null,null,0]
["81400-81-11","Fondo de estabilización de los ingresos de las entidades federativas (federal)",null,null,null,null,null,0]
["81400-81-12","Participaciones en ingresos locales (Participaciones del estado)",null,null,null,null,null,0]
["81400-82","Aportaciones",null,null,{"$f":"SUM(E1138:E1139)","v":0},{"$f":"SUM(F1138:F1139)","v":0},null,{"$f":"SUM(H1138:H1139)","v":0}]
["81400-82-1","Fondo de aportaciones para la infraestructura social municipal",null,null,null,null,null,{"$f":"ROUND(F1138-E1138,2)","v":0}]
["81400-82-2","Fondo de aportaciones para el fortalecimiento de los municipios y de las demarcaciones territoriales del distrito federal",null,null,null,null,null,0]
["81400-83","Convenios (Con ingresos de libre disposición)",null,null,null,null,null,0]
["81400-84","Convenios (Con ingresos etiquetados)",null,null,{"$f":"SUM(E1142:E1145)","v":0},{"$f":"SUM(F1142:F1145)","v":0},null,{"$f":"SUM(H1142:H1145)","v":0}]
["81400-84-1","Convenios de protección social en salud",null,null,null,null,null,{"$f":"ROUND(F1142-E1142,2)","v":0}]
["81400-84-2","Convenios de descentralización",null,null,null,null,null,0]
["81400-84-3","Convenios de reasignación",null,null,null,null,null,0]
["81400-84-4","Otros convenios y subsidios",null,null,null,null,null,0]
["81400-85","Incentivos derivados de la colaboración fiscal",null,null,{"$f":"SUM(E1147:E1151)","v":0},{"$f":"SUM(F1147:F1151)","v":0},null,{"$f":"SUM(H1147:H1151)","v":0}]
["81400-85-1","Tenencia o uso de vehículos",null,null,null,null,null,{"$f":"ROUND(F1147-E1147,2)","v":0}]
["81400-85-2","Fondo de compensación ISAN",null,null,null,null,null,0]
["81400-85-3","Impuesto sobre automóviles nuevos",null,null,null,null,null,0]
["81400-85-4","Fondo de compensación de repecos-intermedios",null,null,null,null,null,0]
["81400-85-5","Otros incentivos económicos",null,null,null,null,null,0]
["81400-86","Fondos distintos de aportaciones",null,null,{"$f":"SUM(E1153:E1154)","v":0},{"$f":"SUM(F1153:F1154)","v":0},null,{"$f":"SUM(H1153:H1154)","v":0}]
["81400-86-1","Fondo para entidades federativas y municipios productores de hidrocarburos",null,null,null,null,null,{"$f":"ROUND(F1153-E1153,2)","v":0}]
["81400-86-2","Fondo minero",null,null,null,null,null,0]
["81400-90","Transferencias, asignaciones, subsidios y subvenciones, y pensiones y jubilaciones",null,null,{"$f":"SUM(E1156:E1164)","v":0},{"$f":"SUM(F1156:F1164)","v":0},null,{"$f":"SUM(H1156:H1164)","v":0}]
["81400-91","Transferencias y asignaciones (Con ingresos de libre disposición)",null,null,null,null,null,{"$f":"ROUND(F1156-E1156,2)","v":0}]
["81400-92","Transferencias y asignaciones (Con ingresos etiquetados)",null,null,null,null,null,0]
["81400-93","Transferencias al resto del sector público (derogado)",null,null,null,null,null,0]
["81400-94","Subsidios y subvenciones (Con ingresos de libre disposición)",null,null,null,null,null,0]
["81400-95","Subsidios y subvenciones (Con ingresos etiquetados)",null,null,null,null,null,0]
["81400-96","Ayudas sociales (derogado)",null,null,null,null,null,0]
["81400-97","Pensiones y jubilaciones",null,null,null,null,null,0]
["81400-98","Transferencias a fideicomisos, mandatos y análogos (derogado)",null,null,null,null,null,0]
["81400-99","Transferencias del fondo mexicano del petróleo para la estabilización y el desarrollo",null,null,null,null,null,0]
["81400-00","Ingresos derivados de financiamiento",null,null,{"$f":"SUM(E1166:E1168)","v":0},{"$f":"SUM(F1166:F1168)","v":0},null,{"$f":"SUM(H1166:H1168)","v":0}]
["81400-01","Endeudamiento interno",null,null,null,null,null,{"$f":"ROUND(F1166-E1166,2)","v":0}]
["81400-02","Endeudamiento externo",null,null,null,null,null,0]
["81400-03","Financiamiento interno",null,null,{"$f":"SUM(E1169:E1170)","v":0},{"$f":"SUM(F1169:F1170)","v":0},null,{"$f":"SUM(H1169:H1170)","v":0}]
["81400-03-1","Ingresos derivados de financiamiento con fuente de pago de ingresos de libre disposición",null,null,null,null,null,{"$f":"ROUND(F1169-E1169,2)","v":0}]
["81400-03-2","Ingresos derivados de financiamiento con fuente de pago de transferencias federales etiquetadas",null,null,null,null,null,0]
[81500,"LEY DE INGRESOS RECAUDADA",null,null,{"$f":"E1172+E1182+E1188+E1191+E1198+E1202+E1207+E1217+E1249+E1259","v":0},{"$f":"F1172+F1182+F1188+F1191+F1198+F1202+F1207+F1217+F1249+F1259","v":0},null,{"$f":"F1171-E1171","v":0}]
["81500-10","Impuestos",null,null,{"$f":"SUM(E1173:E1181)","v":0},{"$f":"SUM(F1173:F1181)","v":0},null,{"$f":"SUM(H1173:H1181)","v":0}]
["81500-11","Impuestos sobre los ingresos",null,null,null,null,null,{"$f":"ROUND(F1173-E1173,2)","v":0}]
["81500-12","Impuestos sobre patrimonio",null,null,null,null,null,0]
["81500-13","Impuestos sobre la producción, el consumo y las transacciones",null,null,null,null,null,0]
["81500-14","Impuestos al comercio exterior",null,null,null,null,null,0]
["81500-15","Impuestos sobre nóminas y asimilables",null,null,null,null,null,0]
["81500-16","Impuestos ecológicos",null,null,null,null,null,0]
["81500-17","Accesorios",null,null,null,null,null,0]
["81500-18","Otros impuestos",null,null,null,null,null,0]
["81500-19","Impuestos no Comprendidos en la ley de ingresos vigente, causados en ejercicios fiscales anteriores pendientes de liquidar o pago",null,null,null,null,null,0]
["81500-20","Cuotas y aportaciones de seguridad social",null,null,{"$f":"SUM(E1183:E1187)","v":0},{"$f":"SUM(F1183:F1187)","v":0},null,{"$f":"SUM(H1183:H1187)","v":0}]
["81500-21","Aportaciones para fondos de vivienda",null,null,null,null,null,{"$f":"ROUND(F1183-E1183,2)","v":0}]
["81500-22","Cuotas para la seguridad social",null,null,null,null,null,0]
["81500-23","Cuotas de ahorro para el retiro",null,null,null,null,null,0]
["81500-24","Otras cuotas y aportaciones para la seguridad social",null,null,null,null,null,0]
["81500-25","Accesorios de cuotas y aportaciones de seguridad social",null,null,null,null,null,0]
["81500-30","Contribuciones de mejora",null,null,{"$f":"SUM(E1189:E1190)","v":0},{"$f":"SUM(F1189:F1190)","v":0},null,{"$f":"SUM(H1189:H1190)","v":0}]
["81500-31","Contribuciones de mejoras por obras públicas",null,null,null,null,null,{"$f":"ROUND(F1189-E1189,2)","v":0}]
["81500-32","Contribuciones de mejoras no  comprendidas en la ley de ingresos vigente, causadas en ejercicios fiscales anteriores pendientes de liquidación o pago",null,null,null,null,null,0]
["81500-40","Derechos",null,null,{"$f":"SUM(E1192:E1197)","v":0},{"$f":"SUM(F1192:F1197)","v":0},null,{"$f":"SUM(H1192:H1197)","v":0}]
["81500-41","Derechos por el uso, goce, aprovechamiento o explotación de bienes de dominio público",null,null,null,null,null,{"$f":"ROUND(F1192-E1192,2)","v":0}]
["81500-42","Derecho a los hidrocarburos (derogado)",null,null,null,null,null,0]
["81500-43","Derechos por prestación de servicios",null,null,null,null,null,0]
["81500-44","Otros derechos",null,null,null,null,null,0]
["81500-45","Accesorios de derechos",null,null,null,null,null,0]
["81500-46","Derechos no comprendidos en la ley de ingresos vigente, causados en ejercicios fiscales anteriores pendientes de liquidación o pago",null,null,null,null,null,0]
["81500-50","Productos",null,null,{"$f":"SUM(E1199:E1201)","v":0},{"$f":"SUM(F1199:F1201)","v":0},null,{"$f":"SUM(H1199:H1201)","v":0}]
["81500-51","Productos",null,null,null,null,null,{"$f":"ROUND(F1199-E1199,2)","v":0}]
["81500-52","Productos de capital (derogado)",null,null,null,null,null,0]
["81500-53","Productos no comprendidos en la ley de ingresos vigente, causados en ejercicios fiscales anteriores pendientes de liquidación o pago",null,null,null,null,null,0]
["81500-60","Aprovechamientos",null,null,{"$f":"SUM(E1203:E1206)","v":0},{"$f":"SUM(F1203:F1206)","v":0},null,{"$f":"SUM(H1203:H1206)","v":0}]
["81500-61","Aprovechamientos",null,null,null,null,null,{"$f":"ROUND(F1203-E1203,2)","v":0}]
["81500-62","Aprovechamientos patrimoniales",null,null,null,null,null,0]
["81500-63","Accesorios de aprovechamientos",null,null,null,null,null,0]
["81500-64","Aprovechamientos no comprendidos en la ley de ingresos vigente, causados en ejercicios fiscales anteriores pendientes de liquidación o pago",null,null,null,null,null,0]
["81500-70","Ingresos por venta de bienes, prestación de servicios y otros ingresos",null,null,{"$f":"SUM(E1208:E1216)","v":0},{"$f":"SUM(F1208:F1216)","v":0},null,{"$f":"SUM(H1208:H1216)","v":0}]
["81500-71","Ingresos por venta de bienes y prestación de servicios de instituciones públicas de seguridad social",null,null,null,null,null,{"$f":"ROUND(F1208-E1208,2)","v":0}]
["81500-72","Ingresos por venta de bienes y prestación de servicios de empresas productivas del estado",null,null,null,null,null,0]
["81500-73","Ingresos por venta de bienes y prestación de servicios de entidades paraestatales y fideicomisos no empresariales y no financieros",null,null,null,null,null,0]
["81500-74","Ingresos por venta de bienes y prestación de servicios de entidades paraestatales empresariales y no financieros con participación estatal mayoritaria",null,null,null,null,null,0]
["81500-75","Ingresos por venta de bienes y prestación de servicios de entidades paraestatales empresariales financieras monetarias con participación estatal mayoritaria",null,null,null,null,null,0]
["81500-76","Ingresos por venta de bienes y prestación de servicios de entidades paraestatales empresariales financieras no monetarias con participación estatal mayoritaria",null,null,null,null,null,0]
["81500-77","Ingresos por venta de bienes y prestación de servicios de fideicomisos financieros públicos con participación estatal mayoritaria",null,null,null,null,null,0]
["81500-78","Ingresos por venta de bienes y prestación de servicios de los poderes legislativo y judicial, y de los órganos autónomos",null,null,null,null,null,0]
["81500-79","Otros ingresos",null,null,null,null,null,0]
["81500-80","Participaciones, aportaciones, convenios, incentivos derivados de la colaboración fiscal y fondos distintos de aportaciones",null,null,{"$f":"E1218+E1231+E1234+E1235+E1240+E1246","v":0},{"$f":"F1218+F1231+F1234+F1235+F1240+F1246","v":0},null,{"$f":"H1218+H1231+H1234+H1235+H1240+H1246","v":0}]
["81500-81","Participaciones",null,null,{"$f":"SUM(E1219:E1230)","v":0},{"$f":"SUM(F1219:F1230)","v":0},null,{"$f":"SUM(H1219:H1230)","v":0}]
["81500-81-1","Fondo general de participaciones (federal)",null,null,null,null,null,0]
["81500-81-2","Fondo de fomento municipal (federal)",null,null,null,null,null,0]
["81500-81-3","Fondo de fiscalización y recaudación (federal)",null,null,null,null,null,0]
["81500-81-4","Fondo de compensación (federal)",null,null,null,null,null,0]
["81500-81-5","Fondo de extracción de hidrocarburos (federal)",null,null,null,null,null,0]
["81500-81-6","Impuesto especial sobre producción y servicios (federal)",null,null,null,null,null,0]
["81500-81-7","0.136% de la recaudación federal participable (federal)",null,null,null,null,null,0]
["81500-81-8","3.17% sobre extracción de petróleo (federal)",null,null,null,null,null,0]
["81500-81-9","Gasolinas y diésel (federal)",null,null,null,null,null,0]
["81500-81-10","Fondo de impuesto sobre la renta (federal)",null,null,null,null,null,0]
["81500-81-11","Fondo de estabilización de los ingresos de las entidades federativas (federal)",null,null,null,null,null,0]
["81500-81-12","Participaciones en ingresos locales (Participaciones del estado)",null,null,null,null,null,0]
["81500-82","Aportaciones",null,null,{"$f":"SUM(E1232:E1233)","v":0},{"$f":"SUM(F1232:F1233)","v":0},null,{"$f":"SUM(H1232:H1233)","v":0}]
["81500-82-1","Fondo de aportaciones para la infraestructura social municipal",null,null,null,null,null,0]
["81500-82-2","Fondo de aportaciones para el fortalecimiento de los municipios y de las demarcaciones territoriales del distrito federal",null,null,null,null,null,0]
["81500-83","Convenios (Con ingresos de libre disposición)",null,null,null,null,null,0]
["81500-84","Convenios (Con ingresos etiquetados)",null,null,{"$f":"SUM(E1236:E1239)","v":0},{"$f":"SUM(F1236:F1239)","v":0},null,{"$f":"SUM(H1236:H1239)","v":0}]
["81500-84-1","Convenios de protección social en salud",null,null,null,null,null,0]
["81500-84-2","Convenios de descentralización",null,null,null,null,null,0]
["81500-84-3","Convenios de reasignación",null,null,null,null,null,0]
["81500-84-4","Otros convenios y subsidios",null,null,null,null,null,0]
["81500-85","Incentivos derivados de la colaboración fiscal",null,null,{"$f":"SUM(E1241:E1245)","v":0},{"$f":"SUM(F1241:F1245)","v":0},null,{"$f":"SUM(H1241:H1245)","v":0}]
["81500-85-1","Tenencia o uso de vehículos",null,null,null,null,null,0]
["81500-85-2","Fondo de compensación ISAN",null,null,null,null,null,0]
["81500-85-3","Impuesto sobre automóviles nuevos",null,null,null,null,null,0]
["81500-85-4","Fondo de compensación de repecos-intermedios",null,null,null,null,null,0]
["81500-85-5","Otros incentivos económicos",null,null,null,null,null,0]
["81500-86","Fondos distintos de aportaciones",null,null,{"$f":"SUM(E1247:E1248)","v":0},{"$f":"SUM(F1247:F1248)","v":0},null,{"$f":"SUM(H1247:H1248)","v":0}]
["81500-86-1","Fondo para entidades federativas y municipios productores de hidrocarburos",null,null,null,null,null,0]
["81500-86-2","Fondo minero",null,null,null,null,null,0]
["81500-90","Transferencias, asignaciones, subsidios y subvenciones, y pensiones y jubilaciones",null,null,{"$f":"SUM(E1250:E1258)","v":0},{"$f":"SUM(F1250:F1258)","v":0},null,{"$f":"SUM(H1250:H1258)","v":0}]
["81500-91","Transferencias y asignaciones (Con ingresos de libre disposición)",null,null,null,null,null,0]
["81500-92","Transferencias y asignaciones (Con ingresos etiquetados)",null,null,null,null,null,0]
["81500-93","Transferencias al resto del sector público (derogado)",null,null,null,null,null,0]
["81500-94","Subsidios y subvenciones (Con ingresos de libre disposición)",null,null,null,null,null,0]
["81500-95","Subsidios y subvenciones (Con ingresos etiquetados)",null,null,null,null,null,0]
["81500-96","Ayudas sociales (derogado)",null,null,null,null,null,0]
["81500-97","Pensiones y jubilaciones",null,null,null,null,null,0]
["81500-98","Transferencias a fideicomisos, mandatos y análogos (derogado)",null,null,null,null,null,0]
["81500-99","Transferencias del fondo mexicano del petróleo para la estabilización y el desarrollo",null,null,null,null,null,0]
["81500-00","Ingresos derivados de financiamiento",null,null,{"$f":"SUM(E1260:E1262)","v":0},{"$f":"SUM(F1260:F1262)","v":0},null,{"$f":"SUM(H1260:H1262)","v":0}]
["81500-01","Endeudamiento interno",null,null,null,null,null,0]
["81500-02","Endeudamiento externo",null,null,null,null,null,0]
["81500-03","Financiamiento interno",null,null,{"$f":"SUM(E1263:E1264)","v":0},{"$f":"SUM(F1263:F1264)","v":0},null,{"$f":"SUM(H1263:H1264)","v":0}]
["81500-03-1","Ingresos derivados de financiamiento con fuente de pago de ingresos de libre disposición",null,null,null,null,null,0]
["81500-03-2","Ingresos derivados de financiamiento con fuente de pago de transferencias federales etiquetadas",null,null,null,null,null,0]
[82000,"PRESUPUESTO DE EGRESOS",null,null,{"$f":"E1266+E1402+E1538+E1674+E1810+E1946+E2082","v":0},{"$f":"F1266+F1402+F1538+F1674+F1810+F1946+F2082","v":0},{"$f":"G1266+G1402+G1538+G1674+G1810+G1946+G2082","v":0},{"$f":"H1266+H1402+H1538+H1674+H1810+H1946+H2082","v":0}]
[82100,"PRESUPUESTO DE EGRESOS APROBADO",null,null,{"$f":"E1267+E1282+E1301+E1320+E1339+E1358+E1365+E1380+E1387","v":0},{"$f":"F1267+F1282+F1301+F1320+F1339+F1358+F1365+F1380+F1387","v":0},null,{"$f":"F1266-E1266","v":0}]
["82100-100","Servicios personales",null,null,{"$f":"SUM(E1268:E1281)","v":0},{"$f":"SUM(F1268:F1281)","v":0},null,{"$f":"F1267-E1267","v":0}]
["82100-101","Remuneraciones al personal de carácter permanente (no etiquetado)",null,null,null,null,null,{"$f":"ROUND(F1268-E1268,2)","v":0}]
["82100-102","Remuneraciones al personal de carácter permanente (etiquetado)",null,null,null,null,null,{"$f":"ROUND(F1269-E1269,2)","v":0}]
["82100-103","Remuneraciones al personal de carácter transitorio (no etiquetado)",null,null,null,null,null,0]
["82100-104","Remuneraciones al personal de carácter transitorio (etiquetado)",null,null,null,null,null,0]
["82100-105","Remuneraciones adicionales especiales (no etiquetado)",null,null,null,null,null,0]
["82100-106","Remuneraciones adicionales especiales (etiquetado)",null,null,null,null,null,0]
["82100-107","Seguridad social (no etiquetado)",null,null,null,null,null,0]
["82100-108","Seguridad social (etiquetado)",null,null,null,null,null,0]
["82100-109","Otras prestaciones sociales y económicas (no etiquetado)",null,null,null,null,null,0]
["82100-110","Otras prestaciones sociales y económicas (etiquetado)",null,null,null,null,null,0]
["82100-111","Previsiones (no etiquetado)",null,null,null,null,null,0]
["82100-112","Previsiones (etiquetado)",null,null,null,null,null,0]
["82100-113","Pago de estímulos a servidores públicos (no etiquetado)",null,null,null,null,null,0]
["82100-114","Pago de estímulos a servidores públicos (etiquetado)",null,null,null,null,null,0]
["82100-200","Materiales y suministros",null,null,{"$f":"SUM(E1283:E1300)","v":0},{"$f":"SUM(F1283:F1300)","v":0},null,{"$f":"SUM(H1283:H1300)","v":0}]
["82100-201","Materiales de administración, emisión de documentos y artículos oficiales (no etiquetado)",null,null,null,null,null,0]
["82100-202","Materiales de administración, emisión de documentos y artículos oficiales (etiquetado)",null,null,null,null,null,0]
["82100-203","Alimentos y utensilios (no etiquetado)",null,null,null,null,null,0]
["82100-204","Alimentos y utensilios (etiquetado)",null,null,null,null,null,0]
["82100-205","Materias primas y materiales de producción y comercialización (no etiquetado)",null,null,null,null,null,0]
["82100-206","Materias primas y materiales de producción y comercialización (etiquetado)",null,null,null,null,null,0]
["82100-207","Materiales y artículos de construcción y de reparación (no etiquetado)",null,null,null,null,null,0]
["82100-208","Materiales y artículos de construcción y de reparación (etiquetado)",null,null,null,null,null,0]
["82100-209","Productos químicos, farmacéuticos y de laboratorio (no etiquetado)",null,null,null,null,null,0]
["82100-210","Productos químicos, farmacéuticos y de laboratorio (etiquetado)",null,null,null,null,null,0]
["82100-211","Combustibles, lubricantes y aditivos (no etiquetado)",null,null,null,null,null,0]
["82100-212","Combustibles, lubricantes y aditivos (etiquetado)",null,null,null,null,null,0]
["82100-213","Vestuario, blancos, prendas de protección y artículos deportivos (no etiquetado)",null,null,null,null,null,0]
["82100-214","Vestuario, blancos, prendas de protección y artículos deportivos (etiquetado)",null,null,null,null,null,0]
["82100-215","Materiales y suministros de seguridad (no etiquetado)",null,null,null,null,null,0]
["82100-216","Materiales y suministros de seguridad (etiquetado)",null,null,null,null,null,0]
["82100-217","Herramientas, refacciones y accesorios menores (no etiquetado)",null,null,null,null,null,0]
["82100-218","Herramientas, refacciones y accesorios menores (etiquetado)",null,null,null,null,null,0]
["82100-300","Servicios generales",null,null,{"$f":"SUM(E1302:E1319)","v":0},{"$f":"SUM(F1302:F1319)","v":0},null,{"$f":"SUM(H1302:H1319)","v":0}]
["82100-301","Servicios básicos (no etiquetado)",null,null,null,null,null,0]
["82100-302","Servicios básicos (etiquetado)",null,null,null,null,null,0]
["82100-303","Servicios de arrendamiento (no etiquetado)",null,null,null,null,null,0]
["82100-304","Servicios de arrendamiento (etiquetado)",null,null,null,null,null,0]
["82100-305","Servicios profesionales, científicos, técnicos y otros servicios (no etiquetado)",null,null,null,null,null,0]
["82100-306","Servicios profesionales, científicos, técnicos y otros servicios (etiquetado)",null,null,null,null,null,0]
["82100-307","Servicios financieros, bancarios y comerciales (no etiquetado)",null,null,null,null,null,0]
["82100-308","Servicios financieros, bancarios y comerciales (etiquetado)",null,null,null,null,null,0]
["82100-309","Servicios de instalación, reparación, mantenimiento y conservación (no etiquetado)",null,null,null,null,null,0]
["82100-310","Servicios de instalación, reparación, mantenimiento y conservación (etiquetado)",null,null,null,null,null,0]
["82100-311","Servicios de comunicación social y publicidad (no etiquetado)",null,null,null,null,null,0]
["82100-312","Servicios de comunicación social y publicidad (etiquetado)",null,null,null,null,null,0]
["82100-313","Servicios de traslado y viáticos (no etiquetado)",null,null,null,null,null,0]
["82100-314","Servicios de traslado y viáticos (etiquetado)",null,null,null,null,null,0]
["82100-315","Servicios oficiales (no etiquetado)",null,null,null,null,null,0]
["82100-316","Servicios oficiales (etiquetado)",null,null,null,null,null,0]
["82100-317","Otros servicios generales (no etiquetado)",null,null,null,null,null,0]
["82100-318","Otros servicios generales (etiquetado)",null,null,null,null,null,0]
["82100-400","Transferencias, asignaciones, subsidios y otras ayudas ",null,null,{"$f":"SUM(E1321:E1338)","v":0},{"$f":"SUM(F1321:F1338)","v":0},null,{"$f":"SUM(H1321:H1338)","v":0}]
["82100-401","Transferencias internas y asignaciones al sector público (no etiquetado)",null,null,null,null,null,0]
["82100-402","Transferencias internas y asignaciones al sector público (etiquetado)",null,null,null,null,null,0]
["82100-403","Transferencias al resto del sector público (no etiquetado)",null,null,null,null,null,0]
["82100-404","Transferencias al resto del sector público (etiquetado)",null,null,null,null,null,0]
["82100-405","Subsidios y subvenciones (no etiquetado)",null,null,null,null,null,0]
["82100-406","Subsidios y subvenciones (etiquetado)",null,null,null,null,null,0]
["82100-407","Ayudas sociales (no etiquetado)",null,null,null,null,null,0]
["82100-408","Ayudas sociales  (etiquetado)",null,null,null,null,null,0]
["82100-409","Pensiones y jubilaciones (no etiquetado)",null,null,null,null,null,0]
["82100-410","Pensiones y jubilaciones (etiquetado)",null,null,null,null,null,0]
["82100-411","Transferencias a fideicomisos, mandatos y otros análogos (no etiquetado)",null,null,null,null,null,0]
["82100-412","Transferencias a fideicomisos, mandatos y otros análogos (etiquetado)",null,null,null,null,null,0]
["82100-413","Transferencias a la seguridad social (no etiquetado)",null,null,null,null,null,{"$f":"ROUND(F1333-E1333,2)","v":0}]
["82100-414","Transferencias a la seguridad social (etiquetado)",null,null,null,null,null,0]
["82100-415","Donativos (no etiquetado)",null,null,null,null,null,0]
["82100-416","Donativos (etiquetado)",null,null,null,null,null,0]
["82100-417","Transferencias al exterior (no etiquetado)",null,null,null,null,null,0]
["82100-418","Transferencias al exterior (etiquetado)",null,null,null,null,null,0]
["82100-500","Bienes muebles, inmuebles e intangibles",null,null,{"$f":"SUM(E1340:E1357)","v":0},{"$f":"SUM(F1340:F1357)","v":0},null,{"$f":"SUM(H1340:H1357)","v":0}]
["82100-501","Mobiliario y equipo de administración (no etiquetado)",null,null,null,null,null,0]
["82100-502","Mobiliario y equipo de administración (etiquetado)",null,null,null,null,null,0]
["82100-503","Mobiliario y equipo educacional y recreativo (no etiquetado)",null,null,null,null,null,0]
["82100-504","Mobiliario y equipo educacional y recreativo (etiquetado)",null,null,null,null,null,0]
["82100-505","Equipo instrumental médico y de laboratorio (no etiquetado)",null,null,null,null,null,0]
["82100-506","Equipo instrumental médico y de laboratorio (etiquetado)",null,null,null,null,null,0]
["82100-507","Vehículos y equipo de transporte (no etiquetado)",null,null,null,null,null,0]
["82100-508","Vehículos y equipo de transporte (etiquetado)",null,null,null,null,null,0]
["82100-509","Equipo de defensa y seguridad (no etiquetado)",null,null,null,null,null,0]
["82100-510","Equipo de defensa y seguridad (etiquetado)",null,null,null,null,null,0]
["82100-511","Maquinaria, otros equipos y herramientas (no etiquetado)",null,null,null,null,null,0]
["82100-512","Maquinaria, otros equipos y herramientas (etiquetado)",null,null,null,null,null,0]
["82100-513","Activos biológicos (no etiquetado)",null,null,null,null,null,0]
["82100-514","Activos biológicos (etiquetado)",null,null,null,null,null,0]
["82100-515","Bienes inmuebles (no etiquetado)",null,null,null,null,null,0]
["82100-516","Bienes inmuebles (etiquetado)",null,null,null,null,null,0]
["82100-517","Activos intangibles (no etiquetado)",null,null,null,null,null,0]
["82100-518","Activos intangibles (etiquetado)",null,null,null,null,null,0]
["82100-600","Inversión pública",null,null,{"$f":"SUM(E1359:E1364)","v":0},{"$f":"SUM(F1359:F1364)","v":0},null,{"$f":"SUM(H1359:H1364)","v":0}]
["82100-601","Obra pública en bienes de dominio público (no etiquetado)",null,null,null,null,null,0]
["82100-602","Obra pública en bienes de dominio público (etiquetado)",null,null,null,null,null,0]
["82100-603","Obra pública en bienes de dominio propios (no etiquetado)",null,null,null,null,null,0]
["82100-604","Obra pública en bienes de dominio propios (etiquetado)",null,null,null,null,null,0]
["82100-605","Proyectos productivos y acciones de fomento (no etiquetado)",null,null,null,null,null,0]
["82100-606","Proyectos productivos y acciones de fomento (etiquetado)",null,null,null,null,null,0]
["82100-700","Inversiones financieras y otras provisiones",null,null,{"$f":"SUM(E1366:E1379)","v":0},{"$f":"SUM(F1366:F1379)","v":0},null,{"$f":"SUM(H1366:H1379)","v":0}]
["82100-701","Inversiones para el fomento de actividades productivas (no etiquetado)",null,null,null,null,null,0]
["82100-702","Inversiones para el fomento de actividades productivas (etiquetado)",null,null,null,null,null,0]
["82100-703","Acciones y participaciones de capital (no etiquetado)",null,null,null,null,null,0]
["82100-704","Acciones y participaciones de capital (etiquetado)",null,null,null,null,null,0]
["82100-705","Compra de títulos y valores (no etiquetado)",null,null,null,null,null,0]
["82100-706","Compra de títulos y valores (etiquetado)",null,null,null,null,null,0]
["82100-707","Concesión de préstamos (no etiquetado)",null,null,null,null,null,0]
["82100-708","Concesión de préstamos (etiquetado)",null,null,null,null,null,0]
["82100-709","Inversiones en fideicomisos, mandatos y otros análogos (no etiquetado)",null,null,null,null,null,0]
["82100-710","Inversiones en fideicomisos, mandatos y otros análogos (etiquetado)",null,null,null,null,null,0]
["82100-711","Otras inversiones financieras (no etiquetado)",null,null,null,null,null,0]
["82100-712","Otras inversiones financieras (etiquetado)",null,null,null,null,null,0]
["82100-713","Provisiones para contingencias y otras erogaciones especiales (no etiquetado)",null,null,null,null,null,0]
["82100-714","Provisiones para contingencias y otras erogaciones especiales (etiquetado)",null,null,null,null,null,0]
["82100-800","Participaciones y aportaciones",null,null,{"$f":"SUM(E1381:E1386)","v":0},{"$f":"SUM(F1381:F1386)","v":0},null,{"$f":"SUM(H1381:H1386)","v":0}]
["82100-801","Participaciones (no etiquetado)",null,null,null,null,null,0]
["82100-802","Participaciones (etiquetado)",null,null,null,null,null,0]
["82100-803","Aportaciones (no etiquetado)",null,null,null,null,null,0]
["82100-804","Aportaciones (etiquetado)",null,null,null,null,null,0]
["82100-805","Convenios (no etiquetado)",null,null,null,null,null,0]
["82100-806","Convenios (etiquetado)",null,null,null,null,null,0]
["82100-900","Deuda pública",null,null,{"$f":"SUM(E1388:E1401)","v":0},{"$f":"SUM(F1388:F1401)","v":0},null,{"$f":"SUM(H1388:H1401)","v":0}]
["82100-901","Amortización de la deuda pública (no etiquetado)",null,null,null,null,null,0]
["82100-902","Amortización de la deuda pública (etiquetado)",null,null,null,null,null,0]
["82100-903","Intereses de la deuda pública (no etiquetado)",null,null,null,null,null,0]
["82100-904","Intereses de la deuda pública (etiquetado)",null,null,null,null,null,0]
["82100-905","Comisiones de la deuda pública (no etiquetado)",null,null,null,null,null,0]
["82100-906","Comisiones de la deuda pública (etiquetado)",null,null,null,null,null,0]
["82100-907","Gastos de la deuda pública (no etiquetado)",null,null,null,null,null,0]
["82100-908","Gastos de la deuda pública (etiquetado)",null,null,null,null,null,0]
["82100-909","Costo por coberturas (no etiquetado)",null,null,null,null,null,0]
["82100-910","Costo por coberturas (etiquetado)",null,null,null,null,null,{"$f":"ROUND(F1397-E1397,2)","v":0}]
["82100-911","Apoyos financieros (no etiquetado)",null,null,null,null,null,0]
["82100-912","Apoyos financieros (etiquetado)",null,null,null,null,null,0]
["82100-913","Adeudos de ejercicios anteriores (adefas) (no etiquetado)",null,null,null,null,null,0]
["82100-914","Adeudos de ejercicios anteriores (adefas) (etiquetado)",null,null,null,null,null,0]
[82200,"PRESUPUESTO DE EGRESOS POR EJERCER",null,null,{"$f":"E1403+E1418+E1437+E1456+E1475+E1494+E1501+E1516+E1523","v":0},{"$f":"F1403+F1418+F1437+F1456+F1475+F1494+F1501+F1516+F1523","v":0},{"$f":"E1402-F1402","v":0}]
["82200-100","Servicios personales",null,null,{"$f":"SUM(E1404:E1417)","v":0},{"$f":"SUM(F1404:F1417)","v":0},{"$f":"SUM(G1404:G1417)","v":0}]
["82200-101","Remuneraciones al personal de carácter permanente (no etiquetado)",null,null,null,null,{"$f":"ROUND(E1404-F1404,2)","v":0}]
["82200-102","Remuneraciones al personal de carácter permanente (etiquetado)",null,null,null,null,{"$f":"ROUND(E1405-F1405,2)","v":0}]
["82200-103","Remuneraciones al personal de carácter transitorio (no etiquetado)",null,null,null,null,0]
["82200-104","Remuneraciones al personal de carácter transitorio (etiquetado)",null,null,null,null,0]
["82200-105","Remuneraciones adicionales especiales (no etiquetado)",null,null,null,null,0]
["82200-106","Remuneraciones adicionales especiales (etiquetado)",null,null,null,null,0]
["82200-107","Seguridad social (no etiquetado)",null,null,null,null,0]
["82200-108","Seguridad social (etiquetado)",null,null,null,null,0]
["82200-109","Otras prestaciones sociales y económicas (no etiquetado)",null,null,null,null,0]
["82200-110","Otras prestaciones sociales y económicas (etiquetado)",null,null,null,null,0]
["82200-111","Previsiones (no etiquetado)",null,null,null,null,0]
["82200-112","Previsiones (etiquetado)",null,null,null,null,0]
["82200-113","Pago de estímulos a servidores públicos (no etiquetado)",null,null,null,null,0]
["82200-114","Pago de estímulos a servidores públicos (etiquetado)",null,null,null,null,0]
["82200-200","Materiales y suministros",null,null,{"$f":"SUM(E1419:E1436)","v":0},{"$f":"SUM(F1419:F1436)","v":0},{"$f":"SUM(G1419:G1436)","v":0}]
["82200-201","Materiales de administración, emisión de documentos y artículos oficiales (no etiquetado)",null,null,null,null,0]
["82200-202","Materiales de administración, emisión de documentos y artículos oficiales (etiquetado)",null,null,null,null,0]
["82200-203","Alimentos y utensilios (no etiquetado)",null,null,null,null,0]
["82200-204","Alimentos y utensilios (etiquetado)",null,null,null,null,0]
["82200-205","Materias primas y materiales de producción y comercialización (no etiquetado)",null,null,null,null,0]
["82200-206","Materias primas y materiales de producción y comercialización (etiquetado)",null,null,null,null,0]
["82200-207","Materiales y artículos de construcción y de reparación (no etiquetado)",null,null,null,null,0]
["82200-208","Materiales y artículos de construcción y de reparación (etiquetado)",null,null,null,null,0]
["82200-209","Productos químicos, farmacéuticos y de laboratorio (no etiquetado)",null,null,null,null,0]
["82200-210","Productos químicos, farmacéuticos y de laboratorio (etiquetado)",null,null,null,null,0]
["82200-211","Combustibles, lubricantes y aditivos (no etiquetado)",null,null,null,null,0]
["82200-212","Combustibles, lubricantes y aditivos (etiquetado)",null,null,null,null,0]
["82200-213","Vestuario, blancos, prendas de protección y artículos deportivos (no etiquetado)",null,null,null,null,0]
["82200-214","Vestuario, blancos, prendas de protección y artículos deportivos (etiquetado)",null,null,null,null,0]
["82200-215","Materiales y suministros de seguridad (no etiquetado)",null,null,null,null,0]
["82200-216","Materiales y suministros de seguridad (etiquetado)",null,null,null,null,0]
["82200-217","Herramientas, refacciones y accesorios menores (no etiquetado)",null,null,null,null,0]
["82200-218","Herramientas, refacciones y accesorios menores (etiquetado)",null,null,null,null,0]
["82200-300","Servicios generales",null,null,{"$f":"SUM(E1438:E1455)","v":0},{"$f":"SUM(F1438:F1455)","v":0},{"$f":"SUM(G1438:G1455)","v":0}]
["82200-301","Servicios básicos (no etiquetado)",null,null,null,null,0]
["82200-302","Servicios básicos (etiquetado)",null,null,null,null,0]
["82200-303","Servicios de arrendamiento (no etiquetado)",null,null,null,null,0]
["82200-304","Servicios de arrendamiento (etiquetado)",null,null,null,null,0]
["82200-305","Servicios profesionales, científicos, técnicos y otros servicios (no etiquetado)",null,null,null,null,0]
["82200-306","Servicios profesionales, científicos, técnicos y otros servicios (etiquetado)",null,null,null,null,0]
["82200-307","Servicios financieros, bancarios y comerciales (no etiquetado)",null,null,null,null,0]
["82200-308","Servicios financieros, bancarios y comerciales (etiquetado)",null,null,null,null,0]
["82200-309","Servicios de instalación, reparación, mantenimiento y conservación (no etiquetado)",null,null,null,null,0]
["82200-310","Servicios de instalación, reparación, mantenimiento y conservación (etiquetado)",null,null,null,null,0]
["82200-311","Servicios de comunicación social y publicidad (no etiquetado)",null,null,null,null,0]
["82200-312","Servicios de comunicación social y publicidad (etiquetado)",null,null,null,null,0]
["82200-313","Servicios de traslado y viáticos (no etiquetado)",null,null,null,null,0]
["82200-314","Servicios de traslado y viáticos (etiquetado)",null,null,null,null,0]
["82200-315","Servicios oficiales (no etiquetado)",null,null,null,null,0]
["82200-316","Servicios oficiales (etiquetado)",null,null,null,null,0]
["82200-317","Otros servicios generales (no etiquetado)",null,null,null,null,0]
["82200-318","Otros servicios generales (etiquetado)",null,null,null,null,0]
["82200-400","Transferencias, asignaciones, subsidios y otras ayudas ",null,null,{"$f":"SUM(E1457:E1474)","v":0},{"$f":"SUM(F1457:F1474)","v":0},{"$f":"SUM(G1457:G1474)","v":0}]
["82200-401","Transferencias internas y asignaciones al sector público (no etiquetado)",null,null,null,null,0]
["82200-402","Transferencias internas y asignaciones al sector público (etiquetado)",null,null,null,null,0]
["82200-403","Transferencias al resto del sector público (no etiquetado)",null,null,null,null,0]
["82200-404","Transferencias al resto del sector público (etiquetado)",null,null,null,null,0]
["82200-405","Subsidios y subvenciones (no etiquetado)",null,null,null,null,0]
["82200-406","Subsidios y subvenciones (etiquetado)",null,null,null,null,0]
["82200-407","Ayudas sociales (no etiquetado)",null,null,null,null,0]
["82200-408","Ayudas sociales  (etiquetado)",null,null,null,null,0]
["82200-409","Pensiones y jubilaciones (no etiquetado)",null,null,null,null,0]
["82200-410","Pensiones y jubilaciones (etiquetado)",null,null,null,null,0]
["82200-411","Transferencias a fideicomisos, mandatos y otros análogos (no etiquetado)",null,null,null,null,0]
["82200-412","Transferencias a fideicomisos, mandatos y otros análogos (etiquetado)",null,null,null,null,0]
["82200-413","Transferencias a la seguridad social (no etiquetado)",null,null,null,null,{"$f":"ROUND(E1469-F1469,2)","v":0}]
["82200-414","Transferencias a la seguridad social (etiquetado)",null,null,null,null,0]
["82200-415","Donativos (no etiquetado)",null,null,null,null,0]
["82200-416","Donativos (etiquetado)",null,null,null,null,0]
["82200-417","Transferencias al exterior (no etiquetado)",null,null,null,null,0]
["82200-418","Transferencias al exterior (etiquetado)",null,null,null,null,0]
["82200-500","Bienes muebles, inmuebles e Intangibles",null,null,{"$f":"SUM(E1476:E1493)","v":0},{"$f":"SUM(F1476:F1493)","v":0},{"$f":"SUM(G1476:G1493)","v":0}]
["82200-501","Mobiliario y equipo de administración (no etiquetado)",null,null,null,null,{"$f":"ROUND(E1476-F1476,2)","v":0}]
["82200-502","Mobiliario y equipo de administración (etiquetado)",null,null,null,null,0]
["82200-503","Mobiliario y equipo educacional y recreativo (no etiquetado)",null,null,null,null,0]
["82200-504","Mobiliario y equipo educacional y recreativo (etiquetado)",null,null,null,null,0]
["82200-505","Equipo instrumental médico y de laboratorio (no etiquetado)",null,null,null,null,0]
["82200-506","Equipo instrumental médico y de laboratorio (etiquetado)",null,null,null,null,0]
["82200-507","Vehículos y equipo de transporte (no etiquetado)",null,null,null,null,0]
["82200-508","Vehículos y equipo de transporte (etiquetado)",null,null,null,null,0]
["82200-509","Equipo de defensa y seguridad (no etiquetado)",null,null,null,null,0]
["82200-510","Equipo de defensa y seguridad (etiquetado)",null,null,null,null,0]
["82200-511","Maquinaria, otros equipos y herramientas (no etiquetado)",null,null,null,null,0]
["82200-512","Maquinaria, otros equipos y herramientas (etiquetado)",null,null,null,null,0]
["82200-513","Activos biológicos (no etiquetado)",null,null,null,null,0]
["82200-514","Activos biológicos (etiquetado)",null,null,null,null,0]
["82200-515","Bienes inmuebles (no etiquetado)",null,null,null,null,0]
["82200-516","Bienes inmuebles (etiquetado)",null,null,null,null,0]
["82200-517","Activos intangibles (no etiquetado)",null,null,null,null,0]
["82200-518","Activos intangibles (etiquetado)",null,null,null,null,0]
["82200-600","Inversión pública",null,null,{"$f":"SUM(E1495:E1500)","v":0},{"$f":"SUM(F1495:F1500)","v":0},{"$f":"SUM(G1495:G1500)","v":0}]
["82200-601","Obra pública en bienes de dominio público (no etiquetado)",null,null,null,null,{"$f":"ROUND(E1495-F1495,2)","v":0}]
["82200-602","Obra pública en bienes de dominio público (etiquetado)",null,null,null,null,0]
["82200-603","Obra pública en bienes de dominio propios (no etiquetado)",null,null,null,null,0]
["82200-604","Obra pública en bienes de dominio propios (etiquetado)",null,null,null,null,0]
["82200-605","Proyectos productivos y acciones de fomento (no etiquetado)",null,null,null,null,0]
["82200-606","Proyectos productivos y acciones de fomento (etiquetado)",null,null,null,null,0]
["82200-700","Inversiones financieras y otras provisiones",null,null,{"$f":"SUM(E1502:E1515)","v":0},{"$f":"SUM(F1502:F1515)","v":0},{"$f":"SUM(G1502:G1515)","v":0}]
["82200-701","Inversiones para el fomento de actividades productivas (no etiquetado)",null,null,null,null,{"$f":"ROUND(E1502-F1502,2)","v":0}]
["82200-702","Inversiones para el fomento de actividades productivas (etiquetado)",null,null,null,null,0]
["82200-703","Acciones y participaciones de capital (no etiquetado)",null,null,null,null,0]
["82200-704","Acciones y participaciones de capital (etiquetado)",null,null,null,null,0]
["82200-705","Compra de títulos y valores (no etiquetado)",null,null,null,null,0]
["82200-706","Compra de títulos y valores (etiquetado)",null,null,null,null,0]
["82200-707","Concesión de préstamos (no etiquetado)",null,null,null,null,0]
["82200-708","Concesión de préstamos (etiquetado)",null,null,null,null,0]
["82200-709","Inversiones en fideicomisos, mandatos y otros análogos (no etiquetado)",null,null,null,null,0]
["82200-710","Inversiones en fideicomisos, mandatos y otros análogos (etiquetado)",null,null,null,null,0]
["82200-711","Otras inversiones financieras (no etiquetado)",null,null,null,null,0]
["82200-712","Otras inversiones financieras (etiquetado)",null,null,null,null,0]
["82200-713","Provisiones para contingencias y otras erogaciones especiales (no etiquetado)",null,null,null,null,0]
["82200-714","Provisiones para contingencias y otras erogaciones especiales (etiquetado)",null,null,null,null,0]
["82200-800","Participaciones y aportaciones",null,null,{"$f":"SUM(E1517:E1522)","v":0},{"$f":"SUM(F1517:F1522)","v":0},{"$f":"SUM(G1517:G1522)","v":0}]
["82200-801","Participaciones (no etiquetado)",null,null,null,null,{"$f":"ROUND(E1517-F1517,2)","v":0}]
["82200-802","Participaciones (etiquetado)",null,null,null,null,0]
["82200-803","Aportaciones (no etiquetado)",null,null,null,null,0]
["82200-804","Aportaciones (etiquetado)",null,null,null,null,0]
["82200-805","Convenios (no etiquetado)",null,null,null,null,0]
["82200-806","Convenios (etiquetado)",null,null,null,null,0]
["82200-900","Deuda pública",null,null,{"$f":"SUM(E1524:E1537)","v":0},{"$f":"SUM(F1524:F1537)","v":0},{"$f":"SUM(G1524:G1537)","v":0}]
["82200-901","Amortización de la deuda pública (no etiquetado)",null,null,null,null,{"$f":"ROUND(E1524-F1524,2)","v":0}]
["82200-902","Amortización de la deuda pública (etiquetado)",null,null,null,null,0]
["82200-903","Intereses de la deuda pública (no etiquetado)",null,null,null,null,0]
["82200-904","Intereses de la deuda pública (etiquetado)",null,null,null,null,0]
["82200-905","Comisiones de la deuda pública (no etiquetado)",null,null,null,null,0]
["82200-906","Comisiones de la deuda pública (etiquetado)",null,null,null,null,0]
["82200-907","Gastos de la deuda pública (no etiquetado)",null,null,null,null,0]
["82200-908","Gastos de la deuda pública (etiquetado)",null,null,null,null,0]
["82200-909","Costo por coberturas (no etiquetado)",null,null,null,null,0]
["82200-910","Costo por coberturas (etiquetado)",null,null,null,null,0]
["82200-911","Apoyos financieros (no etiquetado)",null,null,null,null,0]
["82200-912","Apoyos financieros (etiquetado)",null,null,null,null,0]
["82200-913","Adeudos de ejercicios anteriores (adefas) (no etiquetado)",null,null,null,null,0]
["82200-914","Adeudos de ejercicios anteriores (adefas) (etiquetado)",null,null,null,null,0]
[82300,"MODIFICACIONES AL PRESUPUESTO DE EGRESOS APROBADO",null,null,{"$f":"E1539+E1554+E1573+E1592+E1611+E1630+E1637+E1652+E1659","v":0},{"$f":"F1539+F1554+F1573+F1592+F1611+F1630+F1637+F1652+F1659","v":0},null,{"$f":"F1538-E1538","v":0}]
["82300-100","Servicios personales",null,null,{"$f":"SUM(E1540:E1553)","v":0},{"$f":"SUM(F1540:F1553)","v":0},null,{"$f":"SUM(H1540:H1553)","v":0}]
["82300-101","Remuneraciones al personal de carácter permanente (no etiquetado)",null,null,null,null,null,{"$f":"ROUND(F1540-E1540,2)","v":0}]
["82300-102","Remuneraciones al personal de carácter permanente (etiquetado)",null,null,null,null,null,{"$f":"ROUND(F1541-E1541,2)","v":0}]
["82300-103","Remuneraciones al personal de carácter transitorio (no etiquetado)",null,null,null,null,null,0]
["82300-104","Remuneraciones al personal de carácter transitorio (etiquetado)",null,null,null,null,null,0]
["82300-105","Remuneraciones adicionales especiales (no etiquetado)",null,null,null,null,null,0]
["82300-106","Remuneraciones adicionales especiales (etiquetado)",null,null,null,null,null,0]
["82300-107","Seguridad social (no etiquetado)",null,null,null,null,null,0]
["82300-108","Seguridad social (etiquetado)",null,null,null,null,null,0]
["82300-109","Otras prestaciones sociales y económicas (no etiquetado)",null,null,null,null,null,0]
["82300-110","Otras prestaciones sociales y económicas (etiquetado)",null,null,null,null,null,0]
["82300-111","Previsiones (no etiquetado)",null,null,null,null,null,0]
["82300-112","Previsiones (etiquetado)",null,null,null,null,null,0]
["82300-113","Pago de estímulos a servidores públicos (no etiquetado)",null,null,null,null,null,0]
["82300-114","Pago de estímulos a servidores públicos (etiquetado)",null,null,null,null,null,0]
["82300-200","Materiales y suministros",null,null,{"$f":"SUM(E1555:E1572)","v":0},{"$f":"SUM(F1555:F1572)","v":0},null,{"$f":"SUM(H1555:H1572)","v":0}]
["82300-201","Materiales de administración, emisión de documentos y artículos oficiales (no etiquetado)",null,null,null,null,null,{"$f":"ROUND(F1555-E1555,2)","v":0}]
["82300-202","Materiales de administración, emisión de documentos y artículos oficiales (etiquetado)",null,null,null,null,null,0]
["82300-203","Alimentos y utensilios (no etiquetado)",null,null,null,null,null,0]
["82300-204","Alimentos y utensilios (etiquetado)",null,null,null,null,null,0]
["82300-205","Materias primas y materiales de producción y comercialización (no etiquetado)",null,null,null,null,null,0]
["82300-206","Materias primas y materiales de producción y comercialización (etiquetado)",null,null,null,null,null,0]
["82300-207","Materiales y artículos de construcción y de reparación (no etiquetado)",null,null,null,null,null,0]
["82300-208","Materiales y artículos de construcción y de reparación (etiquetado)",null,null,null,null,null,0]
["82300-209","Productos químicos, farmacéuticos y de laboratorio (no etiquetado)",null,null,null,null,null,0]
["82300-210","Productos químicos, farmacéuticos y de laboratorio (etiquetado)",null,null,null,null,null,0]
["82300-211","Combustibles, lubricantes y aditivos (no etiquetado)",null,null,null,null,null,0]
["82300-212","Combustibles, lubricantes y aditivos (etiquetado)",null,null,null,null,null,0]
["82300-213","Vestuario, blancos, prendas de protección y artículos deportivos (no etiquetado)",null,null,null,null,null,0]
["82300-214","Vestuario, blancos, prendas de protección y artículos deportivos (etiquetado)",null,null,null,null,null,0]
["82300-215","Materiales y suministros de seguridad (no etiquetado)",null,null,null,null,null,0]
["82300-216","Materiales y suministros de seguridad (etiquetado)",null,null,null,null,null,0]
["82300-217","Herramientas, refacciones y accesorios menores (no etiquetado)",null,null,null,null,null,0]
["82300-218","Herramientas, refacciones y accesorios menores (etiquetado)",null,null,null,null,null,0]
["82300-300","Servicios generales",null,null,{"$f":"SUM(E1574:E1591)","v":0},{"$f":"SUM(F1574:F1591)","v":0},null,{"$f":"SUM(H1574:H1591)","v":0}]
["82300-301","Servicios básicos (no etiquetado)",null,null,null,null,null,{"$f":"ROUND(F1574-E1574,2)","v":0}]
["82300-302","Servicios básicos (etiquetado)",null,null,null,null,null,0]
["82300-303","Servicios de arrendamiento (no etiquetado)",null,null,null,null,null,0]
["82300-304","Servicios de arrendamiento (etiquetado)",null,null,null,null,null,0]
["82300-305","Servicios profesionales, científicos, técnicos y otros servicios (no etiquetado)",null,null,null,null,null,0]
["82300-306","Servicios profesionales, científicos, técnicos y otros servicios (etiquetado)",null,null,null,null,null,0]
["82300-307","Servicios financieros, bancarios y comerciales (no etiquetado)",null,null,null,null,null,0]
["82300-308","Servicios financieros, bancarios y comerciales (etiquetado)",null,null,null,null,null,0]
["82300-309","Servicios de instalación, reparación, mantenimiento y conservación (no etiquetado)",null,null,null,null,null,0]
["82300-310","Servicios de instalación, reparación, mantenimiento y conservación (etiquetado)",null,null,null,null,null,0]
["82300-311","Servicios de comunicación social y publicidad (no etiquetado)",null,null,null,null,null,0]
["82300-312","Servicios de comunicación social y publicidad (etiquetado)",null,null,null,null,null,0]
["82300-313","Servicios de traslado y viáticos (no etiquetado)",null,null,null,null,null,0]
["82300-314","Servicios de traslado y viáticos (etiquetado)",null,null,null,null,null,0]
["82300-315","Servicios oficiales (no etiquetado)",null,null,null,null,null,0]
["82300-316","Servicios oficiales (etiquetado)",null,null,null,null,null,0]
["82300-317","Otros servicios generales (no etiquetado)",null,null,null,null,null,0]
["82300-318","Otros servicios generales (etiquetado)",null,null,null,null,null,0]
["82300-400","Transferencias, asignaciones, subsidios y otras ayudas ",null,null,{"$f":"SUM(E1593:E1610)","v":0},{"$f":"SUM(F1593:F1610)","v":0},null,{"$f":"SUM(H1593:H1610)","v":0}]
["82300-401","Transferencias internas y asignaciones al sector público (no etiquetado)",null,null,null,null,null,{"$f":"ROUND(F1593-E1593,2)","v":0}]
["82300-402","Transferencias internas y asignaciones al sector público (etiquetado)",null,null,null,null,null,0]
["82300-403","Transferencias al resto del sector público (no etiquetado)",null,null,null,null,null,0]
["82300-404","Transferencias al resto del sector público (etiquetado)",null,null,null,null,null,0]
["82300-405","Subsidios y subvenciones (no etiquetado)",null,null,null,null,null,0]
["82300-406","Subsidios y subvenciones (etiquetado)",null,null,null,null,null,0]
["82300-407","Ayudas sociales (no etiquetado)",null,null,null,null,null,0]
["82300-408","Ayudas sociales  (etiquetado)",null,null,null,null,null,0]
["82300-409","Pensiones y jubilaciones (no etiquetado)",null,null,null,null,null,0]
["82300-410","Pensiones y jubilaciones (etiquetado)",null,null,null,null,null,0]
["82300-411","Transferencias a fideicomisos, mandatos y otros análogos (no etiquetado)",null,null,null,null,null,0]
["82300-412","Transferencias a fideicomisos, mandatos y otros análogos (etiquetado)",null,null,null,null,null,0]
["82300-413","Transferencias a la seguridad social (no etiquetado)",null,null,null,null,null,0]
["82300-414","Transferencias a la seguridad social (etiquetado)",null,null,null,null,null,0]
["82300-415","Donativos (no etiquetado)",null,null,null,null,null,0]
["82300-416","Donativos (etiquetado)",null,null,null,null,null,0]
["82300-417","Transferencias al exterior (no etiquetado)",null,null,null,null,null,0]
["82300-418","Transferencias al exterior (etiquetado)",null,null,null,null,null,0]
["82300-500","Bienes muebles, inmuebles e intangibles",null,null,{"$f":"SUM(E1612:E1629)","v":0},{"$f":"SUM(F1612:F1629)","v":0},null,{"$f":"SUM(H1612:H1629)","v":0}]
["82300-501","Mobiliario y equipo de administración (no etiquetado)",null,null,null,null,null,{"$f":"ROUND(F1612-E1612,2)","v":0}]
["82300-502","Mobiliario y equipo de administración (etiquetado)",null,null,null,null,null,0]
["82300-503","Mobiliario y equipo educacional y recreativo (no etiquetado)",null,null,null,null,null,0]
["82300-504","Mobiliario y equipo educacional y recreativo (etiquetado)",null,null,null,null,null,0]
["82300-505","Equipo instrumental médico y de laboratorio (no etiquetado)",null,null,null,null,null,0]
["82300-506","Equipo instrumental médico y de laboratorio (etiquetado)",null,null,null,null,null,0]
["82300-507","Vehículos y equipo de transporte (no etiquetado)",null,null,null,null,null,0]
["82300-508","Vehículos y equipo de transporte (etiquetado)",null,null,null,null,null,0]
["82300-509","Equipo de defensa y seguridad (no etiquetado)",null,null,null,null,null,0]
["82300-510","Equipo de defensa y seguridad (etiquetado)",null,null,null,null,null,0]
["82300-511","Maquinaria, otros equipos y herramientas (no etiquetado)",null,null,null,null,null,0]
["82300-512","Maquinaria, otros equipos y herramientas (etiquetado)",null,null,null,null,null,0]
["82300-513","Activos biológicos (no etiquetado)",null,null,null,null,null,0]
["82300-514","Activos biológicos (etiquetado)",null,null,null,null,null,0]
["82300-515","Bienes inmuebles (no etiquetado)",null,null,null,null,null,0]
["82300-516","Bienes inmuebles (etiquetado)",null,null,null,null,null,0]
["82300-517","Activos intangibles (no etiquetado)",null,null,null,null,null,0]
["82300-518","Activos intangibles (etiquetado)",null,null,null,null,null,0]
["82300-600","Inversión pública",null,null,{"$f":"SUM(E1631:E1636)","v":0},{"$f":"SUM(F1631:F1636)","v":0},null,{"$f":"SUM(H1631:H1636)","v":0}]
["82300-601","Obra pública en bienes de dominio público (no etiquetado)",null,null,null,null,null,{"$f":"ROUND(F1631-E1631,2)","v":0}]
["82300-602","Obra pública en bienes de dominio público (etiquetado)",null,null,null,null,null,0]
["82300-603","Obra pública en bienes de dominio propios (no etiquetado)",null,null,null,null,null,0]
["82300-604","Obra pública en bienes de dominio propios (etiquetado)",null,null,null,null,null,0]
["82300-605","Proyectos productivos y acciones de fomento (no etiquetado)",null,null,null,null,null,0]
["82300-606","Proyectos productivos y acciones de fomento (etiquetado)",null,null,null,null,null,0]
["82300-700","Inversiones financieras y otras provisiones",null,null,{"$f":"SUM(E1638:E1651)","v":0},{"$f":"SUM(F1638:F1651)","v":0},null,{"$f":"SUM(H1638:H1651)","v":0}]
["82300-701","Inversiones para el fomento de actividades productivas (no etiquetado)",null,null,null,null,null,{"$f":"ROUND(F1638-E1638,2)","v":0}]
["82300-702","Inversiones para el fomento de actividades productivas (etiquetado)",null,null,null,null,null,0]
["82300-703","Acciones y participaciones de capital (no etiquetado)",null,null,null,null,null,0]
["82300-704","Acciones y participaciones de capital (etiquetado)",null,null,null,null,null,0]
["82300-705","Compra de títulos y valores (no etiquetado)",null,null,null,null,null,0]
["82300-706","Compra de títulos y valores (etiquetado)",null,null,null,null,null,0]
["82300-707","Concesión de préstamos (no etiquetado)",null,null,null,null,null,0]
["82300-708","Concesión de préstamos (etiquetado)",null,null,null,null,null,0]
["82300-709","Inversiones en fideicomisos, mandatos y otros análogos (no etiquetado)",null,null,null,null,null,0]
["82300-710","Inversiones en fideicomisos, mandatos y otros análogos (etiquetado)",null,null,null,null,null,0]
["82300-711","Otras inversiones financieras (no etiquetado)",null,null,null,null,null,0]
["82300-712","Otras inversiones financieras (etiquetado)",null,null,null,null,null,0]
["82300-713","Provisiones para contingencias y otras erogaciones especiales (no etiquetado)",null,null,null,null,null,0]
["82300-714","Provisiones para contingencias y otras erogaciones especiales (etiquetado)",null,null,null,null,null,0]
["82300-800","Participaciones y aportaciones",null,null,{"$f":"SUM(E1653:E1658)","v":0},{"$f":"SUM(F1653:F1658)","v":0},null,{"$f":"SUM(H1653:H1658)","v":0}]
["82300-801","Participaciones (no etiquetado)",null,null,null,null,null,{"$f":"ROUND(F1653-E1653,2)","v":0}]
["82300-802","Participaciones (etiquetado)",null,null,null,null,null,0]
["82300-803","Aportaciones (no etiquetado)",null,null,null,null,null,0]
["82300-804","Aportaciones (etiquetado)",null,null,null,null,null,0]
["82300-805","Convenios (no etiquetado)",null,null,null,null,null,0]
["82300-806","Convenios (etiquetado)",null,null,null,null,null,0]
["82300-900","Deuda pública",null,null,{"$f":"SUM(E1660:E1673)","v":0},{"$f":"SUM(F1660:F1673)","v":0},null,{"$f":"SUM(H1660:H1673)","v":0}]
["82300-901","Amortización de la deuda pública (no etiquetado)",null,null,null,null,null,{"$f":"ROUND(F1660-E1660,2)","v":0}]
["82300-902","Amortización de la deuda pública (etiquetado)",null,null,null,null,null,0]
["82300-903","Intereses de la deuda pública (no etiquetado)",null,null,null,null,null,0]
["82300-904","Intereses de la deuda pública (etiquetado)",null,null,null,null,null,0]
["82300-905","Comisiones de la deuda pública (no etiquetado)",null,null,null,null,null,0]
["82300-906","Comisiones de la deuda pública (etiquetado)",null,null,null,null,null,0]
["82300-907","Gastos de la deuda pública (no etiquetado)",null,null,null,null,null,0]
["82300-908","Gastos de la deuda pública (etiquetado)",null,null,null,null,null,0]
["82300-909","Costo por coberturas (no etiquetado)",null,null,null,null,null,0]
["82300-910","Costo por coberturas (etiquetado)",null,null,null,null,null,0]
["82300-911","Apoyos financieros (no etiquetado)",null,null,null,null,null,0]
["82300-912","Apoyos financieros (etiquetado)",null,null,null,null,null,0]
["82300-913","Adeudos de ejercicios anteriores (adefas) (no etiquetado)",null,null,null,null,null,0]
["82300-914","Adeudos de ejercicios anteriores (adefas) (etiquetado)",null,null,null,null,null,0]
[82400,"PRESUPUESTO DE EGRESOS COMPROMETIDO",null,null,{"$f":"E1675+E1690+E1709+E1728+E1747+E1766+E1773+E1788+E1795","v":0},{"$f":"F1675+F1690+F1709+F1728+F1747+F1766+F1773+F1788+F1795","v":0},{"$f":"E1674-F1674","v":0}]
["82400-100","Servicios personales",null,null,{"$f":"SUM(E1676:E1689)","v":0},{"$f":"SUM(F1676:F1689)","v":0},{"$f":"SUM(G1676:G1689)","v":0}]
["82400-101","Remuneraciones al personal de carácter permanente (no etiquetado)",null,null,null,null,{"$f":"ROUND(E1676-F1676,2)","v":0}]
["82400-102","Remuneraciones al personal de carácter permanente (etiquetado)",null,null,null,null,{"$f":"ROUND(E1677-F1677,2)","v":0}]
["82400-103","Remuneraciones al personal de carácter transitorio (no etiquetado)",null,null,null,null,0]
["82400-104","Remuneraciones al personal de carácter transitorio (etiquetado)",null,null,null,null,0]
["82400-105","Remuneraciones adicionales especiales (no etiquetado)",null,null,null,null,0]
["82400-106","Remuneraciones adicionales especiales (etiquetado)",null,null,null,null,0]
["82400-107","Seguridad social (no etiquetado)",null,null,null,null,0]
["82400-108","Seguridad social (etiquetado)",null,null,null,null,0]
["82400-109","Otras prestaciones sociales y económicas (no etiquetado)",null,null,null,null,0]
["82400-110","Otras prestaciones sociales y económicas (etiquetado)",null,null,null,null,0]
["82400-111","Previsiones (no etiquetado)",null,null,null,null,0]
["82400-112","Previsiones (etiquetado)",null,null,null,null,0]
["82400-113","Pago de estímulos a servidores públicos (no etiquetado)",null,null,null,null,0]
["82400-114","Pago de estímulos a servidores públicos (etiquetado)",null,null,null,null,0]
["82400-200","Materiales y suministros",null,null,{"$f":"SUM(E1691:E1708)","v":0},{"$f":"SUM(F1691:F1708)","v":0},{"$f":"SUM(G1691:G1708)","v":0}]
["82400-201","Materiales de administración, emisión de documentos y artículos oficiales (no etiquetado)",null,null,null,null,{"$f":"ROUND(E1691-F1691,2)","v":0}]
["82400-202","Materiales de administración, emisión de documentos y artículos oficiales (etiquetado)",null,null,null,null,0]
["82400-203","Alimentos y utensilios (no etiquetado)",null,null,null,null,0]
["82400-204","Alimentos y utensilios (etiquetado)",null,null,null,null,0]
["82400-205","Materias primas y materiales de producción y comercialización (no etiquetado)",null,null,null,null,0]
["82400-206","Materias primas y materiales de producción y comercialización (etiquetado)",null,null,null,null,0]
["82400-207","Materiales y artículos de construcción y de reparación (no etiquetado)",null,null,null,null,0]
["82400-208","Materiales y artículos de construcción y de reparación (etiquetado)",null,null,null,null,0]
["82400-209","Productos químicos, farmacéuticos y de laboratorio (no etiquetado)",null,null,null,null,0]
["82400-210","Productos químicos, farmacéuticos y de laboratorio (etiquetado)",null,null,null,null,0]
["82400-211","Combustibles, lubricantes y aditivos (no etiquetado)",null,null,null,null,0]
["82400-212","Combustibles, lubricantes y aditivos (etiquetado)",null,null,null,null,0]
["82400-213","Vestuario, blancos, prendas de protección y artículos deportivos (no etiquetado)",null,null,null,null,0]
["82400-214","Vestuario, blancos, prendas de protección y artículos deportivos (etiquetado)",null,null,null,null,0]
["82400-215","Materiales y suministros de seguridad (no etiquetado)",null,null,null,null,0]
["82400-216","Materiales y suministros de seguridad (etiquetado)",null,null,null,null,0]
["82400-217","Herramientas, refacciones y accesorios menores (no etiquetado)",null,null,null,null,0]
["82400-218","Herramientas, refacciones y accesorios menores (etiquetado)",null,null,null,null,0]
["82400-300","Servicios generales",null,null,{"$f":"SUM(E1710:E1727)","v":0},{"$f":"SUM(F1710:F1727)","v":0},{"$f":"SUM(G1710:G1727)","v":0}]
["82400-301","Servicios básicos (no etiquetado)",null,null,null,null,{"$f":"ROUND(E1710-F1710,2)","v":0}]
["82400-302","Servicios básicos (etiquetado)",null,null,null,null,0]
["82400-303","Servicios de arrendamiento (no etiquetado)",null,null,null,null,0]
["82400-304","Servicios de arrendamiento (etiquetado)",null,null,null,null,0]
["82400-305","Servicios profesionales, científicos, técnicos y otros servicios (no etiquetado)",null,null,null,null,0]
["82400-306","Servicios profesionales, científicos, técnicos y otros servicios (etiquetado)",null,null,null,null,0]
["82400-307","Servicios financieros, bancarios y comerciales (no etiquetado)",null,null,null,null,0]
["82400-308","Servicios financieros, bancarios y comerciales (etiquetado)",null,null,null,null,0]
["82400-309","Servicios de instalación, reparación, mantenimiento y conservación (no etiquetado)",null,null,null,null,0]
["82400-310","Servicios de instalación, reparación, mantenimiento y conservación (etiquetado)",null,null,null,null,0]
["82400-311","Servicios de comunicación social y publicidad (no etiquetado)",null,null,null,null,0]
["82400-312","Servicios de comunicación social y publicidad (etiquetado)",null,null,null,null,0]
["82400-313","Servicios de traslado y viáticos (no etiquetado)",null,null,null,null,0]
["82400-314","Servicios de traslado y viáticos (etiquetado)",null,null,null,null,0]
["82400-315","Servicios oficiales (no etiquetado)",null,null,null,null,0]
["82400-316","Servicios oficiales (etiquetado)",null,null,null,null,0]
["82400-317","Otros servicios generales (no etiquetado)",null,null,null,null,0]
["82400-318","Otros servicios generales (etiquetado)",null,null,null,null,0]
["82400-400","Transferencias, asignaciones, subsidios y otras ayudas ",null,null,{"$f":"SUM(E1729:E1746)","v":0},{"$f":"SUM(F1729:F1746)","v":0},{"$f":"SUM(G1729:G1746)","v":0}]
["82400-401","Transferencias internas y asignaciones al sector público (no etiquetado)",null,null,null,null,{"$f":"ROUND(E1729-F1729,2)","v":0}]
["82400-402","Transferencias internas y asignaciones al sector público (etiquetado)",null,null,null,null,0]
["82400-403","Transferencias al resto del sector público (no etiquetado)",null,null,null,null,0]
["82400-404","Transferencias al resto del sector público (etiquetado)",null,null,null,null,0]
["82400-405","Subsidios y subvenciones (no etiquetado)",null,null,null,null,0]
["82400-406","Subsidios y subvenciones (etiquetado)",null,null,null,null,0]
["82400-407","Ayudas sociales (no etiquetado)",null,null,null,null,0]
["82400-408","Ayudas sociales  (etiquetado)",null,null,null,null,0]
["82400-409","Pensiones y jubilaciones (no etiquetado)",null,null,null,null,0]
["82400-410","Pensiones y jubilaciones (etiquetado)",null,null,null,null,0]
["82400-411","Transferencias a fideicomisos, mandatos y otros análogos (no etiquetado)",null,null,null,null,0]
["82400-412","Transferencias a fideicomisos, mandatos y otros análogos (etiquetado)",null,null,null,null,0]
["82400-413","Transferencias a la seguridad social (no etiquetado)",null,null,null,null,0]
["82400-414","Transferencias a la seguridad social (etiquetado)",null,null,null,null,0]
["82400-415","Donativos (no etiquetado)",null,null,null,null,0]
["82400-416","Donativos (etiquetado)",null,null,null,null,0]
["82400-417","Transferencias al exterior (no etiquetado)",null,null,null,null,0]
["82400-418","Transferencias al exterior (etiquetado)",null,null,null,null,0]
["82400-500","Bienes muebles, inmuebles e intangibles",null,null,{"$f":"SUM(E1748:E1765)","v":0},{"$f":"SUM(F1748:F1765)","v":0},{"$f":"SUM(G1748:G1765)","v":0}]
["82400-501","Mobiliario y equipo de administración (no etiquetado)",null,null,null,null,{"$f":"ROUND(E1748-F1748,2)","v":0}]
["82400-502","Mobiliario y equipo de administración (etiquetado)",null,null,null,null,0]
["82400-503","Mobiliario y equipo educacional y recreativo (no etiquetado)",null,null,null,null,0]
["82400-504","Mobiliario y equipo educacional y recreativo (etiquetado)",null,null,null,null,0]
["82400-505","Equipo instrumental médico y de laboratorio (no etiquetado)",null,null,null,null,0]
["82400-506","Equipo instrumental médico y de laboratorio (etiquetado)",null,null,null,null,0]
["82400-507","Vehículos y equipo de transporte (no etiquetado)",null,null,null,null,0]
["82400-508","Vehículos y equipo de transporte (etiquetado)",null,null,null,null,0]
["82400-509","Equipo de defensa y seguridad (no etiquetado)",null,null,null,null,0]
["82400-510","Equipo de defensa y seguridad (etiquetado)",null,null,null,null,0]
["82400-511","Maquinaria, otros equipos y herramientas (no etiquetado)",null,null,null,null,0]
["82400-512","Maquinaria, otros equipos y herramientas (etiquetado)",null,null,null,null,0]
["82400-513","Activos biológicos (no etiquetado)",null,null,null,null,0]
["82400-514","Activos biológicos (etiquetado)",null,null,null,null,0]
["82400-515","Bienes inmuebles (no etiquetado)",null,null,null,null,0]
["82400-516","Bienes inmuebles (etiquetado)",null,null,null,null,0]
["82400-517","Activos intangibles (no etiquetado)",null,null,null,null,0]
["82400-518","Activos intangibles (etiquetado)",null,null,null,null,0]
["82400-600","Inversión pública",null,null,{"$f":"SUM(E1767:E1772)","v":0},{"$f":"SUM(F1767:F1772)","v":0},{"$f":"SUM(G1767:G1772)","v":0}]
["82400-601","Obra pública en bienes de dominio público (no etiquetado)",null,null,null,null,{"$f":"ROUND(E1767-F1767,2)","v":0}]
["82400-602","Obra pública en bienes de dominio público (etiquetado)",null,null,null,null,0]
["82400-603","Obra pública en bienes de dominio propios (no etiquetado)",null,null,null,null,0]
["82400-604","Obra pública en bienes de dominio propios (etiquetado)",null,null,null,null,0]
["82400-605","Proyectos productivos y acciones de fomento (no etiquetado)",null,null,null,null,0]
["82400-606","Proyectos productivos y acciones de fomento (etiquetado)",null,null,null,null,0]
["82400-700","Inversiones financieras y otras provisiones",null,null,{"$f":"SUM(E1774:E1787)","v":0},{"$f":"SUM(F1774:F1787)","v":0},{"$f":"SUM(G1774:G1787)","v":0}]
["82400-701","Inversiones para el fomento de actividades productivas (no etiquetado)",null,null,null,null,{"$f":"ROUND(E1774-F1774,2)","v":0}]
["82400-702","Inversiones para el fomento de actividades productivas (etiquetado)",null,null,null,null,0]
["82400-703","Acciones y participaciones de capital (no etiquetado)",null,null,null,null,0]
["82400-704","Acciones y participaciones de capital (etiquetado)",null,null,null,null,0]
["82400-705","Compra de títulos y valores (no etiquetado)",null,null,null,null,0]
["82400-706","Compra de títulos y valores (etiquetado)",null,null,null,null,0]
["82400-707","Concesión de préstamos (no etiquetado)",null,null,null,null,0]
["82400-708","Concesión de préstamos (etiquetado)",null,null,null,null,0]
["82400-709","Inversiones en fideicomisos, mandatos y otros análogos (no etiquetado)",null,null,null,null,0]
["82400-710","Inversiones en fideicomisos, mandatos y otros análogos (etiquetado)",null,null,null,null,0]
["82400-711","Otras inversiones financieras (no etiquetado)",null,null,null,null,0]
["82400-712","Otras inversiones financieras (etiquetado)",null,null,null,null,0]
["82400-713","Provisiones para contingencias y otras erogaciones especiales (no etiquetado)",null,null,null,null,0]
["82400-714","Provisiones para contingencias y otras erogaciones especiales (etiquetado)",null,null,null,null,0]
["82400-800","Participaciones y portaciones",null,null,{"$f":"SUM(E1789:E1794)","v":0},{"$f":"SUM(F1789:F1794)","v":0},{"$f":"SUM(G1789:G1794)","v":0}]
["82400-801","Participaciones (no etiquetado)",null,null,null,null,{"$f":"ROUND(E1789-F1789,2)","v":0}]
["82400-802","Participaciones (etiquetado)",null,null,null,null,0]
["82400-803","Aportaciones (no etiquetado)",null,null,null,null,0]
["82400-804","Aportaciones (etiquetado)",null,null,null,null,0]
["82400-805","Convenios (no etiquetado)",null,null,null,null,0]
["82400-806","Convenios (etiquetado)",null,null,null,null,0]
["82400-900","Deuda pública",null,null,{"$f":"SUM(E1796:E1809)","v":0},{"$f":"SUM(F1796:F1809)","v":0},{"$f":"SUM(G1796:G1809)","v":0}]
["82400-901","Amortización de la deuda pública (no etiquetado)",null,null,null,null,{"$f":"ROUND(E1796-F1796,2)","v":0}]
["82400-902","Amortización de la deuda pública (etiquetado)",null,null,null,null,0]
["82400-903","Intereses de la deuda pública (no etiquetado)",null,null,null,null,0]
["82400-904","Intereses de la deuda pública (etiquetado)",null,null,null,null,0]
["82400-905","Comisiones de la deuda pública (no etiquetado)",null,null,null,null,0]
["82400-906","Comisiones de la deuda pública (etiquetado)",null,null,null,null,0]
["82400-907","Gastos de la deuda pública (no etiquetado)",null,null,null,null,0]
["82400-908","Gastos de la deuda pública (etiquetado)",null,null,null,null,0]
["82400-909","Costo por coberturas (no etiquetado)",null,null,null,null,0]
["82400-910","Costo por coberturas (etiquetado)",null,null,null,null,0]
["82400-911","Apoyos financieros (no etiquetado)",null,null,null,null,0]
["82400-912","Apoyos financieros (etiquetado)",null,null,null,null,0]
["82400-913","Adeudos de ejercicios anteriores (adefas) (no etiquetado)",null,null,null,null,0]
["82400-914","Adeudos de ejercicios anteriores (adefas) (etiquetado)",null,null,null,null,0]
[82500,"PRESUPUESTO DE EGRESOS DEVENGADO",null,null,{"$f":"E1811+E1826+E1845+E1864+E1883+E1902+E1909+E1924+E1931","v":0},{"$f":"F1811+F1826+F1845+F1864+F1883+F1902+F1909+F1924+F1931","v":0},{"$f":"E1810-F1810","v":0}]
["82500-100","Servicios personales",null,null,{"$f":"SUM(E1812:E1825)","v":0},{"$f":"SUM(F1812:F1825)","v":0},{"$f":"SUM(G1812:G1825)","v":0}]
["82500-101","Remuneraciones al personal de carácter permanente (no etiquetado)",null,null,null,null,{"$f":"ROUND(E1812-F1812,2)","v":0}]
["82500-102","Remuneraciones al personal de carácter permanente (etiquetado)",null,null,null,null,{"$f":"ROUND(E1813-F1813,2)","v":0}]
["82500-103","Remuneraciones al personal de carácter transitorio (no etiquetado)",null,null,null,null,0]
["82500-104","Remuneraciones al personal de carácter transitorio (etiquetado)",null,null,null,null,0]
["82500-105","Remuneraciones adicionales especiales (no etiquetado)",null,null,null,null,0]
["82500-106","Remuneraciones adicionales especiales (etiquetado)",null,null,null,null,0]
["82500-107","Seguridad social (no etiquetado)",null,null,null,null,0]
["82500-108","Seguridad social (etiquetado)",null,null,null,null,0]
["82500-109","Otras prestaciones sociales y económicas (no etiquetado)",null,null,null,null,0]
["82500-110","Otras prestaciones sociales y económicas (etiquetado)",null,null,null,null,0]
["82500-111","Previsiones (no etiquetado)",null,null,null,null,0]
["82500-112","Previsiones (etiquetado)",null,null,null,null,0]
["82500-113","Pago de estímulos a servidores públicos (no etiquetado)",null,null,null,null,0]
["82500-114","Pago de estímulos a servidores públicos (etiquetado)",null,null,null,null,0]
["82500-200","Materiales y suministros",null,null,{"$f":"SUM(E1827:E1844)","v":0},{"$f":"SUM(F1827:F1844)","v":0},{"$f":"SUM(G1827:G1844)","v":0}]
["82500-201","Materiales de administración, emisión de documentos y artículos oficiales (no etiquetado)",null,null,null,null,{"$f":"ROUND(E1827-F1827,2)","v":0}]
["82500-202","Materiales de administración, emisión de documentos y artículos oficiales (etiquetado)",null,null,null,null,0]
["82500-203","Alimentos y utensilios (no etiquetado)",null,null,null,null,0]
["82500-204","Alimentos y utensilios (etiquetado)",null,null,null,null,0]
["82500-205","Materias primas y materiales de producción y comercialización (no etiquetado)",null,null,null,null,0]
["82500-206","Materias primas y materiales de producción y comercialización (etiquetado)",null,null,null,null,0]
["82500-207","Materiales y artículos de construcción y de reparación (no etiquetado)",null,null,null,null,0]
["82500-208","Materiales y artículos de construcción y de reparación (etiquetado)",null,null,null,null,0]
["82500-209","Productos químicos, farmacéuticos y de laboratorio (no etiquetado)",null,null,null,null,0]
["82500-210","Productos químicos, farmacéuticos y de laboratorio (etiquetado)",null,null,null,null,0]
["82500-211","Combustibles, lubricantes y aditivos (no etiquetado)",null,null,null,null,0]
["82500-212","Combustibles, lubricantes y aditivos (etiquetado)",null,null,null,null,0]
["82500-213","Vestuario, blancos, prendas de protección y artículos deportivos (no etiquetado)",null,null,null,null,0]
["82500-214","Vestuario, blancos, prendas de protección y artículos deportivos (etiquetado)",null,null,null,null,0]
["82500-215","Materiales y suministros de seguridad (no etiquetado)",null,null,null,null,0]
["82500-216","Materiales y suministros de seguridad (etiquetado)",null,null,null,null,0]
["82500-217","Herramientas, refacciones y accesorios menores (no etiquetado)",null,null,null,null,0]
["82500-218","Herramientas, refacciones y accesorios menores (etiquetado)",null,null,null,null,0]
["82500-300","Servicios generales",null,null,{"$f":"SUM(E1846:E1863)","v":0},{"$f":"SUM(F1846:F1863)","v":0},{"$f":"SUM(G1846:G1863)","v":0}]
["82500-301","Servicios básicos (no etiquetado)",null,null,null,null,{"$f":"ROUND(E1846-F1846,2)","v":0}]
["82500-302","Servicios básicos (etiquetado)",null,null,null,null,0]
["82500-303","Servicios de arrendamiento (no etiquetado)",null,null,null,null,0]
["82500-304","Servicios de arrendamiento (etiquetado)",null,null,null,null,0]
["82500-305","Servicios profesionales, científicos, técnicos y otros servicios (no etiquetado)",null,null,null,null,0]
["82500-306","Servicios profesionales, científicos, técnicos y otros servicios (etiquetado)",null,null,null,null,0]
["82500-307","Servicios financieros, bancarios y comerciales (no etiquetado)",null,null,null,null,0]
["82500-308","Servicios financieros, bancarios y comerciales (etiquetado)",null,null,null,null,0]
["82500-309","Servicios de instalación, reparación, mantenimiento y conservación (no etiquetado)",null,null,null,null,0]
["82500-310","Servicios de instalación, reparación, mantenimiento y conservación (etiquetado)",null,null,null,null,0]
["82500-311","Servicios de comunicación social y publicidad (no etiquetado)",null,null,null,null,0]
["82500-312","Servicios de comunicación social y publicidad (etiquetado)",null,null,null,null,0]
["82500-313","Servicios de traslado y viáticos (no etiquetado)",null,null,null,null,0]
["82500-314","Servicios de traslado y viáticos (etiquetado)",null,null,null,null,0]
["82500-315","Servicios oficiales (no etiquetado)",null,null,null,null,0]
["82500-316","Servicios oficiales (etiquetado)",null,null,null,null,0]
["82500-317","Otros servicios generales (no etiquetado)",null,null,null,null,0]
["82500-318","Otros servicios generales (etiquetado)",null,null,null,null,0]
["82500-400","Transferencias, asignaciones, subsidios y otras ayudas ",null,null,{"$f":"SUM(E1865:E1882)","v":0},{"$f":"SUM(F1865:F1882)","v":0},{"$f":"SUM(G1865:G1882)","v":0}]
["82500-401","Transferencias internas y asignaciones al sector público (no etiquetado)",null,null,null,null,{"$f":"ROUND(E1865-F1865,2)","v":0}]
["82500-402","Transferencias internas y asignaciones al sector público (etiquetado)",null,null,null,null,0]
["82500-403","Transferencias al resto del sector público (no etiquetado)",null,null,null,null,0]
["82500-404","Transferencias al resto del sector público (etiquetado)",null,null,null,null,0]
["82500-405","Subsidios y subvenciones (no etiquetado)",null,null,null,null,0]
["82500-406","Subsidios y subvenciones (etiquetado)",null,null,null,null,0]
["82500-407","Ayudas sociales (no etiquetado)",null,null,null,null,0]
["82500-408","Ayudas sociales  (etiquetado)",null,null,null,null,0]
["82500-409","Pensiones y jubilaciones (no etiquetado)",null,null,null,null,0]
["82500-410","Pensiones y jubilaciones (etiquetado)",null,null,null,null,0]
["82500-411","Transferencias a fideicomisos, mandatos y otros análogos (no etiquetado)",null,null,null,null,0]
["82500-412","Transferencias a fideicomisos, mandatos y otros análogos (etiquetado)",null,null,null,null,0]
["82500-413","Transferencias a la seguridad social (no etiquetado)",null,null,null,null,0]
["82500-414","Transferencias a la seguridad social (etiquetado)",null,null,null,null,0]
["82500-415","Donativos (no etiquetado)",null,null,null,null,0]
["82500-416","Donativos (etiquetado)",null,null,null,null,0]
["82500-417","Transferencias al exterior (no etiquetado)",null,null,null,null,0]
["82500-418","Transferencias al exterior (etiquetado)",null,null,null,null,0]
["82500-500","Bienes muebles, inmuebles e intangibles",null,null,{"$f":"SUM(E1884:E1901)","v":0},{"$f":"SUM(F1884:F1901)","v":0},{"$f":"SUM(G1884:G1901)","v":0}]
["82500-501","Mobiliario y equipo de administración (no etiquetado)",null,null,null,null,{"$f":"ROUND(E1884-F1884,2)","v":0}]
["82500-502","Mobiliario y equipo de administración (etiquetado)",null,null,null,null,0]
["82500-503","Mobiliario y equipo educacional y recreativo (no etiquetado)",null,null,null,null,0]
["82500-504","Mobiliario y equipo educacional y recreativo (etiquetado)",null,null,null,null,0]
["82500-505","Equipo instrumental médico y de laboratorio (no etiquetado)",null,null,null,null,0]
["82500-506","Equipo instrumental médico y de laboratorio (etiquetado)",null,null,null,null,0]
["82500-507","Vehículos y equipo de transporte (no etiquetado)",null,null,null,null,0]
["82500-508","Vehículos y equipo de transporte (etiquetado)",null,null,null,null,0]
["82500-509","Equipo de defensa y seguridad (no etiquetado)",null,null,null,null,0]
["82500-510","Equipo de defensa y seguridad (etiquetado)",null,null,null,null,0]
["82500-511","Maquinaria, otros equipos y herramientas (no etiquetado)",null,null,null,null,0]
["82500-512","Maquinaria, otros equipos y herramientas (etiquetado)",null,null,null,null,0]
["82500-513","Activos biológicos (no etiquetado)",null,null,null,null,0]
["82500-514","Activos biológicos (etiquetado)",null,null,null,null,0]
["82500-515","Bienes inmuebles (no etiquetado)",null,null,null,null,0]
["82500-516","Bienes inmuebles (etiquetado)",null,null,null,null,0]
["82500-517","Activos intangibles (no etiquetado)",null,null,null,null,0]
["82500-518","Activos intangibles (etiquetado)",null,null,null,null,0]
["82500-600","Inversión pública",null,null,{"$f":"SUM(E1903:E1908)","v":0},{"$f":"SUM(F1903:F1908)","v":0},{"$f":"SUM(G1903:G1908)","v":0}]
["82500-601","Obra pública en bienes de dominio público (no etiquetado)",null,null,null,null,{"$f":"ROUND(E1903-F1903,2)","v":0}]
["82500-602","Obra pública en bienes de dominio público (etiquetado)",null,null,null,null,0]
["82500-603","Obra pública en bienes de dominio propios (no etiquetado)",null,null,null,null,0]
["82500-604","Obra pública en bienes de dominio propios (etiquetado)",null,null,null,null,0]
["82500-605","Proyectos productivos y acciones de fomento (no etiquetado)",null,null,null,null,0]
["82500-606","Proyectos productivos y acciones de fomento (etiquetado)",null,null,null,null,0]
["82500-700","Inversiones financieras y otras provisiones",null,null,{"$f":"SUM(E1910:E1923)","v":0},{"$f":"SUM(F1910:F1923)","v":0},{"$f":"SUM(G1910:G1923)","v":0}]
["82500-701","Inversiones para el fomento de actividades productivas (no etiquetado)",null,null,null,null,{"$f":"ROUND(E1910-F1910,2)","v":0}]
["82500-702","Inversiones para el fomento de actividades productivas (etiquetado)",null,null,null,null,0]
["82500-703","Acciones y participaciones de capital (no etiquetado)",null,null,null,null,0]
["82500-704","Acciones y participaciones de capital (etiquetado)",null,null,null,null,0]
["82500-705","Compra de títulos y valores (no etiquetado)",null,null,null,null,0]
["82500-706","Compra de títulos y valores (etiquetado)",null,null,null,null,0]
["82500-707","Concesión de préstamos (no etiquetado)",null,null,null,null,0]
["82500-708","Concesión de préstamos (etiquetado)",null,null,null,null,0]
["82500-709","Inversiones en fideicomisos, mandatos y otros análogos (no etiquetado)",null,null,null,null,0]
["82500-710","Inversiones en fideicomisos, mandatos y otros análogos (etiquetado)",null,null,null,null,0]
["82500-711","Otras inversiones financieras (no etiquetado)",null,null,null,null,0]
["82500-712","Otras inversiones financieras (etiquetado)",null,null,null,null,0]
["82500-713","Provisiones para contingencias y otras erogaciones especiales (no etiquetado)",null,null,null,null,0]
["82500-714","Provisiones para contingencias y otras erogaciones especiales (etiquetado)",null,null,null,null,0]
["82500-800","Participaciones y aportaciones",null,null,{"$f":"SUM(E1925:E1930)","v":0},{"$f":"SUM(F1925:F1930)","v":0},{"$f":"SUM(G1925:G1930)","v":0}]
["82500-801","Participaciones (no etiquetado)",null,null,null,null,{"$f":"ROUND(E1925-F1925,2)","v":0}]
["82500-802","Participaciones (etiquetado)",null,null,null,null,0]
["82500-803","Aportaciones (no etiquetado)",null,null,null,null,0]
["82500-804","Aportaciones (etiquetado)",null,null,null,null,0]
["82500-805","Convenios (no etiquetado)",null,null,null,null,0]
["82500-806","Convenios (etiquetado)",null,null,null,null,0]
["82500-900","Deuda pública",null,null,{"$f":"SUM(E1932:E1945)","v":0},{"$f":"SUM(F1932:F1945)","v":0},{"$f":"SUM(G1932:G1945)","v":0}]
["82500-901","Amortización de la deuda pública (no etiquetado)",null,null,null,null,{"$f":"ROUND(E1932-F1932,2)","v":0}]
["82500-902","Amortización de la deuda pública (etiquetado)",null,null,null,null,0]
["82500-903","Intereses de la deuda pública (no etiquetado)",null,null,null,null,0]
["82500-904","Intereses de la deuda pública (etiquetado)",null,null,null,null,0]
["82500-905","Comisiones de la deuda pública (no etiquetado)",null,null,null,null,0]
["82500-906","Comisiones de la deuda pública (etiquetado)",null,null,null,null,0]
["82500-907","Gastos de la deuda pública (no etiquetado)",null,null,null,null,0]
["82500-908","Gastos de la deuda pública (etiquetado)",null,null,null,null,0]
["82500-909","Costo por coberturas (no etiquetado)",null,null,null,null,0]
["82500-910","Costo por coberturas (etiquetado)",null,null,null,null,0]
["82500-911","Apoyos financieros (no etiquetado)",null,null,null,null,0]
["82500-912","Apoyos financieros (etiquetado)",null,null,null,null,0]
["82500-913","Adeudos de ejercicios anteriores (adefas) (no etiquetado)",null,null,null,null,0]
["82500-914","Adeudos de ejercicios anteriores (adefas) (etiquetado)",null,null,null,null,0]
[82600,"PRESUPUESTO DE EGRESOS EJERCIDO",null,null,{"$f":"E1947+E1962+E1981+E2000+E2019+E2038+E2045+E2060+E2067","v":0},{"$f":"F1947+F1962+F1981+F2000+F2019+F2038+F2045+F2060+F2067","v":0},{"$f":"E1946-F1946","v":0}]
["82600-100","Servicios personales",null,null,{"$f":"SUM(E1948:E1961)","v":0},{"$f":"SUM(F1948:F1961)","v":0},{"$f":"SUM(G1948:G1961)","v":0}]
["82600-101","Remuneraciones al personal de carácter permanente (no etiquetado)",null,null,null,null,{"$f":"ROUND(E1948-F1948,2)","v":0}]
["82600-102","Remuneraciones al personal de carácter permanente (etiquetado)",null,null,null,null,{"$f":"ROUND(E1949-F1949,2)","v":0}]
["82600-103","Remuneraciones al personal de carácter transitorio (no etiquetado)",null,null,null,null,0]
["82600-104","Remuneraciones al personal de carácter transitorio (etiquetado)",null,null,null,null,0]
["82600-105","Remuneraciones adicionales especiales (no etiquetado)",null,null,null,null,0]
["82600-106","Remuneraciones adicionales especiales (etiquetado)",null,null,null,null,0]
["82600-107","Seguridad social (no etiquetado)",null,null,null,null,0]
["82600-108","Seguridad social (etiquetado)",null,null,null,null,0]
["82600-109","Otras prestaciones sociales y económicas (no etiquetado)",null,null,null,null,0]
["82600-110","Otras prestaciones sociales y económicas (etiquetado)",null,null,null,null,0]
["82600-111","Previsiones (no etiquetado)",null,null,null,null,0]
["82600-112","Previsiones (etiquetado)",null,null,null,null,0]
["82600-113","Pago de estímulos a servidores públicos (no etiquetado)",null,null,null,null,0]
["82600-114","Pago de estímulos a servidores públicos (etiquetado)",null,null,null,null,0]
["82600-200","Materiales y suministros",null,null,{"$f":"SUM(E1963:E1980)","v":0},{"$f":"SUM(F1963:F1980)","v":0},{"$f":"SUM(G1963:G1980)","v":0}]
["82600-201","Materiales de administración, emisión de documentos y artículos oficiales (no etiquetado)",null,null,null,null,{"$f":"ROUND(E1963-F1963,2)","v":0}]
["82600-202","Materiales de administración, emisión de documentos y artículos oficiales (etiquetado)",null,null,null,null,0]
["82600-203","Alimentos y utensilios (no etiquetado)",null,null,null,null,0]
["82600-204","Alimentos y utensilios (etiquetado)",null,null,null,null,0]
["82600-205","Materias primas y materiales de producción y comercialización (no etiquetado)",null,null,null,null,0]
["82600-206","Materias primas y materiales de producción y comercialización (etiquetado)",null,null,null,null,0]
["82600-207","Materiales y artículos de construcción y de reparación (no etiquetado)",null,null,null,null,0]
["82600-208","Materiales y artículos de construcción y de reparación (etiquetado)",null,null,null,null,0]
["82600-209","Productos químicos, farmacéuticos y de laboratorio (no etiquetado)",null,null,null,null,0]
["82600-210","Productos químicos, farmacéuticos y de laboratorio (etiquetado)",null,null,null,null,0]
["82600-211","Combustibles, lubricantes y aditivos (no etiquetado)",null,null,null,null,0]
["82600-212","Combustibles, lubricantes y aditivos (etiquetado)",null,null,null,null,0]
["82600-213","Vestuario, blancos, prendas de protección y artículos deportivos (no etiquetado)",null,null,null,null,0]
["82600-214","Vestuario, blancos, prendas de protección y artículos deportivos (etiquetado)",null,null,null,null,0]
["82600-215","Materiales y suministros de seguridad (no etiquetado)",null,null,null,null,0]
["82600-216","Materiales y suministros de seguridad (etiquetado)",null,null,null,null,0]
["82600-217","Herramientas, refacciones y accesorios menores (no etiquetado)",null,null,null,null,0]
["82600-218","Herramientas, refacciones y accesorios menores (etiquetado)",null,null,null,null,0]
["82600-300","Servicios generales",null,null,{"$f":"SUM(E1982:E1999)","v":0},{"$f":"SUM(F1982:F1999)","v":0},{"$f":"SUM(G1982:G1999)","v":0}]
["82600-301","Servicios básicos (no etiquetado)",null,null,null,null,{"$f":"ROUND(E1982-F1982,2)","v":0}]
["82600-302","Servicios básicos (etiquetado)",null,null,null,null,0]
["82600-303","Servicios de arrendamiento (no etiquetado)",null,null,null,null,0]
["82600-304","Servicios de arrendamiento (etiquetado)",null,null,null,null,0]
["82600-305","Servicios profesionales, científicos, técnicos y otros servicios (no etiquetado)",null,null,null,null,0]
["82600-306","Servicios profesionales, científicos, técnicos y otros servicios (etiquetado)",null,null,null,null,0]
["82600-307","Servicios financieros, bancarios y comerciales (no etiquetado)",null,null,null,null,0]
["82600-308","Servicios financieros, bancarios y comerciales (etiquetado)",null,null,null,null,0]
["82600-309","Servicios de instalación, reparación, mantenimiento y conservación (no etiquetado)",null,null,null,null,0]
["82600-310","Servicios de instalación, reparación, mantenimiento y conservación (etiquetado)",null,null,null,null,0]
["82600-311","Servicios de comunicación social y publicidad (no etiquetado)",null,null,null,null,0]
["82600-312","Servicios de comunicación social y publicidad (etiquetado)",null,null,null,null,0]
["82600-313","Servicios de traslado y viáticos (no etiquetado)",null,null,null,null,0]
["82600-314","Servicios de traslado y viáticos (etiquetado)",null,null,null,null,0]
["82600-315","Servicios oficiales (no etiquetado)",null,null,null,null,0]
["82600-316","Servicios oficiales (etiquetado)",null,null,null,null,0]
["82600-317","Otros servicios generales (no etiquetado)",null,null,null,null,0]
["82600-318","Otros servicios generales (etiquetado)",null,null,null,null,0]
["82600-400","Transferencias, asignaciones, subsidios y otras ayudas ",null,null,{"$f":"SUM(E2001:E2018)","v":0},{"$f":"SUM(F2001:F2018)","v":0},{"$f":"SUM(G2001:G2018)","v":0}]
["82600-401","Transferencias internas y asignaciones al sector público (no etiquetado)",null,null,null,null,{"$f":"ROUND(E2001-F2001,2)","v":0}]
["82600-402","Transferencias internas y asignaciones al sector público (etiquetado)",null,null,null,null,0]
["82600-403","Transferencias al resto del sector público (no etiquetado)",null,null,null,null,0]
["82600-404","Transferencias al resto del sector público (etiquetado)",null,null,null,null,0]
["82600-405","Subsidios y subvenciones (no etiquetado)",null,null,null,null,0]
["82600-406","Subsidios y subvenciones (etiquetado)",null,null,null,null,0]
["82600-407","Ayudas sociales (no etiquetado)",null,null,null,null,0]
["82600-408","Ayudas sociales  (etiquetado)",null,null,null,null,0]
["82600-409","Pensiones y jubilaciones (no etiquetado)",null,null,null,null,0]
["82600-410","Pensiones y jubilaciones (etiquetado)",null,null,null,null,0]
["82600-411","Transferencias a fideicomisos, mandatos y otros análogos (no etiquetado)",null,null,null,null,0]
["82600-412","Transferencias a fideicomisos, mandatos y otros análogos (etiquetado)",null,null,null,null,0]
["82600-413","Transferencias a la seguridad social (no etiquetado)",null,null,null,null,0]
["82600-414","Transferencias a la seguridad social (etiquetado)",null,null,null,null,0]
["82600-415","Donativos (no etiquetado)",null,null,null,null,0]
["82600-416","Donativos (etiquetado)",null,null,null,null,0]
["82600-417","Transferencias al exterior (no etiquetado)",null,null,null,null,0]
["82600-418","Transferencias al exterior (etiquetado)",null,null,null,null,0]
["82600-500","Bienes muebles, inmuebles e intangibles",null,null,{"$f":"SUM(E2020:E2037)","v":0},{"$f":"SUM(F2020:F2037)","v":0},{"$f":"SUM(G2020:G2037)","v":0}]
["82600-501","Mobiliario y equipo de administración (no etiquetado)",null,null,null,null,{"$f":"ROUND(E2020-F2020,2)","v":0}]
["82600-502","Mobiliario y equipo de administración (etiquetado)",null,null,null,null,0]
["82600-503","Mobiliario y equipo educacional y recreativo (no etiquetado)",null,null,null,null,0]
["82600-504","Mobiliario y equipo educacional y recreativo (etiquetado)",null,null,null,null,0]
["82600-505","Equipo instrumental médico y de laboratorio (no etiquetado)",null,null,null,null,0]
["82600-506","Equipo instrumental médico y de laboratorio (etiquetado)",null,null,null,null,0]
["82600-507","Vehículos y equipo de transporte (no etiquetado)",null,null,null,null,0]
["82600-508","Vehículos y equipo de transporte (etiquetado)",null,null,null,null,0]
["82600-509","Equipo de defensa y seguridad (no etiquetado)",null,null,null,null,0]
["82600-510","Equipo de defensa y seguridad (etiquetado)",null,null,null,null,0]
["82600-511","Maquinaria, otros equipos y herramientas (no etiquetado)",null,null,null,null,0]
["82600-512","Maquinaria, otros equipos y herramientas (etiquetado)",null,null,null,null,0]
["82600-513","Activos biológicos (no etiquetado)",null,null,null,null,0]
["82600-514","Activos biológicos (etiquetado)",null,null,null,null,0]
["82600-515","Bienes inmuebles (no etiquetado)",null,null,null,null,0]
["82600-516","Bienes inmuebles (etiquetado)",null,null,null,null,0]
["82600-517","Activos intangibles (no etiquetado)",null,null,null,null,0]
["82600-518","Activos intangibles (etiquetado)",null,null,null,null,0]
["82600-600","Inversión pública",null,null,{"$f":"SUM(E2039:E2044)","v":0},{"$f":"SUM(F2039:F2044)","v":0},{"$f":"SUM(G2039:G2044)","v":0}]
["82600-601","Obra pública en bienes de dominio público (no etiquetado)",null,null,null,null,{"$f":"ROUND(E2039-F2039,2)","v":0}]
["82600-602","Obra pública en bienes de dominio público (etiquetado)",null,null,null,null,0]
["82600-603","Obra pública en bienes de dominio propios (no etiquetado)",null,null,null,null,0]
["82600-604","Obra pública en bienes de dominio propios (etiquetado)",null,null,null,null,0]
["82600-605","Proyectos productivos y acciones de fomento (no etiquetado)",null,null,null,null,0]
["82600-606","Proyectos productivos y acciones de fomento (etiquetado)",null,null,null,null,0]
["82600-700","Inversiones financieras y otras provisiones",null,null,{"$f":"SUM(E2046:E2059)","v":0},{"$f":"SUM(F2046:F2059)","v":0},{"$f":"SUM(G2046:G2059)","v":0}]
["82600-701","Inversiones para el fomento de actividades productivas (no etiquetado)",null,null,null,null,{"$f":"ROUND(E2046-F2046,2)","v":0}]
["82600-702","Inversiones para el fomento de actividades productivas (etiquetado)",null,null,null,null,0]
["82600-703","Acciones y participaciones de capital (no etiquetado)",null,null,null,null,0]
["82600-704","Acciones y participaciones de capital (etiquetado)",null,null,null,null,0]
["82600-705","Compra de títulos y valores (no etiquetado)",null,null,null,null,0]
["82600-706","Compra de títulos y valores (etiquetado)",null,null,null,null,0]
["82600-707","Concesión de préstamos (no etiquetado)",null,null,null,null,0]
["82600-708","Concesión de préstamos (etiquetado)",null,null,null,null,0]
["82600-709","Inversiones en fideicomisos, mandatos y otros análogos (no etiquetado)",null,null,null,null,0]
["82600-710","Inversiones en fideicomisos, mandatos y otros análogos (etiquetado)",null,null,null,null,0]
["82600-711","Otras inversiones financieras (no etiquetado)",null,null,null,null,0]
["82600-712","Otras inversiones financieras (etiquetado)",null,null,null,null,0]
["82600-713","Provisiones para contingencias y otras erogaciones especiales (no etiquetado)",null,null,null,null,0]
["82600-714","Provisiones para contingencias y otras erogaciones especiales (etiquetado)",null,null,null,null,0]
["82600-800","Participaciones y aportaciones",null,null,{"$f":"SUM(E2061:E2066)","v":0},{"$f":"SUM(F2061:F2066)","v":0},{"$f":"SUM(G2061:G2066)","v":0}]
["82600-801","Participaciones (no etiquetado)",null,null,null,null,{"$f":"ROUND(E2061-F2061,2)","v":0}]
["82600-802","Participaciones (etiquetado)",null,null,null,null,0]
["82600-803","Aportaciones (no etiquetado)",null,null,null,null,0]
["82600-804","Aportaciones (etiquetado)",null,null,null,null,0]
["82600-805","Convenios (no etiquetado)",null,null,null,null,0]
["82600-806","Convenios (etiquetado)",null,null,null,null,0]
["82600-900","Deuda pública",null,null,{"$f":"SUM(E2068:E2081)","v":0},{"$f":"SUM(F2068:F2081)","v":0},{"$f":"SUM(G2068:G2081)","v":0}]
["82600-901","Amortización de la deuda pública (no etiquetado)",null,null,null,null,{"$f":"ROUND(E2068-F2068,2)","v":0}]
["82600-902","Amortización de la deuda pública (etiquetado)",null,null,null,null,0]
["82600-903","Intereses de la deuda pública (no etiquetado)",null,null,null,null,0]
["82600-904","Intereses de la deuda pública (etiquetado)",null,null,null,null,0]
["82600-905","Comisiones de la deuda pública (no etiquetado)",null,null,null,null,0]
["82600-906","Comisiones de la deuda pública (etiquetado)",null,null,null,null,0]
["82600-907","Gastos de la deuda pública (no etiquetado)",null,null,null,null,0]
["82600-908","Gastos de la deuda pública (etiquetado)",null,null,null,null,0]
["82600-909","Costo por coberturas (no etiquetado)",null,null,null,null,0]
["82600-910","Costo por coberturas (etiquetado)",null,null,null,null,0]
["82600-911","Apoyos financieros (no etiquetado)",null,null,null,null,0]
["82600-912","Apoyos financieros (etiquetado)",null,null,null,null,0]
["82600-913","Adeudos de ejercicios anteriores (adefas) (no etiquetado)",null,null,null,null,0]
["82600-914","Adeudos de ejercicios anteriores (adefas) (etiquetado)",null,null,null,null,0]
[82700,"PRESUPUESTO DE EGRESOS PAGADO",null,null,{"$f":"E2083+E2098+E2117+E2136+E2155+E2174+E2181+E2196+E2203","v":0},{"$f":"F2083+F2098+F2117+F2136+F2155+F2174+F2181+F2196+F2203","v":0},{"$f":"E2082-F2082","v":0}]
["82700-100","Servicios personales",null,null,{"$f":"SUM(E2084:E2097)","v":0},{"$f":"SUM(F2084:F2097)","v":0},{"$f":"SUM(G2084:G2097)","v":0}]
["82700-101","Remuneraciones al personal de carácter permanente (no etiquetado)",null,null,null,null,{"$f":"ROUND(E2084-F2084,2)","v":0}]
["82700-102","Remuneraciones al personal de carácter permanente (etiquetado)",null,null,null,null,{"$f":"ROUND(E2085-F2085,2)","v":0}]
["82700-103","Remuneraciones al personal de carácter transitorio (no etiquetado)",null,null,null,null,0]
["82700-104","Remuneraciones al personal de carácter transitorio (etiquetado)",null,null,null,null,0]
["82700-105","Remuneraciones adicionales especiales (no etiquetado)",null,null,null,null,0]
["82700-106","Remuneraciones adicionales especiales (etiquetado)",null,null,null,null,0]
["82700-107","Seguridad social (no etiquetado)",null,null,null,null,0]
["82700-108","Seguridad social (etiquetado)",null,null,null,null,0]
["82700-109","Otras prestaciones sociales y económicas (no etiquetado)",null,null,null,null,0]
["82700-110","Otras prestaciones sociales y económicas (etiquetado)",null,null,null,null,0]
["82700-111","Previsiones (no etiquetado)",null,null,null,null,0]
["82700-112","Previsiones (etiquetado)",null,null,null,null,0]
["82700-113","Pago de estímulos a servidores públicos (no etiquetado)",null,null,null,null,0]
["82700-114","Pago de estímulos a servidores públicos (etiquetado)",null,null,null,null,0]
["82700-200","Materiales y suministros",null,null,{"$f":"SUM(E2099:E2116)","v":0},{"$f":"SUM(F2099:F2116)","v":0},{"$f":"SUM(G2099:G2116)","v":0}]
["82700-201","Materiales de administración, emisión de documentos y artículos oficiales (no etiquetado)",null,null,null,null,{"$f":"ROUND(E2099-F2099,2)","v":0}]
["82700-202","Materiales de administración, emisión de documentos y artículos oficiales (etiquetado)",null,null,null,null,0]
["82700-203","Alimentos y utensilios (no etiquetado)",null,null,null,null,0]
["82700-204","Alimentos y utensilios (etiquetado)",null,null,null,null,0]
["82700-205","Materias primas y materiales de producción y comercialización (no etiquetado)",null,null,null,null,0]
["82700-206","Materias primas y materiales de producción y comercialización (etiquetado)",null,null,null,null,0]
["82700-207","Materiales y artículos de construcción y de reparación (no etiquetado)",null,null,null,null,0]
["82700-208","Materiales y artículos de construcción y de reparación (etiquetado)",null,null,null,null,0]
["82700-209","Productos químicos, farmacéuticos y de laboratorio (no etiquetado)",null,null,null,null,0]
["82700-210","Productos químicos, farmacéuticos y de laboratorio (etiquetado)",null,null,null,null,0]
["82700-211","Combustibles, lubricantes y aditivos (no etiquetado)",null,null,null,null,0]
["82700-212","Combustibles, lubricantes y aditivos (etiquetado)",null,null,null,null,0]
["82700-213","Vestuario, blancos, prendas de protección y artículos deportivos (no etiquetado)",null,null,null,null,0]
["82700-214","Vestuario, blancos, prendas de protección y artículos deportivos (etiquetado)",null,null,null,null,0]
["82700-215","Materiales y suministros de seguridad (no etiquetado)",null,null,null,null,0]
["82700-216","Materiales y suministros de seguridad (etiquetado)",null,null,null,null,0]
["82700-217","Herramientas, refacciones y accesorios menores (no etiquetado)",null,null,null,null,0]
["82700-218","Herramientas, refacciones y accesorios menores (etiquetado)",null,null,null,null,0]
["82700-300","Servicios generales",null,null,{"$f":"SUM(E2118:E2135)","v":0},{"$f":"SUM(F2118:F2135)","v":0},{"$f":"SUM(G2118:G2135)","v":0}]
["82700-301","Servicios básicos (no etiquetado)",null,null,null,null,{"$f":"ROUND(E2118-F2118,2)","v":0}]
["82700-302","Servicios básicos (etiquetado)",null,null,null,null,0]
["82700-303","Servicios de arrendamiento (no etiquetado)",null,null,null,null,0]
["82700-304","Servicios de arrendamiento (etiquetado)",null,null,null,null,0]
["82700-305","Servicios profesionales, científicos, técnicos y otros servicios (no etiquetado)",null,null,null,null,0]
["82700-306","Servicios profesionales, científicos, técnicos y otros servicios (etiquetado)",null,null,null,null,0]
["82700-307","Servicios financieros, bancarios y comerciales (no etiquetado)",null,null,null,null,0]
["82700-308","Servicios financieros, bancarios y comerciales (etiquetado)",null,null,null,null,0]
["82700-309","Servicios de instalación, reparación, mantenimiento y conservación (no etiquetado)",null,null,null,null,0]
["82700-310","Servicios de instalación, reparación, mantenimiento y conservación (etiquetado)",null,null,null,null,0]
["82700-311","Servicios de comunicación social y publicidad (no etiquetado)",null,null,null,null,0]
["82700-312","Servicios de comunicación social y publicidad (etiquetado)",null,null,null,null,0]
["82700-313","Servicios de traslado y viáticos (no etiquetado)",null,null,null,null,0]
["82700-314","Servicios de traslado y viáticos (etiquetado)",null,null,null,null,0]
["82700-315","Servicios oficiales (no etiquetado)",null,null,null,null,0]
["82700-316","Servicios oficiales (etiquetado)",null,null,null,null,0]
["82700-317","Otros servicios generales (no etiquetado)",null,null,null,null,0]
["82700-318","Otros servicios generales (etiquetado)",null,null,null,null,0]
["82700-400","Transferencias, asignaciones, subsidios y otras ayudas ",null,null,{"$f":"SUM(E2137:E2154)","v":0},{"$f":"SUM(F2137:F2154)","v":0},{"$f":"SUM(G2137:G2154)","v":0}]
["82700-401","Transferencias internas y asignaciones al sector público (no etiquetado)",null,null,null,null,{"$f":"ROUND(E2137-F2137,2)","v":0}]
["82700-402","Transferencias internas y asignaciones al sector público (etiquetado)",null,null,null,null,0]
["82700-403","Transferencias al resto del sector público (no etiquetado)",null,null,null,null,0]
["82700-404","Transferencias al resto del sector público (etiquetado)",null,null,null,null,0]
["82700-405","Subsidios y subvenciones (no etiquetado)",null,null,null,null,0]
["82700-406","Subsidios y subvenciones (etiquetado)",null,null,null,null,0]
["82700-407","Ayudas sociales (no etiquetado)",null,null,null,null,0]
["82700-408","Ayudas sociales  (etiquetado)",null,null,null,null,0]
["82700-409","Pensiones y jubilaciones (no etiquetado)",null,null,null,null,0]
["82700-410","Pensiones y jubilaciones (etiquetado)",null,null,null,null,0]
["82700-411","Transferencias a fideicomisos, mandatos y otros análogos (no etiquetado)",null,null,null,null,0]
["82700-412","Transferencias a fideicomisos, mandatos y otros análogos (etiquetado)",null,null,null,null,0]
["82700-413","Transferencias a la seguridad social (no etiquetado)",null,null,null,null,0]
["82700-414","Transferencias a la seguridad social (etiquetado)",null,null,null,null,0]
["82700-415","Donativos (no etiquetado)",null,null,null,null,0]
["82700-416","Donativos (etiquetado)",null,null,null,null,0]
["82700-417","Transferencias al exterior (no etiquetado)",null,null,null,null,0]
["82700-418","Transferencias al exterior (etiquetado)",null,null,null,null,0]
["82700-500","Bienes muebles, inmuebles e intangibles",null,null,{"$f":"SUM(E2156:E2173)","v":0},{"$f":"SUM(F2156:F2173)","v":0},{"$f":"SUM(G2156:G2173)","v":0}]
["82700-501","Mobiliario y equipo de administración (no etiquetado)",null,null,null,null,{"$f":"ROUND(E2156-F2156,2)","v":0}]
["82700-502","Mobiliario y equipo de administración (etiquetado)",null,null,null,null,0]
["82700-503","Mobiliario y equipo educacional y recreativo (no etiquetado)",null,null,null,null,0]
["82700-504","Mobiliario y equipo educacional y recreativo (etiquetado)",null,null,null,null,0]
["82700-505","Equipo instrumental médico y de laboratorio (no etiquetado)",null,null,null,null,0]
["82700-506","Equipo instrumental médico y de laboratorio (etiquetado)",null,null,null,null,0]
["82700-507","Vehículos y equipo de transporte (no etiquetado)",null,null,null,null,0]
["82700-508","Vehículos y equipo de transporte (etiquetado)",null,null,null,null,0]
["82700-509","Equipo de defensa y seguridad (no etiquetado)",null,null,null,null,0]
["82700-510","Equipo de defensa y seguridad (etiquetado)",null,null,null,null,0]
["82700-511","Maquinaria, otros equipos y herramientas (no etiquetado)",null,null,null,null,0]
["82700-512","Maquinaria, otros equipos y herramientas (etiquetado)",null,null,null,null,0]
["82700-513","Activos biológicos (no etiquetado)",null,null,null,null,0]
["82700-514","Activos biológicos (etiquetado)",null,null,null,null,0]
["82700-515","Bienes inmuebles (no etiquetado)",null,null,null,null,0]
["82700-516","Bienes inmuebles (etiquetado)",null,null,null,null,0]
["82700-517","Activos intangibles (no etiquetado)",null,null,null,null,0]
["82700-518","Activos intangibles (etiquetado)",null,null,null,null,0]
["82700-600","Inversión pública",null,null,{"$f":"SUM(E2175:E2180)","v":0},{"$f":"SUM(F2175:F2180)","v":0},{"$f":"SUM(G2175:G2180)","v":0}]
["82700-601","Obra pública en bienes de dominio público (no etiquetado)",null,null,null,null,{"$f":"ROUND(E2175-F2175,2)","v":0}]
["82700-602","Obra pública en bienes de dominio público (etiquetado)",null,null,null,null,0]
["82700-603","Obra pública en bienes de dominio propios (no etiquetado)",null,null,null,null,0]
["82700-604","Obra pública en bienes de dominio propios (etiquetado)",null,null,null,null,0]
["82700-605","Proyectos productivos y acciones de fomento (no etiquetado)",null,null,null,null,0]
["82700-606","Proyectos productivos y acciones de fomento (etiquetado)",null,null,null,null,0]
["82700-700","Inversiones financieras y otras provisiones",null,null,{"$f":"SUM(E2182:E2195)","v":0},{"$f":"SUM(F2182:F2195)","v":0},{"$f":"SUM(G2182:G2195)","v":0}]
["82700-701","Inversiones para el fomento de actividades productivas (no etiquetado)",null,null,null,null,{"$f":"ROUND(E2182-F2182,2)","v":0}]
["82700-702","Inversiones para el fomento de actividades productivas (etiquetado)",null,null,null,null,0]
["82700-703","Acciones y participaciones de capital (no etiquetado)",null,null,null,null,0]
["82700-704","Acciones y participaciones de capital (etiquetado)",null,null,null,null,0]
["82700-705","Compra de títulos y valores (no etiquetado)",null,null,null,null,0]
["82700-706","Compra de títulos y valores (etiquetado)",null,null,null,null,0]
["82700-707","Concesión de préstamos (no etiquetado)",null,null,null,null,0]
["82700-708","Concesión de préstamos (etiquetado)",null,null,null,null,0]
["82700-709","Inversiones en fideicomisos, mandatos y otros análogos (no etiquetado)",null,null,null,null,0]
["82700-710","Inversiones en fideicomisos, mandatos y otros análogos (etiquetado)",null,null,null,null,0]
["82700-711","Otras inversiones financieras (no etiquetado)",null,null,null,null,0]
["82700-712","Otras inversiones financieras (etiquetado)",null,null,null,null,0]
["82700-713","Provisiones para contingencias y otras erogaciones especiales (no etiquetado)",null,null,null,null,0]
["82700-714","Provisiones para contingencias y otras erogaciones especiales (etiquetado)",null,null,null,null,0]
["82700-800","Participaciones y aportaciones",null,null,{"$f":"SUM(E2197:E2202)","v":0},{"$f":"SUM(F2197:F2202)","v":0},{"$f":"SUM(G2197:G2202)","v":0}]
["82700-801","Participaciones (no etiquetado)",null,null,null,null,{"$f":"ROUND(E2197-F2197,2)","v":0}]
["82700-802","Participaciones (etiquetado)",null,null,null,null,0]
["82700-803","Aportaciones (no etiquetado)",null,null,null,null,0]
["82700-804","Aportaciones (etiquetado)",null,null,null,null,0]
["82700-805","Convenios (no etiquetado)",null,null,null,null,0]
["82700-806","Convenios (etiquetado)",null,null,null,null,0]
["82700-900","Deuda pública",null,null,{"$f":"SUM(E2204:E2217)","v":0},{"$f":"SUM(F2204:F2217)","v":0},{"$f":"SUM(G2204:G2217)","v":0}]
["82700-901","Amortización de la deuda pública (no etiquetado)",null,null,null,null,{"$f":"ROUND(E2204-F2204,2)","v":0}]
["82700-902","Amortización de la deuda pública (etiquetado)",null,null,null,null,0]
["82700-903","Intereses de la deuda pública (no etiquetado)",null,null,null,null,0]
["82700-904","Intereses de la deuda pública (etiquetado)",null,null,null,null,0]
["82700-905","Comisiones de la deuda pública (no etiquetado)",null,null,null,null,0]
["82700-906","Comisiones de la deuda pública (etiquetado)",null,null,null,null,0]
["82700-907","Gastos de la deuda pública (no etiquetado)",null,null,null,null,0]
["82700-908","Gastos de la deuda pública (etiquetado)",null,null,null,null,0]
["82700-909","Costo por coberturas (no etiquetado)",null,null,null,null,0]
["82700-910","Costo por coberturas (etiquetado)",null,null,null,null,0]
["82700-911","Apoyos financieros (no etiquetado)",null,null,null,null,0]
["82700-912","Apoyos financieros (etiquetado)",null,null,null,null,0]
["82700-913","Adeudos de ejercicios anteriores (adefas) (no etiquetado)",null,null,null,null,0]
["82700-914","Adeudos de ejercicios anteriores (adefas) (etiquetado)",null,null,null,null,0]
[90000,"CUENTAS DE CIERRE PRESUPUESTARIO",null,null,{"$f":"E2219+E2220+E2221","v":0},{"$f":"F2219+F2220+F2221","v":0},{"$f":"G2219+G2220+G2221","v":0}]
[91000,"SUPERAVIT FINANCIERO",null,null,null,null,{"$f":"ROUND(E2219-F2219,2)","v":0}]
[92000,"DEFICIT FINANCIERO",null,null,null,null,0]
[93000,"ADEUDOS DE EJERCICIOS FISCALES ANTERIORES",null,null,null,null,0]
[" ","SUMAS IGUALES DE CUENTAS DE ORDEN PRESUPUESTAL",{"$f":"C2218+C1265+C794","v":0},0,0,0,0,0]

{"sheet":"F3","index":4,"n_rows":69,"n_cols":7,"rows_kept":69,"cut":false,"hidden":true,"merged":[[17,1,17,4],[18,2,18,4],[19,2,19,4],[29,2,29,4],[30,2,30,4],[31,2,31,4],[32,2,32,4],[33,2,33,4],[24,2,24,4],[25,2,25,4],[26,2,26,4],[27,2,27,4],[28,2,28,4],[5,0,5,4],[20,2,20,4],[21,2,21,4],[22,2,22,4],[23,2,23,4],[6,1,6,4],[7,2,7,4],[8,2,8,4],[9,2,9,4],[10,2,10,4],[11,2,11,4],[12,2,12,4],[13,2,13,4],[14,2,14,4],[15,2,15,4],[16,2,16,4],[0,0,0,6],[1,0,1,6],[2,0,2,6],[3,0,3,6],[4,0,4,4],[59,0,59,4],[61,0,63,6],[66,2,67,2],[66,4,67,5],[68,4,69,5],[68,2,69,2],[54,2,54,4],[55,2,55,4],[56,0,56,4],[57,0,57,4],[58,0,58,4],[49,2,49,4],[50,2,50,4],[51,1,51,4],[52,2,52,4],[53,2,53,4],[44,0,44,4],[45,0,45,4],[46,1,46,4],[47,2,47,4],[48,2,48,4],[39,2,39,4],[40,1,40,4],[41,2,41,4],[42,2,42,4],[43,2,43,4],[34,0,34,4],[35,0,35,4],[36,1,36,4],[37,2,37,4],[38,2,38,4]]}
[{"$f":"Validacion!A2","v":"Ayutla"}]
["ESTADO DE FLUJOS DE EFECTIVO"]
[{"$f":"'F6'!A3","v":"Del 1° de Enero al 30 de Septiembre de 2023"}]
[]
["CONCEPTO",null,null,null,null,2023,2022]
["Flujos de efectivo de las actividades de operación"]
[null,"Origen",null,null,null,{"$f":"SUM(F8:F17)","v":0},{"$f":"SUM(G8:G17)","v":0}]
[null,null,"Impuestos"]
[null,null,"Cuotas y aportaciones de seguridad social"]
[null,null,"Contribuciones de mejoras"]
[null,null,"Derechos"]
[null,null,"Productos"]
[null,null,"Aprovechamientos"]
[null,null,"Ingresos por venta de bienes y prestación servicios"]
[null,null,"Participaciones, aportaciones, convenios, incentivos derivados de la colaboración fiscal y fondos distitntos de aportaciones"]
[null,null,"Transferencias, asignaciones, subsidios y subvenciones, y pensiones y jubilaciones"]
[null,null,"Otros origenes de operación"]
[null,"Aplicación",null,null,null,{"$f":"SUM(F19:F34)","v":0},{"$f":"SUM(G19:G34)","v":0}]
[null,null,"Servicios personales"]
[null,null,"Materiales y suministros"]
[null,null,"Servicios generales"]
[null,null,"Transferencias internas y asignaciones al sector público"]
[null,null,"Transferencias al resto del sector público"]
[null,null,"Subsidios y subvenciones "]
[null,null,"Ayudas sociales"]
[null,null,"Pensiones y jubilaciones"]
[null,null,"Transferencias a fideicomisos, mandatos y contratos análogos"]
[null,null,"Transferencias a la seguridad ocial"]
[null,null,"Donativos"]
[null,null,"Transferencias al exterior"]
[null,null,"Participaciones "]
[null,null,"Aportaciones "]
[null,null,"Convenios"]
[null,null,"Otros aplicaciones de operación"]
["Flujos netos de efectivo por actividades de operación",null,null,null,null,{"$f":"F7-F18","v":0},{"$f":"G7-G18","v":0}]
["Flujos de efectivo de las actividades de inversión "]
[null,"Origen",null,null,null,{"$f":"SUM(F38:F40)","v":0},{"$f":"SUM(G38:G40)","v":0}]
[null,null,"Bienes inmuebles, infraestructura y construcciones en proceso"]
[null,null,"Bienes muebles"]
[null,null,"Otros Orígenes de inversión"]
[null,"Aplicación",null,null,null,{"$f":"SUM(F42:F44)","v":0},{"$f":"SUM(G42:G44)","v":0}]
[null,null,"Bienes inmuebles, infraestructura y construcciones en proceso"]
[null,null,"Bienes muebles"]
[null,null,"Otras aplicaciones de inversión"]
["Flujos netos de efectivo por actividades de inversión",null,null,null,null,{"$f":"F37-F41","v":0},{"$f":"G37-G41","v":0}]
["Flujo de efectivo de las actividades de financiamiento"]
[null,"Origen",null,null,null,{"$f":"F48+F51","v":0},{"$f":"G48+G51","v":0}]
[null,null,"Endeudamiento neto",null,null,{"$f":"F49+F50","v":0},{"$f":"G49+G50","v":0}]
[null,null,"   Interno"]
[null,null,"   Externo"]
[null,null,"Otros origenes de financiamiento "]
[null,"Aplicación",null,null,null,{"$f":"F53+F56","v":0},{"$f":"G53+G56","v":0}]
[null,null,"Servicios de la deuda",null,null,{"$f":"F54+F55","v":0},{"$f":"G54+G55","v":0}]
[null,null,"   Interno"]
[null,null,"   Externo"]
[null,null,"Otras aplicaciones de finaciamiento "]
["Flujos netos de efectivo por actividades de financiamiento",null,null,null,null,{"$f":"F47-F52","v":0},{"$f":"G47-G52","v":0}]
["Incremento/disminución neta en el efectivo y equivalentes al efectivo ",null,null,null,null,{"$f":"F35+F45+F57","v":0},{"$f":"G35+G45+G57","v":0}]
["Efectivo y equivalentes al efectivo al inicio del ejercicio",null,null,null,null,{"$f":"G60","v":0}]
["Efectivo y equivalentes al efectivo al final del ejercicio",null,null,null,null,{"$f":"F58+F59","v":0},{"$f":"+G58+G59","v":0}]
[]
["Bajo protesta de decir verdad declaramos que los estados financieros y sus notas, son razonablemente correctos y son responsabilidad del emisor."]
[]
[]
[]
[]
[null,null,{"$f":"Validacion!A7","v":"C. José Ángel Prudencio Vargas"},null,{"$f":"Validacion!A9","v":"L.C.P. Regina Itzel Bedoya Cruz"}]
[]
[null,null,"Presidente Municipal o Titular del ente público",null,"Encargado de Hacienda Municipal o Responsable de las finanzas del ente público"]

{"sheet":"F9-IDP","index":5,"n_rows":25,"n_cols":344,"rows_kept":25,"cut":false,"hidden":false,"merged":[[0,0,0,8],[19,0,19,3],[18,0,18,3],[21,0,21,3],[17,0,17,3],[20,0,20,3],[22,0,22,3],[23,0,23,3],[16,0,16,3],[1,0,1,8],[24,0,24,3],[2,0,2,8],[15,0,15,3],[3,0,4,8],[23,4,23,9],[20,4,20,9],[18,4,18,9],[15,4,15,9],[21,4,21,9],[22,4,22,9],[24,4,24,9],[16,4,16,9],[17,4,17,9],[19,4,19,9],[14,0,14,3],[5,17,5,33],[13,0,13,3],[9,16,9,21],[6,17,6,33],[11,22,11,27],[8,22,8,27],[4,25,4,33],[3,25,3,33],[11,28,11,33],[9,28,9,33],[8,28,8,33],[12,28,12,33],[3,17,3,24],[4,17,4,24],[12,22,12,27],[9,22,9,27],[12,16,12,21],[11,16,11,21],[18,22,18,27],[0,9,0,33],[2,9,2,33],[3,9,4,16],[7,0,7,33],[8,4,8,9],[8,0,8,3],[9,4,9,9],[9,10,9,15],[10,0,10,33],[11,10,11,15],[11,0,11,3],[11,4,11,9],[12,4,12,9],[12,0,12,3],[12,10,12,15],[13,4,13,9],[13,16,13,21],[13,22,13,27],[13,10,13,15],[13,28,13,33],[14,22,14,27],[14,4,14,9],[14,10,14,15],[14,28,14,33],[8,10,8,15],[1,11,1,33],[6,0,6,16],[5,0,5,16],[9,0,9,3],[14,16,14,21],[8,16,8,21],[14,35,14,38],[13,35,13,38],[12,35,12,38],[22,10,22,15],[24,10,24,15],[17,10,17,15],[23,10,23,15],[18,10,18,15],[16,10,16,15],[20,10,20,15],[19,10,19,15],[21,10,21,15],[15,10,15,15],[15,16,15,21],[24,16,24,21],[20,16,20,21],[17,16,17,21],[23,16,23,21],[18,16,18,21],[21,16,21,21],[19,16,19,21],[22,16,22,21],[16,16,16,21],[20,22,20,27],[21,22,21,27],[23,22,23,27],[22,22,22,27],[24,22,24,27],[15,22,15,27],[16,22,16,27],[17,22,17,27],[19,22,19,27],[24,51,24,56],[18,51,18,56],[20,51,20,56],[23,51,23,56],[17,51,17,56],[22,51,22,56],[21,51,21,56],[21,28,21,33],[19,28,19,33],[20,28,20,33],[17,28,17,33],[16,28,16,33],[22,28,22,33],[15,28,15,33],[18,28,18,33],[23,28,23,33],[24,28,24,33],[22,35,22,38],[15,35,15,38],[18,35,18,38],[23,35,23,38],[16,35,16,38],[21,35,21,38],[20,35,20,38],[17,35,17,38],[24,35,24,38],[19,35,19,38],[24,63,24,68],[18,63,18,68],[20,63,20,68],[21,63,21,68],[23,63,23,68],[19,63,19,68],[17,63,17,68],[21,70,21,73],[24,70,24,73],[20,70,20,73],[23,70,23,73],[22,70,22,73],[19,70,19,73],[18,70,18,73],[17,70,17,73],[17,39,17,44],[24,39,24,44],[23,39,23,44],[22,39,22,44],[21,39,21,44],[18,39,18,44],[20,39,20,44],[19,39,19,44],[21,45,21,50],[23,45,23,50],[22,45,22,50],[20,45,20,50],[19,45,19,50],[24,45,24,50],[18,45,18,50],[17,45,17,50],[19,51,19,56],[23,185,23,190],[19,185,19,190],[18,185,18,190],[24,185,24,190],[21,185,21,190],[15,185,15,190],[22,185,22,190],[16,185,16,190],[17,185,17,190],[20,185,20,190],[0,175,0,183],[8,179,8,184],[9,179,9,184],[1,175,1,183],[14,179,14,184],[8,175,8,178],[2,175,2,183],[11,175,11,178],[3,175,4,183],[9,175,9,178],[13,179,13,184],[12,179,12,184],[11,179,11,184],[12,185,12,190],[14,185,14,190],[13,185,13,190],[9,185,9,190],[8,185,8,190],[11,185,11,190],[21,86,21,91],[23,86,23,91],[20,86,20,91],[24,86,24,91],[19,92,19,97],[24,92,24,97],[23,92,23,97],[18,92,18,97],[20,92,20,97],[22,92,22,97],[21,92,21,97],[17,92,17,97],[17,86,17,91],[18,86,18,91],[19,86,19,91],[22,86,22,91],[17,179,17,184],[18,179,18,184],[21,179,21,184],[22,179,22,184],[19,179,19,184],[20,179,20,184],[23,179,23,184],[24,179,24,184],[6,52,6,68],[3,52,3,59],[5,52,5,68],[4,52,4,59],[8,57,8,62],[11,57,11,62],[9,57,9,62],[17,74,17,79],[20,74,20,79],[24,74,24,79],[18,74,18,79],[21,74,21,79],[22,74,22,79],[19,74,19,79],[23,74,23,79],[21,80,21,85],[19,80,19,85],[17,80,17,85],[23,80,23,85],[24,80,24,85],[18,80,18,85],[22,80,22,85],[20,80,20,85],[19,57,19,62],[22,57,22,62],[23,57,23,62],[18,57,18,62],[21,57,21,62],[17,57,17,62],[24,57,24,62],[20,57,20,62],[22,63,22,68],[13,105,13,108],[24,105,24,108],[15,105,15,108],[14,105,14,108],[14,98,14,103],[13,98,13,103],[11,105,11,108],[12,105,12,108],[0,35,0,43],[11,35,11,38],[10,35,10,68],[9,35,9,38],[7,35,7,68],[6,35,6,51],[5,35,5,51],[3,35,4,43],[8,35,8,38],[1,35,1,43],[2,35,2,43],[9,39,9,44],[11,39,11,44],[8,39,8,44],[3,44,4,51],[0,44,0,68],[2,44,2,68],[8,45,8,50],[11,45,11,50],[9,45,9,50],[1,46,1,68],[9,51,9,56],[11,51,11,56],[8,51,8,56],[21,98,21,103],[19,98,19,103],[23,98,23,103],[15,98,15,103],[24,98,24,103],[20,98,20,103],[22,98,22,103],[16,98,16,103],[17,98,17,103],[20,105,20,108],[19,105,19,108],[18,105,18,108],[21,105,21,108],[23,105,23,108],[22,105,22,108],[17,105,17,108],[16,105,16,108],[8,74,8,79],[9,74,9,79],[12,74,12,79],[11,74,11,79],[2,79,2,103],[0,79,0,103],[3,79,4,86],[11,80,11,85],[9,80,9,85],[12,80,12,85],[8,80,8,85],[1,81,1,103],[5,87,5,103],[3,87,3,94],[4,87,4,94],[9,92,9,97],[18,98,18,103],[12,109,12,114],[21,115,21,120],[13,115,13,120],[3,60,3,68],[4,60,4,68],[8,63,8,68],[9,63,9,68],[11,63,11,68],[11,70,11,73],[0,70,0,78],[10,70,10,103],[11,86,11,91],[9,86,9,91],[8,86,8,91],[6,87,6,103],[11,92,11,97],[8,92,8,97],[3,95,3,103],[4,95,4,103],[9,98,9,103],[8,98,8,103],[11,98,11,103],[12,98,12,103],[1,70,1,78],[9,70,9,73],[8,70,8,73],[12,70,12,73],[2,70,2,78],[7,70,7,103],[6,70,6,86],[3,70,4,78],[5,70,5,86],[22,121,22,126],[22,127,22,132],[23,127,23,132],[23,121,23,126],[24,127,24,132],[24,121,24,126],[12,121,12,126],[12,127,12,132],[13,127,13,132],[13,109,13,114],[21,109,21,114],[20,109,20,114],[24,109,24,114],[14,109,14,114],[23,109,23,114],[19,109,19,114],[17,109,17,114],[15,109,15,114],[16,109,16,114],[22,109,22,114],[18,109,18,114],[23,115,23,120],[19,115,19,120],[22,115,22,120],[20,115,20,120],[18,115,18,120],[17,115,17,120],[24,115,24,120],[16,115,16,120],[14,115,14,120],[15,115,15,120],[12,115,12,120],[13,121,13,126],[14,121,14,126],[14,127,14,132],[15,121,15,126],[15,127,15,132],[16,127,16,132],[16,121,16,126],[17,127,17,132],[17,121,17,126],[18,127,18,132],[18,121,18,126],[19,121,19,126],[19,127,19,132],[20,127,20,132],[20,121,20,126],[21,127,21,132],[21,121,21,126],[12,144,12,149],[12,150,12,155],[24,133,24,138],[22,133,22,138],[21,133,21,138],[20,133,20,138],[19,133,19,138],[18,133,18,138],[17,133,17,138],[16,133,16,138],[23,133,23,138],[15,133,15,138],[14,133,14,138],[15,140,15,143],[22,140,22,143],[23,140,23,143],[21,140,21,143],[13,140,13,143],[20,140,20,143],[18,140,18,143],[24,140,24,143],[19,140,19,143],[14,140,14,143],[17,140,17,143],[16,140,16,143],[12,133,12,138],[13,133,13,138],[12,140,12,143],[16,144,16,149],[22,144,22,149],[13,144,13,149],[24,144,24,149],[15,144,15,149],[13,150,13,155],[19,150,19,155],[18,150,18,155],[23,150,23,155],[16,150,16,155],[20,150,20,155],[22,150,22,155],[24,150,24,155],[17,150,17,155],[15,150,15,155],[14,150,14,155],[21,150,21,155],[14,144,14,149],[0,105,0,113],[8,105,8,108],[5,105,5,121],[9,105,9,108],[3,105,4,113],[6,105,6,121],[10,105,10,138],[7,105,7,138],[2,105,2,113],[1,105,1,113],[9,109,9,114],[11,109,11,114],[8,109,8,114],[3,114,4,121],[0,114,0,138],[2,114,2,138],[11,115,11,120],[9,115,9,120],[8,115,8,120],[1,116,1,138],[9,121,9,126],[11,121,11,126],[8,121,8,126],[6,122,6,138],[5,122,5,138],[4,122,4,129],[3,122,3,129],[11,127,11,132],[9,127,9,132],[8,127,8,132],[13,175,13,178],[24,175,24,178],[23,175,23,178],[14,175,14,178],[20,175,20,178],[15,175,15,178],[19,175,19,178],[16,175,16,178],[21,175,21,178],[17,175,17,178],[18,175,18,178],[22,175,22,178],[12,175,12,178],[12,168,12,173],[19,156,19,161],[15,156,15,161],[21,156,21,161],[17,156,17,161],[20,156,20,161],[16,156,16,161],[14,156,14,161],[22,156,22,161],[23,156,23,161],[24,156,24,161],[12,156,12,161],[18,156,18,161],[13,156,13,161],[20,162,20,167],[21,162,21,167],[17,162,17,167],[18,162,18,167],[22,162,22,167],[0,140,0,148],[3,149,4,156],[2,149,2,173],[0,149,0,173],[9,168,9,173],[11,168,11,173],[21,168,21,173],[22,168,22,173],[23,168,23,173],[20,168,20,173],[18,168,18,173],[15,168,15,173],[19,168,19,173],[24,168,24,173],[17,168,17,173],[16,168,16,173],[13,168,13,173],[14,168,14,173],[19,162,19,167],[15,162,15,167],[14,162,14,167],[23,162,23,167],[13,162,13,167],[12,162,12,167],[16,162,16,167],[24,162,24,167],[18,144,18,149],[21,144,21,149],[20,144,20,149],[23,144,23,149],[19,144,19,149],[17,144,17,149],[1,151,1,173],[8,156,8,161],[9,156,9,161],[11,156,11,161],[4,157,4,164],[6,157,6,173],[3,157,3,164],[5,157,5,173],[9,162,9,167],[8,162,8,167],[11,162,11,167],[3,165,3,173],[4,165,4,173],[8,168,8,173],[5,140,5,156],[3,140,4,148],[2,140,2,148],[1,140,1,148],[3,130,3,138],[4,130,4,138],[8,133,8,138],[11,133,11,138],[9,133,9,138],[10,140,10,173],[11,140,11,143],[7,140,7,173],[6,140,6,156],[9,140,9,143],[8,140,8,143],[9,144,9,149],[11,144,11,149],[8,144,8,149],[9,150,9,155],[8,150,8,155],[11,150,11,155],[21,220,21,225],[22,220,22,225],[23,220,23,225],[20,220,20,225],[15,220,15,225],[24,220,24,225],[19,220,19,225],[17,220,17,225],[18,220,18,225],[16,220,16,225],[17,214,17,219],[12,220,12,225],[11,220,11,225],[14,220,14,225],[9,220,9,225],[13,220,13,225],[8,220,8,225],[11,214,11,219],[12,214,12,219],[13,214,13,219],[9,214,9,219],[14,214,14,219],[8,214,8,219],[24,203,24,208],[24,197,24,202],[24,191,24,196],[14,197,14,202],[14,203,14,208],[22,210,22,213],[15,210,15,213],[19,210,19,213],[23,210,23,213],[20,210,20,213],[18,210,18,213],[16,210,16,213],[17,210,17,213],[21,210,21,213],[24,210,24,213],[20,214,20,219],[18,214,18,219],[19,214,19,219],[16,214,16,219],[22,214,22,219],[23,214,23,219],[15,214,15,219],[24,214,24,219],[21,214,21,219],[14,210,14,213],[18,197,18,202],[18,203,18,208],[18,191,18,196],[19,191,19,196],[19,203,19,208],[19,197,19,202],[20,191,20,196],[20,197,20,202],[20,203,20,208],[21,191,21,196],[21,197,21,202],[21,203,21,208],[22,191,22,196],[22,203,22,208],[22,197,22,202],[23,191,23,196],[23,197,23,202],[23,203,23,208],[4,200,4,208],[3,200,3,208],[8,203,8,208],[9,203,9,208],[11,203,11,208],[13,203,13,208],[12,203,12,208],[0,184,0,208],[3,184,4,191],[14,191,14,196],[15,203,15,208],[15,197,15,202],[15,191,15,196],[16,197,16,202],[16,203,16,208],[16,191,16,196],[17,191,17,196],[17,197,17,202],[17,203,17,208],[16,179,16,184],[15,179,15,184],[15,92,15,97],[12,57,12,62],[12,63,12,68],[12,86,12,91],[12,92,12,97],[16,92,16,97],[14,92,14,97],[13,92,13,97],[14,86,14,91],[13,86,13,91],[15,86,15,91],[16,86,16,91],[1,186,1,208],[2,184,2,208],[3,192,3,199],[4,192,4,199],[5,175,5,191],[5,192,5,208],[6,192,6,208],[6,175,6,191],[7,175,7,208],[8,191,8,196],[8,197,8,202],[9,191,9,196],[9,197,9,202],[10,175,10,208],[11,191,11,196],[11,197,11,202],[12,191,12,196],[12,197,12,202],[13,197,13,202],[13,191,13,196],[16,57,16,62],[16,39,16,44],[16,45,16,50],[16,51,16,56],[16,63,16,68],[13,63,13,68],[15,63,15,68],[14,63,14,68],[16,80,16,85],[15,80,15,85],[14,80,14,85],[13,80,13,85],[16,70,16,73],[13,70,13,73],[15,70,15,73],[14,70,14,73],[16,74,16,79],[13,74,13,79],[12,51,12,56],[12,45,12,50],[12,39,12,44],[13,51,13,56],[13,45,13,50],[13,39,13,44],[13,57,13,62],[14,45,14,50],[14,74,14,79],[14,51,14,56],[14,39,14,44],[14,57,14,62],[15,74,15,79],[15,45,15,50],[15,51,15,56],[15,39,15,44],[15,57,15,62],[14,238,14,243],[14,226,14,231],[14,232,14,237],[6,227,6,243],[3,227,3,234],[4,227,4,234],[5,227,5,243],[10,210,10,243],[0,210,0,218],[1,210,1,218],[2,210,2,218],[3,210,4,218],[6,210,6,226],[7,210,7,243],[5,210,5,226],[3,219,4,226],[2,219,2,243],[0,219,0,243],[12,210,12,213],[13,210,13,213],[11,210,11,213],[8,210,8,213],[9,210,9,213],[1,221,1,243],[3,235,3,243],[4,235,4,243],[8,232,8,237],[8,226,8,231],[8,238,8,243],[9,232,9,237],[9,226,9,231],[9,238,9,243],[11,238,11,243],[11,226,11,231],[11,232,11,237],[12,232,12,237],[12,226,12,231],[12,238,12,243],[13,226,13,231],[13,232,13,237],[13,238,13,243],[24,245,24,248],[24,249,24,254],[15,232,15,237],[15,238,15,243],[15,226,15,231],[16,238,16,243],[16,232,16,237],[16,226,16,231],[17,238,17,243],[17,232,17,237],[17,226,17,231],[18,232,18,237],[18,238,18,243],[18,226,18,231],[19,238,19,243],[19,232,19,237],[19,226,19,231],[20,226,20,231],[20,232,20,237],[20,238,20,243],[21,238,21,243],[21,232,21,237],[21,226,21,231],[22,226,22,231],[22,232,22,237],[22,238,22,243],[23,238,23,243],[23,232,23,237],[23,226,23,231],[24,226,24,231],[24,232,24,237],[24,238,24,243],[15,249,15,254],[15,245,15,248],[16,245,16,248],[16,249,16,254],[17,245,17,248],[17,249,17,254],[18,245,18,248],[18,249,18,254],[19,245,19,248],[19,249,19,254],[20,245,20,248],[20,249,20,254],[21,249,21,254],[21,245,21,248],[22,249,22,254],[22,245,22,248],[23,249,23,254],[23,245,23,248],[24,255,24,260],[19,255,19,260],[17,255,17,260],[20,255,20,260],[18,255,18,260],[22,255,22,260],[21,255,21,260],[15,255,15,260],[23,255,23,260],[16,255,16,260],[22,261,22,266],[21,261,21,266],[23,261,23,266],[20,261,20,266],[24,261,24,266],[19,261,19,266],[18,261,18,266],[15,261,15,266],[17,261,17,266],[16,261,16,266],[24,273,24,278],[21,273,21,278],[22,273,22,278],[16,273,16,278],[23,273,23,278],[15,273,15,278],[17,273,17,278],[19,273,19,278],[13,273,13,278],[12,273,12,278],[11,273,11,278],[9,273,9,278],[14,273,14,278],[13,267,13,272],[12,267,12,272],[11,267,11,272],[14,267,14,272],[9,267,9,272],[11,245,11,248],[12,255,12,260],[12,249,12,254],[12,245,12,248],[13,245,13,248],[13,249,13,254],[13,255,13,260],[14,245,14,248],[14,249,14,254],[14,255,14,260],[8,261,8,266],[13,261,13,266],[9,261,9,266],[12,261,12,266],[14,261,14,266],[4,262,4,269],[5,262,5,278],[6,262,6,278],[8,267,8,272],[4,270,4,278],[8,273,8,278],[0,245,0,253],[1,256,1,278],[1,245,1,253],[2,254,2,278],[2,245,2,253],[3,254,4,261],[3,245,4,253],[5,245,5,261],[6,245,6,261],[7,245,7,278],[8,255,8,260],[8,245,8,248],[8,249,8,254],[9,249,9,254],[9,245,9,248],[9,255,9,260],[10,245,10,278],[3,262,3,269],[3,270,3,278],[18,284,18,289],[18,280,18,283],[19,280,19,283],[19,284,19,289],[20,284,20,289],[20,280,20,283],[21,284,21,289],[21,280,21,283],[22,280,22,283],[22,284,22,289],[23,284,23,289],[23,280,23,283],[24,284,24,289],[24,280,24,283],[12,280,12,283],[11,280,11,283],[0,254,0,278],[11,255,11,260],[11,249,11,254],[11,261,11,266],[19,267,19,272],[15,267,15,272],[23,267,23,272],[16,267,16,272],[18,267,18,272],[20,267,20,272],[17,267,17,272],[22,267,22,272],[24,267,24,272],[21,267,21,272],[20,273,20,278],[18,273,18,278],[11,296,11,301],[16,296,16,301],[12,290,12,295],[13,296,13,301],[13,290,13,295],[11,284,11,289],[12,284,12,289],[13,284,13,289],[13,280,13,283],[14,284,14,289],[14,280,14,283],[15,284,15,289],[15,280,15,283],[16,284,16,289],[16,280,16,283],[17,284,17,289],[17,280,17,283],[24,308,24,313],[13,302,13,307],[14,308,14,313],[9,308,9,313],[11,308,11,313],[12,308,12,313],[13,308,13,313],[9,290,9,295],[18,290,18,295],[16,290,16,295],[19,290,19,295],[15,290,15,295],[20,290,20,295],[14,290,14,295],[21,290,21,295],[22,290,22,295],[11,290,11,295],[23,290,23,295],[24,290,24,295],[17,290,17,295],[17,296,17,301],[22,296,22,301],[23,296,23,301],[20,296,20,301],[19,296,19,301],[24,296,24,301],[21,296,21,301],[18,296,18,301],[9,296,9,301],[12,296,12,301],[14,296,14,301],[15,296,15,301],[8,296,8,301],[8,302,8,307],[8,290,8,295],[8,280,8,283],[8,284,8,289],[8,308,8,313],[9,284,9,289],[10,280,10,313],[9,280,9,283],[16,302,16,307],[12,302,12,307],[22,302,22,307],[21,302,21,307],[14,302,14,307],[17,302,17,307],[24,302,24,307],[20,302,20,307],[18,302,18,307],[11,302,11,307],[9,302,9,307],[15,302,15,307],[23,302,23,307],[19,302,19,307]],"merged_total":1140,"flags":["merged_cut"]}
["CONCEPTO",null,null,null,null,null,null,null,null,"No. 1",null,null,null,null,null,null,null,null,null,null,null,null,null,null,null,null,null,null,null,null,null,null,null,null,null,"CONCEPTO",null,null,null,null,null,null,null,null,"No. 2",null,null,null,null,null,null,null,null,null,null,null,null,null,null,null,null,null,null,null,null,null,null,null,null,null,"CONCEPTO",null,null,null,null,null,null,null,null,"No. 3",null,null,null,null,null,null,null,null,null,null,null,null,null,null,null,null,null,null,null,null,null,null,null,null,null,"CONCEPTO",null,null,null,null,null,null,null,null,"No. 4",null,null,null,null,null,null,null,null,null,null,null,null,null,null,null,null,null,null,null,null,null,null,null,null,null,"CONCEPTO",null,null,null,null,null,null,null,null,"No. 5",null,null,null,null,null,null,null,null,null,null,null,null,null,null,null,null,null,null,null,null,null,null,null,null,null,"CONCEPTO",null,null,null,null,null,null,null,null,"No. 6",null,null,null,null,null,null,null,null,null,null,null,null,null,null,null,null,null,null,null,null,null,null,null,null,null,"CONCEPTO",null,null,null,null,null,null,null,null,"No. 7",null,null,null,null,null,null,null,null,null,null,null,null,null,null,null,null,null,null,null,null,null,null,null,null,null,"CONCEPTO",null,null,null,null,null,null,null,null,"No. 8",null,null,null,null,null,null,null,null,null,null,null,null,null,null,null,null,null,null,null,null,null,null,null,null,null,"CONCEPTO",null,null,null,null,null,null,null,null,"No. 9",null,null,null,null,null,null,null,null,null,null,null,null,null,null,null,null,null,null,null,null,null,null,null,null,null,"CONCEPTO",null,null,null,null,null,null,null,null,"No. 10"]
["TIPO DE OBLIGACIÓN:",null,null,null,null,null,null,null,null,{"$f":"IF(L2=\"Institución de crédito\",\"1\",IF(L2=\"Títulos y valores\",\"2\",IF(L2=\"Arrendamiento financiero\",\"3\",\"\")))","v":"1"},{"$f":"IF(L2>0,\".-\",\"\")","v":".-"},"Institución de crédito",null,null,null,null,null,null,null,null,null,null,null,null,null,null,null,null,null,null,null,null,null,null,null,"TIPO DE OBLIGACIÓN:",null,null,null,null,null,null,null,null,{"$f":"IF(AU2=\"Institución de crédito\",\"1\",IF(AU2=\"Títulos y valores\",\"2\",IF(AU2=\"Arrendamiento financiero\",\"3\",\"\")))","v":""},{"$f":"IF(AU2>0,\".-\",\"\")","v":""},null,null,null,null,null,null,null,null,null,null,null,null,null,null,null,null,null,null,null,null,null,null,null,null,"TIPO DE OBLIGACIÓN:",null,null,null,null,null,null,null,null,{"$f":"IF(CD2=\"Institución de crédito\",\"1\",IF(CD2=\"Títulos y valores\",\"2\",IF(CD2=\"Arrendamiento financiero\",\"3\",\"\")))","v":""},{"$f":"IF(CD2>0,\".-\",\"\")","v":""},null,null,null,null,null,null,null,null,null,null,null,null,null,null,null,null,null,null,null,null,null,null,null,null,"TIPO DE OBLIGACIÓN:",null,null,null,null,null,null,null,null,{"$f":"IF(DM2=\"Institución de crédito\",\"1\",IF(DM2=\"Títulos y valores\",\"2\",IF(DM2=\"Arrendamiento financiero\",\"3\",\"\")))","v":""},{"$f":"IF(DM2>0,\".-\",\"\")","v":""},null,null,null,null,null,null,null,null,null,null,null,null,null,null,null,null,null,null,null,null,null,null,null,null,"TIPO DE OBLIGACIÓN:",null,null,null,null,null,null,null,null,{"$f":"IF(EV2=\"Institución de crédito\",\"1\",IF(EV2=\"Títulos y valores\",\"2\",IF(EV2=\"Arrendamiento financiero\",\"3\",\"\")))","v":""},{"$f":"IF(EV2>0,\".-\",\"\")","v":""},null,null,null,null,null,null,null,null,null,null,null,null,null,null,null,null,null,null,null,null,null,null,null,null,"TIPO DE OBLIGACIÓN:",null,null,null,null,null,null,null,null,{"$f":"IF(GE2=\"Institución de crédito\",\"1\",IF(GE2=\"Títulos y valores\",\"2\",IF(GE2=\"Arrendamiento financiero\",\"3\",\"\")))","v":""},{"$f":"IF(GE2>0,\".-\",\"\")","v":""},null,null,null,null,null,null,null,null,null,null,null,null,null,null,null,null,null,null,null,null,null,null,null,null,"TIPO DE OBLIGACIÓN:",null,null,null,null,null,null,null,null,{"$f":"IF(HN2=\"Institución de crédito\",\"1\",IF(HN2=\"Títulos y valores\",\"2\",IF(HN2=\"Arrendamiento financiero\",\"3\",\"\")))","v":""},{"$f":"IF(HN2>0,\".-\",\"\")","v":""},null,null,null,null,null,null,null,null,null,null,null,null,null,null,null,null,null,null,null,null,null,null,null,null,"TIPO DE OBLIGACIÓN:",null,null,null,null,null,null,null,null,{"$f":"IF(IW2=\"Institución de crédito\",\"1\",IF(IW2=\"Títulos y valores\",\"2\",IF(IW2=\"Arrendamiento financiero\",\"3\",\"\")))","v":""},{"$f":"IF(IW2>0,\".-\",\"\")","v":""},null,null,null,null,null,null,null,null,null,null,null,null,null,null,null,null,null,null,null,null,null,null,null,null,"TIPO DE OBLIGACIÓN:",null,null,null,null,null,null,null,null,{"$f":"IF(KF2=\"Institución de crédito\",\"1\",IF(KF2=\"Títulos y valores\",\"2\",IF(KF2=\"Arrendamiento financiero\",\"3\",\"\")))","v":""},{"$f":"IF(KF2>0,\".-\",\"\")","v":""},null,null,null,null,null,null,null,null,null,null,null,null,null,null,null,null,null,null,null,null,null,null,null,null,"TIPO DE OBLIGACIÓN:",null,null,null,null,null,null,null,null,{"$f":"IF(LO2=\"Institución de crédito\",\"1\",IF(LO2=\"Títulos y valores\",\"2\",IF(LO2=\"Arrendamiento financiero\",\"3\",\"\")))","v":""},{"$f":"IF(LO2>0,\".-\",\"\")","v":""}]
["NOMBRE DEL ACREEDOR:",null,null,null,null,null,null,null,null,"Sin / Registro",null,null,null,null,null,null,null,null,null,null,null,null,null,null,null,null,null,null,null,null,null,null,null,null,null,"NOMBRE DEL ACREEDOR:",null,null,null,null,null,null,null,null,null,null,null,null,null,null,null,null,null,null,null,null,null,null,null,null,null,null,null,null,null,null,null,null,null,null,"NOMBRE DEL ACREEDOR:",null,null,null,null,null,null,null,null,null,null,null,null,null,null,null,null,null,null,null,null,null,null,null,null,null,null,null,null,null,null,null,null,null,null,"NOMBRE DEL ACREEDOR:",null,null,null,null,null,null,null,null,null,null,null,null,null,null,null,null,null,null,null,null,null,null,null,null,null,null,null,null,null,null,null,null,null,null,"NOMBRE DEL ACREEDOR:",null,null,null,null,null,null,null,null,null,null,null,null,null,null,null,null,null,null,null,null,null,null,null,null,null,null,null,null,null,null,null,null,null,null,"NOMBRE DEL ACREEDOR:",null,null,null,null,null,null,null,null,null,null,null,null,null,null,null,null,null,null,null,null,null,null,null,null,null,null,null,null,null,null,null,null,null,null,"NOMBRE DEL ACREEDOR:",null,null,null,null,null,null,null,null,null,null,null,null,null,null,null,null,null,null,null,null,null,null,null,null,null,null,null,null,null,null,null,null,null,null,"NOMBRE DEL ACREEDOR:",null,null,null,null,null,null,null,null,null,null,null,null,null,null,null,null,null,null,null,null,null,null,null,null,null,null,null,null,null,null,null,null,null,null,"NOMBRE DEL ACREEDOR:",null,null,null,null,null,null,null,null,null,null,null,null,null,null,null,null,null,null,null,null,null,null,null,null,null,null,null,null,null,null,null,null,null,null,"NOMBRE DEL ACREEDOR:"]
["MONTO DISPUESTO:",null,null,null,null,null,null,null,null,0,null,null,null,null,null,null,null,"FECHA DE INICIO:",null,null,null,null,null,null,null,"2023-01-01",null,null,null,null,null,null,null,null,null,"MONTO DISPUESTO:",null,null,null,null,null,null,null,null,null,null,null,null,null,null,null,null,"FECHA DE INICIO:",null,null,null,null,null,null,null,null,null,null,null,null,null,null,null,null,null,"MONTO DISPUESTO:",null,null,null,null,null,null,null,null,null,null,null,null,null,null,null,null,"FECHA DE INICIO:",null,null,null,null,null,null,null,null,null,null,null,null,null,null,null,null,null,"MONTO DISPUESTO:",null,null,null,null,null,null,null,null,null,null,null,null,null,null,null,null,"FECHA DE INICIO:",null,null,null,null,null,null,null,null,null,null,null,null,null,null,null,null,null,"MONTO DISPUESTO:",null,null,null,null,null,null,null,null,null,null,null,null,null,null,null,null,"FECHA DE INICIO:",null,null,null,null,null,null,null,null,null,null,null,null,null,null,null,null,null,"MONTO DISPUESTO:",null,null,null,null,null,null,null,null,null,null,null,null,null,null,null,null,"FECHA DE INICIO:",null,null,null,null,null,null,null,null,null,null,null,null,null,null,null,null,null,"MONTO DISPUESTO:",null,null,null,null,null,null,null,null,null,null,null,null,null,null,null,null,"FECHA DE INICIO:",null,null,null,null,null,null,null,null,null,null,null,null,null,null,null,null,null,"MONTO DISPUESTO:",null,null,null,null,null,null,null,null,null,null,null,null,null,null,null,null,"FECHA DE INICIO:",null,null,null,null,null,null,null,null,null,null,null,null,null,null,null,null,null,"MONTO DISPUESTO:",null,null,null,null,null,null,null,null,null,null,null,null,null,null,null,null,"FECHA DE INICIO:",null,null,null,null,null,null,null,null,null,null,null,null,null,null,null,null,null,"MONTO DISPUESTO:",null,null,null,null,null,null,null,null,null,null,null,null,null,null,null,null,"FECHA DE INICIO:"]
[null,null,null,null,null,null,null,null,null,null,null,null,null,null,null,null,null,"FECHA DE VENCIMIENTO:",null,null,null,null,null,null,null,"2023-12-31",null,null,null,null,null,null,null,null,null,null,null,null,null,null,null,null,null,null,null,null,null,null,null,null,null,null,"FECHA DE VENCIMIENTO:",null,null,null,null,null,null,null,null,null,null,null,null,null,null,null,null,null,null,null,null,null,null,null,null,null,null,null,null,null,null,null,null,null,null,"FECHA DE VENCIMIENTO:",null,null,null,null,null,null,null,null,null,null,null,null,null,null,null,null,null,null,null,null,null,null,null,null,null,null,null,null,null,null,null,null,null,null,"FECHA DE VENCIMIENTO:",null,null,null,null,null,null,null,null,null,null,null,null,null,null,null,null,null,null,null,null,null,null,null,null,null,null,null,null,null,null,null,null,null,null,"FECHA DE VENCIMIENTO:",null,null,null,null,null,null,null,null,null,null,null,null,null,null,null,null,null,null,null,null,null,null,null,null,null,null,null,null,null,null,null,null,null,null,"FECHA DE VENCIMIENTO:",null,null,null,null,null,null,null,null,null,null,null,null,null,null,null,null,null,null,null,null,null,null,null,null,null,null,null,null,null,null,null,null,null,null,"FECHA DE VENCIMIENTO:",null,null,null,null,null,null,null,null,null,null,null,null,null,null,null,null,null,null,null,null,null,null,null,null,null,null,null,null,null,null,null,null,null,null,"FECHA DE VENCIMIENTO:",null,null,null,null,null,null,null,null,null,null,null,null,null,null,null,null,null,null,null,null,null,null,null,null,null,null,null,null,null,null,null,null,null,null,"FECHA DE VENCIMIENTO:",null,null,null,null,null,null,null,null,null,null,null,null,null,null,null,null,null,null,null,null,null,null,null,null,null,null,null,null,null,null,null,null,null,null,"FECHA DE VENCIMIENTO:"]
["SALDO AL 1° DE ENERO DE 2023 A CORTO PLAZO:",null,null,null,null,null,null,null,null,null,null,null,null,null,null,null,null,0,null,null,null,null,null,null,null,null,null,null,null,null,null,null,null,null,null,"SALDO AL 1° DE ENERO DE 2023 A CORTO PLAZO:",null,null,null,null,null,null,null,null,null,null,null,null,null,null,null,null,null,null,null,null,null,null,null,null,null,null,null,null,null,null,null,null,null,null,"SALDO AL 1° DE ENERO DE 2023 A CORTO PLAZO:",null,null,null,null,null,null,null,null,null,null,null,null,null,null,null,null,null,null,null,null,null,null,null,null,null,null,null,null,null,null,null,null,null,null,"SALDO AL 1° DE ENERO DE 2023 A CORTO PLAZO:",null,null,null,null,null,null,null,null,null,null,null,null,null,null,null,null,null,null,null,null,null,null,null,null,null,null,null,null,null,null,null,null,null,null,"SALDO AL 1° DE ENERO DE 2023 A CORTO PLAZO:",null,null,null,null,null,null,null,null,null,null,null,null,null,null,null,null,null,null,null,null,null,null,null,null,null,null,null,null,null,null,null,null,null,null,"SALDO AL 1° DE ENERO DE 2023 A CORTO PLAZO:",null,null,null,null,null,null,null,null,null,null,null,null,null,null,null,null,null,null,null,null,null,null,null,null,null,null,null,null,null,null,null,null,null,null,"SALDO AL 1° DE ENERO DE 2023 A CORTO PLAZO:",null,null,null,null,null,null,null,null,null,null,null,null,null,null,null,null,null,null,null,null,null,null,null,null,null,null,null,null,null,null,null,null,null,null,"SALDO AL 1° DE ENERO DE 2023 A CORTO PLAZO:",null,null,null,null,null,null,null,null,null,null,null,null,null,null,null,null,null,null,null,null,null,null,null,null,null,null,null,null,null,null,null,null,null,null,"SALDO AL 1° DE ENERO DE 2023 A CORTO PLAZO:",null,null,null,null,null,null,null,null,null,null,null,null,null,null,null,null,null,null,null,null,null,null,null,null,null,null,null,null,null,null,null,null,null,null,"SALDO AL 1° DE ENERO DE 2023 A CORTO PLAZO:"]
["SALDO AL 1° DE ENERO DE 2023 A LARGO PLAZO:",null,null,null,null,null,null,null,null,null,null,null,null,null,null,null,null,0,null,null,null,null,null,null,null,null,null,null,null,null,null,null,null,null,null,"SALDO AL 1° DE ENERO DE 2023 A LARGO PLAZO:",null,null,null,null,null,null,null,null,null,null,null,null,null,null,null,null,null,null,null,null,null,null,null,null,null,null,null,null,null,null,null,null,null,null,"SALDO AL 1° DE ENERO DE 2023 A LARGO PLAZO:",null,null,null,null,null,null,null,null,null,null,null,null,null,null,null,null,null,null,null,null,null,null,null,null,null,null,null,null,null,null,null,null,null,null,"SALDO AL 1° DE ENERO DE 2023 A LARGO PLAZO:",null,null,null,null,null,null,null,null,null,null,null,null,null,null,null,null,null,null,null,null,null,null,null,null,null,null,null,null,null,null,null,null,null,null,"SALDO AL 1° DE ENERO DE 2023 A LARGO PLAZO:",null,null,null,null,null,null,null,null,null,null,null,null,null,null,null,null,null,null,null,null,null,null,null,null,null,null,null,null,null,null,null,null,null,null,"SALDO AL 1° DE ENERO DE 2023 A LARGO PLAZO:",null,null,null,null,null,null,null,null,null,null,null,null,null,null,null,null,null,null,null,null,null,null,null,null,null,null,null,null,null,null,null,null,null,null,"SALDO AL 1° DE ENERO DE 2023 A LARGO PLAZO:",null,null,null,null,null,null,null,null,null,null,null,null,null,null,null,null,null,null,null,null,null,null,null,null,null,null,null,null,null,null,null,null,null,null,"SALDO AL 1° DE ENERO DE 2023 A LARGO PLAZO:",null,null,null,null,null,null,null,null,null,null,null,null,null,null,null,null,null,null,null,null,null,null,null,null,null,null,null,null,null,null,null,null,null,null,"SALDO AL 1° DE ENERO DE 2023 A LARGO PLAZO:",null,null,null,null,null,null,null,null,null,null,null,null,null,null,null,null,null,null,null,null,null,null,null,null,null,null,null,null,null,null,null,null,null,null,"SALDO AL 1° DE ENERO DE 2023 A LARGO PLAZO:"]
["OBLIGACIONES A LARGO PLAZO",null,null,null,null,null,null,null,null,null,null,null,null,null,null,null,null,null,null,null,null,null,null,null,null,null,null,null,null,null,null,null,null,null,null,"OBLIGACIONES A LARGO PLAZO",null,null,null,null,null,null,null,null,null,null,null,null,null,null,null,null,null,null,null,null,null,null,null,null,null,null,null,null,null,null,null,null,null,null,"OBLIGACIONES A LARGO PLAZO",null,null,null,null,null,null,null,null,null,null,null,null,null,null,null,null,null,null,null,null,null,null,null,null,null,null,null,null,null,null,null,null,null,null,"OBLIGACIONES A LARGO PLAZO",null,null,null,null,null,null,null,null,null,null,null,null,null,null,null,null,null,null,null,null,null,null,null,null,null,null,null,null,null,null,null,null,null,null,"OBLIGACIONES A LARGO PLAZO",null,null,null,null,null,null,null,null,null,null,null,null,null,null,null,null,null,null,null,null,null,null,null,null,null,null,null,null,null,null,null,null,null,null,"OBLIGACIONES A LARGO PLAZO",null,null,null,null,null,null,null,null,null,null,null,null,null,null,null,null,null,null,null,null,null,null,null,null,null,null,null,null,null,null,null,null,null,null,"OBLIGACIONES A LARGO PLAZO",null,null,null,null,null,null,null,null,null,null,null,null,null,null,null,null,null,null,null,null,null,null,null,null,null,null,null,null,null,null,null,null,null,null,"OBLIGACIONES A LARGO PLAZO",null,null,null,null,null,null,null,null,null,null,null,null,null,null,null,null,null,null,null,null,null,null,null,null,null,null,null,null,null,null,null,null,null,null,"OBLIGACIONES A LARGO PLAZO",null,null,null,null,null,null,null,null,null,null,null,null,null,null,null,null,null,null,null,null,null,null,null,null,null,null,null,null,null,null,null,null,null,null,"OBLIGACIONES A LARGO PLAZO"]
["CONCEPTO",null,null,null,"DISPOSICIÓN",null,null,null,null,null,"AMORTIZACIÓN",null,null,null,null,null,"REVALUACIONES",null,null,null,null,null,"INTERÉS",null,null,null,null,null,"COMISIONES",null,null,null,null,null,null,"CONCEPTO",null,null,null,"DISPOSICIÓN",null,null,null,null,null,"AMORTIZACIÓN",null,null,null,null,null,"REVALUACIONES",null,null,null,null,null,"INTERÉS",null,null,null,null,null,"COMISIONES",null,null,null,null,null,null,"CONCEPTO",null,null,null,"DISPOSICIÓN",null,null,null,null,null,"AMORTIZACIÓN",null,null,null,null,null,"REVALUACIONES",null,null,null,null,null,"INTERÉS",null,null,null,null,null,"COMISIONES",null,null,null,null,null,null,"CONCEPTO",null,null,null,"DISPOSICIÓN",null,null,null,null,null,"AMORTIZACIÓN",null,null,null,null,null,"REVALUACIONES",null,null,null,null,null,"INTERÉS",null,null,null,null,null,"COMISIONES",null,null,null,null,null,null,"CONCEPTO",null,null,null,"DISPOSICIÓN",null,null,null,null,null,"AMORTIZACIÓN",null,null,null,null,null,"REVALUACIONES",null,null,null,null,null,"INTERÉS",null,null,null,null,null,"COMISIONES",null,null,null,null,null,null,"CONCEPTO",null,null,null,"DISPOSICIÓN",null,null,null,null,null,"AMORTIZACIÓN",null,null,null,null,null,"REVALUACIONES",null,null,null,null,null,"INTERÉS",null,null,null,null,null,"COMISIONES",null,null,null,null,null,null,"CONCEPTO",null,null,null,"DISPOSICIÓN",null,null,null,null,null,"AMORTIZACIÓN",null,null,null,null,null,"REVALUACIONES",null,null,null,null,null,"INTERÉS",null,null,null,null,null,"COMISIONES",null,null,null,null,null,null,"CONCEPTO",null,null,null,"DISPOSICIÓN",null,null,null,null,null,"AMORTIZACIÓN",null,null,null,null,null,"REVALUACIONES",null,null,null,null,null,"INTERÉS",null,null,null,null,null,"COMISIONES",null,null,null,null,null,null,"CONCEPTO",null,null,null,"DISPOSICIÓN",null,null,null,null,null,"AMORTIZACIÓN",null,null,null,null,null,"REVALUACIONES",null,null,null,null,null,"INTERÉS",null,null,null,null,null,"COMISIONES",null,null,null,null,null,null,"CONCEPTO",null,null,null,"DISPOSICIÓN",null,null,null,null,null,"AMORTIZACIÓN",null,null,null,null,null,"REVALUACIONES",null,null,null,null,null,"INTERÉS",null,null,null,null,null,"COMISIONES"]
["Largo Plazo",null,null,null,null,null,null,null,null,null,null,null,null,null,null,null,null,null,null,null,null,null,null,null,null,null,null,null,null,null,null,null,null,null,null,"Largo Plazo",null,null,null,null,null,null,null,null,null,null,null,null,null,null,null,null,null,null,null,null,null,null,null,null,null,null,null,null,null,null,null,null,null,null,"Largo Plazo",null,null,null,null,null,null,null,null,null,null,null,null,null,null,null,null,null,null,null,null,null,null,null,null,null,null,null,null,null,null,null,null,null,null,"Largo Plazo",null,null,null,null,null,null,null,null,null,null,null,null,null,null,null,null,null,null,null,null,null,null,null,null,null,null,null,null,null,null,null,null,null,null,"Largo Plazo",null,null,null,null,null,null,null,null,null,null,null,null,null,null,null,null,null,null,null,null,null,null,null,null,null,null,null,null,null,null,null,null,null,null,"Largo Plazo",null,null,null,null,null,null,null,null,null,null,null,null,null,null,null,null,null,null,null,null,null,null,null,null,null,null,null,null,null,null,null,null,null,null,"Largo Plazo",null,null,null,null,null,null,null,null,null,null,null,null,null,null,null,null,null,null,null,null,null,null,null,null,null,null,null,null,null,null,null,null,null,null,"Largo Plazo",null,null,null,null,null,null,null,null,null,null,null,null,null,null,null,null,null,null,null,null,null,null,null,null,null,null,null,null,null,null,null,null,null,null,"Largo Plazo",null,null,null,null,null,null,null,null,null,null,null,null,null,null,null,null,null,null,null,null,null,null,null,null,null,null,null,null,null,null,null,null,null,null,"Largo Plazo"]
["OBLIGACIONES A CORTO PLAZO",null,null,null,null,null,null,null,null,null,null,null,null,null,null,null,null,null,null,null,null,null,null,null,null,null,null,null,null,null,null,null,null,null,null,"OBLIGACIONES A CORTO PLAZO",null,null,null,null,null,null,null,null,null,null,null,null,null,null,null,null,null,null,null,null,null,null,null,null,null,null,null,null,null,null,null,null,null,null,"OBLIGACIONES A CORTO PLAZO",null,null,null,null,null,null,null,null,null,null,null,null,null,null,null,null,null,null,null,null,null,null,null,null,null,null,null,null,null,null,null,null,null,null,"OBLIGACIONES A CORTO PLAZO",null,null,null,null,null,null,null,null,null,null,null,null,null,null,null,null,null,null,null,null,null,null,null,null,null,null,null,null,null,null,null,null,null,null,"OBLIGACIONES A CORTO PLAZO",null,null,null,null,null,null,null,null,null,null,null,null,null,null,null,null,null,null,null,null,null,null,null,null,null,null,null,null,null,null,null,null,null,null,"OBLIGACIONES A CORTO PLAZO",null,null,null,null,null,null,null,null,null,null,null,null,null,null,null,null,null,null,null,null,null,null,null,null,null,null,null,null,null,null,null,null,null,null,"OBLIGACIONES A CORTO PLAZO",null,null,null,null,null,null,null,null,null,null,null,null,null,null,null,null,null,null,null,null,null,null,null,null,null,null,null,null,null,null,null,null,null,null,"OBLIGACIONES A CORTO PLAZO",null,null,null,null,null,null,null,null,null,null,null,null,null,null,null,null,null,null,null,null,null,null,null,null,null,null,null,null,null,null,null,null,null,null,"OBLIGACIONES A CORTO PLAZO",null,null,null,null,null,null,null,null,null,null,null,null,null,null,null,null,null,null,null,null,null,null,null,null,null,null,null,null,null,null,null,null,null,null,"OBLIGACIONES A CORTO PLAZO"]
["MES",null,null,null,"DISPOSICIÓN",null,null,null,null,null,"AMORTIZACIÓN",null,null,null,null,null,"REVALUACIONES",null,null,null,null,null,"INTERÉS",null,null,null,null,null,"COMISIONES",null,null,null,null,null,null,"MES",null,null,null,"DISPOSICIÓN",null,null,null,null,null,"AMORTIZACIÓN",null,null,null,null,null,"REVALUACIONES",null,null,null,null,null,"INTERÉS",null,null,null,null,null,"COMISIONES",null,null,null,null,null,null,"MES",null,null,null,"DISPOSICIÓN",null,null,null,null,null,"AMORTIZACIÓN",null,null,null,null,null,"REVALUACIONES",null,null,null,null,null,"INTERÉS",null,null,null,null,null,"COMISIONES",null,null,null,null,null,null,"MES",null,null,null,"DISPOSICIÓN",null,null,null,null,null,"AMORTIZACIÓN",null,null,null,null,null,"REVALUACIONES",null,null,null,null,null,"INTERÉS",null,null,null,null,null,"COMISIONES",null,null,null,null,null,null,"MES",null,null,null,"DISPOSICIÓN",null,null,null,null,null,"AMORTIZACIÓN",null,null,null,null,null,"REVALUACIONES",null,null,null,null,null,"INTERÉS",null,null,null,null,null,"COMISIONES",null,null,null,null,null,null,"MES",null,null,null,"DISPOSICIÓN",null,null,null,null,null,"AMORTIZACIÓN",null,null,null,null,null,"REVALUACIONES",null,null,null,null,null,"INTERÉS",null,null,null,null,null,"COMISIONES",null,null,null,null,null,null,"MES",null,null,null,"DISPOSICIÓN",null,null,null,null,null,"AMORTIZACIÓN",null,null,null,null,null,"REVALUACIONES",null,null,null,null,null,"INTERÉS",null,null,null,null,null,"COMISIONES",null,null,null,null,null,null,"MES",null,null,null,"DISPOSICIÓN",null,null,null,null,null,"AMORTIZACIÓN",null,null,null,null,null,"REVALUACIONES",null,null,null,null,null,"INTERÉS",null,null,null,null,null,"COMISIONES",null,null,null,null,null,null,"MES",null,null,null,"DISPOSICIÓN",null,null,null,null,null,"AMORTIZACIÓN",null,null,null,null,null,"REVALUACIONES",null,null,null,null,null,"INTERÉS",null,null,null,null,null,"COMISIONES",null,null,null,null,null,null,"MES",null,null,null,"DISPOSICIÓN",null,null,null,null,null,"AMORTIZACIÓN",null,null,null,null,null,"REVALUACIONES",null,null,null,null,null,"INTERÉS",null,null,null,null,null,"COMISIONES"]
["ENERO",null,null,null,null,null,null,null,null,null,null,null,null,null,null,null,null,null,null,null,null,null,null,null,null,null,null,null,null,null,null,null,null,null,null,"ENERO",null,null,null,null,null,null,null,null,null,null,null,null,null,null,null,null,null,null,null,null,null,null,null,null,null,null,null,null,null,null,null,null,null,null,"ENERO",null,null,null,null,null,null,null,null,null,null,null,null,null,null,null,null,null,null,null,null,null,null,null,null,null,null,null,null,null,null,null,null,null,null,"ENERO",null,null,null,null,null,null,null,null,null,null,null,null,null,null,null,null,null,null,null,null,null,null,null,null,null,null,null,null,null,null,null,null,null,null,"ENERO",null,null,null,null,null,null,null,null,null,null,null,null,null,null,null,null,null,null,null,null,null,null,null,null,null,null,null,null,null,null,null,null,null,null,"ENERO",null,null,null,null,null,null,null,null,null,null,null,null,null,null,null,null,null,null,null,null,null,null,null,null,null,null,null,null,null,null,null,null,null,null,"ENERO",null,null,null,null,null,null,null,null,null,null,null,null,null,null,null,null,null,null,null,null,null,null,null,null,null,null,null,null,null,null,null,null,null,null,"ENERO",null,null,null,null,null,null,null,null,null,null,null,null,null,null,null,null,null,null,null,null,null,null,null,null,null,null,null,null,null,null,null,null,null,null,"ENERO",null,null,null,null,null,null,null,null,null,null,null,null,null,null,null,null,null,null,null,null,null,null,null,null,null,null,null,null,null,null,null,null,null,null,"ENERO"]
["FEBRERO",null,null,null,null,null,null,null,null,null,null,null,null,null,null,null,null,null,null,null,null,null,null,null,null,null,null,null,null,null,null,null,null,null,null,"FEBRERO",null,null,null,null,null,null,null,null,null,null,null,null,null,null,null,null,null,null,null,null,null,null,null,null,null,null,null,null,null,null,null,null,null,null,"FEBRERO",null,null,null,null,null,null,null,null,null,null,null,null,null,null,null,null,null,null,null,null,null,null,null,null,null,null,null,null,null,null,null,null,null,null,"FEBRERO",null,null,null,null,null,null,null,null,null,null,null,null,null,null,null,null,null,null,null,null,null,null,null,null,null,null,null,null,null,null,null,null,null,null,"FEBRERO",null,null,null,null,null,null,null,null,null,null,null,null,null,null,null,null,null,null,null,null,null,null,null,null,null,null,null,null,null,null,null,null,null,null,"FEBRERO",null,null,null,null,null,null,null,null,null,null,null,null,null,null,null,null,null,null,null,null,null,null,null,null,null,null,null,null,null,null,null,null,null,null,"FEBRERO",null,null,null,null,null,null,null,null,null,null,null,null,null,null,null,null,null,null,null,null,null,null,null,null,null,null,null,null,null,null,null,null,null,null,"FEBRERO",null,null,null,null,null,null,null,null,null,null,null,null,null,null,null,null,null,null,null,null,null,null,null,null,null,null,null,null,null,null,null,null,null,null,"FEBRERO",null,null,null,null,null,null,null,null,null,null,null,null,null,null,null,null,null,null,null,null,null,null,null,null,null,null,null,null,null,null,null,null,null,null,"FEBRERO"]
["MARZO",null,null,null,null,null,null,null,null,null,null,null,null,null,null,null,null,null,null,null,null,null,null,null,null,null,null,null,null,null,null,null,null,null,null,"MARZO",null,null,null,null,null,null,null,null,null,null,null,null,null,null,null,null,null,null,null,null,null,null,null,null,null,null,null,null,null,null,null,null,null,null,"MARZO",null,null,null,null,null,null,null,null,null,null,null,null,null,null,null,null,null,null,null,null,null,null,null,null,null,null,null,null,null,null,null,null,null,null,"MARZO",null,null,null,null,null,null,null,null,null,null,null,null,null,null,null,null,null,null,null,null,null,null,null,null,null,null,null,null,null,null,null,null,null,null,"MARZO",null,null,null,null,null,null,null,null,null,null,null,null,null,null,null,null,null,null,null,null,null,null,null,null,null,null,null,null,null,null,null,null,null,null,"MARZO",null,null,null,null,null,null,null,null,null,null,null,null,null,null,null,null,null,null,null,null,null,null,null,null,null,null,null,null,null,null,null,null,null,null,"MARZO",null,null,null,null,null,null,null,null,null,null,null,null,null,null,null,null,null,null,null,null,null,null,null,null,null,null,null,null,null,null,null,null,null,null,"MARZO",null,null,null,null,null,null,null,null,null,null,null,null,null,null,null,null,null,null,null,null,null,null,null,null,null,null,null,null,null,null,null,null,null,null,"MARZO",null,null,null,null,null,null,null,null,null,null,null,null,null,null,null,null,null,null,null,null,null,null,null,null,null,null,null,null,null,null,null,null,null,null,"MARZO"]
["ABRIL",null,null,null,null,null,null,null,null,null,null,null,null,null,null,null,null,null,null,null,null,null,null,null,null,null,null,null,null,null,null,null,null,null,null,"ABRIL",null,null,null,null,null,null,null,null,null,null,null,null,null,null,null,null,null,null,null,null,null,null,null,null,null,null,null,null,null,null,null,null,null,null,"ABRIL",null,null,null,null,null,null,null,null,null,null,null,null,null,null,null,null,null,null,null,null,null,null,null,null,null,null,null,null,null,null,null,null,null,null,"ABRIL",null,null,null,null,null,null,null,null,null,null,null,null,null,null,null,null,null,null,null,null,null,null,null,null,null,null,null,null,null,null,null,null,null,null,"ABRIL",null,null,null,null,null,null,null,null,null,null,null,null,null,null,null,null,null,null,null,null,null,null,null,null,null,null,null,null,null,null,null,null,null,null,"ABRIL",null,null,null,null,null,null,null,null,null,null,null,null,null,null,null,null,null,null,null,null,null,null,null,null,null,null,null,null,null,null,null,null,null,null,"ABRIL",null,null,null,null,null,null,null,null,null,null,null,null,null,null,null,null,null,null,null,null,null,null,null,null,null,null,null,null,null,null,null,null,null,null,"ABRIL",null,null,null,null,null,null,null,null,null,null,null,null,null,null,null,null,null,null,null,null,null,null,null,null,null,null,null,null,null,null,null,null,null,null,"ABRIL",null,null,null,null,null,null,null,null,null,null,null,null,null,null,null,null,null,null,null,null,null,null,null,null,null,null,null,null,null,null,null,null,null,null,"ABRIL"]
["MAYO",null,null,null,null,null,null,null,null,null,null,null,null,null,null,null,null,null,null,null,null,null,null,null,null,null,null,null,null,null,null,null,null,null,null,"MAYO",null,null,null,null,null,null,null,null,null,null,null,null,null,null,null,null,null,null,null,null,null,null,null,null,null,null,null,null,null,null,null,null,null,null,"MAYO",null,null,null,null,null,null,null,null,null,null,null,null,null,null,null,null,null,null,null,null,null,null,null,null,null,null,null,null,null,null,null,null,null,null,"MAYO",null,null,null,null,null,null,null,null,null,null,null,null,null,null,null,null,null,null,null,null,null,null,null,null,null,null,null,null,null,null,null,null,null,null,"MAYO",null,null,null,null,null,null,null,null,null,null,null,null,null,null,null,null,null,null,null,null,null,null,null,null,null,null,null,null,null,null,null,null,null,null,"MAYO",null,null,null,null,null,null,null,null,null,null,null,null,null,null,null,null,null,null,null,null,null,null,null,null,null,null,null,null,null,null,null,null,null,null,"MAYO",null,null,null,null,null,null,null,null,null,null,null,null,null,null,null,null,null,null,null,null,null,null,null,null,null,null,null,null,null,null,null,null,null,null,"MAYO",null,null,null,null,null,null,null,null,null,null,null,null,null,null,null,null,null,null,null,null,null,null,null,null,null,null,null,null,null,null,null,null,null,null,"MAYO",null,null,null,null,null,null,null,null,null,null,null,null,null,null,null,null,null,null,null,null,null,null,null,null,null,null,null,null,null,null,null,null,null,null,"MAYO"]
["JUNIO",null,null,null,null,null,null,null,null,null,null,null,null,null,null,null,null,null,null,null,null,null,null,null,null,null,null,null,null,null,null,null,null,null,null,"JUNIO",null,null,null,null,null,null,null,null,null,null,null,null,null,null,null,null,null,null,null,null,null,null,null,null,null,null,null,null,null,null,null,null,null,null,"JUNIO",null,null,null,null,null,null,null,null,null,null,null,null,null,null,null,null,null,null,null,null,null,null,null,null,null,null,null,null,null,null,null,null,null,null,"JUNIO",null,null,null,null,null,null,null,null,null,null,null,null,null,null,null,null,null,null,null,null,null,null,null,null,null,null,null,null,null,null,null,null,null,null,"JUNIO",null,null,null,null,null,null,null,null,null,null,null,null,null,null,null,null,null,null,null,null,null,null,null,null,null,null,null,null,null,null,null,null,null,null,"JUNIO",null,null,null,null,null,null,null,null,null,null,null,null,null,null,null,null,null,null,null,null,null,null,null,null,null,null,null,null,null,null,null,null,null,null,"JUNIO",null,null,null,null,null,null,null,null,null,null,null,null,null,null,null,null,null,null,null,null,null,null,null,null,null,null,null,null,null,null,null,null,null,null,"JUNIO",null,null,null,null,null,null,null,null,null,null,null,null,null,null,null,null,null,null,null,null,null,null,null,null,null,null,null,null,null,null,null,null,null,null,"JUNIO",null,null,null,null,null,null,null,null,null,null,null,null,null,null,null,null,null,null,null,null,null,null,null,null,null,null,null,null,null,null,null,null,null,null,"JUNIO"]
["JULIO",null,null,null,null,null,null,null,null,null,null,null,null,null,null,null,null,null,null,null,null,null,null,null,null,null,null,null,null,null,null,null,null,null,null,"JULIO",null,null,null,null,null,null,null,null,null,null,null,null,null,null,null,null,null,null,null,null,null,null,null,null,null,null,null,null,null,null,null,null,null,null,"JULIO",null,null,null,null,null,null,null,null,null,null,null,null,null,null,null,null,null,null,null,null,null,null,null,null,null,null,null,null,null,null,null,null,null,null,"JULIO",null,null,null,null,null,null,null,null,null,null,null,null,null,null,null,null,null,null,null,null,null,null,null,null,null,null,null,null,null,null,null,null,null,null,"JULIO",null,null,null,null,null,null,null,null,null,null,null,null,null,null,null,null,null,null,null,null,null,null,null,null,null,null,null,null,null,null,null,null,null,null,"JULIO",null,null,null,null,null,null,null,null,null,null,null,null,null,null,null,null,null,null,null,null,null,null,null,null,null,null,null,null,null,null,null,null,null,null,"JULIO",null,null,null,null,null,null,null,null,null,null,null,null,null,null,null,null,null,null,null,null,null,null,null,null,null,null,null,null,null,null,null,null,null,null,"JULIO",null,null,null,null,null,null,null,null,null,null,null,null,null,null,null,null,null,null,null,null,null,null,null,null,null,null,null,null,null,null,null,null,null,null,"JULIO",null,null,null,null,null,null,null,null,null,null,null,null,null,null,null,null,null,null,null,null,null,null,null,null,null,null,null,null,null,null,null,null,null,null,"JULIO"]
["AGOSTO",null,null,null,null,null,null,null,null,null,null,null,null,null,null,null,null,null,null,null,null,null,null,null,null,null,null,null,null,null,null,null,null,null,null,"AGOSTO",null,null,null,null,null,null,null,null,null,null,null,null,null,null,null,null,null,null,null,null,null,null,null,null,null,null,null,null,null,null,null,null,null,null,"AGOSTO",null,null,null,null,null,null,null,null,null,null,null,null,null,null,null,null,null,null,null,null,null,null,null,null,null,null,null,null,null,null,null,null,null,null,"AGOSTO",null,null,null,null,null,null,null,null,null,null,null,null,null,null,null,null,null,null,null,null,null,null,null,null,null,null,null,null,null,null,null,null,null,null,"AGOSTO",null,null,null,null,null,null,null,null,null,null,null,null,null,null,null,null,null,null,null,null,null,null,null,null,null,null,null,null,null,null,null,null,null,null,"AGOSTO",null,null,null,null,null,null,null,null,null,null,null,null,null,null,null,null,null,null,null,null,null,null,null,null,null,null,null,null,null,null,null,null,null,null,"AGOSTO",null,null,null,null,null,null,null,null,null,null,null,null,null,null,null,null,null,null,null,null,null,null,null,null,null,null,null,null,null,null,null,null,null,null,"AGOSTO",null,null,null,null,null,null,null,null,null,null,null,null,null,null,null,null,null,null,null,null,null,null,null,null,null,null,null,null,null,null,null,null,null,null,"AGOSTO",null,null,null,null,null,null,null,null,null,null,null,null,null,null,null,null,null,null,null,null,null,null,null,null,null,null,null,null,null,null,null,null,null,null,"AGOSTO"]
["SEPTIEMBRE",null,null,null,null,null,null,null,null,null,null,null,null,null,null,null,null,null,null,null,null,null,null,null,null,null,null,null,null,null,null,null,null,null,null,"SEPTIEMBRE",null,null,null,null,null,null,null,null,null,null,null,null,null,null,null,null,null,null,null,null,null,null,null,null,null,null,null,null,null,null,null,null,null,null,"SEPTIEMBRE",null,null,null,null,null,null,null,null,null,null,null,null,null,null,null,null,null,null,null,null,null,null,null,null,null,null,null,null,null,null,null,null,null,null,"SEPTIEMBRE",null,null,null,null,null,null,null,null,null,null,null,null,null,null,null,null,null,null,null,null,null,null,null,null,null,null,null,null,null,null,null,null,null,null,"SEPTIEMBRE",null,null,null,null,null,null,null,null,null,null,null,null,null,null,null,null,null,null,null,null,null,null,null,null,null,null,null,null,null,null,null,null,null,null,"SEPTIEMBRE",null,null,null,null,null,null,null,null,null,null,null,null,null,null,null,null,null,null,null,null,null,null,null,null,null,null,null,null,null,null,null,null,null,null,"SEPTIEMBRE",null,null,null,null,null,null,null,null,null,null,null,null,null,null,null,null,null,null,null,null,null,null,null,null,null,null,null,null,null,null,null,null,null,null,"SEPTIEMBRE",null,null,null,null,null,null,null,null,null,null,null,null,null,null,null,null,null,null,null,null,null,null,null,null,null,null,null,null,null,null,null,null,null,null,"SEPTIEMBRE",null,null,null,null,null,null,null,null,null,null,null,null,null,null,null,null,null,null,null,null,null,null,null,null,null,null,null,null,null,null,null,null,null,null,"SEPTIEMBRE"]
["OCTUBRE",null,null,null,null,null,null,null,null,null,null,null,null,null,null,null,null,null,null,null,null,null,null,null,null,null,null,null,null,null,null,null,null,null,null,"OCTUBRE",null,null,null,null,null,null,null,null,null,null,null,null,null,null,null,null,null,null,null,null,null,null,null,null,null,null,null,null,null,null,null,null,null,null,"OCTUBRE",null,null,null,null,null,null,null,null,null,null,null,null,null,null,null,null,null,null,null,null,null,null,null,null,null,null,null,null,null,null,null,null,null,null,"OCTUBRE",null,null,null,null,null,null,null,null,null,null,null,null,null,null,null,null,null,null,null,null,null,null,null,null,null,null,null,null,null,null,null,null,null,null,"OCTUBRE",null,null,null,null,null,null,null,null,null,null,null,null,null,null,null,null,null,null,null,null,null,null,null,null,null,null,null,null,null,null,null,null,null,null,"OCTUBRE",null,null,null,null,null,null,null,null,null,null,null,null,null,null,null,null,null,null,null,null,null,null,null,null,null,null,null,null,null,null,null,null,null,null,"OCTUBRE",null,null,null,null,null,null,null,null,null,null,null,null,null,null,null,null,null,null,null,null,null,null,null,null,null,null,null,null,null,null,null,null,null,null,"OCTUBRE",null,null,null,null,null,null,null,null,null,null,null,null,null,null,null,null,null,null,null,null,null,null,null,null,null,null,null,null,null,null,null,null,null,null,"OCTUBRE",null,null,null,null,null,null,null,null,null,null,null,null,null,null,null,null,null,null,null,null,null,null,null,null,null,null,null,null,null,null,null,null,null,null,"OCTUBRE"]
["NOVIEMBRE",null,null,null,null,null,null,null,null,null,null,null,null,null,null,null,null,null,null,null,null,null,null,null,null,null,null,null,null,null,null,null,null,null,null,"NOVIEMBRE",null,null,null,null,null,null,null,null,null,null,null,null,null,null,null,null,null,null,null,null,null,null,null,null,null,null,null,null,null,null,null,null,null,null,"NOVIEMBRE",null,null,null,null,null,null,null,null,null,null,null,null,null,null,null,null,null,null,null,null,null,null,null,null,null,null,null,null,null,null,null,null,null,null,"NOVIEMBRE",null,null,null,null,null,null,null,null,null,null,null,null,null,null,null,null,null,null,null,null,null,null,null,null,null,null,null,null,null,null,null,null,null,null,"NOVIEMBRE",null,null,null,null,null,null,null,null,null,null,null,null,null,null,null,null,null,null,null,null,null,null,null,null,null,null,null,null,null,null,null,null,null,null,"NOVIEMBRE",null,null,null,null,null,null,null,null,null,null,null,null,null,null,null,null,null,null,null,null,null,null,null,null,null,null,null,null,null,null,null,null,null,null,"NOVIEMBRE",null,null,null,null,null,null,null,null,null,null,null,null,null,null,null,null,null,null,null,null,null,null,null,null,null,null,null,null,null,null,null,null,null,null,"NOVIEMBRE",null,null,null,null,null,null,null,null,null,null,null,null,null,null,null,null,null,null,null,null,null,null,null,null,null,null,null,null,null,null,null,null,null,null,"NOVIEMBRE",null,null,null,null,null,null,null,null,null,null,null,null,null,null,null,null,null,null,null,null,null,null,null,null,null,null,null,null,null,null,null,null,null,null,"NOVIEMBRE"]
["DICIEMBRE",null,null,null,null,null,null,null,null,null,null,null,null,null,null,null,null,null,null,null,null,null,null,null,null,null,null,null,null,null,null,null,null,null,null,"DICIEMBRE",null,null,null,null,null,null,null,null,null,null,null,null,null,null,null,null,null,null,null,null,null,null,null,null,null,null,null,null,null,null,null,null,null,null,"DICIEMBRE",null,null,null,null,null,null,null,null,null,null,null,null,null,null,null,null,null,null,null,null,null,null,null,null,null,null,null,null,null,null,null,null,null,null,"DICIEMBRE",null,null,null,null,null,null,null,null,null,null,null,null,null,null,null,null,null,null,null,null,null,null,null,null,null,null,null,null,null,null,null,null,null,null,"DICIEMBRE",null,null,null,null,null,null,null,null,null,null,null,null,null,null,null,null,null,null,null,null,null,null,null,null,null,null,null,null,null,null,null,null,null,null,"DICIEMBRE",null,null,null,null,null,null,null,null,null,null,null,null,null,null,null,null,null,null,null,null,null,null,null,null,null,null,null,null,null,null,null,null,null,null,"DICIEMBRE",null,null,null,null,null,null,null,null,null,null,null,null,null,null,null,null,null,null,null,null,null,null,null,null,null,null,null,null,null,null,null,null,null,null,"DICIEMBRE",null,null,null,null,null,null,null,null,null,null,null,null,null,null,null,null,null,null,null,null,null,null,null,null,null,null,null,null,null,null,null,null,null,null,"DICIEMBRE",null,null,null,null,null,null,null,null,null,null,null,null,null,null,null,null,null,null,null,null,null,null,null,null,null,null,null,null,null,null,null,null,null,null,"DICIEMBRE"]
["SUMA",null,null,null,{"$f":"SUM(E13:J24)","v":0},null,null,null,null,null,{"$f":"SUM(K13:P24)","v":0},null,null,null,null,null,{"$f":"SUM(Q13:V24)","v":0},null,null,null,null,null,{"$f":"SUM(W13:AB24)","v":0},null,null,null,null,null,{"$f":"SUM(AC13:AH24)","v":0},null,null,null,null,null,null,"SUMA",null,null,null,{"$f":"SUM(AN13:AS24)","v":0},null,null,null,null,null,{"$f":"SUM(AT13:AY24)","v":0},null,null,null,null,null,{"$f":"SUM(AZ13:BE24)","v":0},null,null,null,null,null,{"$f":"SUM(BF13:BK24)","v":0},null,null,null,null,null,{"$f":"SUM(BL13:BQ24)","v":0},null,null,null,null,null,null,"SUMA",null,null,null,{"$f":"SUM(BW13:CB24)","v":0},null,null,null,null,null,{"$f":"SUM(CC13:CH24)","v":0},null,null,null,null,null,{"$f":"SUM(CI13:CN24)","v":0},null,null,null,null,null,{"$f":"SUM(CO13:CT24)","v":0},null,null,null,null,null,{"$f":"SUM(CU13:CZ24)","v":0},null,null,null,null,null,null,"SUMA",null,null,null,{"$f":"SUM(DF13:DK24)","v":0},null,null,null,null,null,{"$f":"SUM(DL13:DQ24)","v":0},null,null,null,null,null,{"$f":"SUM(DR13:DW24)","v":0},null,null,null,null,null,{"$f":"SUM(DX13:EC24)","v":0},null,null,null,null,null,{"$f":"SUM(ED13:EI24)","v":0},null,null,null,null,null,null,"SUMA",null,null,null,{"$f":"SUM(EO13:ET24)","v":0},null,null,null,null,null,{"$f":"SUM(EU13:EZ24)","v":0},null,null,null,null,null,{"$f":"SUM(FA13:FF24)","v":0},null,null,null,null,null,{"$f":"SUM(FG13:FL24)","v":0},null,null,null,null,null,{"$f":"SUM(FM13:FR24)","v":0},null,null,null,null,null,null,"SUMA",null,null,null,{"$f":"SUM(FX13:GC24)","v":0},null,null,null,null,null,{"$f":"SUM(GD13:GI24)","v":0},null,null,null,null,null,{"$f":"SUM(GJ13:GO24)","v":0},null,null,null,null,null,{"$f":"SUM(GP13:GU24)","v":0},null,null,null,null,null,{"$f":"SUM(GV13:HA24)","v":0},null,null,null,null,null,null,"SUMA",null,null,null,{"$f":"SUM(HG13:HL24)","v":0},null,null,null,null,null,{"$f":"SUM(HM13:HR24)","v":0},null,null,null,null,null,{"$f":"SUM(HS13:HX24)","v":0},null,null,null,null,null,{"$f":"SUM(HY13:ID24)","v":0},null,null,null,null,null,{"$f":"SUM(IE13:IJ24)","v":0},null,null,null,null,null,null,"SUMA",null,null,null,{"$f":"SUM(IP13:IU24)","v":0},null,null,null,null,null,{"$f":"SUM(IV13:JA24)","v":0},null,null,null,null,null,{"$f":"SUM(JB13:JG24)","v":0},null,null,null,null,null,{"$f":"SUM(JH13:JM24)","v":0},null,null,null,null,null,{"$f":"SUM(JN13:JS24)","v":0},null,null,null,null,null,null,"SUMA",null,null,null,{"$f":"SUM(JY13:KD24)","v":0},null,null,null,null,null,{"$f":"SUM(KE13:KJ24)","v":0},null,null,null,null,null,{"$f":"SUM(KK13:KP24)","v":0},null,null,null,null,null,{"$f":"SUM(KQ13:KV24)","v":0},null,null,null,null,null,{"$f":"SUM(KW13:LB24)","v":0},null,null,null,null,null,null,"SUMA",null,null,null,{"$f":"SUM(LH13:LM24)","v":0},null,null,null,null,null,{"$f":"SUM(LN13:LS24)","v":0},null,null,null,null,null,{"$f":"SUM(LT13:LY24)","v":0},null,null,null,null,null,{"$f":"SUM(LZ13:ME24)","v":0},null,null,null,null,null,{"$f":"SUM(MF13:MK24)","v":0}]

{"sheet":"F9-EDP","index":6,"n_rows":57,"n_cols":56,"rows_kept":57,"cut":false,"hidden":false,"merged":[[55,32,55,52],[56,32,56,52],[48,53,48,61],[40,53,40,61],[46,53,46,61],[41,53,42,61],[43,53,43,61],[44,53,44,61],[47,53,47,61],[45,53,45,61],[45,33,45,42],[46,43,46,52],[46,33,46,42],[46,23,46,32],[47,23,47,32],[47,43,47,52],[47,33,47,42],[48,23,48,32],[48,43,48,52],[48,33,48,42],[34,1,34,12],[44,1,44,12],[45,1,45,12],[43,1,43,12],[55,5,55,24],[56,5,56,24],[41,13,42,22],[44,13,44,22],[40,13,40,22],[48,13,48,22],[39,13,39,19],[43,13,43,22],[46,13,46,22],[38,13,38,19],[37,13,37,19],[47,13,47,22],[36,13,36,19],[35,13,35,19],[34,13,34,19],[45,13,45,22],[40,23,40,32],[41,23,42,32],[43,23,43,32],[44,23,44,32],[38,55,38,61],[39,55,39,61],[35,55,35,61],[36,55,36,61],[37,55,37,61],[41,0,42,12],[48,1,48,12],[38,1,38,12],[37,1,37,12],[47,1,47,12],[36,1,36,12],[35,1,35,12],[39,1,39,12],[46,1,46,12],[40,43,40,52],[40,33,40,42],[41,33,42,42],[41,43,42,52],[43,43,43,52],[43,33,43,42],[44,43,44,52],[44,33,44,42],[45,43,45,52],[45,23,45,32],[39,48,39,54],[39,20,39,26],[39,27,39,33],[39,34,39,40],[39,41,39,47],[36,48,36,54],[36,27,36,33],[35,27,35,33],[34,27,34,33],[38,27,38,33],[36,34,36,40],[36,20,36,26],[36,41,36,47],[37,27,37,33],[37,41,37,47],[37,34,37,40],[37,48,37,54],[37,20,37,26],[38,34,38,40],[38,41,38,47],[38,48,38,54],[38,20,38,26],[18,55,18,61],[11,55,11,61],[19,55,19,61],[34,48,34,54],[34,20,34,26],[34,41,34,47],[34,34,34,40],[35,20,35,26],[35,48,35,54],[35,41,35,47],[35,34,35,40],[17,20,17,26],[16,20,16,26],[18,20,18,26],[15,20,15,26],[19,20,19,26],[13,20,13,26],[12,20,12,26],[11,20,11,26],[14,20,14,26],[19,27,19,33],[18,27,18,33],[15,27,15,33],[17,27,17,33],[12,55,12,61],[15,55,15,61],[10,55,10,61],[16,55,16,61],[9,55,9,61],[17,55,17,61],[14,55,14,61],[13,55,13,61],[4,55,7,61],[32,20,32,26],[32,1,32,12],[32,13,32,19],[19,48,19,54],[11,48,11,54],[18,48,18,54],[4,48,7,54],[10,48,10,54],[17,48,17,54],[15,48,15,54],[16,48,16,54],[14,48,14,54],[13,48,13,54],[9,48,9,54],[12,48,12,54],[10,20,10,26],[4,20,7,26],[9,20,9,26],[4,27,7,33],[9,27,9,33],[11,27,11,33],[16,27,16,33],[12,27,12,33],[14,27,14,33],[29,20,29,26],[29,13,29,19],[29,1,29,12],[30,1,30,12],[30,13,30,19],[30,20,30,26],[31,20,31,26],[31,13,31,19],[31,1,31,12],[22,0,25,12],[22,20,25,26],[22,13,25,19],[27,13,27,19],[27,1,27,12],[27,20,27,26],[28,13,28,19],[28,20,28,26],[28,1,28,12],[27,55,27,61],[28,55,28,61],[22,55,25,61],[22,48,25,54],[27,48,27,54],[32,48,32,54],[30,55,30,61],[34,55,34,61],[32,55,32,61],[31,55,31,61],[29,55,29,61],[32,41,32,47],[30,41,30,47],[27,41,27,47],[28,41,28,47],[29,41,29,47],[22,41,25,47],[31,41,31,47],[28,48,28,54],[30,48,30,54],[29,48,29,54],[31,48,31,54],[22,27,25,33],[32,27,32,33],[27,27,27,33],[31,27,31,33],[29,27,29,33],[30,27,30,33],[28,27,28,33],[22,34,25,40],[29,34,29,40],[31,34,31,40],[28,34,28,40],[32,34,32,40],[30,34,30,40],[27,34,27,40],[19,41,19,47],[10,41,10,47],[11,41,11,47],[12,41,12,47],[17,41,17,47],[14,41,14,47],[4,41,7,47],[16,41,16,47],[15,41,15,47],[13,41,13,47],[9,41,9,47],[18,41,18,47],[14,13,14,19],[19,13,19,19],[10,13,10,19],[18,34,18,40],[16,34,16,40],[4,34,7,40],[17,34,17,40],[15,34,15,40],[10,34,10,40],[11,34,11,40],[9,34,9,40],[13,34,13,40],[14,34,14,40],[12,34,12,40],[19,34,19,40],[10,27,10,33],[13,27,13,33],[0,0,0,61],[1,0,1,61],[2,0,2,61],[4,0,7,12],[18,0,18,12],[19,0,19,12],[9,0,9,12],[14,1,14,12],[10,1,10,12],[15,2,15,12],[13,2,13,12],[12,2,12,12],[16,2,16,12],[11,2,11,12],[17,2,17,12],[16,13,16,19],[11,13,11,19],[17,13,17,19],[12,13,12,19],[9,13,9,19],[18,13,18,19],[15,13,15,19],[4,13,7,19],[13,13,13,19]]}
[{"$f":"Validacion!A2","v":"Ayutla"}]
["ESTADO E INFORME ANALÍTICO DE LA DEUDA PÚBLICA Y OTROS PASIVOS"]
[{"$f":"IF(Validacion!A11=\"ENERO\",Validacion!E185,\"Del 1° de Enero al \"&INDEX(Validacion!D185:D196,MATCH(Validacion!A11,Validacion!C185:C196,0)))","v":"Del 1° de Enero al 30 de Septiembre de 2023"}]
[]
["Denominación de la\ndeuda pública y otros pasivos",null,null,null,null,null,null,null,null,null,null,null,null,"Saldo al 1° de\nenero de 2023",null,null,null,null,null,null,"Disposiciones del periodo",null,null,null,null,null,null,"Amortizaciones del periodo",null,null,null,null,null,null,"Revaluaciones, reclasificaciones y otros ajustes",null,null,null,null,null,null,"Saldo del periodo",null,null,null,null,null,null,"Pago de intereses del periodo",null,null,null,null,null,null,"Pago de comisiones y demás costos asociados duarante el periodo"]
[]
[]
[]
[]
["Deuda Pública"]
[null,"Corto Plazo",null,null,null,null,null,null,null,null,null,null,null,{"$f":"SUM(N12:T14)","v":0},null,null,null,null,null,null,{"$f":"SUM(U12:AA14)","v":0},null,null,null,null,null,null,{"$f":"SUM(AB12:AH14)","v":0},null,null,null,null,null,null,{"$f":"SUM(AI12:AO14)","v":0},null,null,null,null,null,null,{"$f":"SUM(AP12:AV14)","v":0},null,null,null,null,null,null,{"$f":"SUM(AW12:BC14)","v":0},null,null,null,null,null,null,{"$f":"SUM(BD12:BJ14)","v":0}]
[null,null,"Instituciones de Crédito",null,null,null,null,null,null,null,null,null,null,{"$f":"IF('F9-IDP'!$J$2=\"1\",'F9-IDP'!$R$6,0)+IF('F9-IDP'!$AS$2=\"1\",'F9-IDP'!$BA$6,0)+IF('F9-IDP'!$CB$2=\"1\",'F9-IDP'!$CJ$6,0)+IF('F9-IDP'!$DK$2=\"1\",'F9-IDP'!$DS$6,0)+IF('F9-IDP'!$ET$2=\"1\",'F9-IDP'!$FB$6,0)+IF('F9-IDP'!$GC$2=\"1\",'F9-IDP'!$GK$6,0)+IF('F9-IDP'!$HL$2=\"1\",'F9-IDP'!$HT$6,0)+IF('F9-IDP'!$IU$2=\"1\",'F9-IDP'!$JC$6,0)+IF('F9-IDP'!$KD$2=\"1\",'F9-IDP'!$KL$6,0)+IF('F9-IDP'!$LM$2=\"1\",'F9-IDP'!$LU$6,0)","v":0},null,null,null,null,null,null,{"$f":"IF('F9-IDP'!$J$2=\"1\",'F9-IDP'!$E$25,0)+IF('F9-IDP'!$AS$2=\"1\",'F9-IDP'!$AN$25,0)+IF('F9-IDP'!$CB$2=\"1\",'F9-IDP'!$BW$25,0)+IF('F9-IDP'!$DK$2=\"1\",'F9-IDP'!$DF$25,0)+IF('F9-IDP'!$ET$2=\"1\",'F9-IDP'!$EO$25,0)+IF('F9-IDP'!$GC$2=\"1\",'F9-IDP'!$FX$25,0)+IF('F9-IDP'!$HL$2=\"1\",'F9-IDP'!$HG$25,0)+IF('F9-IDP'!$IU$2=\"1\",'F9-IDP'!$IP$25,0)+IF('F9-IDP'!$KD$2=\"1\",'F9-IDP'!$JY$25,0)+IF('F9-IDP'!$LM$2=\"1\",'F9-IDP'!$LH$25,0)","v":0},null,null,null,null,null,null,{"$f":"IF('F9-IDP'!$J$2=\"1\",'F9-IDP'!$K$25,0)+IF('F9-IDP'!$AS$2=\"1\",'F9-IDP'!$AT$25,0)+IF('F9-IDP'!$CB$2=\"1\",'F9-IDP'!$CC$25,0)+IF('F9-IDP'!$DK$2=\"1\",'F9-IDP'!$DL$25,0)+IF('F9-IDP'!$ET$2=\"1\",'F9-IDP'!$EU$25,0)+IF('F9-IDP'!$GC$2=\"1\",'F9-IDP'!$GD$25,0)+IF('F9-IDP'!$HL$2=\"1\",'F9-IDP'!$HM$25,0)+IF('F9-IDP'!$IU$2=\"1\",'F9-IDP'!$IV$25,0)+IF('F9-IDP'!$KD$2=\"1\",'F9-IDP'!$KE$25,0)+IF('F9-IDP'!$LM$2=\"1\",'F9-IDP'!$LN$25,0)","v":0},null,null,null,null,null,null,{"$f":"IF('F9-IDP'!$J$2=\"1\",'F9-IDP'!$Q$25,0)+IF('F9-IDP'!$AS$2=\"1\",'F9-IDP'!$AZ$25,0)+IF('F9-IDP'!$CB$2=\"1\",'F9-IDP'!$CI$25,0)+IF('F9-IDP'!$DK$2=\"1\",'F9-IDP'!$DR$25,0)+IF('F9-IDP'!$ET$2=\"1\",'F9-IDP'!$FA$25,0)+IF('F9-IDP'!$GC$2=\"1\",'F9-IDP'!$GJ$25,0)+IF('F9-IDP'!$HL$2=\"1\",'F9-IDP'!$HS$25,0)+IF('F9-IDP'!$IU$2=\"1\",'F9-IDP'!$JB$25,0)+IF('F9-IDP'!$KD$2=\"1\",'F9-IDP'!$KK$25,0)+IF('F9-IDP'!$LM$2=\"1\",'F9-IDP'!$LT$25,0)","v":0},null,null,null,null,null,null,{"$f":"N12+U12-AB12+AI12","v":0},null,null,null,null,null,null,{"$f":"IF('F9-IDP'!$J$2=\"1\",'F9-IDP'!$W$25,0)+IF('F9-IDP'!$AS$2=\"1\",'F9-IDP'!$BF$25,0)+IF('F9-IDP'!$CB$2=\"1\",'F9-IDP'!$CO$25,0)+IF('F9-IDP'!$DK$2=\"1\",'F9-IDP'!$DX$25,0)+IF('F9-IDP'!$ET$2=\"1\",'F9-IDP'!$FG$25,0)+IF('F9-IDP'!$GC$2=\"1\",'F9-IDP'!$GP$25,0)+IF('F9-IDP'!$HL$2=\"1\",'F9-IDP'!$HY$25,0)+IF('F9-IDP'!$IU$2=\"1\",'F9-IDP'!$JH$25,0)+IF('F9-IDP'!$KD$2=\"1\",'F9-IDP'!$KQ$25,0)+IF('F9-IDP'!$LM$2=\"1\",'F9-IDP'!$LZ$25,0)","v":0},null,null,null,null,null,null,{"$f":"IF('F9-IDP'!$J$2=\"1\",'F9-IDP'!$AC$25,0)+IF('F9-IDP'!$AS$2=\"1\",'F9-IDP'!$BL$25,0)+IF('F9-IDP'!$CB$2=\"1\",'F9-IDP'!$CU$25,0)+IF('F9-IDP'!$DK$2=\"1\",'F9-IDP'!$ED$25,0)+IF('F9-IDP'!$ET$2=\"1\",'F9-IDP'!$FM$25,0)+IF('F9-IDP'!$GC$2=\"1\",'F9-IDP'!$GV$25,0)+IF('F9-IDP'!$HL$2=\"1\",'F9-IDP'!$IE$25,0)+IF('F9-IDP'!$IU$2=\"1\",'F9-IDP'!$JN$25,0)+IF('F9-IDP'!$KD$2=\"1\",'F9-IDP'!$KW$25,0)+IF('F9-IDP'!$LM$2=\"1\",'F9-IDP'!$MF$25,0)","v":0}]
[null,null,"Títulos y Valores",null,null,null,null,null,null,null,null,null,null,{"$f":"IF('F9-IDP'!$J$2=\"2\",'F9-IDP'!$R$6,0)+IF('F9-IDP'!$AS$2=\"2\",'F9-IDP'!$BA$6,0)+IF('F9-IDP'!$CB$2=\"2\",'F9-IDP'!$CJ$6,0)+IF('F9-IDP'!$DK$2=\"2\",'F9-IDP'!$DS$6,0)+IF('F9-IDP'!$ET$2=\"2\",'F9-IDP'!$FB$6,0)+IF('F9-IDP'!$GC$2=\"2\",'F9-IDP'!$GK$6,0)+IF('F9-IDP'!$HL$2=\"2\",'F9-IDP'!$HT$6,0)+IF('F9-IDP'!$IU$2=\"2\",'F9-IDP'!$JC$6,0)+IF('F9-IDP'!$KD$2=\"2\",'F9-IDP'!$KL$6,0)+IF('F9-IDP'!$LM$2=\"2\",'F9-IDP'!$LU$6,0)","v":0},null,null,null,null,null,null,{"$f":"IF('F9-IDP'!$J$2=\"2\",'F9-IDP'!$E$25,0)+IF('F9-IDP'!$AS$2=\"2\",'F9-IDP'!$AN$25,0)+IF('F9-IDP'!$CB$2=\"2\",'F9-IDP'!$BW$25,0)+IF('F9-IDP'!$DK$2=\"2\",'F9-IDP'!$DF$25,0)+IF('F9-IDP'!$ET$2=\"2\",'F9-IDP'!$EO$25,0)+IF('F9-IDP'!$GC$2=\"2\",'F9-IDP'!$FX$25,0)+IF('F9-IDP'!$HL$2=\"2\",'F9-IDP'!$HG$25,0)+IF('F9-IDP'!$IU$2=\"2\",'F9-IDP'!$IP$25,0)+IF('F9-IDP'!$KD$2=\"2\",'F9-IDP'!$JY$25,0)+IF('F9-IDP'!$LM$2=\"2\",'F9-IDP'!$LH$25,0)","v":0},null,null,null,null,null,null,{"$f":"IF('F9-IDP'!$J$2=\"2\",'F9-IDP'!$K$25,0)+IF('F9-IDP'!$AS$2=\"2\",'F9-IDP'!$AT$25,0)+IF('F9-IDP'!$CB$2=\"2\",'F9-IDP'!$CC$25,0)+IF('F9-IDP'!$DK$2=\"2\",'F9-IDP'!$DL$25,0)+IF('F9-IDP'!$ET$2=\"2\",'F9-IDP'!$EU$25,0)+IF('F9-IDP'!$GC$2=\"2\",'F9-IDP'!$GD$25,0)+IF('F9-IDP'!$HL$2=\"2\",'F9-IDP'!$HM$25,0)+IF('F9-IDP'!$IU$2=\"2\",'F9-IDP'!$IV$25,0)+IF('F9-IDP'!$KD$2=\"2\",'F9-IDP'!$KE$25,0)+IF('F9-IDP'!$LM$2=\"2\",'F9-IDP'!$LN$25,0)","v":0},null,null,null,null,null,null,{"$f":"IF('F9-IDP'!$J$2=\"2\",'F9-IDP'!$Q$25,0)+IF('F9-IDP'!$AS$2=\"2\",'F9-IDP'!$AZ$25,0)+IF('F9-IDP'!$CB$2=\"2\",'F9-IDP'!$CI$25,0)+IF('F9-IDP'!$DK$2=\"2\",'F9-IDP'!$DR$25,0)+IF('F9-IDP'!$ET$2=\"2\",'F9-IDP'!$FA$25,0)+IF('F9-IDP'!$GC$2=\"2\",'F9-IDP'!$GJ$25,0)+IF('F9-IDP'!$HL$2=\"2\",'F9-IDP'!$HS$25,0)+IF('F9-IDP'!$IU$2=\"2\",'F9-IDP'!$JB$25,0)+IF('F9-IDP'!$KD$2=\"2\",'F9-IDP'!$KK$25,0)+IF('F9-IDP'!$LM$2=\"2\",'F9-IDP'!$LT$25,0)","v":0},null,null,null,null,null,null,{"$f":"N13+U13-AB13+AI13","v":0},null,null,null,null,null,null,{"$f":"IF('F9-IDP'!$J$2=\"2\",'F9-IDP'!$W$25,0)+IF('F9-IDP'!$AS$2=\"2\",'F9-IDP'!$BF$25,0)+IF('F9-IDP'!$CB$2=\"2\",'F9-IDP'!$CO$25,0)+IF('F9-IDP'!$DK$2=\"2\",'F9-IDP'!$DX$25,0)+IF('F9-IDP'!$ET$2=\"2\",'F9-IDP'!$FG$25,0)+IF('F9-IDP'!$GC$2=\"2\",'F9-IDP'!$GP$25,0)+IF('F9-IDP'!$HL$2=\"2\",'F9-IDP'!$HY$25,0)+IF('F9-IDP'!$IU$2=\"2\",'F9-IDP'!$JH$25,0)+IF('F9-IDP'!$KD$2=\"2\",'F9-IDP'!$KQ$25,0)+IF('F9-IDP'!$LM$2=\"2\",'F9-IDP'!$LZ$25,0)","v":0},null,null,null,null,null,null,{"$f":"IF('F9-IDP'!$J$2=\"2\",'F9-IDP'!$AC$25,0)+IF('F9-IDP'!$AS$2=\"2\",'F9-IDP'!$BL$25,0)+IF('F9-IDP'!$CB$2=\"2\",'F9-IDP'!$CU$25,0)+IF('F9-IDP'!$DK$2=\"2\",'F9-IDP'!$ED$25,0)+IF('F9-IDP'!$ET$2=\"2\",'F9-IDP'!$FM$25,0)+IF('F9-IDP'!$GC$2=\"2\",'F9-IDP'!$GV$25,0)+IF('F9-IDP'!$HL$2=\"2\",'F9-IDP'!$IE$25,0)+IF('F9-IDP'!$IU$2=\"2\",'F9-IDP'!$JN$25,0)+IF('F9-IDP'!$KD$2=\"2\",'F9-IDP'!$KW$25,0)+IF('F9-IDP'!$LM$2=\"2\",'F9-IDP'!$MF$25,0)","v":0}]
[null,null,"Arrendamiento Financiero",null,null,null,null,null,null,null,null,null,null,{"$f":"IF('F9-IDP'!$J$2=\"3\",'F9-IDP'!$R$6,0)+IF('F9-IDP'!$AS$2=\"3\",'F9-IDP'!$BA$6,0)+IF('F9-IDP'!$CB$2=\"3\",'F9-IDP'!$CJ$6,0)+IF('F9-IDP'!$DK$2=\"3\",'F9-IDP'!$DS$6,0)+IF('F9-IDP'!$ET$2=\"3\",'F9-IDP'!$FB$6,0)+IF('F9-IDP'!$GC$2=\"3\",'F9-IDP'!$GK$6,0)+IF('F9-IDP'!$HL$2=\"3\",'F9-IDP'!$HT$6,0)+IF('F9-IDP'!$IU$2=\"3\",'F9-IDP'!$JC$6,0)+IF('F9-IDP'!$KD$2=\"3\",'F9-IDP'!$KL$6,0)+IF('F9-IDP'!$LM$2=\"3\",'F9-IDP'!$LU$6,0)","v":0},null,null,null,null,null,null,{"$f":"IF('F9-IDP'!$J$2=\"3\",'F9-IDP'!$E$25,0)+IF('F9-IDP'!$AS$2=\"3\",'F9-IDP'!$AN$25,0)+IF('F9-IDP'!$CB$2=\"3\",'F9-IDP'!$BW$25,0)+IF('F9-IDP'!$DK$2=\"3\",'F9-IDP'!$DF$25,0)+IF('F9-IDP'!$ET$2=\"3\",'F9-IDP'!$EO$25,0)+IF('F9-IDP'!$GC$2=\"3\",'F9-IDP'!$FX$25,0)+IF('F9-IDP'!$HL$2=\"3\",'F9-IDP'!$HG$25,0)+IF('F9-IDP'!$IU$2=\"3\",'F9-IDP'!$IP$25,0)+IF('F9-IDP'!$KD$2=\"3\",'F9-IDP'!$JY$25,0)+IF('F9-IDP'!$LM$2=\"3\",'F9-IDP'!$LH$25,0)","v":0},null,null,null,null,null,null,{"$f":"IF('F9-IDP'!$J$2=\"3\",'F9-IDP'!$K$25,0)+IF('F9-IDP'!$AS$2=\"3\",'F9-IDP'!$AT$25,0)+IF('F9-IDP'!$CB$2=\"3\",'F9-IDP'!$CC$25,0)+IF('F9-IDP'!$DK$2=\"3\",'F9-IDP'!$DL$25,0)+IF('F9-IDP'!$ET$2=\"3\",'F9-IDP'!$EU$25,0)+IF('F9-IDP'!$GC$2=\"3\",'F9-IDP'!$GD$25,0)+IF('F9-IDP'!$HL$2=\"3\",'F9-IDP'!$HM$25,0)+IF('F9-IDP'!$IU$2=\"3\",'F9-IDP'!$IV$25,0)+IF('F9-IDP'!$KD$2=\"3\",'F9-IDP'!$KE$25,0)+IF('F9-IDP'!$LM$2=\"3\",'F9-IDP'!$LN$25,0)","v":0},null,null,null,null,null,null,{"$f":"IF('F9-IDP'!$J$2=\"3\",'F9-IDP'!$Q$25,0)+IF('F9-IDP'!$AS$2=\"3\",'F9-IDP'!$AZ$25,0)+IF('F9-IDP'!$CB$2=\"3\",'F9-IDP'!$CI$25,0)+IF('F9-IDP'!$DK$2=\"3\",'F9-IDP'!$DR$25,0)+IF('F9-IDP'!$ET$2=\"3\",'F9-IDP'!$FA$25,0)+IF('F9-IDP'!$GC$2=\"3\",'F9-IDP'!$GJ$25,0)+IF('F9-IDP'!$HL$2=\"3\",'F9-IDP'!$HS$25,0)+IF('F9-IDP'!$IU$2=\"3\",'F9-IDP'!$JB$25,0)+IF('F9-IDP'!$KD$2=\"3\",'F9-IDP'!$KK$25,0)+IF('F9-IDP'!$LM$2=\"3\",'F9-IDP'!$LT$25,0)","v":0},null,null,null,null,null,null,{"$f":"N14+U14-AB14+AI14","v":0},null,null,null,null,null,null,{"$f":"IF('F9-IDP'!$J$2=\"3\",'F9-IDP'!$W$25,0)+IF('F9-IDP'!$AS$2=\"3\",'F9-IDP'!$BF$25,0)+IF('F9-IDP'!$CB$2=\"3\",'F9-IDP'!$CO$25,0)+IF('F9-IDP'!$DK$2=\"3\",'F9-IDP'!$DX$25,0)+IF('F9-IDP'!$ET$2=\"3\",'F9-IDP'!$FG$25,0)+IF('F9-IDP'!$GC$2=\"3\",'F9-IDP'!$GP$25,0)+IF('F9-IDP'!$HL$2=\"3\",'F9-IDP'!$HY$25,0)+IF('F9-IDP'!$IU$2=\"3\",'F9-IDP'!$JH$25,0)+IF('F9-IDP'!$KD$2=\"3\",'F9-IDP'!$KQ$25,0)+IF('F9-IDP'!$LM$2=\"3\",'F9-IDP'!$LZ$25,0)","v":0},null,null,null,null,null,null,{"$f":"IF('F9-IDP'!$J$2=\"3\",'F9-IDP'!$AC$25,0)+IF('F9-IDP'!$AS$2=\"3\",'F9-IDP'!$BL$25,0)+IF('F9-IDP'!$CB$2=\"3\",'F9-IDP'!$CU$25,0)+IF('F9-IDP'!$DK$2=\"3\",'F9-IDP'!$ED$25,0)+IF('F9-IDP'!$ET$2=\"3\",'F9-IDP'!$FM$25,0)+IF('F9-IDP'!$GC$2=\"3\",'F9-IDP'!$GV$25,0)+IF('F9-IDP'!$HL$2=\"3\",'F9-IDP'!$IE$25,0)+IF('F9-IDP'!$IU$2=\"3\",'F9-IDP'!$JN$25,0)+IF('F9-IDP'!$KD$2=\"3\",'F9-IDP'!$KW$25,0)+IF('F9-IDP'!$LM$2=\"3\",'F9-IDP'!$MF$25,0)","v":0}]
[null,"Largo Plazo",null,null,null,null,null,null,null,null,null,null,null,{"$f":"SUM(N16:T18)","v":0},null,null,null,null,null,null,{"$f":"SUM(U16:AA18)","v":0},null,null,null,null,null,null,{"$f":"SUM(AB16:AH18)","v":0},null,null,null,null,null,null,{"$f":"SUM(AI16:AO18)","v":0},null,null,null,null,null,null,{"$f":"SUM(AP16:AV18)","v":0},null,null,null,null,null,null,{"$f":"SUM(AW16:BC18)","v":0},null,null,null,null,null,null,{"$f":"SUM(BD16:BJ18)","v":0}]
[null,null,"Instituciones de Crédito",null,null,null,null,null,null,null,null,null,null,{"$f":"IF('F9-IDP'!$J$2=\"1\",'F9-IDP'!$R$7,0)+IF('F9-IDP'!$AS$2=\"1\",'F9-IDP'!$BA$7,0)+IF('F9-IDP'!$CB$2=\"1\",'F9-IDP'!$CJ$7,0)+IF('F9-IDP'!$DK$2=\"1\",'F9-IDP'!$DS$7,0)+IF('F9-IDP'!$ET$2=\"1\",'F9-IDP'!$FB$7,0)+IF('F9-IDP'!$GC$2=\"1\",'F9-IDP'!$GK$7,0)+IF('F9-IDP'!$HL$2=\"1\",'F9-IDP'!$HT$7,0)+IF('F9-IDP'!$IU$2=\"1\",'F9-IDP'!$JC$7,0)+IF('F9-IDP'!$KD$2=\"1\",'F9-IDP'!$KL$7,0)+IF('F9-IDP'!$LM$2=\"1\",'F9-IDP'!$LU$7,0)","v":0},null,null,null,null,null,null,{"$f":"IF('F9-IDP'!$J$2=\"1\",'F9-IDP'!$E$10,0)+IF('F9-IDP'!$AS$2=\"1\",'F9-IDP'!$AN$10,0)+IF('F9-IDP'!$CB$2=\"1\",'F9-IDP'!$BW$10,0)+IF('F9-IDP'!$DK$2=\"1\",'F9-IDP'!$DF$10,0)+IF('F9-IDP'!$ET$2=\"1\",'F9-IDP'!$EO$10,0)+IF('F9-IDP'!$GC$2=\"1\",'F9-IDP'!$FX$10,0)+IF('F9-IDP'!$HL$2=\"1\",'F9-IDP'!$HG$10,0)+IF('F9-IDP'!$IU$2=\"1\",'F9-IDP'!$IP$10,0)+IF('F9-IDP'!$KD$2=\"1\",'F9-IDP'!$JY$10,0)+IF('F9-IDP'!$LM$2=\"1\",'F9-IDP'!$LH$10,0)","v":0},null,null,null,null,null,null,{"$f":"IF('F9-IDP'!$J$2=\"1\",'F9-IDP'!$K$10,0)+IF('F9-IDP'!$AS$2=\"1\",'F9-IDP'!$AT$10,0)+IF('F9-IDP'!$CB$2=\"1\",'F9-IDP'!$CC$10,0)+IF('F9-IDP'!$DK$2=\"1\",'F9-IDP'!$DL$10,0)+IF('F9-IDP'!$ET$2=\"1\",'F9-IDP'!$EU$10,0)+IF('F9-IDP'!$GC$2=\"1\",'F9-IDP'!$GD$10,0)+IF('F9-IDP'!$HL$2=\"1\",'F9-IDP'!$HM$10,0)+IF('F9-IDP'!$IU$2=\"1\",'F9-IDP'!$IV$10,0)+IF('F9-IDP'!$KD$2=\"1\",'F9-IDP'!$KE$10,0)+IF('F9-IDP'!$LM$2=\"1\",'F9-IDP'!$LN$10,0)","v":0},null,null,null,null,null,null,{"$f":"IF('F9-IDP'!$J$2=\"1\",'F9-IDP'!$Q$10,0)+IF('F9-IDP'!$AS$2=\"1\",'F9-IDP'!$AZ$10,0)+IF('F9-IDP'!$CB$2=\"1\",'F9-IDP'!$CI$10,0)+IF('F9-IDP'!$DK$2=\"1\",'F9-IDP'!$DR$10,0)+IF('F9-IDP'!$ET$2=\"1\",'F9-IDP'!$FA$10,0)+IF('F9-IDP'!$GC$2=\"1\",'F9-IDP'!$GJ$10,0)+IF('F9-IDP'!$HL$2=\"1\",'F9-IDP'!$HS$10,0)+IF('F9-IDP'!$IU$2=\"1\",'F9-IDP'!$JB$10,0)+IF('F9-IDP'!$KD$2=\"1\",'F9-IDP'!$KK$10,0)+IF('F9-IDP'!$LM$2=\"1\",'F9-IDP'!$LT$10,0)","v":0},null,null,null,null,null,null,{"$f":"N16+U16-AB16+AI16","v":0},null,null,null,null,null,null,{"$f":"IF('F9-IDP'!$J$2=\"1\",'F9-IDP'!$W$10,0)+IF('F9-IDP'!$AS$2=\"1\",'F9-IDP'!$BF$10,0)+IF('F9-IDP'!$CB$2=\"1\",'F9-IDP'!$CO$10,0)+IF('F9-IDP'!$DK$2=\"1\",'F9-IDP'!$DX$10,0)+IF('F9-IDP'!$ET$2=\"1\",'F9-IDP'!$FG$10,0)+IF('F9-IDP'!$GC$2=\"1\",'F9-IDP'!$GP$10,0)+IF('F9-IDP'!$HL$2=\"1\",'F9-IDP'!$HY$10,0)+IF('F9-IDP'!$IU$2=\"1\",'F9-IDP'!$JH$10,0)+IF('F9-IDP'!$KD$2=\"1\",'F9-IDP'!$KQ$10,0)+IF('F9-IDP'!$LM$2=\"1\",'F9-IDP'!$LZ$10,0)","v":0},null,null,null,null,null,null,{"$f":"IF('F9-IDP'!$J$2=\"1\",'F9-IDP'!$AC$10,0)+IF('F9-IDP'!$AS$2=\"1\",'F9-IDP'!$BL$10,0)+IF('F9-IDP'!$CB$2=\"1\",'F9-IDP'!$CU$10,0)+IF('F9-IDP'!$DK$2=\"1\",'F9-IDP'!$ED$10,0)+IF('F9-IDP'!$ET$2=\"1\",'F9-IDP'!$FM$10,0)+IF('F9-IDP'!$GC$2=\"1\",'F9-IDP'!$GV$10,0)+IF('F9-IDP'!$HL$2=\"1\",'F9-IDP'!$IE$10,0)+IF('F9-IDP'!$IU$2=\"1\",'F9-IDP'!$JN$10,0)+IF('F9-IDP'!$KD$2=\"1\",'F9-IDP'!$KW$10,0)+IF('F9-IDP'!$LM$2=\"1\",'F9-IDP'!$MF$10,0)","v":0}]
[null,null,"Títulos y Valores",null,null,null,null,null,null,null,null,null,null,{"$f":"IF('F9-IDP'!$J$2=\"2\",'F9-IDP'!$R$7,0)+IF('F9-IDP'!$AS$2=\"2\",'F9-IDP'!$BA$7,0)+IF('F9-IDP'!$CB$2=\"2\",'F9-IDP'!$CJ$7,0)+IF('F9-IDP'!$DK$2=\"2\",'F9-IDP'!$DS$7,0)+IF('F9-IDP'!$ET$2=\"2\",'F9-IDP'!$FB$7,0)+IF('F9-IDP'!$GC$2=\"2\",'F9-IDP'!$GK$7,0)+IF('F9-IDP'!$HL$2=\"2\",'F9-IDP'!$HT$7,0)+IF('F9-IDP'!$IU$2=\"2\",'F9-IDP'!$JC$7,0)+IF('F9-IDP'!$KD$2=\"2\",'F9-IDP'!$KL$7,0)+IF('F9-IDP'!$LM$2=\"2\",'F9-IDP'!$LU$7,0)","v":0},null,null,null,null,null,null,{"$f":"IF('F9-IDP'!$J$2=\"2\",'F9-IDP'!$E$10,0)+IF('F9-IDP'!$AS$2=\"2\",'F9-IDP'!$AN$10,0)+IF('F9-IDP'!$CB$2=\"2\",'F9-IDP'!$BW$10,0)+IF('F9-IDP'!$DK$2=\"2\",'F9-IDP'!$DF$10,0)+IF('F9-IDP'!$ET$2=\"2\",'F9-IDP'!$EO$10,0)+IF('F9-IDP'!$GC$2=\"2\",'F9-IDP'!$FX$10,0)+IF('F9-IDP'!$HL$2=\"2\",'F9-IDP'!$HG$10,0)+IF('F9-IDP'!$IU$2=\"2\",'F9-IDP'!$IP$10,0)+IF('F9-IDP'!$KD$2=\"2\",'F9-IDP'!$JY$10,0)+IF('F9-IDP'!$LM$2=\"2\",'F9-IDP'!$LH$10,0)","v":0},null,null,null,null,null,null,{"$f":"IF('F9-IDP'!$J$2=\"2\",'F9-IDP'!$K$10,0)+IF('F9-IDP'!$AS$2=\"2\",'F9-IDP'!$AT$10,0)+IF('F9-IDP'!$CB$2=\"2\",'F9-IDP'!$CC$10,0)+IF('F9-IDP'!$DK$2=\"2\",'F9-IDP'!$DL$10,0)+IF('F9-IDP'!$ET$2=\"2\",'F9-IDP'!$EU$10,0)+IF('F9-IDP'!$GC$2=\"2\",'F9-IDP'!$GD$10,0)+IF('F9-IDP'!$HL$2=\"2\",'F9-IDP'!$HM$10,0)+IF('F9-IDP'!$IU$2=\"2\",'F9-IDP'!$IV$10,0)+IF('F9-IDP'!$KD$2=\"2\",'F9-IDP'!$KE$10,0)+IF('F9-IDP'!$LM$2=\"2\",'F9-IDP'!$LN$10,0)","v":0},null,null,null,null,null,null,{"$f":"IF('F9-IDP'!$J$2=\"2\",'F9-IDP'!$Q$10,0)+IF('F9-IDP'!$AS$2=\"2\",'F9-IDP'!$AZ$10,0)+IF('F9-IDP'!$CB$2=\"2\",'F9-IDP'!$CI$10,0)+IF('F9-IDP'!$DK$2=\"2\",'F9-IDP'!$DR$10,0)+IF('F9-IDP'!$ET$2=\"2\",'F9-IDP'!$FA$10,0)+IF('F9-IDP'!$GC$2=\"2\",'F9-IDP'!$GJ$10,0)+IF('F9-IDP'!$HL$2=\"2\",'F9-IDP'!$HS$10,0)+IF('F9-IDP'!$IU$2=\"2\",'F9-IDP'!$JB$10,0)+IF('F9-IDP'!$KD$2=\"2\",'F9-IDP'!$KK$10,0)+IF('F9-IDP'!$LM$2=\"2\",'F9-IDP'!$LT$10,0)","v":0},null,null,null,null,null,null,{"$f":"N17+U17-AB17+AI17","v":0},null,null,null,null,null,null,{"$f":"IF('F9-IDP'!$J$2=\"2\",'F9-IDP'!$W$10,0)+IF('F9-IDP'!$AS$2=\"2\",'F9-IDP'!$BF$10,0)+IF('F9-IDP'!$CB$2=\"2\",'F9-IDP'!$CO$10,0)+IF('F9-IDP'!$DK$2=\"2\",'F9-IDP'!$DX$10,0)+IF('F9-IDP'!$ET$2=\"2\",'F9-IDP'!$FG$10,0)+IF('F9-IDP'!$GC$2=\"2\",'F9-IDP'!$GP$10,0)+IF('F9-IDP'!$HL$2=\"2\",'F9-IDP'!$HY$10,0)+IF('F9-IDP'!$IU$2=\"2\",'F9-IDP'!$JH$10,0)+IF('F9-IDP'!$KD$2=\"2\",'F9-IDP'!$KQ$10,0)+IF('F9-IDP'!$LM$2=\"2\",'F9-IDP'!$LZ$10,0)","v":0},null,null,null,null,null,null,{"$f":"IF('F9-IDP'!$J$2=\"2\",'F9-IDP'!$AC$10,0)+IF('F9-IDP'!$AS$2=\"2\",'F9-IDP'!$BL$10,0)+IF('F9-IDP'!$CB$2=\"2\",'F9-IDP'!$CU$10,0)+IF('F9-IDP'!$DK$2=\"2\",'F9-IDP'!$ED$10,0)+IF('F9-IDP'!$ET$2=\"2\",'F9-IDP'!$FM$10,0)+IF('F9-IDP'!$GC$2=\"2\",'F9-IDP'!$GV$10,0)+IF('F9-IDP'!$HL$2=\"2\",'F9-IDP'!$IE$10,0)+IF('F9-IDP'!$IU$2=\"2\",'F9-IDP'!$JN$10,0)+IF('F9-IDP'!$KD$2=\"2\",'F9-IDP'!$KW$10,0)+IF('F9-IDP'!$LM$2=\"2\",'F9-IDP'!$MF$10,0)","v":0}]
[null,null,"Arrendamiento Financiero",null,null,null,null,null,null,null,null,null,null,{"$f":"IF('F9-IDP'!$J$2=\"3\",'F9-IDP'!$R$7,0)+IF('F9-IDP'!$AS$2=\"3\",'F9-IDP'!$BA$7,0)+IF('F9-IDP'!$CB$2=\"3\",'F9-IDP'!$CJ$7,0)+IF('F9-IDP'!$DK$2=\"3\",'F9-IDP'!$DS$7,0)+IF('F9-IDP'!$ET$2=\"3\",'F9-IDP'!$FB$7,0)+IF('F9-IDP'!$GC$2=\"3\",'F9-IDP'!$GK$7,0)+IF('F9-IDP'!$HL$2=\"3\",'F9-IDP'!$HT$7,0)+IF('F9-IDP'!$IU$2=\"3\",'F9-IDP'!$JC$7,0)+IF('F9-IDP'!$KD$2=\"3\",'F9-IDP'!$KL$7,0)+IF('F9-IDP'!$LM$2=\"3\",'F9-IDP'!$LU$7,0)","v":0},null,null,null,null,null,null,{"$f":"IF('F9-IDP'!$J$2=\"3\",'F9-IDP'!$E$10,0)+IF('F9-IDP'!$AS$2=\"3\",'F9-IDP'!$AN$10,0)+IF('F9-IDP'!$CB$2=\"3\",'F9-IDP'!$BW$10,0)+IF('F9-IDP'!$DK$2=\"3\",'F9-IDP'!$DF$10,0)+IF('F9-IDP'!$ET$2=\"3\",'F9-IDP'!$EO$10,0)+IF('F9-IDP'!$GC$2=\"3\",'F9-IDP'!$FX$10,0)+IF('F9-IDP'!$HL$2=\"3\",'F9-IDP'!$HG$10,0)+IF('F9-IDP'!$IU$2=\"3\",'F9-IDP'!$IP$10,0)+IF('F9-IDP'!$KD$2=\"3\",'F9-IDP'!$JY$10,0)+IF('F9-IDP'!$LM$2=\"3\",'F9-IDP'!$LH$10,0)","v":0},null,null,null,null,null,null,{"$f":"IF('F9-IDP'!$J$2=\"3\",'F9-IDP'!$K$10,0)+IF('F9-IDP'!$AS$2=\"3\",'F9-IDP'!$AT$10,0)+IF('F9-IDP'!$CB$2=\"3\",'F9-IDP'!$CC$10,0)+IF('F9-IDP'!$DK$2=\"3\",'F9-IDP'!$DL$10,0)+IF('F9-IDP'!$ET$2=\"3\",'F9-IDP'!$EU$10,0)+IF('F9-IDP'!$GC$2=\"3\",'F9-IDP'!$GD$10,0)+IF('F9-IDP'!$HL$2=\"3\",'F9-IDP'!$HM$10,0)+IF('F9-IDP'!$IU$2=\"3\",'F9-IDP'!$IV$10,0)+IF('F9-IDP'!$KD$2=\"3\",'F9-IDP'!$KE$10,0)+IF('F9-IDP'!$LM$2=\"3\",'F9-IDP'!$LN$10,0)","v":0},null,null,null,null,null,null,{"$f":"IF('F9-IDP'!$J$2=\"3\",'F9-IDP'!$Q$10,0)+IF('F9-IDP'!$AS$2=\"3\",'F9-IDP'!$AZ$10,0)+IF('F9-IDP'!$CB$2=\"3\",'F9-IDP'!$CI$10,0)+IF('F9-IDP'!$DK$2=\"3\",'F9-IDP'!$DR$10,0)+IF('F9-IDP'!$ET$2=\"3\",'F9-IDP'!$FA$10,0)+IF('F9-IDP'!$GC$2=\"3\",'F9-IDP'!$GJ$10,0)+IF('F9-IDP'!$HL$2=\"3\",'F9-IDP'!$HS$10,0)+IF('F9-IDP'!$IU$2=\"3\",'F9-IDP'!$JB$10,0)+IF('F9-IDP'!$KD$2=\"3\",'F9-IDP'!$KK$10,0)+IF('F9-IDP'!$LM$2=\"3\",'F9-IDP'!$LT$10,0)","v":0},null,null,null,null,null,null,{"$f":"N18+U18-AB18+AI18","v":0},null,null,null,null,null,null,{"$f":"IF('F9-IDP'!$J$2=\"3\",'F9-IDP'!$W$10,0)+IF('F9-IDP'!$AS$2=\"3\",'F9-IDP'!$BF$10,0)+IF('F9-IDP'!$CB$2=\"3\",'F9-IDP'!$CO$10,0)+IF('F9-IDP'!$DK$2=\"3\",'F9-IDP'!$DX$10,0)+IF('F9-IDP'!$ET$2=\"3\",'F9-IDP'!$FG$10,0)+IF('F9-IDP'!$GC$2=\"3\",'F9-IDP'!$GP$10,0)+IF('F9-IDP'!$HL$2=\"3\",'F9-IDP'!$HY$10,0)+IF('F9-IDP'!$IU$2=\"3\",'F9-IDP'!$JH$10,0)+IF('F9-IDP'!$KD$2=\"3\",'F9-IDP'!$KQ$10,0)+IF('F9-IDP'!$LM$2=\"3\",'F9-IDP'!$LZ$10,0)","v":0},null,null,null,null,null,null,{"$f":"IF('F9-IDP'!$J$2=\"3\",'F9-IDP'!$AC$10,0)+IF('F9-IDP'!$AS$2=\"3\",'F9-IDP'!$BL$10,0)+IF('F9-IDP'!$CB$2=\"3\",'F9-IDP'!$CU$10,0)+IF('F9-IDP'!$DK$2=\"3\",'F9-IDP'!$ED$10,0)+IF('F9-IDP'!$ET$2=\"3\",'F9-IDP'!$FM$10,0)+IF('F9-IDP'!$GC$2=\"3\",'F9-IDP'!$GV$10,0)+IF('F9-IDP'!$HL$2=\"3\",'F9-IDP'!$IE$10,0)+IF('F9-IDP'!$IU$2=\"3\",'F9-IDP'!$JN$10,0)+IF('F9-IDP'!$KD$2=\"3\",'F9-IDP'!$KW$10,0)+IF('F9-IDP'!$LM$2=\"3\",'F9-IDP'!$MF$10,0)","v":0}]
["Otros Pasivos",null,null,null,null,null,null,null,null,null,null,null,null,{"$f":"Balanza!D101-'F9-EDP'!N11:T11-'F9-EDP'!N15:T15","v":10855479.129999999},null,null,null,null,null,null,null,null,null,null,null,null,null,null,null,null,null,null,null,null,null,null,null,null,null,null,null,{"$f":"Balanza!H101-'F9-EDP'!AP11:AV11-'F9-EDP'!AP15:AV15","v":8882980.5800000001}]
["Total de la Deuda Pública y Otros Pasivos",null,null,null,null,null,null,null,null,null,null,null,null,{"$f":"N11+N19+N15","v":10855479.129999999},null,null,null,null,null,null,{"$f":"U11+U19+U15","v":0},null,null,null,null,null,null,{"$f":"AB11+AB19+AB15","v":0},null,null,null,null,null,null,{"$f":"AI11+AI19+AI15","v":0},null,null,null,null,null,null,{"$f":"AP11+AP19+AP15","v":8882980.5800000001},null,null,null,null,null,null,{"$f":"AW11+AW19+AW15","v":0},null,null,null,null,null,null,{"$f":"BD11+BD19+BD15","v":0}]
[]
[]
["Denominaciónde la deuda pública y otros pasivos",null,null,null,null,null,null,null,null,null,null,null,null,"Saldo al 1° de\nenero de 2023",null,null,null,null,null,null,"Disposiciones del periodo",null,null,null,null,null,null,"Amortizaciones del periodo",null,null,null,null,null,null,"Revaluaciones, reclasificaciones y otros ajustes",null,null,null,null,null,null,"Saldo del periodo",null,null,null,null,null,null,"Pago de intereses del periodo",null,null,null,null,null,null,"Pago de comisiones y demás costos asociados duarante el periodo"]
[]
[]
[]
["Deuda Contingente"]
["1.-","Sin Registro",null,null,null,null,null,null,null,null,null,null,null,0,null,null,null,null,null,null,0,null,null,null,null,null,null,0,null,null,null,null,null,null,0,null,null,null,null,null,null,{"$f":"N28+U28-AB28+AI28","v":0},null,null,null,null,null,null,0,null,null,null,null,null,null,0]
["2.-",0,null,null,null,null,null,null,null,null,null,null,null,null,null,null,null,null,null,null,null,null,null,null,null,null,null,null,null,null,null,null,null,null,null,null,null,null,null,null,null,{"$f":"N29+U29-AB29+AI29","v":0}]
["3.-",null,null,null,null,null,null,null,null,null,null,null,null,null,null,null,null,null,null,null,null,null,null,null,null,null,null,null,null,null,null,null,null,null,null,null,null,null,null,null,null,{"$f":"N30+U30-AB30+AI30","v":0}]
["4.-",null,null,null,null,null,null,null,null,null,null,null,null,null,null,null,null,null,null,null,null,null,null,null,null,null,null,null,null,null,null,null,null,null,null,null,null,null,null,null,null,{"$f":"N31+U31-AB31+AI31","v":0}]
["5.-",null,null,null,null,null,null,null,null,null,null,null,null,null,null,null,null,null,null,null,null,null,null,null,null,null,null,null,null,null,null,null,null,null,null,null,null,null,null,null,null,{"$f":"N32+U32-AB32+AI32","v":0}]
[null,"SUMA",null,null,null,null,null,null,null,null,null,null,null,{"$f":"SUM(N28:T31)","v":0},null,null,null,null,null,null,{"$f":"SUM(U28:AA31)","v":0},null,null,null,null,null,null,{"$f":"SUM(AB28:AH31)","v":0},null,null,null,null,null,null,{"$f":"SUM(AI28:AO31)","v":0},null,null,null,null,null,null,{"$f":"SUM(AP28:AV31)","v":0},null,null,null,null,null,null,{"$f":"SUM(AW28:BC31)","v":0},null,null,null,null,null,null,{"$f":"SUM(BD28:BJ31)","v":0}]
["Valor de Instrumentos Bonos Cupón Cero"]
["1.-",null,null,null,null,null,null,null,null,null,null,null,null,null,null,null,null,null,null,null,null,null,null,null,null,null,null,null,null,null,null,null,null,null,null,null,null,null,null,null,null,{"$f":"N35+U35-AB35+AI35","v":0}]
["2.-",null,null,null,null,null,null,null,null,null,null,null,null,null,null,null,null,null,null,null,null,null,null,null,null,null,null,null,null,null,null,null,null,null,null,null,null,null,null,null,null,{"$f":"N36+U36-AB36+AI36","v":0}]
["3.-",null,null,null,null,null,null,null,null,null,null,null,null,null,null,null,null,null,null,null,null,null,null,null,null,null,null,null,null,null,null,null,null,null,null,null,null,null,null,null,null,{"$f":"N37+U37-AB37+AI37","v":0}]
["4.-",null,null,null,null,null,null,null,null,null,null,null,null,null,null,null,null,null,null,null,null,null,null,null,null,null,null,null,null,null,null,null,null,null,null,null,null,null,null,null,null,{"$f":"N38+U38-AB38+AI38","v":0}]
["5.-",null,null,null,null,null,null,null,null,null,null,null,null,null,null,null,null,null,null,null,null,null,null,null,null,null,null,null,null,null,null,null,null,null,null,null,null,null,null,null,null,{"$f":"N39+U39-AB39+AI39","v":0}]
[null,"SUMA",null,null,null,null,null,null,null,null,null,null,null,{"$f":"SUM(N35:T39)","v":0},null,null,null,null,null,null,{"$f":"SUM(U35:AA39)","v":0},null,null,null,null,null,null,{"$f":"SUM(AB35:AH39)","v":0},null,null,null,null,null,null,{"$f":"SUM(AI35:AO39)","v":0},null,null,null,null,null,null,{"$f":"SUM(AP35:AV39)","v":0},null,null,null,null,null,null,{"$f":"SUM(AW35:BC39)","v":0},null,null,null,null,null,null,{"$f":"SUM(BD35:BJ39)","v":0}]
["Obligaciones a Corto Plazo"]
["Obligaciones a corto plazo",null,null,null,null,null,null,null,null,null,null,null,null,"Monto contratado",null,null,null,null,null,null,null,null,null,"Plazo pactado",null,null,null,null,null,null,null,null,null,"Tasa de interés",null,null,null,null,null,null,null,null,null,"Comisiones y costos relacionados",null,null,null,null,null,null,null,null,null,"Tasa afectiva"]
[]
["1.-"]
["2.-"]
["3.-"]
["4.-"]
["5.-"]
[null,"SUMA",null,null,null,null,null,null,null,null,null,null,null,{"$f":"SUM(N44:W48)","v":0},null,null,null,null,null,null,null,null,null,null,null,null,null,null,null,null,null,null,null,null,null,null,null,null,null,null,null,null,null,{"$f":"SUM(AR44:BA48)","v":0}]
[]
[null,null,"Bajo protesta de decir verdad declaramos que los Estados Financieros y sus Notas son razonablemente correctos y responsabilidad del emisor."]
[]
[]
[]
[]
[null,null,null,null,null,{"$f":"Validacion!A7","v":"C. José Ángel Prudencio Vargas"},null,null,null,null,null,null,null,null,null,null,null,null,null,null,null,null,null,null,null,null,null,null,null,null,null,null,{"$f":"Validacion!A9","v":"L.C.P. Regina Itzel Bedoya Cruz"}]
[null,null,null,null,null,"Presidente Municipal o Títular del ente público",null,null,null,null,null,null,null,null,null,null,null,null,null,null,null,null,null,null,null,null,null,null,null,null,null,null,"Encargado de la Hacienda Pública Municipal o Responsable de las finanzas del ente público"]

{"sheet":"F9-IAO","index":7,"n_rows":28,"n_cols":64,"rows_kept":28,"cut":false,"hidden":false,"merged":[[18,34,18,38],[18,28,18,33],[18,57,18,62],[16,57,16,62],[15,57,15,62],[13,57,13,62],[14,57,14,62],[15,34,15,38],[15,28,15,33],[18,51,18,56],[18,39,18,44],[17,63,17,68],[16,63,16,68],[13,63,13,68],[15,63,15,68],[14,63,14,68],[17,39,17,44],[16,39,16,44],[15,39,15,44],[18,63,18,68],[27,41,27,61],[26,41,26,61],[13,45,13,50],[17,45,17,50],[18,45,18,50],[16,45,16,50],[14,45,14,50],[15,45,15,50],[17,51,17,56],[13,51,13,56],[16,51,16,56],[14,51,14,56],[15,51,15,56],[17,57,17,62],[14,28,14,33],[13,28,13,33],[17,28,17,33],[16,28,16,33],[17,34,17,38],[13,34,13,38],[14,34,14,38],[16,34,16,38],[14,39,14,44],[13,39,13,44],[11,45,11,50],[12,23,12,27],[12,28,12,33],[12,51,12,56],[12,39,12,44],[12,45,12,50],[12,57,12,62],[12,63,12,68],[12,34,12,38],[10,63,10,68],[10,34,10,38],[11,18,11,22],[11,2,11,12],[11,13,11,17],[12,13,12,17],[12,18,12,22],[12,2,12,12],[10,23,10,27],[10,28,10,33],[10,0,10,12],[10,13,10,17],[10,18,10,22],[11,63,11,68],[11,34,11,38],[11,28,11,33],[11,23,11,27],[10,57,10,62],[11,57,11,62],[11,51,11,56],[10,51,10,56],[10,39,10,44],[11,39,11,44],[10,45,10,50],[0,0,0,68],[1,0,1,68],[2,0,2,68],[4,57,9,62],[4,0,9,12],[4,51,9,56],[4,45,9,50],[4,39,9,44],[4,34,9,38],[4,28,9,33],[4,23,9,27],[4,18,9,22],[4,63,9,68],[4,13,9,17],[18,0,18,27],[14,0,14,12],[17,2,17,12],[13,2,13,12],[16,2,16,12],[15,2,15,12],[27,5,27,24],[26,5,26,24],[13,13,13,17],[17,13,17,17],[16,13,16,17],[15,13,15,17],[14,13,14,17],[17,18,17,22],[16,18,16,22],[14,18,14,22],[15,18,15,22],[13,18,13,22],[14,23,14,27],[15,23,15,27],[16,23,16,27],[13,23,13,27],[17,23,17,27]]}
[{"$f":"Validacion!A2","v":"Ayutla"}]
["INFORME ANALÍTICO DE OBLIGACIONES DIFERENTES DE FINANCIAMIENTO"]
[{"$f":"'F9-EDP'!A3","v":"Del 1° de Enero al 30 de Septiembre de 2023"}]
[]
["Denominación de las obligaciones diferentes de financiamiento",null,null,null,null,null,null,null,null,null,null,null,null,"Fecha del contrato",null,null,null,null,"Fecha de inicio de operaciones del proyecto",null,null,null,null,"Fecha de vencimiento",null,null,null,null,"Monto de la inversión pactado",null,null,null,null,null,"Plazo pactado",null,null,null,null,"Monto promedio mensual del pago de la contraprestación",null,null,null,null,null,"Monto promedio mensual del pago de la contraprestación correspondiente al pago de inversión",null,null,null,null,null,"Monto pagado de la inversión del periodo",null,null,null,null,null,"Monto pagado de la inversión actualizado del periodo",null,null,null,null,null,"Saldo pendiente por pagar de la inversión"]
[]
[]
[]
[]
[]
["Asociación Público Privadas",null,null,null,null,null,null,null,null,null,null,null,null,null,null,null,null,null,null,null,null,null,null,null,null,null,null,null,{"$f":"SUM(AC12:AH14)","v":0},null,null,null,null,null,null,null,null,null,null,{"$f":"SUM(AN12:AS14)","v":0},null,null,null,null,null,{"$f":"SUM(AT12:AY14)","v":0},null,null,null,null,null,{"$f":"SUM(AZ12:BE14)","v":0},null,null,null,null,null,{"$f":"SUM(BF12:BK14)","v":0},null,null,null,null,null,{"$f":"SUM(BL12:BQ14)","v":0}]
[null,"1.-","Sin / Registro",null,null,null,null,null,null,null,null,null,null,"2023-01-01",null,null,null,null,"2023-01-01",null,null,null,null,"2023-01-01",null,null,null,null,0,null,null,null,null,null,"2023-01-01",null,null,null,null,0,null,null,null,null,null,0,null,null,null,null,null,0,null,null,null,null,null,0,null,null,null,null,null,{"$f":"AC12-BF12","v":0}]
[null,"2.-",null,null,null,null,null,null,null,null,null,null,null,null,null,null,null,null,null,null,null,null,null,null,null,null,null,null,null,null,null,null,null,null,null,null,null,null,null,null,null,null,null,null,null,null,null,null,null,null,null,null,null,null,null,null,null,null,null,null,null,null,null,{"$f":"AC13-BF13","v":0}]
[null,"3.-",null,null,null,null,null,null,null,null,null,null,null,null,null,null,null,null,null,null,null,null,null,null,null,null,null,null,null,null,null,null,null,null,null,null,null,null,null,null,null,null,null,null,null,null,null,null,null,null,null,null,null,null,null,null,null,null,null,null,null,null,null,{"$f":"AC14-BF14","v":0}]
["Otros instrumentos",null,null,null,null,null,null,null,null,null,null,null,null,null,null,null,null,null,null,null,null,null,null,null,null,null,null,null,{"$f":"SUM(AC16:AH18)","v":0},null,null,null,null,null,null,null,null,null,null,{"$f":"SUM(AN16:AS18)","v":0},null,null,null,null,null,{"$f":"SUM(AT16:AY18)","v":0},null,null,null,null,null,{"$f":"SUM(AZ16:BE18)","v":0},null,null,null,null,null,{"$f":"SUM(BF16:BK18)","v":0},null,null,null,null,null,{"$f":"SUM(BL16:BQ18)","v":0}]
[null,"1.-",null,null,null,null,null,null,null,null,null,null,null,null,null,null,null,null,null,null,null,null,null,null,null,null,null,null,null,null,null,null,null,null,null,null,null,null,null,null,null,null,null,null,null,null,null,null,null,null,null,null,null,null,null,null,null,null,null,null,null,null,null,{"$f":"AC16-BF16","v":0}]
[null,"2.-",null,null,null,null,null,null,null,null,null,null,null,null,null,null,null,null,null,null,null,null,null,null,null,null,null,null,null,null,null,null,null,null,null,null,null,null,null,null,null,null,null,null,null,null,null,null,null,null,null,null,null,null,null,null,null,null,null,null,null,null,null,{"$f":"AC17-BF17","v":0}]
[null,"3.-",null,null,null,null,null,null,null,null,null,null,null,null,null,null,null,null,null,null,null,null,null,null,null,null,null,null,null,null,null,null,null,null,null,null,null,null,null,null,null,null,null,null,null,null,null,null,null,null,null,null,null,null,null,null,null,null,null,null,null,null,null,{"$f":"AC18-BF18","v":0}]
["Total de Obligaciones Diferentes de Financiamiento",null,null,null,null,null,null,null,null,null,null,null,null,null,null,null,null,null,null,null,null,null,null,null,null,null,null,null,{"$f":"AC11+AC15","v":0},null,null,null,null,null,null,null,null,null,null,{"$f":"AN11+AN15","v":0},null,null,null,null,null,{"$f":"AT11+AT15","v":0},null,null,null,null,null,{"$f":"AZ11+AZ15","v":0},null,null,null,null,null,{"$f":"BF11+BF15","v":0},null,null,null,null,null,{"$f":"BL11+BL15","v":0}]
[]
[]
[null,null,"Bajo protesta de decir verdad declaramos que los Estados Financieros y sus Notas son razonablemente correctos y responsabilidad del emisor."]
[]
[]
[]
[]
[null,null,null,null,null,{"$f":"Validacion!A7","v":"C. José Ángel Prudencio Vargas"},null,null,null,null,null,null,null,null,null,null,null,null,null,null,null,null,null,null,null,null,null,null,null,null,null,null,null,null,null,null,null,null,null,null,null,{"$f":"Validacion!A9","v":"L.C.P. Regina Itzel Bedoya Cruz"}]
[null,null,null,null,null,"Presidente Municipal o Títular del ente público",null,null,null,null,null,null,null,null,null,null,null,null,null,null,null,null,null,null,null,null,null,null,null,null,null,null,null,null,null,null,null,null,null,null,null,"Encargado de la Hacienda Pública Municipal o Responsable de las finanzas del ente público"]

{"sheet":"F10","index":8,"n_rows":399,"n_cols":13,"rows_kept":399,"cut":false,"hidden":false,"merged":[[0,0,0,12],[1,0,1,12],[2,0,2,12]]}
[{"$f":"Validacion!A2","v":"Ayutla"}]
["INFORMATIVA DE PROVEEDORES"]
[{"$f":"INDEX(Validacion!E185:E196,MATCH(Validacion!A11,Validacion!C185:C196,0))","v":"Del 1° al 30 de Septiembre de 2023"}]
[]
["N°","PROVEEDOR Y/O PRESTADOR","R.F.C.","DOMICILIO","CIUDAD","CODIGO POSTAL","FUENTE DE FINANCIAMIENTO","ORIGEN DEL RECURSO POR CUENTA BANCARIA","FORMA DE PAGO","DESCRIPCIÓN DEL GASTO","IMPORTE","FECHA DE LA FACTURA","FOLIO DE FACTURA"]
[189,"JOSE DE JESUS SANTANA RAMOS ","SARJ650722715","-","-","48047","151","PARTICIPACIONES 9255","Cheque N° 30555","REHABILITACION Y RESTAURACION DE JARDINES DE LA PLAZA PRINCIPAL ",9900,"2023-05-03","E2F3A6"]
[183,"JIMENA JACKELYN HERNANDEZ AGUILAR ","HEAJ010606MJC","GUILLERMO PRIETO 140","AYUTLAN DE NAVARRO","48900","151","PARTICIPACIONES 9255","Cheque N° 30559","PAGO A GRUPO DE DANZA ARABE \"SAHARA ARDAH\" POR PRESENTACION EN SEMANA CULTURAL 2023 EN LA CABECERA MUNICIPAL",4000,"2023-05-04","549212"]
[233,"JUAN FERNANDO DELGADO CERVANTES ","DECJ710130G55","-","-","44100","151","PARTICIPACIONES 9255","Transf N° 63936LA00BOQ","PAGO DE ARBITRAJE EN COPA JALISCO 2023",3364,"2023-05-04","716"]
[249,"LOURDES PATRICIA CORONA VAZQUEZ","COVL7611107W9","JESUS ORTIZ 2440 GUADALUPANA","HUENTITÁN EL BAJO","48050","111","AGUA POTABLE 9214","Transf N° 52096LA021XF","COMPRA DE MATERIAL PARA LINEA DE AGUA ",10258.81,"2023-05-04",0]
[328,"PATRICIA MARGARITA GONZALEZ SALAZAR","GOSP640611526","SC SN CENTRO","HUENTITÁN EL BAJO","48050","151","PARTICIPACIONES 9255","Transf N° HSBC204360","COMPRA DE TINTA PARA USO DEL RASTRO MUNICIPAL ",1540,"2023-05-04","537E80"]
[331,"PROVEEDORA SISPOTAGUA S.A DE C.V ","PSI160729CNA","SIN CALLE  SIN N CENTRO ","HUENTITÁN EL BAJO","48050","111","AGUA POTABLE 9214","Transf N° HSBC344526","COMPRA DE HIPOCLORITO DE SODIO PARA POTABILIZACION DE AGUA ",46956.800000000003,"2023-05-04","A-3153"]
[59,"CABAÑAS LUPITA ","CLU201211HK6","-","-","49500","151","PARTICIPACIONES 9255","Cheque N° 30560","APOYO A LA PREPARATORIA DE UNION DE TULA MODULO AYUTLA PARA ASISTIR A CONGRESO ESTUDIANTIL EN EL MUNICIPIO DE MAZAMITLA, JAL.  ",5000,"2023-05-04","089C8B"]
[65,"CL SERVICIOS INTERNACIONALES ","CSE071120LW6","-","-","45070","151","PARTICIPACIONES 9255","Transf N° 10736LA01ITI","COMPRA DE REFACCIONES PARA VEHICULOS DE ESTE H. AYUNTAMIENTO",4841.2299999999996,"2023-05-04","4D306A"]
[67,"COPIADORAS JAPONESAS ","CJA850313GH3","AV MEXICO NO. 2627 ","LADRON GUEVARA ","44600","151","PARTICIPACIONES 9255","Transf N° 50226L801FTS","PAGO DE TONERS PARA MULTIFUNCIONAL EN LA OFICINA DE TESORERIA ",2665.68,"2023-05-04","A-105755"]
[369,"TRANSMISIONES DE DATOS DE OCCIDENTE S.A DE C.V ","TDO880826NW8","SIN CALLE SIN N NO TIENE","HUENTITÁN EL ALTO","48050","151","PARTICIPACIONES 9255","Transf N° 68196LA00XKI","PAGO DE RENTA MENSUAL DE INTERNET ",3519,"2023-05-04","A5698"]
[370,"TRANSVECTIO ","TRA000727LK9","-","-","44870","151","PARTICIPACIONES 9255","Transf N° 47096LA0066V","PAGO DE TRANSPORTE TERRESTRE SPRINTER A AYUTLA, JAL ",8120,"2023-05-05","2766"]
[251,"LUIS ANTONIO DELGADILLO MEJIA ","DEML650610CT3","-","-","44600","151","PARTICIPACIONES 9255","Transf N° 16946LA00VI6","PAGO A GRUPO DE LUIS DELGADILLO Y LOS KELIGUANES POR PRESENTACION EN LA SEMANA CULTURAL 2023",17400,"2023-05-05","61BE40"]
[190,"JOSE EMMANUEL MIRANDA LOPEZ ","MILE9007257LO","PLUTARCO ELIAS CALLES 12B ","CHAPALA, JAL ","45900","151","PARTICIPACIONES 9255","Transf N° 38296LA010G4","PAGO A CUARTETO POR PRESENTACION EN SEMANA CULTURAL AYUTLA, JAL 2023",6000,"2023-05-05","178"]
[132,"GASOLINERA CASCO HERMANOS ","GCH001026GA5","-","-","45640","151","PARTICIPACIONES 9255","Cheque N° 30563","PAGO SEMANAL A PERSONAL EVENTUAL, HORAS EXTRAS Y GASTOS EN GENERAL ",500,"2023-05-09","GCH132510"]
[133,"GASOLINERA CUATRO ESTRELLAS S.A DE C.V ","GCE100810B21","SIN CALLE SIN N CENTRO","UNIÓN DE TULA","48050","151","PARTICIPACIONES 9255","Cheque N° 30563","PAGO SEMANAL A PERSONAL EVENTUAL, HORAS EXTRAS Y GASTOS EN GENERAL ",232.5,"2023-05-09","1725"]
[134,"GASOLINERA CUATRO ESTRELLAS S.A DE C.V ","GCE100810B21","SIN CALLE SIN N CENTRO","UNIÓN DE TULA","48050","151","PARTICIPACIONES 9255","Cheque N° 30563","PAGO SEMANAL A PERSONAL EVENTUAL, HORAS EXTRAS Y GASTOS EN GENERAL ",767.48,"2023-05-09","1729"]
[135,"GASOLINERA CUATRO ESTRELLAS S.A DE C.V ","GCE100810B21","SIN CALLE SIN N CENTRO","UNIÓN DE TULA","48050","151","PARTICIPACIONES 9255","Cheque N° 30563","PAGO SEMANAL A PERSONAL EVENTUAL, HORAS EXTRAS Y GASTOS EN GENERAL ",680.21,"2023-05-09","195A84"]
[136,"GASOLINERA CUATRO ESTRELLAS S.A DE C.V ","GCE100810B21","SIN CALLE SIN N CENTRO","UNIÓN DE TULA","48050","151","PARTICIPACIONES 9255","Cheque N° 30563","PAGO SEMANAL A PERSONAL EVENTUAL, HORAS EXTRAS Y GASTOS EN GENERAL ",577.5,"2023-05-09","0001710"]
[129,"GAS LOS ALTOS ","GAL980319BD9","-","-","27259","151","PARTICIPACIONES 9255","Cheque N° 30563","PAGO SEMANAL A PERSONAL EVENTUAL, HORAS EXTRAS Y GASTOS EN GENERAL ",507.15,"2023-05-09","504BB4"]
[130,"GAS LOS ALTOS ","GAL980319BD9","-","-","27259","151","PARTICIPACIONES 9255","Cheque N° 30563","PAGO SEMANAL A PERSONAL EVENTUAL, HORAS EXTRAS Y GASTOS EN GENERAL ",204.4,"2023-05-09","8EB635"]
[161,"ISAIAS OROZCO  ZAVALZA","OOZI8710163Q2","SIN CALLE  SIN N CENTRO ","AYUTLA","48050","151","PARTICIPACIONES 9255","Cheque N° 30563","PAGO SEMANAL A PERSONAL EVENTUAL, HORAS EXTRAS Y GASTOS EN GENERAL ",1911,"2023-05-09","C311C17"]
[246,"LAGUNEROS ORIENTALES ","LOR130920Q24","-","-","45645","151","PARTICIPACIONES 9255","Cheque N° 30563","PAGO SEMANAL A PERSONAL EVENTUAL, HORAS EXTRAS Y GASTOS EN GENERAL ",206,"2023-05-09","PS5551"]
[243,"JUAN RAMON BRAMBILA  TOPEATE","BATJ890925JL1","CONOCIDO - CENTRO","AYUTLA","48050","151","PARTICIPACIONES 9255","Cheque N° 30563","PAGO SEMANAL A PERSONAL EVENTUAL, HORAS EXTRAS Y GASTOS EN GENERAL ",684,"2023-05-09","E4FF4F"]
[214,"JOSE JAIME  GONZALEZ  RODRIGUEZ ","GORJ921215LA2","RAMON CORONA #5 CENTRO","AYUTLA","48050","151","PARTICIPACIONES 9255","Cheque N° 30563","PAGO SEMANAL A PERSONAL EVENTUAL, HORAS EXTRAS Y GASTOS EN GENERAL ",400,"2023-05-09","DB74D7"]
[333,"RAMON PEREZ CHAVEZ","PECR630426G41","SIN CALLE SIN N CENTRO ","AYUTLA","48050","151","PARTICIPACIONES 9255","Cheque N° 30563","PAGO SEMANAL A PERSONAL EVENTUAL, HORAS EXTRAS Y GASTOS EN GENERAL ",690.01,"2023-05-09","H631"]
[334,"RAMON PEREZ CHAVEZ","PECR630426G41","SIN CALLE SIN N CENTRO ","AYUTLA","48050","151","PARTICIPACIONES 9255","Cheque N° 30563","PAGO SEMANAL A PERSONAL EVENTUAL, HORAS EXTRAS Y GASTOS EN GENERAL ",460,"2023-05-09","H632"]
[337,"RICARDO CHAVEZ GARCIA ","CAGR670127E82","AV. HIDALGO 126 ","AUTLAN DE NAVARRO","48900","151","PARTICIPACIONES 9255","Cheque N° 30563","PAGO SEMANAL A PERSONAL EVENTUAL, HORAS EXTRAS Y GASTOS EN GENERAL ",530,"2023-05-09","50218"]
[312,"OPERADORA DE MARISCOS SAVE SA DE CV ","OMS130410361","-","-","45120","151","PARTICIPACIONES 9255","Cheque N° 30563","PAGO SEMANAL A PERSONAL EVENTUAL, HORAS EXTRAS Y GASTOS EN GENERAL ",1848,"2023-05-09","F48193"]
[313,"OSCAR ANTONIO MONROY COVARRUBIAS ","MOCX910923AQ2","-","-","48050","151","PARTICIPACIONES 9255","Cheque N° 30563","PAGO SEMANAL A PERSONAL EVENTUAL, HORAS EXTRAS Y GASTOS EN GENERAL ",412.01,"2023-05-09","124866"]
[66,"COMBU-EXPRESS ","CEX9809213U5","-","-","48900","151","PARTICIPACIONES 9255","Cheque N° 30563","PAGO SEMANAL A PERSONAL EVENTUAL, HORAS EXTRAS Y GASTOS EN GENERAL ",600,"2023-05-09","DF6258"]
[2,"ALVARO RODOLFO ALVARADO PEREZ","AAPA790131589","AV. CAMPO PRINCIPES COL CAMPO REAL","GUADALAJARA","45134","151","PARTICIPACIONES 9255","Transf N° 90523","PAGO POR 2000  FORMATOS DE ACTAS NACIMIENTO ",19256,"2023-05-09","307"]
[7,"ANNEL GRAJEDA GOVEA","GAGA861121I11","-","-","45640","151","PARTICIPACIONES 9255","Cheque N° 30563","PAGO SEMANAL A PERSONAL EVENTUAL, HORAS EXTRAS Y GASTOS EN GENERAL ",220,"2023-05-09","Z-78921"]
[90,"DISTRIBUIDORA DE ACEITES Y COMBUSTIBLES DE AYUTLA SA DE CV","DAC0209134Y9","CARRETERA AL CRUCERO DE SAN CLEMENTE - PUEBLO VIEJO","AYUTLA","48050","151","PARTICIPACIONES 9255","Cheque N° 30563","PAGO SEMANAL A PERSONAL EVENTUAL, HORAS EXTRAS Y GASTOS EN GENERAL ",400,"2023-05-09","B 63920"]
[91,"DISTRIBUIDORA DE ACEITES Y COMBUSTIBLES DE AYUTLA SA DE CV","DAC0209134Y9","CARRETERA AL CRUCERO DE SAN CLEMENTE - PUEBLO VIEJO","AYUTLA","48050","151","PARTICIPACIONES 9255","Cheque N° 30563","PAGO SEMANAL A PERSONAL EVENTUAL, HORAS EXTRAS Y GASTOS EN GENERAL ",232.78,"2023-05-09","1725"]
[113,"EDGAR OMAR ELIZONDO TORO ","EITE780119FM2","PROLONGACION 5 DE MAYO 304","AYUTLA ","48050","151","PARTICIPACIONES 9255","Cheque N° 30563","PAGO SEMANAL A PERSONAL EVENTUAL, HORAS EXTRAS Y GASTOS EN GENERAL ",400,"2023-05-09","195"]
[114,"EDGAR OMAR ELIZONDO TORO ","EITE780119FM2","PROLONGACION 5 DE MAYO 304","AYUTLA ","48050","151","PARTICIPACIONES 9255","Cheque N° 30563","PAGO SEMANAL A PERSONAL EVENTUAL, HORAS EXTRAS Y GASTOS EN GENERAL ",1212,"2023-05-09","187"]
[120,"ERNESTO ALONSO COBA VAZQUEZ ","COVE870407SY2","-","-","48900","151","PARTICIPACIONES 9255","Cheque N° 30563","PAGO SEMANAL A PERSONAL EVENTUAL, HORAS EXTRAS Y GASTOS EN GENERAL ",1102,"2023-05-09","F5B6D5Q"]
[121,"EXPOGOURMET","EXP210302TEA","AV. MEXICO 2328","GUADALAJARA ","44600","151","PARTICIPACIONES 9255","Cheque N° 30563","PAGO SEMANAL A PERSONAL EVENTUAL, HORAS EXTRAS Y GASTOS EN GENERAL ",511,"2023-05-09","F5D91D"]
[122,"EXPOGOURMET","EXP210302TEA","AV. MEXICO 2328","GUADALAJARA ","44600","151","PARTICIPACIONES 9255","Cheque N° 30563","PAGO SEMANAL A PERSONAL EVENTUAL, HORAS EXTRAS Y GASTOS EN GENERAL ",169,"2023-05-09","DCF04B"]
[330,"PREMIUM RESTAURANT BRANDS ","PRB100802H20","PASEO DE LOS TAMARINDOS 400-A ","CUAJIMALPA DE MORELOS, CD MX ","05120","151","PARTICIPACIONES 9255","Cheque N° 30563","PAGO SEMANAL A PERSONAL EVENTUAL, HORAS EXTRAS Y GASTOS EN GENERAL ",439,"2023-05-09","V-10528371"]
[365,"SERVICIO IBSOM ","SIB110905M98","JUAN ESCUTIA NIÑOS HEROES ","PUERTO VALLARTA ","48280","151","PARTICIPACIONES 9255","Cheque N° 30563","PAGO SEMANAL A PERSONAL EVENTUAL, HORAS EXTRAS Y GASTOS EN GENERAL ",400,"2023-05-09","4DF35F"]
[367,"SIZZLING PLATTER DE MEXICO, S. ","CCA1308213W7","-","-","45640","151","PARTICIPACIONES 9255","Cheque N° 30563","PAGO SEMANAL A PERSONAL EVENTUAL, HORAS EXTRAS Y GASTOS EN GENERAL ",179,"2023-05-09","398060"]
[138,"GRUAS HUITRON DE AUTLAN, S.A. DE C.V. ","GHA870119IL1","-","-","48900","151","PARTICIPACIONES 9255","Transf N° 31846LG00FCK","PAGO A GRUA POR SERVICIO DE TRASLADO A TALLER MECANICO ",7268,"2023-05-10","4B46BB"]
[335,"RAMON PEREZ CHAVEZ","PECR630426G41","SIN CALLE SIN N CENTRO ","AYUTLA","48050","111","CAPTACION 9222","Cheque N° 1865","PAGO DE SONIDO PARA FESTEJO POR EL DIA DEL ALBAÑIL ",8932,"2023-05-11","583679"]
[329,"PEDRO JONNATAN COLIN CISNEROS ","COCP950523185","-","-","48050","151","PARTICIPACIONES 9255","Transf N° 01076LH024NN","PAGO POR REFRESCOS Y DESECHABLES UTILIZADOS EN FESTEJO POR EL DIA DEL ALBAÑIL ",5863.8,"2023-05-11","BA5ED2"]
[247,"LOURDES PATRICIA CORONA VAZQUEZ","COVL7611107W9","JESUS ORTIZ 2440 GUADALUPANA","HUENTITÁN EL BAJO","48050","111","AGUA POTABLE 9214","Transf N° 19626LI015Z8","PAGO DE MATERIAL PARA MANTENIMIENTO Y REPARACION DE FUGAS DE AGUA EN LA CABECERA MUNICIPAL ",33801.24,"2023-05-12","E5148E"]
[248,"LOURDES PATRICIA CORONA VAZQUEZ","COVL7611107W9","JESUS ORTIZ 2440 GUADALUPANA","HUENTITÁN EL BAJO","48050","111","AGUA POTABLE 9214","Transf N° 19626LI015Z8","PAGO DE MATERIAL PARA MANTENIMIENTO Y REPARACION DE FUGAS DE AGUA EN LA CABECERA MUNICIPAL ",18408.62,"2023-05-12","045CC6"]
[139,"GUILLERMO SANDOVAL HERNANDEZ ","SAHG651011429","CARRILLO PUERTO 11 ","AUTLAN DE NAVARRO ","48900","251","INFRAESTRUCTURA 1645 2023","Cheque N° 14796LH01JXT","PAGO POR ESTUDIOS DE MECANICA DE SUELOS PARA LA PAVIMENTACION DE LAS CALLES RAMON CORONA Y 5 DE FEBRERO EN AYUTLA, JAL. ",28768,"2023-05-12","B87613"]
[89,"DIOCESIS DE AUTLAN ","DAR930514NF5","-","AYUTLA, JAL","48050","111","CAPTACION 9222","Transf N° 18096LI00GTH","PAGO DE MUSICA PARA EVENTO POR DIA DE LAS MADRES EN LA COLONIA DEL ROSARIO",6800,"2023-05-12","D42957"]
[63,"CENTRO UNIVERSITARIO DIPA AC ","CUD171011CC6","-","-","45200","111","CAPTACION 9222","Transf N° I01PNC","PAGO POR DOS MENSUALIDADES EN EL CENTRO UNIVESRSITARIO DIPA ",1700,"2023-05-12","752D11"]
[234,"JUAN FERNANDO DELGADO CERVANTES ","DECJ710130G55","-","-","44100","151","PARTICIPACIONES 9255","Transf N° J006PZ","PAGO POR ARBITRAJE EN COPA JALISCO SELECCION FEMENIL ",3364,"2023-05-13","778"]
[253,"LUIS GERARDO VARGAS CARDENAS ","VACL9104277F9","PAULINO NAVARRO 84","AUTLAN DE NAVARRO ","48900","151","PARTICIPACIONES 9255","Cheque N° 30593","APOYO A EMPLEADO OPERADOR DEL MODULO DE MAQUINARIA CON EL PAGO DE GASTOS MEDICOS ",4000,"2023-05-15","HM-190"]
[359,"SECRETARIA DE LA HACIENDA PUBLICA","SPC130227L99","SIN CALLE  SIN N CENTRO","HUENTITÁN EL BAJO","48050","151","PARTICIPACIONES 9255","Transf N° 831","PARTICIPACIONES POR INGRESOS ESTATALES Y FEDERALES DE EL MES DE MAYO, RECIBIDAS EN EL MES DE JUNIO DE 2023.",10511.54,"2023-05-15","831"]
[360,"SECRETARIA DE LA HACIENDA PUBLICA","SPC130227L99","SIN CALLE  SIN N CENTRO","HUENTITÁN EL BAJO","48050","151","PARTICIPACIONES 9255","Transf N° 831","PARTICIPACIONES POR INGRESOS ESTATALES Y FEDERALES DE EL MES DE MAYO, RECIBIDAS EN EL MES DE JUNIO DE 2023.",1025.43,"2023-05-15","831"]
[371,"VICTOR MANUEL  RUIZ MARTINEZ ","RUMV910728LUA","VENUSTIANO CARRANZA 195","AYUTLA","48050","151","PARTICIPACIONES 9255","Transf N° 84406LM00GFA","PAGO POR LA COMPRA DE LLANTAS Y SERVICIO DE LLANTERA PARA VEHICULOS OFICIALES DEL H AYUNTAMIENTO ",575,"2023-05-16","D3A26F"]
[372,"VICTOR MANUEL  RUIZ MARTINEZ ","RUMV910728LUA","VENUSTIANO CARRANZA 195","AYUTLA","48050","151","PARTICIPACIONES 9255","Transf N° 84406LM00GFA","PAGO POR LA COMPRA DE LLANTAS Y SERVICIO DE LLANTERA PARA VEHICULOS OFICIALES DEL H AYUNTAMIENTO ",500,"2023-05-16","DB5440"]
[373,"VICTOR MANUEL  RUIZ MARTINEZ ","RUMV910728LUA","VENUSTIANO CARRANZA 195","AYUTLA","48050","151","PARTICIPACIONES 9255","Transf N° 84406LM00GFA","PAGO POR LA COMPRA DE LLANTAS Y SERVICIO DE LLANTERA PARA VEHICULOS OFICIALES DEL H AYUNTAMIENTO ",250,"2023-05-16","5DA90E"]
[374,"VICTOR MANUEL  RUIZ MARTINEZ ","RUMV910728LUA","VENUSTIANO CARRANZA 195","AYUTLA","48050","151","PARTICIPACIONES 9255","Transf N° 84406LM00GFA","PAGO POR LA COMPRA DE LLANTAS Y SERVICIO DE LLANTERA PARA VEHICULOS OFICIALES DEL H AYUNTAMIENTO ",420,"2023-05-16","87F629"]
[375,"VICTOR MANUEL  RUIZ MARTINEZ ","RUMV910728LUA","VENUSTIANO CARRANZA 195","AYUTLA","48050","151","PARTICIPACIONES 9255","Transf N° 84406LM00GFA","PAGO POR LA COMPRA DE LLANTAS Y SERVICIO DE LLANTERA PARA VEHICULOS OFICIALES DEL H AYUNTAMIENTO ",570,"2023-05-16","F36D8F"]
[376,"VICTOR MANUEL  RUIZ MARTINEZ ","RUMV910728LUA","VENUSTIANO CARRANZA 195","AYUTLA","48050","151","PARTICIPACIONES 9255","Transf N° 84406LM00GFA","PAGO POR LA COMPRA DE LLANTAS Y SERVICIO DE LLANTERA PARA VEHICULOS OFICIALES DEL H AYUNTAMIENTO ",400,"2023-05-16","A9D465"]
[377,"VICTOR MANUEL  RUIZ MARTINEZ ","RUMV910728LUA","VENUSTIANO CARRANZA 195","AYUTLA","48050","151","PARTICIPACIONES 9255","Transf N° 84406LM00GFA","PAGO POR LA COMPRA DE LLANTAS Y SERVICIO DE LLANTERA PARA VEHICULOS OFICIALES DEL H AYUNTAMIENTO ",4470,"2023-05-16","464587"]
[378,"VICTOR MANUEL  RUIZ MARTINEZ ","RUMV910728LUA","VENUSTIANO CARRANZA 195","AYUTLA","48050","151","PARTICIPACIONES 9255","Transf N° 84406LM00GFA","PAGO POR LA COMPRA DE LLANTAS Y SERVICIO DE LLANTERA PARA VEHICULOS OFICIALES DEL H AYUNTAMIENTO ",1050,"2023-05-16","7D8A95"]
[379,"VICTOR MANUEL  RUIZ MARTINEZ ","RUMV910728LUA","VENUSTIANO CARRANZA 195","AYUTLA","48050","151","PARTICIPACIONES 9255","Transf N° 84406LM00GFA","PAGO POR LA COMPRA DE LLANTAS Y SERVICIO DE LLANTERA PARA VEHICULOS OFICIALES DEL H AYUNTAMIENTO ",890,"2023-05-16","C2944B"]
[380,"VICTOR MANUEL  RUIZ MARTINEZ ","RUMV910728LUA","VENUSTIANO CARRANZA 195","AYUTLA","48050","151","PARTICIPACIONES 9255","Transf N° 84406LM00GFA","PAGO POR LA COMPRA DE LLANTAS Y SERVICIO DE LLANTERA PARA VEHICULOS OFICIALES DEL H AYUNTAMIENTO ",1020,"2023-05-16","516DF9"]
[381,"VICTOR MANUEL  RUIZ MARTINEZ ","RUMV910728LUA","VENUSTIANO CARRANZA 195","AYUTLA","48050","151","PARTICIPACIONES 9255","Transf N° 84406LM00GFA","PAGO POR LA COMPRA DE LLANTAS Y SERVICIO DE LLANTERA PARA VEHICULOS OFICIALES DEL H AYUNTAMIENTO ",2570,"2023-05-16","A3BBBE"]
[382,"VICTOR MANUEL  RUIZ MARTINEZ ","RUMV910728LUA","VENUSTIANO CARRANZA 195","AYUTLA","48050","151","PARTICIPACIONES 9255","Transf N° 84406LM00GFA","PAGO POR LA COMPRA DE LLANTAS Y SERVICIO DE LLANTERA PARA VEHICULOS OFICIALES DEL H AYUNTAMIENTO ",550,"2023-05-16","CA858F"]
[383,"VICTOR MANUEL  RUIZ MARTINEZ ","RUMV910728LUA","VENUSTIANO CARRANZA 195","AYUTLA","48050","151","PARTICIPACIONES 9255","Transf N° 84406LM00GFA","PAGO POR LA COMPRA DE LLANTAS Y SERVICIO DE LLANTERA PARA VEHICULOS OFICIALES DEL H AYUNTAMIENTO ",1350,"2023-05-16","4DFC58"]
[384,"VICTOR MANUEL  RUIZ MARTINEZ ","RUMV910728LUA","VENUSTIANO CARRANZA 195","AYUTLA","48050","151","PARTICIPACIONES 9255","Transf N° 84406LM00GFA","PAGO POR LA COMPRA DE LLANTAS Y SERVICIO DE LLANTERA PARA VEHICULOS OFICIALES DEL H AYUNTAMIENTO ",250,"2023-05-16","D03B7C"]
[385,"VICTOR MANUEL  RUIZ MARTINEZ ","RUMV910728LUA","VENUSTIANO CARRANZA 195","AYUTLA","48050","151","PARTICIPACIONES 9255","Transf N° 84406LM00GFA","PAGO POR LA COMPRA DE LLANTAS Y SERVICIO DE LLANTERA PARA VEHICULOS OFICIALES DEL H AYUNTAMIENTO ",575,"2023-05-16","5A57C2"]
[386,"VICTOR MANUEL  RUIZ MARTINEZ ","RUMV910728LUA","VENUSTIANO CARRANZA 195","AYUTLA","48050","151","PARTICIPACIONES 9255","Transf N° 84406LM00GFA","PAGO POR LA COMPRA DE LLANTAS Y SERVICIO DE LLANTERA PARA VEHICULOS OFICIALES DEL H AYUNTAMIENTO ",150,"2023-05-16","8A04E3"]
[387,"VICTOR MANUEL  RUIZ MARTINEZ ","RUMV910728LUA","VENUSTIANO CARRANZA 195","AYUTLA","48050","151","PARTICIPACIONES 9255","Transf N° 84406LM00GFA","PAGO POR LA COMPRA DE LLANTAS Y SERVICIO DE LLANTERA PARA VEHICULOS OFICIALES DEL H AYUNTAMIENTO ",150,"2023-05-16","EA8288"]
[388,"VICTOR MANUEL  RUIZ MARTINEZ ","RUMV910728LUA","VENUSTIANO CARRANZA 195","AYUTLA","48050","151","PARTICIPACIONES 9255","Transf N° 84406LM00GFA","PAGO POR LA COMPRA DE LLANTAS Y SERVICIO DE LLANTERA PARA VEHICULOS OFICIALES DEL H AYUNTAMIENTO ",330,"2023-05-16","FFAAEC"]
[389,"VICTOR MANUEL  RUIZ MARTINEZ ","RUMV910728LUA","VENUSTIANO CARRANZA 195","AYUTLA","48050","151","PARTICIPACIONES 9255","Transf N° 84406LM00GFA","PAGO POR LA COMPRA DE LLANTAS Y SERVICIO DE LLANTERA PARA VEHICULOS OFICIALES DEL H AYUNTAMIENTO ",150,"2023-05-16","54170E"]
[390,"VICTOR MANUEL  RUIZ MARTINEZ ","RUMV910728LUA","VENUSTIANO CARRANZA 195","AYUTLA","48050","151","PARTICIPACIONES 9255","Transf N° 84406LM00GFA","PAGO POR LA COMPRA DE LLANTAS Y SERVICIO DE LLANTERA PARA VEHICULOS OFICIALES DEL H AYUNTAMIENTO ",970,"2023-05-16","7708CE"]
[391,"VICTOR MANUEL  RUIZ MARTINEZ ","RUMV910728LUA","VENUSTIANO CARRANZA 195","AYUTLA","48050","151","PARTICIPACIONES 9255","Transf N° 84406LM00GFA","PAGO POR LA COMPRA DE LLANTAS Y SERVICIO DE LLANTERA PARA VEHICULOS OFICIALES DEL H AYUNTAMIENTO ",1170,"2023-05-16","644443"]
[392,"VICTOR MANUEL  RUIZ MARTINEZ ","RUMV910728LUA","VENUSTIANO CARRANZA 195","AYUTLA","48050","151","PARTICIPACIONES 9255","Transf N° 84406LM00GFA","PAGO POR LA COMPRA DE LLANTAS Y SERVICIO DE LLANTERA PARA VEHICULOS OFICIALES DEL H AYUNTAMIENTO ",540,"2023-05-16","F46AA6"]
[393,"VICTOR MANUEL  RUIZ MARTINEZ ","RUMV910728LUA","VENUSTIANO CARRANZA 195","AYUTLA","48050","252","FORTALECIMIENTO 1637 2023","Transf N° 34066LM00IKI","PAGO A LLANTERA POR COMPRA DE CAMARAS Y SERVICIO ",580,"2023-05-16","3C1AAF"]
[394,"VICTOR MANUEL  RUIZ MARTINEZ ","RUMV910728LUA","VENUSTIANO CARRANZA 195","AYUTLA","48050","151","PARTICIPACIONES 9255","Transf N° 84406LM00GFA","PAGO POR LA COMPRA DE LLANTAS Y SERVICIO DE LLANTERA PARA VEHICULOS OFICIALES DEL H AYUNTAMIENTO ",750,"2023-05-16","D816A4"]
[368,"SYC MOTORS ","SMO810623HI5","-","-","44180","252","FORTALECIMIENTO 1637 2023","Transf N° 33746LM01QG4","PAGO DE MOTOVENTILADOR PARA UNIDAD DE SEGURIDAD PUBLICA",8976,"2023-05-16","FR59366"]
[366,"SISTEMA PARA EL DESARROLLO INTEGRAL DE LA FAMILIA DEL MUNICIPIO DE JALISCO","DAY860104IM5","RAMON CORONA 87A","AYUTLA","48050","151","PARTICIPACIONES 9255","Transf N° 11406LM01I1Z","SUBSIDIO CORRESPONDIENTE AL MES DE MAYO 2023",205367,"2023-05-16","364654"]
[255,"LUIS MIGUEL  CASTILLO  TOVAR ","CATL8607147R2","FRANCISCO I MADERO # 114 CENTRO","AYUTLA","48050","151","PARTICIPACIONES 9255","Transf N° 52906LM01WBA","PAGO A IMPRENTA POR DISTINTOS TRABAJOS ",4885.0200000000004,"2023-05-16","BE1DA4"]
[260,"MA CONCEPCION GUADALUPE  OROZCO PELAYO ","OOPC521214DUA","MIGUEL HIDALGO # 94 A CENTRO","AYUTLA","48050","151","PARTICIPACIONES 9255","Transf N° 21506LM00ZMA","PAGO POR COMPRA DE MATERIAL DE FERRETERIA PARA MANTENIMIENTO DEL MUNICIPIO ",1716,"2023-05-16","9F96C1"]
[261,"MA CONCEPCION GUADALUPE  OROZCO PELAYO ","OOPC521214DUA","MIGUEL HIDALGO # 94 A CENTRO","AYUTLA","48050","151","PARTICIPACIONES 9255","Transf N° 21506LM00ZMA","PAGO POR COMPRA DE MATERIAL DE FERRETERIA PARA MANTENIMIENTO DEL MUNICIPIO ",241,"2023-05-16","85A14B"]
[262,"MA CONCEPCION GUADALUPE  OROZCO PELAYO ","OOPC521214DUA","MIGUEL HIDALGO # 94 A CENTRO","AYUTLA","48050","151","PARTICIPACIONES 9255","Transf N° 21506LM00ZMA","PAGO POR COMPRA DE MATERIAL DE FERRETERIA PARA MANTENIMIENTO DEL MUNICIPIO ",76.489999999999995,"2023-05-16","337002"]
[263,"MA CONCEPCION GUADALUPE  OROZCO PELAYO ","OOPC521214DUA","MIGUEL HIDALGO # 94 A CENTRO","AYUTLA","48050","151","PARTICIPACIONES 9255","Transf N° 21506LM00ZMA","PAGO POR COMPRA DE MATERIAL DE FERRETERIA PARA MANTENIMIENTO DEL MUNICIPIO ",803,"2023-05-16","929FD1"]
[264,"MA CONCEPCION GUADALUPE  OROZCO PELAYO ","OOPC521214DUA","MIGUEL HIDALGO # 94 A CENTRO","AYUTLA","48050","151","PARTICIPACIONES 9255","Transf N° 21506LM00ZMA","PAGO POR COMPRA DE MATERIAL DE FERRETERIA PARA MANTENIMIENTO DEL MUNICIPIO ",727.49,"2023-05-16","AA3990"]
[236,"JUAN OROZCO GOMEZ ","OOGJ780803E1A","-","AYUTLA","48050","151","PARTICIPACIONES 9255","Transf N° 32776LM013AS","PAGO A TALLER MECANICO POR SERVICIO Y MANTENIMIENTO A VEHICULOS DE ESTE H AYUNTAMIENTO ",780,"2023-05-16","99FCFC"]
[237,"JUAN OROZCO GOMEZ ","OOGJ780803E1A","-","AYUTLA","48050","151","PARTICIPACIONES 9255","Transf N° 32776LM013AS","PAGO A TALLER MECANICO POR SERVICIO Y MANTENIMIENTO A VEHICULOS DE ESTE H AYUNTAMIENTO ",1130,"2023-05-16","3A4147"]
[238,"JUAN OROZCO GOMEZ ","OOGJ780803E1A","-","AYUTLA","48050","252","FORTALECIMIENTO 1637 2023","Transf N° 53336LM007Y9","PAGO A TALLER MECANICO POR MANTENIMIENTO A PATRULLAS DE SEGURIDAD PUBLICA",690,"2023-05-16","9EBC2"]
[239,"JUAN OROZCO GOMEZ ","OOGJ780803E1A","-","AYUTLA","48050","252","FORTALECIMIENTO 1637 2023","Transf N° 53336LM007Y9","PAGO A TALLER MECANICO POR MANTENIMIENTO A PATRULLAS DE SEGURIDAD PUBLICA",1180,"2023-05-16","A07E0B"]
[240,"JUAN OROZCO GOMEZ ","OOGJ780803E1A","-","AYUTLA","48050","252","FORTALECIMIENTO 1637 2023","Transf N° 53336LM007Y9","PAGO A TALLER MECANICO POR MANTENIMIENTO A PATRULLAS DE SEGURIDAD PUBLICA",1270,"2023-05-16","22438D"]
[241,"JUAN OROZCO GOMEZ ","OOGJ780803E1A","-","AYUTLA","48050","252","FORTALECIMIENTO 1637 2023","Transf N° 53336LM007Y9","PAGO A TALLER MECANICO POR MANTENIMIENTO A PATRULLAS DE SEGURIDAD PUBLICA",650,"2023-05-16","A3770D"]
[119,"ERNESTO ALONSO COBA VAZQUEZ ","COVE870407SY2","-","-","48900","151","PARTICIPACIONES 9255","Transf N° 05676LM01PAX ","PAGO DE PLAYERAS PARA SELECCION FEMENIL DE LA COPA JALISCO ",3190,"2023-05-16","A92965 "]
[184,"JORGE ENRIQUE  PADILLA  DIAZ","PADJ810605GL6","SIN CALLE SIN N CENTRO","AYUTLA","48050","151","PARTICIPACIONES 9255","Transf N° 63166LM00A0N","PAGO A MUEBLERIA POR DISTINTOS ARTICULOS PARA OTORGARSE A PERSONAS QUE CONFORMAN LA BRIGADA DE JIDELAA",3076,"2023-05-16","A-1195"]
[137,"GASOLINERA CUATRO ESTRELLAS S.A DE C.V ","GCE100810B21","SIN CALLE SIN N CENTRO","UNIÓN DE TULA","48050","151","PARTICIPACIONES 9255","Transf N° 61266LM00GBY","PAGO POR LA COMPRA DE COMBUSTIBLE PARA VEHICULOS OFICIALES DEL H AYUNTAMIENTO ",87771.66,"2023-05-16","20340"]
[217,"JOSE MARIA ARCE GOMEZ","AEGM7208235J6","ZARAGOZA # 18 CENTRO","AYUTLA","48050","111","PARTICIPACIONES 9255","Transf N° 86136LM00C4J","PAGO DE HOSPEDAJE PARA PERSONAL DEL INE Y SADER ",3000,"2023-05-16","207989"]
[218,"JOSE MARIA ARCE GOMEZ","AEGM7208235J6","ZARAGOZA # 18 CENTRO","AYUTLA","48050","111","PARTICIPACIONES 9255","Transf N° 86136LM00C4J","PAGO DE HOSPEDAJE PARA PERSONAL DEL INE Y SADER ",500,"2023-05-16","9207989"]
[219,"JOSE MARIA ARCE GOMEZ","AEGM7208235J6","ZARAGOZA # 18 CENTRO","AYUTLA","48050","111","PARTICIPACIONES 9255","Transf N° 86136LM00C4J","PAGO DE HOSPEDAJE PARA PERSONAL DEL INE Y SADER ",500,"2023-05-16","09207989"]
[220,"JOSE SANCHEZ BECERRA ","SABJ700404UH7","-","-","48050","151","PARTICIPACIONES 9255","Cheque N° 30599","PAGO POR 6 KG DE PASTEL POR EL FESTEJO \"DIA DEL MAESTRO 2023\"",3540,"2023-05-16","30DE26"]
[191,"JOSE GUADALUPE CARDENAS CONTRERAS","CACG551212P14","NETZAHUALCOYOTL  131A PUEBLO VIEJO","AYUTLA","48050","151","PARTICIPACIONES 9255","Transf N° 16806LM015A7","PAGO POR LA COMPRA DE MATERIALES DE FERRETERIA PARA MANTENIMIENTO DEL MUNICIPIO ",1002.01,"2023-05-16","C4-5"]
[192,"JOSE GUADALUPE CARDENAS CONTRERAS","CACG551212P14","NETZAHUALCOYOTL  131A PUEBLO VIEJO","AYUTLA","48050","151","PARTICIPACIONES 9255","Transf N° 16806LM015A7","PAGO POR LA COMPRA DE MATERIALES DE FERRETERIA PARA MANTENIMIENTO DEL MUNICIPIO ",39360.01,"2023-05-16","C4-3"]
[193,"JOSE GUADALUPE CARDENAS CONTRERAS","CACG551212P14","NETZAHUALCOYOTL  131A PUEBLO VIEJO","AYUTLA","48050","151","PARTICIPACIONES 9255","Transf N° 43046LM00M0P","PAGO POR LA COMPRA DE ARTICULOS DE FERRETERIA PARA MANTENIMIENTO DEL MUNICIPIO ",3144.21,"2023-05-16","C4-2"]
[194,"JOSE GUADALUPE CARDENAS CONTRERAS","CACG551212P14","NETZAHUALCOYOTL  131A PUEBLO VIEJO","AYUTLA","48050","151","PARTICIPACIONES 9255","Transf N° 43046LM00M0P","PAGO POR LA COMPRA DE ARTICULOS DE FERRETERIA PARA MANTENIMIENTO DEL MUNICIPIO ",9599.7900000000009,"2023-05-16","C4-1"]
[338,"ROSA ELVIA  PEREZ  PELAYO ","PEPR830617AU2","SIN CALLE  SIN N CENTRO ","AYUTLA","48050","151","PARTICIPACIONES 9255","Transf N° 46996LM00Z9K","COMPRA DE ARTICULOS DEPORTIVOS PARA LA COPA JALISCO ",1100,"2023-05-16","B5D291"]
[339,"ROSA ELVIA  PEREZ  PELAYO ","PEPR830617AU2","SIN CALLE  SIN N CENTRO ","AYUTLA","48050","151","PARTICIPACIONES 9255","Transf N° 46996LM00Z9K","COMPRA DE ARTICULOS DEPORTIVOS PARA LA COPA JALISCO ",840,"2023-05-16","004332"]
[314,"OSWALDO ANTONIO  DE LA CRUZ GARCIA","CUGO831112487","NICOLAS BRAVO # 21 CENTRO","AYUTLA","48050","151","PARTICIPACIONES 9255","Transf N° 44126LM01HW5","PAGO POR LA COMPRA DE MATERIALES DE FERRETERIA PARA MANTENIMIENTO DEL MUNICIPIO ",1157.01,"2023-05-16","1829"]
[315,"OSWALDO ANTONIO  DE LA CRUZ GARCIA","CUGO831112487","NICOLAS BRAVO # 21 CENTRO","AYUTLA","48050","151","PARTICIPACIONES 9255","Transf N° 44126LM01HW5","PAGO POR LA COMPRA DE MATERIALES DE FERRETERIA PARA MANTENIMIENTO DEL MUNICIPIO ",567,"2023-05-16","1830"]
[316,"OSWALDO ANTONIO  DE LA CRUZ GARCIA","CUGO831112487","NICOLAS BRAVO # 21 CENTRO","AYUTLA","48050","151","PARTICIPACIONES 9255","Transf N° 44126LM01HW5","PAGO POR LA COMPRA DE MATERIALES DE FERRETERIA PARA MANTENIMIENTO DEL MUNICIPIO ",1630.01,"2023-05-16","1831"]
[317,"OSWALDO ANTONIO  DE LA CRUZ GARCIA","CUGO831112487","NICOLAS BRAVO # 21 CENTRO","AYUTLA","48050","151","PARTICIPACIONES 9255","Transf N° 44126LM01HW5","PAGO POR LA COMPRA DE MATERIALES DE FERRETERIA PARA MANTENIMIENTO DEL MUNICIPIO ",2190,"2023-05-16","1834"]
[318,"OSWALDO ANTONIO  DE LA CRUZ GARCIA","CUGO831112487","NICOLAS BRAVO # 21 CENTRO","AYUTLA","48050","151","PARTICIPACIONES 9255","Transf N° 44126LM01HW5","PAGO POR LA COMPRA DE MATERIALES DE FERRETERIA PARA MANTENIMIENTO DEL MUNICIPIO ",822,"2023-05-16","1819"]
[319,"OSWALDO ANTONIO  DE LA CRUZ GARCIA","CUGO831112487","NICOLAS BRAVO # 21 CENTRO","AYUTLA","48050","151","PARTICIPACIONES 9255","Transf N° 44126LM01HW5","PAGO POR LA COMPRA DE MATERIALES DE FERRETERIA PARA MANTENIMIENTO DEL MUNICIPIO ",25275,"2023-05-16","1820"]
[320,"OSWALDO ANTONIO  DE LA CRUZ GARCIA","CUGO831112487","NICOLAS BRAVO # 21 CENTRO","AYUTLA","48050","151","PARTICIPACIONES 9255","Transf N° 44126LM01HW5","PAGO POR LA COMPRA DE MATERIALES DE FERRETERIA PARA MANTENIMIENTO DEL MUNICIPIO ",590,"2023-05-16","1817"]
[321,"OSWALDO ANTONIO  DE LA CRUZ GARCIA","CUGO831112487","NICOLAS BRAVO # 21 CENTRO","AYUTLA","48050","151","PARTICIPACIONES 9255","Transf N° 44126LM01HW5","PAGO POR LA COMPRA DE MATERIALES DE FERRETERIA PARA MANTENIMIENTO DEL MUNICIPIO ",1088,"2023-05-16","1818"]
[322,"OSWALDO ANTONIO  DE LA CRUZ GARCIA","CUGO831112487","NICOLAS BRAVO # 21 CENTRO","AYUTLA","48050","151","PARTICIPACIONES 9255","Transf N° 44126LM01HW5","PAGO POR LA COMPRA DE MATERIALES DE FERRETERIA PARA MANTENIMIENTO DEL MUNICIPIO ",347,"2023-05-16","1816"]
[323,"OSWALDO ANTONIO  DE LA CRUZ GARCIA","CUGO831112487","NICOLAS BRAVO # 21 CENTRO","AYUTLA","48050","151","PARTICIPACIONES 9255","Transf N° 44126LM01HW5","PAGO POR LA COMPRA DE MATERIALES DE FERRETERIA PARA MANTENIMIENTO DEL MUNICIPIO ",215,"2023-05-16","1835"]
[324,"OSWALDO ANTONIO  DE LA CRUZ GARCIA","CUGO831112487","NICOLAS BRAVO # 21 CENTRO","AYUTLA","48050","151","PARTICIPACIONES 9255","Transf N° 44126LM01HW5","PAGO POR LA COMPRA DE MATERIALES DE FERRETERIA PARA MANTENIMIENTO DEL MUNICIPIO ",195,"2023-05-16","1836"]
[325,"OSWALDO ANTONIO  DE LA CRUZ GARCIA","CUGO831112487","NICOLAS BRAVO # 21 CENTRO","AYUTLA","48050","151","PARTICIPACIONES 9255","Transf N° 44126LM01HW5","PAGO POR LA COMPRA DE MATERIALES DE FERRETERIA PARA MANTENIMIENTO DEL MUNICIPIO ",273,"2023-05-16","1837"]
[326,"OSWALDO ANTONIO  DE LA CRUZ GARCIA","CUGO831112487","NICOLAS BRAVO # 21 CENTRO","AYUTLA","48050","151","PARTICIPACIONES 9255","Transf N° 44126LM01HW5","PAGO POR LA COMPRA DE MATERIALES DE FERRETERIA PARA MANTENIMIENTO DEL MUNICIPIO ",417.99,"2023-05-16","1832"]
[327,"OSWALDO ANTONIO  DE LA CRUZ GARCIA","CUGO831112487","NICOLAS BRAVO # 21 CENTRO","AYUTLA","48050","151","PARTICIPACIONES 9255","Transf N° 44126LM01HW5","PAGO POR LA COMPRA DE MATERIALES DE FERRETERIA PARA MANTENIMIENTO DEL MUNICIPIO ",1781.01,"2023-05-16","1833"]
[273,"MARIA MERCEDES  RANGEL  TORO","RATM6007144L5","RAMON CORONA # 7","AYUTLA","48050","151","FORTALECIMIENTO 1637 2023","Transf N° 69816LM010MU","PAGO A POR MANTENIMIENTO DE VEHICULOS Y COMPRA DE REFACCIONES ",1376.06,"2023-05-16","2BB4B4"]
[274,"MARIA MERCEDES  RANGEL  TORO","RATM6007144L5","RAMON CORONA # 7","AYUTLA","48050","151","FORTALECIMIENTO 1637 2023","Transf N° 69816LM010MU","PAGO A POR MANTENIMIENTO DE VEHICULOS Y COMPRA DE REFACCIONES ",72,"2023-05-16","232DC5"]
[275,"MARIA MERCEDES  RANGEL  TORO","RATM6007144L5","RAMON CORONA # 7","AYUTLA","48050","151","FORTALECIMIENTO 1637 2023","Transf N° 69816LM010MU","PAGO A POR MANTENIMIENTO DE VEHICULOS Y COMPRA DE REFACCIONES ",1372,"2023-05-16","77F84D"]
[276,"MARIA MERCEDES  RANGEL  TORO","RATM6007144L5","RAMON CORONA # 7","AYUTLA","48050","151","FORTALECIMIENTO 1637 2023","Transf N° 69816LM010MU","PAGO A POR MANTENIMIENTO DE VEHICULOS Y COMPRA DE REFACCIONES ",3530.45,"2023-05-16","B197EA"]
[277,"MARIA MERCEDES  RANGEL  TORO","RATM6007144L5","RAMON CORONA # 7","AYUTLA","48050","151","PARTICIPACIONES 9255","Transf N° 18956LM00CMA","PAGO POR LA COMPRA DE REFACCIONES PARA VEHICULOS OFICIALES DEL H AYUNTAMIENTO ",339.02,"2023-05-16","AEC86A"]
[278,"MARIA MERCEDES  RANGEL  TORO","RATM6007144L5","RAMON CORONA # 7","AYUTLA","48050","151","PARTICIPACIONES 9255","Transf N° 18956LM00CMA","PAGO POR LA COMPRA DE REFACCIONES PARA VEHICULOS OFICIALES DEL H AYUNTAMIENTO ",698.01,"2023-05-16","4E4EE3"]
[279,"MARIA MERCEDES  RANGEL  TORO","RATM6007144L5","RAMON CORONA # 7","AYUTLA","48050","151","PARTICIPACIONES 9255","Transf N° 18956LM00CMA","PAGO POR LA COMPRA DE REFACCIONES PARA VEHICULOS OFICIALES DEL H AYUNTAMIENTO ",925,"2023-05-16","90F879"]
[280,"MARIA MERCEDES  RANGEL  TORO","RATM6007144L5","RAMON CORONA # 7","AYUTLA","48050","151","PARTICIPACIONES 9255","Transf N° 18956LM00CMA","PAGO POR LA COMPRA DE REFACCIONES PARA VEHICULOS OFICIALES DEL H AYUNTAMIENTO ",2520.0500000000002,"2023-05-16","D89382"]
[281,"MARIA MERCEDES  RANGEL  TORO","RATM6007144L5","RAMON CORONA # 7","AYUTLA","48050","151","PARTICIPACIONES 9255","Transf N° 18956LM00CMA","PAGO POR LA COMPRA DE REFACCIONES PARA VEHICULOS OFICIALES DEL H AYUNTAMIENTO ",470.01,"2023-05-16","DFAB07"]
[282,"MARIA MERCEDES  RANGEL  TORO","RATM6007144L5","RAMON CORONA # 7","AYUTLA","48050","151","PARTICIPACIONES 9255","Transf N° 18956LM00CMA","PAGO POR LA COMPRA DE REFACCIONES PARA VEHICULOS OFICIALES DEL H AYUNTAMIENTO ",128.01,"2023-05-16","535F0F"]
[283,"MARIA MERCEDES  RANGEL  TORO","RATM6007144L5","RAMON CORONA # 7","AYUTLA","48050","151","PARTICIPACIONES 9255","Transf N° 18956LM00CMA","PAGO POR LA COMPRA DE REFACCIONES PARA VEHICULOS OFICIALES DEL H AYUNTAMIENTO ",14584.05,"2023-05-16","26C91A"]
[284,"MARIA MERCEDES  RANGEL  TORO","RATM6007144L5","RAMON CORONA # 7","AYUTLA","48050","151","PARTICIPACIONES 9255","Transf N° 52546LM013IC","PAGO POR LA COMPRA DE REFACCIONES PARA VEHICULOS OFICIALES DEL H AYUNTAMIENTO ",716.99,"2023-05-16","DC8E84"]
[285,"MARIA MERCEDES  RANGEL  TORO","RATM6007144L5","RAMON CORONA # 7","AYUTLA","48050","151","PARTICIPACIONES 9255","Transf N° 52546LM013IC","PAGO POR LA COMPRA DE REFACCIONES PARA VEHICULOS OFICIALES DEL H AYUNTAMIENTO ",387.01,"2023-05-16","BB4B22"]
[286,"MARIA MERCEDES  RANGEL  TORO","RATM6007144L5","RAMON CORONA # 7","AYUTLA","48050","151","PARTICIPACIONES 9255","Transf N° 52546LM013IC","PAGO POR LA COMPRA DE REFACCIONES PARA VEHICULOS OFICIALES DEL H AYUNTAMIENTO ",156,"2023-05-16","0AC78D"]
[287,"MARIA MERCEDES  RANGEL  TORO","RATM6007144L5","RAMON CORONA # 7","AYUTLA","48050","151","PARTICIPACIONES 9255","Transf N° 52546LM013IC","PAGO POR LA COMPRA DE REFACCIONES PARA VEHICULOS OFICIALES DEL H AYUNTAMIENTO ",2039.98,"2023-05-16","A75E00"]
[288,"MARIA MERCEDES  RANGEL  TORO","RATM6007144L5","RAMON CORONA # 7","AYUTLA","48050","151","PARTICIPACIONES 9255","Transf N° 52546LM013IC","PAGO POR LA COMPRA DE REFACCIONES PARA VEHICULOS OFICIALES DEL H AYUNTAMIENTO ",58,"2023-05-16","3A5765"]
[289,"MARIA MERCEDES  RANGEL  TORO","RATM6007144L5","RAMON CORONA # 7","AYUTLA","48050","151","PARTICIPACIONES 9255","Transf N° 52546LM013IC","PAGO POR LA COMPRA DE REFACCIONES PARA VEHICULOS OFICIALES DEL H AYUNTAMIENTO ",743,"2023-05-16","D8E3CF"]
[290,"MARIA MERCEDES  RANGEL  TORO","RATM6007144L5","RAMON CORONA # 7","AYUTLA","48050","151","PARTICIPACIONES 9255","Transf N° 52546LM013IC","PAGO POR LA COMPRA DE REFACCIONES PARA VEHICULOS OFICIALES DEL H AYUNTAMIENTO ",1615,"2023-05-16","667292"]
[291,"MARIA MERCEDES  RANGEL  TORO","RATM6007144L5","RAMON CORONA # 7","AYUTLA","48050","151","PARTICIPACIONES 9255","Transf N° 52546LM013IC","PAGO POR LA COMPRA DE REFACCIONES PARA VEHICULOS OFICIALES DEL H AYUNTAMIENTO ",7835.01,"2023-05-16","F6AC67"]
[292,"MARIA MERCEDES  RANGEL  TORO","RATM6007144L5","RAMON CORONA # 7","AYUTLA","48050","151","PARTICIPACIONES 9255","Transf N° 52546LM013IC","PAGO POR LA COMPRA DE REFACCIONES PARA VEHICULOS OFICIALES DEL H AYUNTAMIENTO ",2087.9899999999998,"2023-05-16","CFF6B3"]
[293,"MARIA MERCEDES  RANGEL  TORO","RATM6007144L5","RAMON CORONA # 7","AYUTLA","48050","151","PARTICIPACIONES 9255","Transf N° 52546LM013IC","PAGO POR LA COMPRA DE REFACCIONES PARA VEHICULOS OFICIALES DEL H AYUNTAMIENTO ",17840.98,"2023-05-16","311568"]
[294,"MARIA MERCEDES  RANGEL  TORO","RATM6007144L5","RAMON CORONA # 7","AYUTLA","48050","151","PARTICIPACIONES 9255","Transf N° 52546LM013IC","PAGO POR LA COMPRA DE REFACCIONES PARA VEHICULOS OFICIALES DEL H AYUNTAMIENTO ",10738.01,"2023-05-16","54E316"]
[295,"MARIA MERCEDES  RANGEL  TORO","RATM6007144L5","RAMON CORONA # 7","AYUTLA","48050","151","PARTICIPACIONES 9255","Transf N° 52546LM013IC","PAGO POR LA COMPRA DE REFACCIONES PARA VEHICULOS OFICIALES DEL H AYUNTAMIENTO ",1600,"2023-05-16","91E1F0"]
[296,"MARIA MERCEDES  RANGEL  TORO","RATM6007144L5","RAMON CORONA # 7","AYUTLA","48050","151","PARTICIPACIONES 9255","Transf N° 52546LM013IC","PAGO POR LA COMPRA DE REFACCIONES PARA VEHICULOS OFICIALES DEL H AYUNTAMIENTO ",9490.99,"2023-05-16","8E4B33"]
[297,"MARIA MERCEDES  RANGEL  TORO","RATM6007144L5","RAMON CORONA # 7","AYUTLA","48050","151","PARTICIPACIONES 9255","Transf N° 52546LM013IC","PAGO POR LA COMPRA DE REFACCIONES PARA VEHICULOS OFICIALES DEL H AYUNTAMIENTO ",170,"2023-05-16","76D04B"]
[298,"MARIA MERCEDES  RANGEL  TORO","RATM6007144L5","RAMON CORONA # 7","AYUTLA","48050","151","PARTICIPACIONES 9255","Transf N° 52546LM013IC","PAGO POR LA COMPRA DE REFACCIONES PARA VEHICULOS OFICIALES DEL H AYUNTAMIENTO ",92,"2023-05-16","99C355"]
[299,"NORMA LETICIA  IBARRA  PEREZ","IAPN720328LW6","ZARAGOZA 63 CENTRO ","AYUTLA","48050","151","PARTICIPACIONES 9255","Transf N° 48076LM01YWH","COMPRA DE ARTICULOS DE PAPELERIA PARA LAS DIFERENTES AREAS DE ESTE H. AYUNTAMIENTO ",190,"2023-05-16","354"]
[300,"NORMA LETICIA  IBARRA  PEREZ","IAPN720328LW6","ZARAGOZA 63 CENTRO ","AYUTLA","48050","151","PARTICIPACIONES 9255","Transf N° 48076LM01YWH","COMPRA DE ARTICULOS DE PAPELERIA PARA LAS DIFERENTES AREAS DE ESTE H. AYUNTAMIENTO ",20,"2023-05-16","355"]
[301,"NORMA LETICIA  IBARRA  PEREZ","IAPN720328LW6","ZARAGOZA 63 CENTRO ","AYUTLA","48050","151","PARTICIPACIONES 9255","Transf N° 48076LM01YWH","COMPRA DE ARTICULOS DE PAPELERIA PARA LAS DIFERENTES AREAS DE ESTE H. AYUNTAMIENTO ",552.05999999999995,"2023-05-16","356"]
[302,"NORMA LETICIA  IBARRA  PEREZ","IAPN720328LW6","ZARAGOZA 63 CENTRO ","AYUTLA","48050","151","PARTICIPACIONES 9255","Transf N° 48076LM01YWH","COMPRA DE ARTICULOS DE PAPELERIA PARA LAS DIFERENTES AREAS DE ESTE H. AYUNTAMIENTO ",90,"2023-05-16","358"]
[303,"NORMA LETICIA  IBARRA  PEREZ","IAPN720328LW6","ZARAGOZA 63 CENTRO ","AYUTLA","48050","151","PARTICIPACIONES 9255","Transf N° 48076LM01YWH","COMPRA DE ARTICULOS DE PAPELERIA PARA LAS DIFERENTES AREAS DE ESTE H. AYUNTAMIENTO ",66.89,"2023-05-16","353"]
[304,"NORMA LETICIA  IBARRA  PEREZ","IAPN720328LW6","ZARAGOZA 63 CENTRO ","AYUTLA","48050","151","PARTICIPACIONES 9255","Transf N° 48076LM01YWH","COMPRA DE ARTICULOS DE PAPELERIA PARA LAS DIFERENTES AREAS DE ESTE H. AYUNTAMIENTO ",868.99,"2023-05-16","357"]
[305,"NORMA LUCIA BUENROSTRO GUERRA","BUGN760211KM9","PROL 5 DE MAYO  350 PUEBLO VIEJO","AYUTLA","48050","252","FORTALECIMIENTO 1637 2023","Transf N° 68796LM01GUU","PAGO POR COMPRA DE LLANTAS PARA UNIDADES DE SEGURIDAD PUBLICA ",80.010000000000005,"2023-05-16","EAEC75"]
[306,"NORMA LUCIA BUENROSTRO GUERRA","BUGN760211KM9","PROL 5 DE MAYO  350 PUEBLO VIEJO","AYUTLA","48050","252","FORTALECIMIENTO 1637 2023","Transf N° 68796LM01GUU","PAGO POR COMPRA DE LLANTAS PARA UNIDADES DE SEGURIDAD PUBLICA ",400,"2023-05-16","224B24"]
[307,"NORMA LUCIA BUENROSTRO GUERRA","BUGN760211KM9","PROL 5 DE MAYO  350 PUEBLO VIEJO","AYUTLA","48050","151","PARTICIPACIONES 9255","Transf N° 84136LM006S8","PAGO POR LA COMPRA DE LLANTAS Y SERVICIO DE LLANTERA A VEHICULOS OFICIALES DEL H AYUNTAMIENTO ",12300.01,"2023-05-16","B7EDDE"]
[308,"NORMA LUCIA BUENROSTRO GUERRA","BUGN760211KM9","PROL 5 DE MAYO  350 PUEBLO VIEJO","AYUTLA","48050","151","PARTICIPACIONES 9255","Transf N° 84136LM006S8","PAGO POR LA COMPRA DE LLANTAS Y SERVICIO DE LLANTERA A VEHICULOS OFICIALES DEL H AYUNTAMIENTO ",80.010000000000005,"2023-05-16","910BD1"]
[309,"NORMA LUCIA BUENROSTRO GUERRA","BUGN760211KM9","PROL 5 DE MAYO  350 PUEBLO VIEJO","AYUTLA","48050","151","PARTICIPACIONES 9255","Transf N° 84136LM006S8","PAGO POR LA COMPRA DE LLANTAS Y SERVICIO DE LLANTERA A VEHICULOS OFICIALES DEL H AYUNTAMIENTO ",100,"2023-05-16","81F6C9"]
[310,"NORMA LUCIA BUENROSTRO GUERRA","BUGN760211KM9","PROL 5 DE MAYO  350 PUEBLO VIEJO","AYUTLA","48050","151","PARTICIPACIONES 9255","Transf N° 84136LM006S8","PAGO POR LA COMPRA DE LLANTAS Y SERVICIO DE LLANTERA A VEHICULOS OFICIALES DEL H AYUNTAMIENTO ",12300.01,"2023-05-16","3EC84D"]
[311,"NORMA LUCIA BUENROSTRO GUERRA","BUGN760211KM9","PROL 5 DE MAYO  350 PUEBLO VIEJO","AYUTLA","48050","151","PARTICIPACIONES 9255","Transf N° 84136LM006S8","PAGO POR LA COMPRA DE LLANTAS Y SERVICIO DE LLANTERA A VEHICULOS OFICIALES DEL H AYUNTAMIENTO ",4400,"2023-05-16","2F9CE9"]
[3,"ANDRES DE LA O RAMIREZ ","ORAN5311308Y7","-","-","48740","111","CAPTACION 9222","Transf N° 5536LM024K1","COMPRA DE POLEAS GIRATORIAS CON GANCHO EN VARILLA DE 1/1 EN ACERO INOXIDABLE PARA EL RASTRO MUNICIPAL ",34800,"2023-05-16","F62A67"]
[4,"ANNA MARGARITA ZAVALZA URIBE","ZAUA571129FJ4","5 DE MAYO 284 PUEBLO VIEJO ","AYUTLA","48050","151","PARTICIPACIONES 9255","Transf N° 13456LM00C9B","PAGO A TALLER MECANICO POR REPARACION DE VEHICULOS ",1060,"2023-05-16","A-35"]
[5,"ANNA MARGARITA ZAVALZA URIBE","ZAUA571129FJ4","5 DE MAYO 284 PUEBLO VIEJO ","AYUTLA","48050","151","PARTICIPACIONES 9255","Transf N° 13456LM00C9B","PAGO A TALLER MECANICO POR REPARACION DE VEHICULOS ",640,"2023-05-16","A-34"]
[6,"ANNA MARGARITA ZAVALZA URIBE","ZAUA571129FJ4","5 DE MAYO 284 PUEBLO VIEJO ","AYUTLA","48050","151","PARTICIPACIONES 9255","Transf N° 13456LM00C9B","PAGO A TALLER MECANICO POR REPARACION DE VEHICULOS ",4985,"2023-05-16","A-33"]
[85,"DAVID ULISES BLANCO MONTES DE OCA ","BAMD8912305LA","-","-","48740","151","PARTICIPACIONES 9255","Transf N° 44236LM0220I","PAGO DE SERVICIOS MUSICALES EN EVENTO \"DIA DEL MAESTRO\"",10000,"2023-05-16","1DF09F"]
[86,"DAYAN FLORENTINO  SANTOS PELAYO ","SAPD8607297B2","C GUERRERO # 146 CENTRO","AYUTLA","48050","151","PARTICIPACIONES 9255","Transf N° 43636LM01PVT","PAGO POR PERIFONEOS LOCALES, FORANEOS  DE DESCACHARRIZACION Y RENTA DE EQUIPO DE SONIDO POR DISTINTOS EVENTOS ",3480,"2023-05-16","314C6"]
[87,"DAYAN FLORENTINO  SANTOS PELAYO ","SAPD8607297B2","C GUERRERO # 146 CENTRO","AYUTLA","48050","151","PARTICIPACIONES 9255","Transf N° 43636LM01PVT","PAGO POR PERIFONEOS LOCALES, FORANEOS  DE DESCACHARRIZACION Y RENTA DE EQUIPO DE SONIDO POR DISTINTOS EVENTOS ",2088,"2023-05-16","3F27C9"]
[88,"DAYAN FLORENTINO  SANTOS PELAYO ","SAPD8607297B2","C GUERRERO # 146 CENTRO","AYUTLA","48050","151","FORTALECIMIENTO 1637 2023","Transf N° 80496LM00IYN","PAGO POR RENTA DE TOLDOS PARA REUNIONES DE SEGURIDAD PUBLICA ",2088,"2023-05-16","E78462"]
[70,"CRISTINA  OROZCO  MORALES ","OOMC860504MM2","ZARAGOZA 83 A CENTRO","AYUTLA","48050","151","PARTICIPACIONES 9255","Transf N° 44946LM020WZ","PAGO A LABORATORIO POR ANALISIS CLINICOS A EMPLEADOS DE ESTE H. AYUNTAMIENTO",400,"2023-05-16","487F79"]
[71,"CRISTINA  OROZCO  MORALES ","OOMC860504MM2","ZARAGOZA 83 A CENTRO","AYUTLA","48050","151","PARTICIPACIONES 9255","Transf N° 44946LM020WZ","PAGO A LABORATORIO POR ANALISIS CLINICOS A EMPLEADOS DE ESTE H. AYUNTAMIENTO",350,"2023-05-16","20035D"]
[72,"CRISTINA  OROZCO  MORALES ","OOMC860504MM2","ZARAGOZA 83 A CENTRO","AYUTLA","48050","151","PARTICIPACIONES 9255","Transf N° 44946LM020WZ","PAGO A LABORATORIO POR ANALISIS CLINICOS A EMPLEADOS DE ESTE H. AYUNTAMIENTO",380,"2023-05-16","852CB1"]
[73,"CRISTINA  OROZCO  MORALES ","OOMC860504MM2","ZARAGOZA 83 A CENTRO","AYUTLA","48050","151","PARTICIPACIONES 9255","Transf N° 44946LM020WZ","PAGO A LABORATORIO POR ANALISIS CLINICOS A EMPLEADOS DE ESTE H. AYUNTAMIENTO",380,"2023-05-16","07629B"]
[74,"CRISTINA  OROZCO  MORALES ","OOMC860504MM2","ZARAGOZA 83 A CENTRO","AYUTLA","48050","151","PARTICIPACIONES 9255","Transf N° 44946LM020WZ","PAGO A LABORATORIO POR ANALISIS CLINICOS A EMPLEADOS DE ESTE H. AYUNTAMIENTO",400,"2023-05-16","AF915C"]
[75,"CRISTINA  OROZCO  MORALES ","OOMC860504MM2","ZARAGOZA 83 A CENTRO","AYUTLA","48050","151","PARTICIPACIONES 9255","Transf N° 44946LM020WZ","PAGO A LABORATORIO POR ANALISIS CLINICOS A EMPLEADOS DE ESTE H. AYUNTAMIENTO",400,"2023-05-16","8F84F3"]
[76,"CRISTINA  OROZCO  MORALES ","OOMC860504MM2","ZARAGOZA 83 A CENTRO","AYUTLA","48050","151","PARTICIPACIONES 9255","Transf N° 44946LM020WZ","PAGO A LABORATORIO POR ANALISIS CLINICOS A EMPLEADOS DE ESTE H. AYUNTAMIENTO",120,"2023-05-16","56AE47"]
[11,"ARCELIA  DAVIS CUEVA ","DACA720814L64","C PROLONGACION 5 DE MAYO # 302","AYUTLA","48050","151","PARTICIPACIONES 9255","Cheque N° 30597","PAGO A TALLER MECANICO POR MANTENIMIENTO Y REPARACION DE VEHICULOS DE ESTE H. AYUNTAMIENTO ",1500,"2023-05-16","23B5EE"]
[12,"ARCELIA  DAVIS CUEVA ","DACA720814L64","C PROLONGACION 5 DE MAYO # 302","AYUTLA","48050","151","PARTICIPACIONES 9255","Cheque N° 30597","PAGO A TALLER MECANICO POR MANTENIMIENTO Y REPARACION DE VEHICULOS DE ESTE H. AYUNTAMIENTO ",1500,"2023-05-16","6A73F9"]
[13,"ARCELIA  DAVIS CUEVA ","DACA720814L64","C PROLONGACION 5 DE MAYO # 302","AYUTLA","48050","151","PARTICIPACIONES 9255","Cheque N° 30597","PAGO A TALLER MECANICO POR MANTENIMIENTO Y REPARACION DE VEHICULOS DE ESTE H. AYUNTAMIENTO ",2000,"2023-05-16","D35029"]
[14,"ARCELIA  DAVIS CUEVA ","DACA720814L64","C PROLONGACION 5 DE MAYO # 302","AYUTLA","48050","151","PARTICIPACIONES 9255","Cheque N° 30597","PAGO A TALLER MECANICO POR MANTENIMIENTO Y REPARACION DE VEHICULOS DE ESTE H. AYUNTAMIENTO ",3000,"2023-05-16","45CFB9"]
[15,"ARCELIA  DAVIS CUEVA ","DACA720814L64","C PROLONGACION 5 DE MAYO # 302","AYUTLA","48050","151","PARTICIPACIONES 9255","Cheque N° 30597","PAGO A TALLER MECANICO POR MANTENIMIENTO Y REPARACION DE VEHICULOS DE ESTE H. AYUNTAMIENTO ",3700,"2023-05-16","649808"]
[16,"ARCELIA  DAVIS CUEVA ","DACA720814L64","C PROLONGACION 5 DE MAYO # 302","AYUTLA","48050","151","PARTICIPACIONES 9255","Cheque N° 30597","PAGO A TALLER MECANICO POR MANTENIMIENTO Y REPARACION DE VEHICULOS DE ESTE H. AYUNTAMIENTO ",3700,"2023-05-16","B75329"]
[17,"ARCELIA  DAVIS CUEVA ","DACA720814L64","C PROLONGACION 5 DE MAYO # 302","AYUTLA","48050","151","PARTICIPACIONES 9255","Cheque N° 30597","PAGO A TALLER MECANICO POR MANTENIMIENTO Y REPARACION DE VEHICULOS DE ESTE H. AYUNTAMIENTO ",4000,"2023-05-16","61A4E6"]
[18,"BRENDA SOFIA  CARDENAS CUENCA","CACB020727DH6","LIBRAMIENTO  #70","AYUTLA","48050","151","PARTICIPACIONES 9255","Transf N° 18156LM01Q58","COMPRA DE FERREMATERIALES PARA MANTENIMIENTO DEL MUNICIPIO ",2088,"2023-05-16","F4BBB7"]
[19,"BRENDA SOFIA  CARDENAS CUENCA","CACB020727DH6","LIBRAMIENTO  #70","AYUTLA","48050","151","PARTICIPACIONES 9255","Transf N° 18156LM01Q58","COMPRA DE FERREMATERIALES PARA MANTENIMIENTO DEL MUNICIPIO ",516.08000000000004,"2023-05-16","2A61CC"]
[20,"BRENDA SOFIA  CARDENAS CUENCA","CACB020727DH6","LIBRAMIENTO  #70","AYUTLA","48050","111","PARTICIPACIONES 9255","Transf N° 18156LM01Q58","COMPRA DE FERREMATERIALES PARA MANTENIMIENTO DEL MUNICIPIO ",860,"2023-05-16","4BC612"]
[21,"BRENDA SOFIA  CARDENAS CUENCA","CACB020727DH6","LIBRAMIENTO  #70","AYUTLA","48050","111","PARTICIPACIONES 9255","Transf N° 18156LM01Q58","COMPRA DE FERREMATERIALES PARA MANTENIMIENTO DEL MUNICIPIO ",860,"2023-05-16","FED820"]
[22,"BRENDA SOFIA  CARDENAS CUENCA","CACB020727DH6","LIBRAMIENTO  #70","AYUTLA","48050","151","PARTICIPACIONES 9255","Transf N° 18156LM01Q58","COMPRA DE FERREMATERIALES PARA MANTENIMIENTO DEL MUNICIPIO ",523,"2023-05-16","2DA9BC"]
[23,"BRENDA SOFIA  CARDENAS CUENCA","CACB020727DH6","LIBRAMIENTO  #70","AYUTLA","48050","151","PARTICIPACIONES 9255","Transf N° 18156LM01Q58","COMPRA DE FERREMATERIALES PARA MANTENIMIENTO DEL MUNICIPIO ",231.02,"2023-05-16","F34A2D"]
[24,"BRENDA SOFIA  CARDENAS CUENCA","CACB020727DH6","LIBRAMIENTO  #70","AYUTLA","48050","151","PARTICIPACIONES 9255","Transf N° 18156LM01Q58","COMPRA DE FERREMATERIALES PARA MANTENIMIENTO DEL MUNICIPIO ",344.01,"2023-05-16","4F7C31"]
[25,"BRENDA SOFIA  CARDENAS CUENCA","CACB020727DH6","LIBRAMIENTO  #70","AYUTLA","48050","151","PARTICIPACIONES 9255","Transf N° 18156LM01Q58","COMPRA DE FERREMATERIALES PARA MANTENIMIENTO DEL MUNICIPIO ",840.03,"2023-05-16","9583DD"]
[26,"BRENDA SOFIA  CARDENAS CUENCA","CACB020727DH6","LIBRAMIENTO  #70","AYUTLA","48050","151","PARTICIPACIONES 9255","Transf N° 18156LM01Q58","COMPRA DE FERREMATERIALES PARA MANTENIMIENTO DEL MUNICIPIO ",4068.02,"2023-05-16","F71CF4"]
[27,"BRENDA SOFIA  CARDENAS CUENCA","CACB020727DH6","LIBRAMIENTO  #70","AYUTLA","48050","151","PARTICIPACIONES 9255","Transf N° 18156LM01Q58","COMPRA DE FERREMATERIALES PARA MANTENIMIENTO DEL MUNICIPIO ",66.010000000000005,"2023-05-16","2F1864"]
[28,"BRENDA SOFIA  CARDENAS CUENCA","CACB020727DH6","LIBRAMIENTO  #70","AYUTLA","48050","151","PARTICIPACIONES 9255","Transf N° 18156LM01Q58","COMPRA DE FERREMATERIALES PARA MANTENIMIENTO DEL MUNICIPIO ",240.01,"2023-05-16","A1A5BC"]
[29,"BRENDA SOFIA  CARDENAS CUENCA","CACB020727DH6","LIBRAMIENTO  #70","AYUTLA","48050","151","PARTICIPACIONES 9255","Transf N° 18156LM01Q58","COMPRA DE FERREMATERIALES PARA MANTENIMIENTO DEL MUNICIPIO ",1099.01,"2023-05-16","F46C27"]
[30,"BRENDA SOFIA  CARDENAS CUENCA","CACB020727DH6","LIBRAMIENTO  #70","AYUTLA","48050","151","PARTICIPACIONES 9255","Transf N° 18156LM01Q58","COMPRA DE FERREMATERIALES PARA MANTENIMIENTO DEL MUNICIPIO ",438.01,"2023-05-16","1633BC"]
[31,"BRENDA SOFIA  CARDENAS CUENCA","CACB020727DH6","LIBRAMIENTO  #70","AYUTLA","48050","151","PARTICIPACIONES 9255","Transf N° 18156LM01Q58","COMPRA DE FERREMATERIALES PARA MANTENIMIENTO DEL MUNICIPIO ",1167.02,"2023-05-16","A7BB70"]
[32,"BRENDA SOFIA  CARDENAS CUENCA","CACB020727DH6","LIBRAMIENTO  #70","AYUTLA","48050","151","PARTICIPACIONES 9255","Transf N° 18156LM01Q58","COMPRA DE FERREMATERIALES PARA MANTENIMIENTO DEL MUNICIPIO ",435,"2023-05-16","8BF4D3"]
[33,"BRENDA SOFIA  CARDENAS CUENCA","CACB020727DH6","LIBRAMIENTO  #70","AYUTLA","48050","151","PARTICIPACIONES 9255","Transf N° 18156LM01Q58","COMPRA DE FERREMATERIALES PARA MANTENIMIENTO DEL MUNICIPIO ",997.01,"2023-05-16","3098AA"]
[34,"BRENDA SOFIA  CARDENAS CUENCA","CACB020727DH6","LIBRAMIENTO  #70","AYUTLA","48050","151","PARTICIPACIONES 9255","Transf N° 18156LM01Q58","COMPRA DE FERREMATERIALES PARA MANTENIMIENTO DEL MUNICIPIO ",750,"2023-05-16","02804A"]
[35,"BRENDA SOFIA  CARDENAS CUENCA","CACB020727DH6","LIBRAMIENTO  #70","AYUTLA","48050","151","PARTICIPACIONES 9255","Transf N° 07826LM01AKM","COMPRA DE FERREMATERIALES PARA MANTENIMIENTO DEL MUNICIPIO ",314.01,"2023-05-16","BD3AD6"]
[36,"BRENDA SOFIA  CARDENAS CUENCA","CACB020727DH6","LIBRAMIENTO  #70","AYUTLA","48050","151","PARTICIPACIONES 9255","Transf N° 07826LM01AKM","COMPRA DE FERREMATERIALES PARA MANTENIMIENTO DEL MUNICIPIO ",229.01,"2023-05-16","283994"]
[37,"BRENDA SOFIA  CARDENAS CUENCA","CACB020727DH6","LIBRAMIENTO  #70","AYUTLA","48050","151","PARTICIPACIONES 9255","Transf N° 07826LM01AKM","COMPRA DE FERREMATERIALES PARA MANTENIMIENTO DEL MUNICIPIO ",1215,"2023-05-16","D5EA33"]
[38,"BRENDA SOFIA  CARDENAS CUENCA","CACB020727DH6","LIBRAMIENTO  #70","AYUTLA","48050","151","PARTICIPACIONES 9255","Transf N° 07826LM01AKM","COMPRA DE FERREMATERIALES PARA MANTENIMIENTO DEL MUNICIPIO ",4090.16,"2023-05-16","3D8572"]
[39,"BRENDA SOFIA  CARDENAS CUENCA","CACB020727DH6","LIBRAMIENTO  #70","AYUTLA","48050","151","PARTICIPACIONES 9255","Transf N° 07826LM01AKM","COMPRA DE FERREMATERIALES PARA MANTENIMIENTO DEL MUNICIPIO ",2061,"2023-05-16","A73FA0"]
[40,"BRENDA SOFIA  CARDENAS CUENCA","CACB020727DH6","LIBRAMIENTO  #70","AYUTLA","48050","151","PARTICIPACIONES 9255","Transf N° 07826LM01AKM","COMPRA DE FERREMATERIALES PARA MANTENIMIENTO DEL MUNICIPIO ",234.02,"2023-05-16","3940C9"]
[41,"BRENDA SOFIA  CARDENAS CUENCA","CACB020727DH6","LIBRAMIENTO  #70","AYUTLA","48050","151","PARTICIPACIONES 9255","Transf N° 07826LM01AKM","COMPRA DE FERREMATERIALES PARA MANTENIMIENTO DEL MUNICIPIO ",209.01,"2023-05-16","DB479E"]
[42,"BRENDA SOFIA  CARDENAS CUENCA","CACB020727DH6","LIBRAMIENTO  #70","AYUTLA","48050","151","PARTICIPACIONES 9255","Transf N° 07826LM01AKM","COMPRA DE FERREMATERIALES PARA MANTENIMIENTO DEL MUNICIPIO ",770.03,"2023-05-16","D74394"]
[43,"BRENDA SOFIA  CARDENAS CUENCA","CACB020727DH6","LIBRAMIENTO  #70","AYUTLA","48050","151","PARTICIPACIONES 9255","Transf N° 07826LM01AKM","COMPRA DE FERREMATERIALES PARA MANTENIMIENTO DEL MUNICIPIO ",4288.01,"2023-05-16","15CFC1"]
[115,"EDGAR OMAR ELIZONDO TORO ","EITE780119FM2","PROLONGACION 5 DE MAYO 304","AYUTLA ","48050","151","PARTICIPACIONES 9255","Transf N° 19736LO00KQV","PAGO POR LA COMPRA DE REFACCIONES PARA VEHICULOS OFICIALES DE PROTECCION CIVIL ",875,"2023-05-16","A-2149"]
[116,"EDGAR OMAR ELIZONDO TORO ","EITE780119FM2","PROLONGACION 5 DE MAYO 304","AYUTLA ","48050","151","PARTICIPACIONES 9255","Transf N° 19736LO00KQV","PAGO POR LA COMPRA DE REFACCIONES PARA VEHICULOS OFICIALES DE PROTECCION CIVIL ",342,"2023-05-16","A-2150"]
[125,"FRANCISCO ADRIAN ALVARADO MADERA","AAMF791119GD8","SIN CALLE  SIN N CENTRO ","LO ARADO","48050","151","PARTICIPACIONES 9255","Transf N° 68036LM00SAG","APOYO PARA PAGO DE SERVICIOS FUNERARIOS ",4000,"2023-05-16","931FB5"]
[126,"FRANCISCO JAVER PELAYO URIBE","PEUF721003QS9","JOSEFA ORTIZ DE DOMINGUEZ # 4","AYUTLA","48050","151","PARTICIPACIONES 9255","Transf N° 06386LM023ZU","PAGO DE SERVICIOS MEDICOS DE ORTOPEDIA Y TRAUMATOLOGIA ",7200,"2023-05-16","BDC75D"]
[127,"FRANCISCO JAVER PELAYO URIBE","PEUF721003QS9","JOSEFA ORTIZ DE DOMINGUEZ # 4","AYUTLA","48050","151","PARTICIPACIONES 9255","Transf N° 06386LM023ZU","PAGO DE SERVICIOS MEDICOS DE ORTOPEDIA Y TRAUMATOLOGIA ",2500,"2023-05-16","B4277F"]
[128,"FRANCISCO JAVER PELAYO URIBE","PEUF721003QS9","JOSEFA ORTIZ DE DOMINGUEZ # 4","AYUTLA","48050","151","PARTICIPACIONES 9255","Transf N° 06386LM023ZU","PAGO DE SERVICIOS MEDICOS DE ORTOPEDIA Y TRAUMATOLOGIA ",1200,"2023-05-16","718611"]
[101,"DORA DEL CARMEN  LOPEZ VILLASEÑOR","LOVD6505181E7","CUAUHTEMOC 57 NA","MASCOTA","48050","151","PARTICIPACIONES 9255","Transf N° 26116LM01P4X","PAGO POR LA COMPRA DE MATERIAL DE CONSTRUCCION PARA MANTENIMIENTO DEL MUNICIPIO Y APOYOS A PERSONAS DE BAJOS RECURSOS ",9919.77,"2023-05-16","B25485"]
[102,"DORA DEL CARMEN  LOPEZ VILLASEÑOR","LOVD6505181E7","CUAUHTEMOC 57 NA","MASCOTA","48050","151","PARTICIPACIONES 9255","Transf N° 26116LM01P4X","PAGO POR LA COMPRA DE MATERIAL DE CONSTRUCCION PARA MANTENIMIENTO DEL MUNICIPIO Y APOYOS A PERSONAS DE BAJOS RECURSOS ",2664.65,"2023-05-16","B25486"]
[103,"DORA DEL CARMEN  LOPEZ VILLASEÑOR","LOVD6505181E7","CUAUHTEMOC 57 NA","MASCOTA","48050","151","PARTICIPACIONES 9255","Transf N° 26116LM01P4X","PAGO POR LA COMPRA DE MATERIAL DE CONSTRUCCION PARA MANTENIMIENTO DEL MUNICIPIO Y APOYOS A PERSONAS DE BAJOS RECURSOS ",3442.16,"2023-05-16","B25484"]
[104,"DORA DEL CARMEN  LOPEZ VILLASEÑOR","LOVD6505181E7","CUAUHTEMOC 57 NA","MASCOTA","48050","151","PARTICIPACIONES 9255","Transf N° 26116LM01P4X","PAGO POR LA COMPRA DE MATERIAL DE CONSTRUCCION PARA MANTENIMIENTO DEL MUNICIPIO Y APOYOS A PERSONAS DE BAJOS RECURSOS ",485,"2023-05-16","B25483"]
[105,"DORA DEL CARMEN  LOPEZ VILLASEÑOR","LOVD6505181E7","CUAUHTEMOC 57 NA","MASCOTA","48050","151","PARTICIPACIONES 9255","Transf N° 26116LM01P4X","PAGO POR LA COMPRA DE MATERIAL DE CONSTRUCCION PARA MANTENIMIENTO DEL MUNICIPIO Y APOYOS A PERSONAS DE BAJOS RECURSOS ",860.37,"2023-05-16","B25482"]
[106,"DORA DEL CARMEN  LOPEZ VILLASEÑOR","LOVD6505181E7","CUAUHTEMOC 57 NA","MASCOTA","48050","151","PARTICIPACIONES 9255","Transf N° 26116LM01P4X","PAGO POR LA COMPRA DE MATERIAL DE CONSTRUCCION PARA MANTENIMIENTO DEL MUNICIPIO Y APOYOS A PERSONAS DE BAJOS RECURSOS ",62550.05,"2023-05-16","B25583"]
[107,"DORA DEL CARMEN  LOPEZ VILLASEÑOR","LOVD6505181E7","CUAUHTEMOC 57 NA","MASCOTA","48050","151","PARTICIPACIONES 9255","Transf N° 26116LM01P4X","PAGO POR LA COMPRA DE MATERIAL DE CONSTRUCCION PARA MANTENIMIENTO DEL MUNICIPIO Y APOYOS A PERSONAS DE BAJOS RECURSOS ",3238.11,"2023-05-16","B25585"]
[108,"DORA DEL CARMEN  LOPEZ VILLASEÑOR","LOVD6505181E7","CUAUHTEMOC 57 NA","MASCOTA","48050","151","PARTICIPACIONES 9255","Transf N° 26116LM01P4X","PAGO POR LA COMPRA DE MATERIAL DE CONSTRUCCION PARA MANTENIMIENTO DEL MUNICIPIO Y APOYOS A PERSONAS DE BAJOS RECURSOS ",649.84,"2023-05-16","B25581"]
[109,"DORA DEL CARMEN  LOPEZ VILLASEÑOR","LOVD6505181E7","CUAUHTEMOC 57 NA","MASCOTA","48050","151","PARTICIPACIONES 9255","Transf N° 26116LM01P4X","PAGO POR LA COMPRA DE MATERIAL DE CONSTRUCCION PARA MANTENIMIENTO DEL MUNICIPIO Y APOYOS A PERSONAS DE BAJOS RECURSOS ",9558.17,"2023-05-16","B25584"]
[110,"DORA DEL CARMEN  LOPEZ VILLASEÑOR","LOVD6505181E7","CUAUHTEMOC 57 NA","MASCOTA","48050","151","PARTICIPACIONES 9255","Transf N° 26116LM01P4X","PAGO POR LA COMPRA DE MATERIAL DE CONSTRUCCION PARA MANTENIMIENTO DEL MUNICIPIO Y APOYOS A PERSONAS DE BAJOS RECURSOS ",2585.09,"2023-05-16","B25569"]
[111,"DORA DEL CARMEN  LOPEZ VILLASEÑOR","LOVD6505181E7","CUAUHTEMOC 57 NA","MASCOTA","48050","151","PARTICIPACIONES 9255","Transf N° 26116LM01P4X","PAGO POR LA COMPRA DE MATERIAL DE CONSTRUCCION PARA MANTENIMIENTO DEL MUNICIPIO Y APOYOS A PERSONAS DE BAJOS RECURSOS ",6900.14,"2023-05-16","B25571"]
[112,"DORA DEL CARMEN  LOPEZ VILLASEÑOR","LOVD6505181E7","CUAUHTEMOC 57 NA","MASCOTA","48050","151","PARTICIPACIONES 9255","Transf N° 26116LM01P4X","PAGO POR LA COMPRA DE MATERIAL DE CONSTRUCCION PARA MANTENIMIENTO DEL MUNICIPIO Y APOYOS A PERSONAS DE BAJOS RECURSOS ",772.03,"2023-05-16","B25576"]
[140,"GUSTAVO ADOLFO  MACIAS  LOPEZ ","MALG791115572","REFORMA # 19 CENTRO","AYUTLA","48050","151","PARTICIPACIONES 9255","Transf N° 36036LM00BHU","PAGO POR LA COMPRA DE REFACCIONES PARA VEHICULOS OFICIALES DEL H AYUNTAMIENTO ",1780,"2023-05-16","CA00C4"]
[141,"GUSTAVO ADOLFO  MACIAS  LOPEZ ","MALG791115572","REFORMA # 19 CENTRO","AYUTLA","48050","151","PARTICIPACIONES 9255","Transf N° 36036LM00BHU","PAGO POR LA COMPRA DE REFACCIONES PARA VEHICULOS OFICIALES DEL H AYUNTAMIENTO ",10656,"2023-05-16","9C41A7"]
[142,"GUSTAVO ADOLFO  MACIAS  LOPEZ ","MALG791115572","REFORMA # 19 CENTRO","AYUTLA","48050","151","PARTICIPACIONES 9255","Transf N° 36036LM00BHU","PAGO POR LA COMPRA DE REFACCIONES PARA VEHICULOS OFICIALES DEL H AYUNTAMIENTO ",708,"2023-05-16","9EC63A"]
[143,"GUSTAVO ADOLFO  MACIAS  LOPEZ ","MALG791115572","REFORMA # 19 CENTRO","AYUTLA","48050","151","PARTICIPACIONES 9255","Transf N° 36036LM00BHU","PAGO POR LA COMPRA DE REFACCIONES PARA VEHICULOS OFICIALES DEL H AYUNTAMIENTO ",8529,"2023-05-16","CE40E0"]
[144,"GUSTAVO ADOLFO  MACIAS  LOPEZ ","MALG791115572","REFORMA # 19 CENTRO","AYUTLA","48050","151","PARTICIPACIONES 9255","Transf N° 36036LM00BHU","PAGO POR LA COMPRA DE REFACCIONES PARA VEHICULOS OFICIALES DEL H AYUNTAMIENTO ",2399,"2023-05-16","897407"]
[145,"GUSTAVO ADOLFO  MACIAS  LOPEZ ","MALG791115572","REFORMA # 19 CENTRO","AYUTLA","48050","252","FORTALECIMIENTO 1637 2023","Transf N° 83486LM00A5P","PAGO POR MANTENIMIENTO Y REFACCIONES PARA PATRULLAS DE SEGURIDAD PUBLICA ",601,"2023-05-16","E15AD8"]
[146,"GUSTAVO ADOLFO  MACIAS  LOPEZ ","MALG791115572","REFORMA # 19 CENTRO","AYUTLA","48050","252","FORTALECIMIENTO 1637 2023","Transf N° 83486LM00A5P","PAGO POR MANTENIMIENTO Y REFACCIONES PARA PATRULLAS DE SEGURIDAD PUBLICA ",2683,"2023-05-16","BA3CB9"]
[163,"J VIRGEN JAVIER  GUERRERO LOPEZ","GULV6012301A1","LIBRAMIENTO # 18","AYUTLA","48050","151","PARTICIPACIONES 9255","Transf N° 40716LM00329","PAGO A TALLER MECANICO POR MANTENIMIENTO Y REPARACION DE VEHICULOS DE ESTE H AYUNTAMIENTO ",1783,"2023-05-16","10684"]
[164,"J VIRGEN JAVIER  GUERRERO LOPEZ","GULV6012301A1","LIBRAMIENTO # 18","AYUTLA","48050","151","PARTICIPACIONES 9255","Transf N° 40716LM00329","PAGO A TALLER MECANICO POR MANTENIMIENTO Y REPARACION DE VEHICULOS DE ESTE H AYUNTAMIENTO ",360.01,"2023-05-16","10683"]
[165,"J VIRGEN JAVIER  GUERRERO LOPEZ","GULV6012301A1","LIBRAMIENTO # 18","AYUTLA","48050","151","PARTICIPACIONES 9255","Transf N° 40716LM00329","PAGO A TALLER MECANICO POR MANTENIMIENTO Y REPARACION DE VEHICULOS DE ESTE H AYUNTAMIENTO ",491.94,"2023-05-16","10685"]
[166,"J VIRGEN JAVIER  GUERRERO LOPEZ","GULV6012301A1","LIBRAMIENTO # 18","AYUTLA","48050","151","PARTICIPACIONES 9255","Transf N° 40716LM00329","PAGO A TALLER MECANICO POR MANTENIMIENTO Y REPARACION DE VEHICULOS DE ESTE H AYUNTAMIENTO ",1171.47,"2023-05-16","10682"]
[167,"J VIRGEN JAVIER  GUERRERO LOPEZ","GULV6012301A1","LIBRAMIENTO # 18","AYUTLA","48050","151","PARTICIPACIONES 9255","Transf N° 40716LM00329","PAGO A TALLER MECANICO POR MANTENIMIENTO Y REPARACION DE VEHICULOS DE ESTE H AYUNTAMIENTO ",97.98,"2023-05-16","10687"]
[168,"J VIRGEN JAVIER  GUERRERO LOPEZ","GULV6012301A1","LIBRAMIENTO # 18","AYUTLA","48050","151","PARTICIPACIONES 9255","Transf N° 40716LM00329","PAGO A TALLER MECANICO POR MANTENIMIENTO Y REPARACION DE VEHICULOS DE ESTE H AYUNTAMIENTO ",2028.98,"2023-05-16","10686"]
[169,"J VIRGEN JAVIER  GUERRERO LOPEZ","GULV6012301A1","LIBRAMIENTO # 18","AYUTLA","48050","151","PARTICIPACIONES 9255","Transf N° 40716LM00329","PAGO A TALLER MECANICO POR MANTENIMIENTO Y REPARACION DE VEHICULOS DE ESTE H AYUNTAMIENTO ",172.01,"2023-05-16","10688"]
[170,"J VIRGEN JAVIER  GUERRERO LOPEZ","GULV6012301A1","LIBRAMIENTO # 18","AYUTLA","48050","151","PARTICIPACIONES 9255","Transf N° 40716LM00329","PAGO A TALLER MECANICO POR MANTENIMIENTO Y REPARACION DE VEHICULOS DE ESTE H AYUNTAMIENTO ",630.99,"2023-05-16","10651"]
[171,"J VIRGEN JAVIER  GUERRERO LOPEZ","GULV6012301A1","LIBRAMIENTO # 18","AYUTLA","48050","151","PARTICIPACIONES 9255","Transf N° 40716LM00329","PAGO A TALLER MECANICO POR MANTENIMIENTO Y REPARACION DE VEHICULOS DE ESTE H AYUNTAMIENTO ",116,"2023-05-16","10652"]
[172,"JAVIER VARGAS  GONZALEZ","VAGJ840905TD3","CALLE JALISCO # 1 COLONIA AZTECA","AYUTLA","48050","151","PARTICIPACIONES 9255","Transf N° 15446LM017LJ","PAGO POR TRABAJOS DE CERRAJERIA PARA MANTENIMIENTO DEL MUNICIPIO ",1392,"2023-05-16","55DCC7"]
[173,"JAVIER VARGAS  GONZALEZ","VAGJ840905TD3","CALLE JALISCO # 1 COLONIA AZTECA","AYUTLA","48050","151","PARTICIPACIONES 9255","Transf N° 15446LM017LJ","PAGO POR TRABAJOS DE CERRAJERIA PARA MANTENIMIENTO DEL MUNICIPIO ",14848,"2023-05-16","9E05A2"]
[174,"JAVIER VARGAS  GONZALEZ","VAGJ840905TD3","CALLE JALISCO # 1 COLONIA AZTECA","AYUTLA","48050","151","PARTICIPACIONES 9255","Transf N° 15446LM017LJ","PAGO POR TRABAJOS DE CERRAJERIA PARA MANTENIMIENTO DEL MUNICIPIO ",2783.99,"2023-05-16","83AFA0"]
[175,"JAVIER VARGAS  GONZALEZ","VAGJ840905TD3","CALLE JALISCO # 1 COLONIA AZTECA","AYUTLA","48050","151","PARTICIPACIONES 9255","Transf N° 15446LM017LJ","PAGO POR TRABAJOS DE CERRAJERIA PARA MANTENIMIENTO DEL MUNICIPIO ",4060,"2023-05-16","F21151"]
[176,"JAVIER VARGAS  GONZALEZ","VAGJ840905TD3","CALLE JALISCO # 1 COLONIA AZTECA","AYUTLA","48050","151","PARTICIPACIONES 9255","Transf N° 15446LM017LJ","PAGO POR TRABAJOS DE CERRAJERIA PARA MANTENIMIENTO DEL MUNICIPIO ",2088,"2023-05-16","A4B927"]
[177,"JAVIER VARGAS  GONZALEZ","VAGJ840905TD3","CALLE JALISCO # 1 COLONIA AZTECA","AYUTLA","48050","151","PARTICIPACIONES 9255","Transf N° 15446LM017LJ","PAGO POR TRABAJOS DE CERRAJERIA PARA MANTENIMIENTO DEL MUNICIPIO ",2088,"2023-05-16","D8AC50"]
[178,"JAVIER VARGAS  GONZALEZ","VAGJ840905TD3","CALLE JALISCO # 1 COLONIA AZTECA","AYUTLA","48050","151","PARTICIPACIONES 9255","Transf N° 15446LM017LJ","PAGO POR TRABAJOS DE CERRAJERIA PARA MANTENIMIENTO DEL MUNICIPIO ",1740,"2023-05-16","9BA5C3"]
[179,"JAVIER VARGAS  GONZALEZ","VAGJ840905TD3","CALLE JALISCO # 1 COLONIA AZTECA","AYUTLA","48050","151","PARTICIPACIONES 9255","Transf N° 15446LM017LJ","PAGO POR TRABAJOS DE CERRAJERIA PARA MANTENIMIENTO DEL MUNICIPIO ",2900,"2023-05-16","3C5B80"]
[180,"JAVIER VARGAS  GONZALEZ","VAGJ840905TD3","CALLE JALISCO # 1 COLONIA AZTECA","AYUTLA","48050","151","PARTICIPACIONES 9255","Transf N° 15446LM017LJ","PAGO POR TRABAJOS DE CERRAJERIA PARA MANTENIMIENTO DEL MUNICIPIO ",4408,"2023-05-16","0C4C8E"]
[181,"JAVIER VARGAS  GONZALEZ","VAGJ840905TD3","CALLE JALISCO # 1 COLONIA AZTECA","AYUTLA","48050","151","PARTICIPACIONES 9255","Transf N° 15446LM017LJ","PAGO POR TRABAJOS DE CERRAJERIA PARA MANTENIMIENTO DEL MUNICIPIO ",2192.5300000000002,"2023-05-16","D309D9"]
[147,"GUSTAVO ADOLFO  MACIAS  LOPEZ ","MALG791115572","REFORMA # 19 CENTRO","AYUTLA","48050","151","PARTICIPACIONES 9255","Transf N° 08606NC01Y70","PAGO A REFACCIONARIA POR SERVICIO Y MANTENIMIENTO A VEHICULOS DE ESTE H. AYUNTAMIENTO ",1004,"2023-05-17","6106"]
[148,"GUSTAVO ADOLFO  MACIAS  LOPEZ ","MALG791115572","REFORMA # 19 CENTRO","AYUTLA","48050","151","PARTICIPACIONES 9255","Transf N° 08606NC01Y70","PAGO A REFACCIONARIA POR SERVICIO Y MANTENIMIENTO A VEHICULOS DE ESTE H. AYUNTAMIENTO ",1259,"2023-05-17","6104"]
[149,"GUSTAVO ADOLFO  MACIAS  LOPEZ ","MALG791115572","REFORMA # 19 CENTRO","AYUTLA","48050","151","PARTICIPACIONES 9255","Transf N° 08606NC01Y70","PAGO A REFACCIONARIA POR SERVICIO Y MANTENIMIENTO A VEHICULOS DE ESTE H. AYUNTAMIENTO ",3154,"2023-05-17","6105"]
[150,"GUSTAVO ADOLFO  MACIAS  LOPEZ ","MALG791115572","REFORMA # 19 CENTRO","AYUTLA","48050","151","PARTICIPACIONES 9255","Transf N° 08606NC01Y70","PAGO A REFACCIONARIA POR SERVICIO Y MANTENIMIENTO A VEHICULOS DE ESTE H. AYUNTAMIENTO ",2548,"2023-05-17","6175"]
[151,"GUSTAVO ADOLFO  MACIAS  LOPEZ ","MALG791115572","REFORMA # 19 CENTRO","AYUTLA","48050","151","PARTICIPACIONES 9255","Transf N° 08606NC01Y70","PAGO A REFACCIONARIA POR SERVICIO Y MANTENIMIENTO A VEHICULOS DE ESTE H. AYUNTAMIENTO ",2250,"2023-05-17","6174"]
[152,"GUSTAVO ADOLFO  MACIAS  LOPEZ ","MALG791115572","REFORMA # 19 CENTRO","AYUTLA","48050","151","PARTICIPACIONES 9255","Transf N° 08606NC01Y70","PAGO A REFACCIONARIA POR SERVICIO Y MANTENIMIENTO A VEHICULOS DE ESTE H. AYUNTAMIENTO ",2800,"2023-05-17","6171"]
[153,"GUSTAVO ADOLFO  MACIAS  LOPEZ ","MALG791115572","REFORMA # 19 CENTRO","AYUTLA","48050","151","PARTICIPACIONES 9255","Transf N° 08606NC01Y70","PAGO A REFACCIONARIA POR SERVICIO Y MANTENIMIENTO A VEHICULOS DE ESTE H. AYUNTAMIENTO ",2032,"2023-05-17","6172"]
[154,"GUSTAVO ADOLFO  MACIAS  LOPEZ ","MALG791115572","REFORMA # 19 CENTRO","AYUTLA","48050","151","PARTICIPACIONES 9255","Transf N° 08606NC01Y70","PAGO A REFACCIONARIA POR SERVICIO Y MANTENIMIENTO A VEHICULOS DE ESTE H. AYUNTAMIENTO ",2558,"2023-05-17","6170"]
[155,"GUSTAVO ADOLFO  MACIAS  LOPEZ ","MALG791115572","REFORMA # 19 CENTRO","AYUTLA","48050","151","PARTICIPACIONES 9255","Transf N° 08606NC01Y70","PAGO A REFACCIONARIA POR SERVICIO Y MANTENIMIENTO A VEHICULOS DE ESTE H. AYUNTAMIENTO ",500,"2023-05-17","6168"]
[156,"GUSTAVO ADOLFO  MACIAS  LOPEZ ","MALG791115572","REFORMA # 19 CENTRO","AYUTLA","48050","151","PARTICIPACIONES 9255","Transf N° 08606NC01Y70","PAGO A REFACCIONARIA POR SERVICIO Y MANTENIMIENTO A VEHICULOS DE ESTE H. AYUNTAMIENTO ",1960,"2023-05-17","6169"]
[157,"GUSTAVO ADOLFO  MACIAS  LOPEZ ","MALG791115572","REFORMA # 19 CENTRO","AYUTLA","48050","151","PARTICIPACIONES 9255","Transf N° 08606NC01Y70","PAGO A REFACCIONARIA POR SERVICIO Y MANTENIMIENTO A VEHICULOS DE ESTE H. AYUNTAMIENTO ",227,"2023-05-17","6173"]
[83,"DAVID DUEÑAS  CORONA","DUCD810813NA8","20 DE NOVIEMBRE  1A CENTRO ","CUAUTLA","48050","151","PARTICIPACIONES 9255","Transf N° 15996LN00ACH","PAGO POR COMPRA MATERIAL DE PAPELERIA PARA STOCK DE PROVEEDURIA ",7618.52,"2023-05-17","E5A65E"]
[84,"DAVID DUEÑAS  CORONA","DUCD810813NA8","20 DE NOVIEMBRE  1A CENTRO ","CUAUTLA","48050","151","PARTICIPACIONES 9255","Transf N° 15996LN00ACH","PAGO POR COMPRA MATERIAL DE PAPELERIA PARA STOCK DE PROVEEDURIA ",4470.04,"2023-05-17","0E7F89"]
[44,"BRENDA SOFIA  CARDENAS CUENCA","CACB020727DH6","LIBRAMIENTO  #70","AYUTLA","48050","151","PARTICIPACIONES 9255","Transf N° 33286NC0188W","COMPRA POR DISTINTOS ARTICULOS DE  FERREMATERIALES PARA MANTENIMIENTO DEL MUNICIPIO ",1297,"2023-05-17","75F30D"]
[45,"BRENDA SOFIA  CARDENAS CUENCA","CACB020727DH6","LIBRAMIENTO  #70","AYUTLA","48050","151","PARTICIPACIONES 9255","Transf N° 33286NC0188W","COMPRA POR DISTINTOS ARTICULOS DE  FERREMATERIALES PARA MANTENIMIENTO DEL MUNICIPIO ",3163,"2023-05-17","467789"]
[46,"BRENDA SOFIA  CARDENAS CUENCA","CACB020727DH6","LIBRAMIENTO  #70","AYUTLA","48050","151","PARTICIPACIONES 9255","Transf N° 33286NC0188W","COMPRA POR DISTINTOS ARTICULOS DE  FERREMATERIALES PARA MANTENIMIENTO DEL MUNICIPIO ",3074,"2023-05-17","6D1895"]
[47,"BRENDA SOFIA  CARDENAS CUENCA","CACB020727DH6","LIBRAMIENTO  #70","AYUTLA","48050","151","PARTICIPACIONES 9255","Transf N° 33286NC0188W","COMPRA POR DISTINTOS ARTICULOS DE  FERREMATERIALES PARA MANTENIMIENTO DEL MUNICIPIO ",760.01,"2023-05-17","8CE659"]
[48,"BRENDA SOFIA  CARDENAS CUENCA","CACB020727DH6","LIBRAMIENTO  #70","AYUTLA","48050","151","PARTICIPACIONES 9255","Transf N° 33286NC0188W","COMPRA POR DISTINTOS ARTICULOS DE  FERREMATERIALES PARA MANTENIMIENTO DEL MUNICIPIO ",2906,"2023-05-17","6277B4"]
[49,"BRENDA SOFIA  CARDENAS CUENCA","CACB020727DH6","LIBRAMIENTO  #70","AYUTLA","48050","151","PARTICIPACIONES 9255","Transf N° 33286NC0188W","COMPRA POR DISTINTOS ARTICULOS DE  FERREMATERIALES PARA MANTENIMIENTO DEL MUNICIPIO ",360.02,"2023-05-17","65AC54"]
[50,"BRENDA SOFIA  CARDENAS CUENCA","CACB020727DH6","LIBRAMIENTO  #70","AYUTLA","48050","151","PARTICIPACIONES 9255","Transf N° 33286NC0188W","COMPRA POR DISTINTOS ARTICULOS DE  FERREMATERIALES PARA MANTENIMIENTO DEL MUNICIPIO ",229,"2023-05-17","8C2CA1"]
[51,"BRENDA SOFIA  CARDENAS CUENCA","CACB020727DH6","LIBRAMIENTO  #70","AYUTLA","48050","151","PARTICIPACIONES 9255","Transf N° 33286NC0188W","COMPRA POR DISTINTOS ARTICULOS DE  FERREMATERIALES PARA MANTENIMIENTO DEL MUNICIPIO ",6844,"2023-05-17","9829E6"]
[52,"BRENDA SOFIA  CARDENAS CUENCA","CACB020727DH6","LIBRAMIENTO  #70","AYUTLA","48050","151","PARTICIPACIONES 9255","Transf N° 33286NC0188W","COMPRA POR DISTINTOS ARTICULOS DE  FERREMATERIALES PARA MANTENIMIENTO DEL MUNICIPIO ",860,"2023-05-17","26CE46"]
[53,"BRENDA SOFIA  CARDENAS CUENCA","CACB020727DH6","LIBRAMIENTO  #70","AYUTLA","48050","151","PARTICIPACIONES 9255","Transf N° 33286NC0188W","COMPRA POR DISTINTOS ARTICULOS DE  FERREMATERIALES PARA MANTENIMIENTO DEL MUNICIPIO ",5235.0200000000004,"2023-05-17","09CF82"]
[54,"BRENDA SOFIA  CARDENAS CUENCA","CACB020727DH6","LIBRAMIENTO  #70","AYUTLA","48050","151","PARTICIPACIONES 9255","Transf N° 33286NC0188W","COMPRA POR DISTINTOS ARTICULOS DE  FERREMATERIALES PARA MANTENIMIENTO DEL MUNICIPIO ",425.04,"2023-05-17","22A379"]
[55,"BRENDA SOFIA  CARDENAS CUENCA","CACB020727DH6","LIBRAMIENTO  #70","AYUTLA","48050","151","PARTICIPACIONES 9255","Transf N° 33286NC0188W","COMPRA POR DISTINTOS ARTICULOS DE  FERREMATERIALES PARA MANTENIMIENTO DEL MUNICIPIO ",1611.02,"2023-05-17","A75DD2"]
[56,"BRENDA SOFIA  CARDENAS CUENCA","CACB020727DH6","LIBRAMIENTO  #70","AYUTLA","48050","151","PARTICIPACIONES 9255","Transf N° 33286NC0188W","COMPRA POR DISTINTOS ARTICULOS DE  FERREMATERIALES PARA MANTENIMIENTO DEL MUNICIPIO ",1843.02,"2023-05-17","F5353D"]
[57,"BRENDA SOFIA  CARDENAS CUENCA","CACB020727DH6","LIBRAMIENTO  #70","AYUTLA","48050","151","PARTICIPACIONES 9255","Transf N° 33286NC0188W","COMPRA POR DISTINTOS ARTICULOS DE  FERREMATERIALES PARA MANTENIMIENTO DEL MUNICIPIO ",1034,"2023-05-17","93E2A4"]
[58,"BRENDA SOFIA  CARDENAS CUENCA","CACB020727DH6","LIBRAMIENTO  #70","AYUTLA","48050","111","PARTICIPACIONES 9255","Transf N° 33286NC0188W","COMPRA POR DISTINTOS ARTICULOS DE  FERREMATERIALES PARA MANTENIMIENTO DEL MUNICIPIO ",365.02,"2023-05-17","46200C"]
[69,"CR FORMAS S.A DE C.V ","CFO101206HJ7","SIN CALLE  SIN N CENTRO ","JOCOTAN","48050","111","CAPTACION 9222","Transf N° 38116LN01CE9","PAGO POR LA COMPRA DE FORMAS OFICIALES IMPRESAS",3062.4,"2023-05-17","7132"]
[336,"RENT SERVICE PRINTER SOLUTIONS S.A DE C.V ","RSP190904721","CAMINO REAL  23 LOPEZ COTILLA ","SANTA ANITA","48050","151","PARTICIPACIONES 9255","Transf N° 78696LN008MU","PAGO POR ARRENDAMIENTO DE FOTOCOPIADORAS CORRESPONDIENTES AL MES DE ABRIL DE 2023 ",5568,"2023-05-17","4959"]
[267,"MARIA JUANA FIGUEROA  MICHEL ","FIMJ600313VC4","SIN CALLE  SIN N CENTRO ","AYUTLA","48050","151","PARTICIPACIONES 9255","Transf N° 25016LN004KC","PAGO POR LA COMPRA DE CARNE PARA ELABORACION DE ALIMENTOS PARA PARTICIPANTES DE LA SEMANA CULTURAL ",2249.52,"2023-05-17","ED56E8"]
[268,"MARIA JUANA FIGUEROA  MICHEL ","FIMJ600313VC4","SIN CALLE  SIN N CENTRO ","AYUTLA","48050","151","PARTICIPACIONES 9255","Transf N° 25016LN004KC","PAGO POR LA COMPRA DE CARNE PARA ELABORACION DE ALIMENTOS PARA PARTICIPANTES DE LA SEMANA CULTURAL ",1303.49,"2023-05-17","F38677"]
[269,"MARIA JUANA FIGUEROA  MICHEL ","FIMJ600313VC4","SIN CALLE  SIN N CENTRO ","AYUTLA","48050","151","PARTICIPACIONES 9255","Transf N° 25016LN004KC","PAGO POR LA COMPRA DE CARNE PARA ELABORACION DE ALIMENTOS PARA PARTICIPANTES DE LA SEMANA CULTURAL ",3155.06,"2023-05-17","E2CD13"]
[270,"MARIA JUANA FIGUEROA  MICHEL ","FIMJ600313VC4","SIN CALLE  SIN N CENTRO ","AYUTLA","48050","151","PARTICIPACIONES 9255","Transf N° 25016LN004KC","PAGO POR LA COMPRA DE CARNE PARA ELABORACION DE ALIMENTOS PARA PARTICIPANTES DE LA SEMANA CULTURAL ",1174.1300000000001,"2023-05-17","BC29C6"]
[271,"MARIA JUANA FIGUEROA  MICHEL ","FIMJ600313VC4","SIN CALLE  SIN N CENTRO ","AYUTLA","48050","151","PARTICIPACIONES 9255","Transf N° 25016LN004KC","PAGO POR LA COMPRA DE CARNE PARA ELABORACION DE ALIMENTOS PARA PARTICIPANTES DE LA SEMANA CULTURAL ",2281.12,"2023-05-17","AB57D5"]
[272,"MARIA JUANA FIGUEROA  MICHEL ","FIMJ600313VC4","SIN CALLE  SIN N CENTRO ","AYUTLA","48050","151","PARTICIPACIONES 9255","Transf N° 25016LN004KC","PAGO POR LA COMPRA DE CARNE PARA ELABORACION DE ALIMENTOS PARA PARTICIPANTES DE LA SEMANA CULTURAL ",2666.24,"2023-05-17","DFE169"]
[195,"JOSE JAIME  GONZALEZ  RODRIGUEZ ","GORJ921215LA2","RAMON CORONA #5 CENTRO","AYUTLA","48050","151","PARTICIPACIONES 9255","Transf N° 10966LN00JB0","PAGO POR LA COMPRA DE ARTICULOS VARIOS Y MEDICAMENTOS PARA PERSONAL DEL H AYUNTAMIENTO ",1030,"2023-05-17","F-69"]
[196,"JOSE JAIME  GONZALEZ  RODRIGUEZ ","GORJ921215LA2","RAMON CORONA #5 CENTRO","AYUTLA","48050","151","PARTICIPACIONES 9255","Transf N° 10966LN00JB0","PAGO POR LA COMPRA DE ARTICULOS VARIOS Y MEDICAMENTOS PARA PERSONAL DEL H AYUNTAMIENTO ",1191.51,"2023-05-17","F-67"]
[197,"JOSE JAIME  GONZALEZ  RODRIGUEZ ","GORJ921215LA2","RAMON CORONA #5 CENTRO","AYUTLA","48050","151","PARTICIPACIONES 9255","Transf N° 10966LN00JB0","PAGO POR LA COMPRA DE ARTICULOS VARIOS Y MEDICAMENTOS PARA PERSONAL DEL H AYUNTAMIENTO ",375,"2023-05-17","F-65"]
[198,"JOSE JAIME  GONZALEZ  RODRIGUEZ ","GORJ921215LA2","RAMON CORONA #5 CENTRO","AYUTLA","48050","151","PARTICIPACIONES 9255","Transf N° 10966LN00JB0","PAGO POR LA COMPRA DE ARTICULOS VARIOS Y MEDICAMENTOS PARA PERSONAL DEL H AYUNTAMIENTO ",1444.79,"2023-05-17","F-63"]
[199,"JOSE JAIME  GONZALEZ  RODRIGUEZ ","GORJ921215LA2","RAMON CORONA #5 CENTRO","AYUTLA","48050","151","PARTICIPACIONES 9255","Transf N° 10966LN00JB0","PAGO POR LA COMPRA DE ARTICULOS VARIOS Y MEDICAMENTOS PARA PERSONAL DEL H AYUNTAMIENTO ",258.5,"2023-05-17","F-62"]
[200,"JOSE JAIME  GONZALEZ  RODRIGUEZ ","GORJ921215LA2","RAMON CORONA #5 CENTRO","AYUTLA","48050","151","PARTICIPACIONES 9255","Transf N° 10966LN00JB0","PAGO POR LA COMPRA DE ARTICULOS VARIOS Y MEDICAMENTOS PARA PERSONAL DEL H AYUNTAMIENTO ",837.6,"2023-05-17","F-71"]
[201,"JOSE JAIME  GONZALEZ  RODRIGUEZ ","GORJ921215LA2","RAMON CORONA #5 CENTRO","AYUTLA","48050","151","PARTICIPACIONES 9255","Transf N° 10966LN00JB0","PAGO POR LA COMPRA DE ARTICULOS VARIOS Y MEDICAMENTOS PARA PERSONAL DEL H AYUNTAMIENTO ",794.02,"2023-05-17","F-52"]
[202,"JOSE JAIME  GONZALEZ  RODRIGUEZ ","GORJ921215LA2","RAMON CORONA #5 CENTRO","AYUTLA","48050","151","PARTICIPACIONES 9255","Transf N° 10966LN00JB0","PAGO POR LA COMPRA DE ARTICULOS VARIOS Y MEDICAMENTOS PARA PERSONAL DEL H AYUNTAMIENTO ",1128,"2023-05-17","F-70"]
[203,"JOSE JAIME  GONZALEZ  RODRIGUEZ ","GORJ921215LA2","RAMON CORONA #5 CENTRO","AYUTLA","48050","151","PARTICIPACIONES 9255","Transf N° 10966LN00JB0","PAGO POR LA COMPRA DE ARTICULOS VARIOS Y MEDICAMENTOS PARA PERSONAL DEL H AYUNTAMIENTO ",740,"2023-05-17","F-54"]
[204,"JOSE JAIME  GONZALEZ  RODRIGUEZ ","GORJ921215LA2","RAMON CORONA #5 CENTRO","AYUTLA","48050","151","PARTICIPACIONES 9255","Transf N° 10966LN00JB0","PAGO POR LA COMPRA DE ARTICULOS VARIOS Y MEDICAMENTOS PARA PERSONAL DEL H AYUNTAMIENTO ",1064.5,"2023-05-17","F-68"]
[205,"JOSE JAIME  GONZALEZ  RODRIGUEZ ","GORJ921215LA2","RAMON CORONA #5 CENTRO","AYUTLA","48050","151","PARTICIPACIONES 9255","Transf N° 10966LN00JB0","PAGO POR LA COMPRA DE ARTICULOS VARIOS Y MEDICAMENTOS PARA PERSONAL DEL H AYUNTAMIENTO ",566,"2023-05-17","F-56"]
[206,"JOSE JAIME  GONZALEZ  RODRIGUEZ ","GORJ921215LA2","RAMON CORONA #5 CENTRO","AYUTLA","48050","151","PARTICIPACIONES 9255","Transf N° 10966LN00JB0","PAGO POR LA COMPRA DE ARTICULOS VARIOS Y MEDICAMENTOS PARA PERSONAL DEL H AYUNTAMIENTO ",1367,"2023-05-17","F-64"]
[207,"JOSE JAIME  GONZALEZ  RODRIGUEZ ","GORJ921215LA2","RAMON CORONA #5 CENTRO","AYUTLA","48050","151","PARTICIPACIONES 9255","Transf N° 10966LN00JB0","PAGO POR LA COMPRA DE ARTICULOS VARIOS Y MEDICAMENTOS PARA PERSONAL DEL H AYUNTAMIENTO ",2057.13,"2023-05-17","F-53"]
[208,"JOSE JAIME  GONZALEZ  RODRIGUEZ ","GORJ921215LA2","RAMON CORONA #5 CENTRO","AYUTLA","48050","151","PARTICIPACIONES 9255","Transf N° 10966LN00JB0","PAGO POR LA COMPRA DE ARTICULOS VARIOS Y MEDICAMENTOS PARA PERSONAL DEL H AYUNTAMIENTO ",19719,"2023-05-17","F-51"]
[209,"JOSE JAIME  GONZALEZ  RODRIGUEZ ","GORJ921215LA2","RAMON CORONA #5 CENTRO","AYUTLA","48050","151","PARTICIPACIONES 9255","Transf N° 10966LN00JB0","PAGO POR LA COMPRA DE ARTICULOS VARIOS Y MEDICAMENTOS PARA PERSONAL DEL H AYUNTAMIENTO ",29358,"2023-05-17","F-61"]
[210,"JOSE JAIME  GONZALEZ  RODRIGUEZ ","GORJ921215LA2","RAMON CORONA #5 CENTRO","AYUTLA","48050","151","PARTICIPACIONES 9255","Transf N° 10966LN00JB0","PAGO POR LA COMPRA DE ARTICULOS VARIOS Y MEDICAMENTOS PARA PERSONAL DEL H AYUNTAMIENTO ",1352,"2023-05-17","F-55"]
[211,"JOSE JAIME  GONZALEZ  RODRIGUEZ ","GORJ921215LA2","RAMON CORONA #5 CENTRO","AYUTLA","48050","151","PARTICIPACIONES 9255","Transf N° 10966LN00JB0","PAGO POR LA COMPRA DE ARTICULOS VARIOS Y MEDICAMENTOS PARA PERSONAL DEL H AYUNTAMIENTO ",5731.5,"2023-05-17","F-58"]
[212,"JOSE JAIME  GONZALEZ  RODRIGUEZ ","GORJ921215LA2","RAMON CORONA #5 CENTRO","AYUTLA","48050","252","FORTALECIMIENTO 1637 2023","Transf N° 07696LN01T9X","PAGO POR LA COMPRA DE ABARROTES Y ARTICULOS DE LIMPIEZA PARA OFICINA DE SEGURIDAD PUBLICA ",1471,"2023-05-17","F-66"]
[213,"JOSE JAIME  GONZALEZ  RODRIGUEZ ","GORJ921215LA2","RAMON CORONA #5 CENTRO","AYUTLA","48050","252","FORTALECIMIENTO 1637 2023","Transf N° 07696LN01T9X","PAGO POR LA COMPRA DE ABARROTES Y ARTICULOS DE LIMPIEZA PARA OFICINA DE SEGURIDAD PUBLICA ",1920.38,"2023-05-17","F-57"]
[232,"JOSUE EMMANUEL GARCIA FRANCO ","GAFJ790707UY5","-","-","48050","151","PARTICIPACIONES 9255","Transf N° 74186LN01PQF","PAGO POR ELABORACION DE RECONOCIMIENTOS PARA EJIATARIOS DONADORE DE TERRENO PARA PLAZA PRINCIPAL DE LA LOCALIDAD DE LA  CAÑADA DEL CARMEN ",15312,"2023-05-17","1B81DA"]
[254,"LUIS MIGUEL  CASTILLO  TOVAR ","CATL8607147R2","FRANCISCO I MADERO # 114 CENTRO","AYUTLA","48050","151","PARTICIPACIONES 9255","Transf N° 21216LN019CA","PAGO POR LA COMPRA DE TAZAS PARA FESTIVAL DEL DIA DEL MAESTRO EN EL MUNICIPIO ",12499,"2023-05-17","904E94"]
[346,"SECRETARIA DE LA HACIENDA PUBLICA","SPC130227L99","SIN CALLE  SIN N CENTRO","HUENTITÁN EL BAJO","48050","252","FORTALECIMIENTO 1637 2023","Transf N° 112","PAGO DE REFRENDO ANUAL A VEHICULOS OFICIALES ",821,"2023-05-17","340013"]
[347,"SECRETARIA DE LA HACIENDA PUBLICA","SPC130227L99","SIN CALLE  SIN N CENTRO","HUENTITÁN EL BAJO","48050","252","FORTALECIMIENTO 1637 2023","Transf N° 112","PAGO DE REFRENDO ANUAL A VEHICULOS OFICIALES ",821,"2023-05-17","280007"]
[348,"SECRETARIA DE LA HACIENDA PUBLICA","SPC130227L99","SIN CALLE  SIN N CENTRO","HUENTITÁN EL BAJO","48050","252","FORTALECIMIENTO 1637 2023","Transf N° 112","PAGO DE REFRENDO ANUAL A VEHICULOS OFICIALES ",821,"2023-05-17","310010"]
[349,"SECRETARIA DE LA HACIENDA PUBLICA","SPC130227L99","SIN CALLE  SIN N CENTRO","HUENTITÁN EL BAJO","48050","252","FORTALECIMIENTO 1637 2023","Transf N° 112","PAGO DE REFRENDO ANUAL A VEHICULOS OFICIALES ",821,"2023-05-17","290008"]
[350,"SECRETARIA DE LA HACIENDA PUBLICA","SPC130227L99","SIN CALLE  SIN N CENTRO","HUENTITÁN EL BAJO","48050","252","FORTALECIMIENTO 1637 2023","Transf N° 112","PAGO DE REFRENDO ANUAL A VEHICULOS OFICIALES ",821,"2023-05-17","330012"]
[351,"SECRETARIA DE LA HACIENDA PUBLICA","SPC130227L99","SIN CALLE  SIN N CENTRO","HUENTITÁN EL BAJO","48050","252","FORTALECIMIENTO 1637 2023","Transf N° 112","PAGO DE REFRENDO ANUAL A VEHICULOS OFICIALES ",821,"2023-05-17","320011"]
[352,"SECRETARIA DE LA HACIENDA PUBLICA","SPC130227L99","SIN CALLE  SIN N CENTRO","HUENTITÁN EL BAJO","48050","252","FORTALECIMIENTO 1637 2023","Transf N° 112","PAGO DE REFRENDO ANUAL A VEHICULOS OFICIALES ",821,"2023-05-17","270006"]
[353,"SECRETARIA DE LA HACIENDA PUBLICA","SPC130227L99","SIN CALLE  SIN N CENTRO","HUENTITÁN EL BAJO","48050","252","FORTALECIMIENTO 1637 2023","Transf N° 112","PAGO DE REFRENDO ANUAL A VEHICULOS OFICIALES ",387,"2023-05-17","440017"]
[354,"SECRETARIA DE LA HACIENDA PUBLICA","SPC130227L99","SIN CALLE  SIN N CENTRO","HUENTITÁN EL BAJO","48050","252","FORTALECIMIENTO 1637 2023","Transf N° 112","PAGO DE REFRENDO ANUAL A VEHICULOS OFICIALES ",387,"2023-05-17","300009"]
[355,"SECRETARIA DE LA HACIENDA PUBLICA","SPC130227L99","SIN CALLE  SIN N CENTRO","HUENTITÁN EL BAJO","48050","252","FORTALECIMIENTO 1637 2023","Transf N° 112","PAGO DE REFRENDO ANUAL A VEHICULOS OFICIALES ",387,"2023-05-17","420015"]
[356,"SECRETARIA DE LA HACIENDA PUBLICA","SPC130227L99","SIN CALLE  SIN N CENTRO","HUENTITÁN EL BAJO","48050","252","FORTALECIMIENTO 1637 2023","Transf N° 112","PAGO DE REFRENDO ANUAL A VEHICULOS OFICIALES ",387,"2023-05-17","430016"]
[357,"SECRETARIA DE LA HACIENDA PUBLICA","SPC130227L99","SIN CALLE  SIN N CENTRO","HUENTITÁN EL BAJO","48050","252","FORTALECIMIENTO 1637 2023","Transf N° 112","PAGO DE REFRENDO ANUAL A VEHICULOS OFICIALES ",387,"2023-05-17","410014"]
[358,"SECRETARIA DE LA HACIENDA PUBLICA","SPC130227L99","SIN CALLE  SIN N CENTRO","HUENTITÁN EL BAJO","48050","151","PARTICIPACIONES 9255","Transf N° 9734634","DECLARACION PROVISIONAL O DEFINITIVA DE IMPUESTOS FEDERALES ",148335,"2023-05-17",0]
[186,"JOSE ANTONIO RODRIGUEZ  PELAYO ","ROPA820721MT0","JUAREZ # 91 A ","AYUTLA","48050","151","PARTICIPACIONES 9255","Cheque N° 30601","PAGO POR SERVICIO DE TALLER MECANICO PARA VEHICULOS OFICIALES DEL H AYUNTAMIENTO Y RENTA DE MOVILIARIO PARA EVENTOS ORGANIZADOS POR EL H AYUNTAMIENTO",1700,"2023-05-18","9"]
[187,"JOSE ANTONIO RODRIGUEZ  PELAYO ","ROPA820721MT0","JUAREZ # 91 A ","AYUTLA","48050","151","PARTICIPACIONES 9255","Cheque N° 30601","PAGO POR SERVICIO DE TALLER MECANICO PARA VEHICULOS OFICIALES DEL H AYUNTAMIENTO Y RENTA DE MOVILIARIO PARA EVENTOS ORGANIZADOS POR EL H AYUNTAMIENTO",2640,"2023-05-18","10"]
[188,"JOSE ANTONIO RODRIGUEZ  PELAYO ","ROPA820721MT0","JUAREZ # 91 A ","AYUTLA","48050","151","PARTICIPACIONES 9255","Cheque N° 30601","PAGO POR SERVICIO DE TALLER MECANICO PARA VEHICULOS OFICIALES DEL H AYUNTAMIENTO Y RENTA DE MOVILIARIO PARA EVENTOS ORGANIZADOS POR EL H AYUNTAMIENTO",8400,"2023-05-18","11"]
[77,"CYBERPUERTA S.A. DE C.V.","CYB080602JSA","-","-","44600","151","PARTICIPACIONES 9255","Transf N° 12006LO01F0Q","PAGO POR LA COMPRA DE MULTIFUNCIONAL, SSD EXTERNO Y SSD PARA DIFERENTES AREAS DEL H AYUNTAMIENTO ",2492,"2023-05-18","632601"]
[123,"FAVIC AUTOMOTRIZ, S.A. DE C.V.","FAU911209TA7","-","-","48250","151","FORTALECIMIENTO 1637 2023","Transf N° 00706LO01O09","PAGO POR LA COMPRA DE ESPIGA CON CAJA PARA AUTOMOVIL DE SEGURIDAD PUBLICA ",881.99,"2023-05-18","0461"]
[124,"FRANCISCO ADRIAN ALVARADO MADERA","AAMF791119GD8","SIN CALLE  SIN N CENTRO ","LO ARADO","48050","151","PARTICIPACIONES 9255","Transf N° 44256LP006CS","APOYO CON EL PAGO DE SERVICIOS FUNERARIOS A PERSONA DE BAJOS RECURSOS ",2500,"2023-05-19","1676"]
[118,"ERIKA SAMIRA GUZMAN GONZALEZ ","GUGE810805BZ6","AV. PRESIDENTES 2007. COL LOMAS DEL PARADERO","GUADALAJARA","44840","151","PARTICIPACIONES 9255","Transf N° 57686LO015ON","PAGO DE SERVICIO MECANICO PARA REPARACION DE MOTOCONFORMADORA 120 0",8120,"2023-05-19","A7D349"]
[182,"JESUS GUZMAN VALLE ","GUVJ780805MYA","-","AYUTLA, JAL","48050","151","PARTICIPACIONES 9255","Transf N° 11426LH00350","RENTA DE EQUIPO DE SONIDO Y LUCES PARA SEMANA CULTURAL 2023",27840,"2023-05-19","57E649"]
[78,"CYBERPUERTA S.A. DE C.V.","CYB080602JSA","-","-","44600","151","PARTICIPACIONES 9255","Transf N° 66276LO01FHW","COMPRA POR ROTULADOR Y CINTA PARA DAR ORDEN AL CUARTO TECNICO ",811,"2023-05-19","376601"]
[68,"CORPORATIVO SIE GUADALAJARA SOLUCIONES INTEGRALES ","CSG210806CH4","PABLO VALDEZ  1458 SAN JUAN BOSCO ","HUENTITÁN EL BAJO","48050","151","PARTICIPACIONES 9255","Transf N° 04586LP0137V","PAGO POR ACTUALIZACION DE SOFTWARE ",696,"2023-05-19","1179"]
[61,"CARLOS MEDINA SANCHEZ","MESC7205036F5","FRANCISCO I MADERO 3 A, EL TAMBOR ","TENAMAXTLAN ","48050","111","PARTICIPACIONES 9255","Transf N° 65226LP00VHP","PAGO A PURIFICADORA ",684,"2023-05-19","F6D81B"]
[62,"CARLOS MEDINA SANCHEZ","MESC7205036F5","FRANCISCO I MADERO 3 A, EL TAMBOR ","TENAMAXTLAN ","48050","111","PARTICIPACIONES 9255","Transf N° 65226LP00VHP","PAGO A PURIFICADORA ",828,"2023-05-19","DC1231"]
[235,"JUAN MIGUEL  OROZCO  ZAVALZA","OOZJ780902MC6","CARRETERA LIBRAMIENTO AYUTLA 621 LOS TEPETATES","AYUTLA","48050","151","PARTICIPACIONES 9255","Transf N° 61606LP00JO1","COMPRA DE MADERA PARA MANTENIMIENTO DE SALON JESSICAS ",7245,"2023-05-19","A-16"]
[252,"LUIS FERNANDO ALMARAZ ROBLES ","AARL710727HJC","NICOLAS BRAVO INT 35","AYUTLA, JAL.","48050","151","PARTICIPACIONES 9255","Cheque N° 30610","PAGO POR LA PREPARACION DE 90 PLATOS DE POZOLE PARA LOS PARTICIPANTES E INVITADOS DEL DIA 2 MAYO EN LA SEMANA CULTURAL 2023",3600,"2023-05-19","30607"]
[250,"LOURDES SUSEL AGUILAR SANTOS ","AUSL900207EM0","-","AYUTLA","48050","111","PARTICIPACIONES 9255","Transf N° 61916LO00X78","COMPRA DE AGUA PURIFICADA PARA EL PALACIO MUNICIPAL",3240,"2023-05-19","8D1DFC"]
[265,"MARIA ELIZENDA PEREZ TOPETE ","PETE810203UG5","COL. LA CALMA","ZAPOPAN, JAL. ","45070","151","PARTICIPACIONES 9255","Transf N° 22316LO00W31","COMPRA POR PAQUETES DE AGUA Y CAJAS DE SUEROS PARA APOYO AL MUNICIPIO DE CHIQUILISTLAN A BRIGADAS DE PROTECCION CIVIL ",2754.76,"2023-05-19","O-987"]
[266,"MARIA ELIZENDA PEREZ TOPETE ","PETE810203UG5","COL. LA CALMA","ZAPOPAN, JAL. ","45070","151","PARTICIPACIONES 9255","Transf N° 22316LO00W31","COMPRA POR PAQUETES DE AGUA Y CAJAS DE SUEROS PARA APOYO AL MUNICIPIO DE CHIQUILISTLAN A BRIGADAS DE PROTECCION CIVIL ",4600,"2023-05-19","O-988"]
[221,"JOSUE EMMANUEL GARCIA FRANCO ","GAFJ790707UY5","-","-","48050","151","PARTICIPACIONES 9255","Transf N° 35666LP010FN","PAGO DE ARTICULOS VARIOS PARA LAS DISTINTAS AREAS DE ESTE H. AYUNTAMIENTO ",72,"2023-05-19","BB0B94"]
[222,"JOSUE EMMANUEL GARCIA FRANCO ","GAFJ790707UY5","-","-","48050","151","PARTICIPACIONES 9255","Transf N° 35666LP010FN","PAGO DE ARTICULOS VARIOS PARA LAS DISTINTAS AREAS DE ESTE H. AYUNTAMIENTO ",670,"2023-05-19","FA6A21"]
[223,"JOSUE EMMANUEL GARCIA FRANCO ","GAFJ790707UY5","-","-","48050","151","PARTICIPACIONES 9255","Transf N° 35666LP010FN","PAGO DE ARTICULOS VARIOS PARA LAS DISTINTAS AREAS DE ESTE H. AYUNTAMIENTO ",1425,"2023-05-19","1136AA"]
[224,"JOSUE EMMANUEL GARCIA FRANCO ","GAFJ790707UY5","-","-","48050","151","PARTICIPACIONES 9255","Transf N° 35666LP010FN","PAGO DE ARTICULOS VARIOS PARA LAS DISTINTAS AREAS DE ESTE H. AYUNTAMIENTO ",344,"2023-05-19","62543C"]
[225,"JOSUE EMMANUEL GARCIA FRANCO ","GAFJ790707UY5","-","-","48050","151","PARTICIPACIONES 9255","Transf N° 35666LP010FN","PAGO DE ARTICULOS VARIOS PARA LAS DISTINTAS AREAS DE ESTE H. AYUNTAMIENTO ",195,"2023-05-19","589394"]
[226,"JOSUE EMMANUEL GARCIA FRANCO ","GAFJ790707UY5","-","-","48050","151","PARTICIPACIONES 9255","Transf N° 35666LP010FN","PAGO DE ARTICULOS VARIOS PARA LAS DISTINTAS AREAS DE ESTE H. AYUNTAMIENTO ",1155,"2023-05-19","44854F"]
[227,"JOSUE EMMANUEL GARCIA FRANCO ","GAFJ790707UY5","-","-","48050","151","PARTICIPACIONES 9255","Transf N° 35666LP010FN","PAGO DE ARTICULOS VARIOS PARA LAS DISTINTAS AREAS DE ESTE H. AYUNTAMIENTO ",8310,"2023-05-19","420338"]
[228,"JOSUE EMMANUEL GARCIA FRANCO ","GAFJ790707UY5","-","-","48050","151","PARTICIPACIONES 9255","Transf N° 35666LP010FN","PAGO DE ARTICULOS VARIOS PARA LAS DISTINTAS AREAS DE ESTE H. AYUNTAMIENTO ",219,"2023-05-19","00E4BC"]
[229,"JOSUE EMMANUEL GARCIA FRANCO ","GAFJ790707UY5","-","-","48050","151","PARTICIPACIONES 9255","Transf N° 35666LP010FN","PAGO DE ARTICULOS VARIOS PARA LAS DISTINTAS AREAS DE ESTE H. AYUNTAMIENTO ",204,"2023-05-19","274C29"]
[230,"JOSUE EMMANUEL GARCIA FRANCO ","GAFJ790707UY5","-","-","48050","151","PARTICIPACIONES 9255","Transf N° 35666LP010FN","PAGO DE ARTICULOS VARIOS PARA LAS DISTINTAS AREAS DE ESTE H. AYUNTAMIENTO ",2423,"2023-05-19","C0AED5"]
[231,"JOSUE EMMANUEL GARCIA FRANCO ","GAFJ790707UY5","-","-","48050","151","PARTICIPACIONES 9255","Transf N° 35666LP010FN","PAGO DE ARTICULOS VARIOS PARA LAS DISTINTAS AREAS DE ESTE H. AYUNTAMIENTO ",1293.01,"2023-05-19","95FC43"]
[64,"CFE SUMINISTRO DE SERVICIO BASICO ","CSS160330CP7","AV. PASEO DE LA REFORMA  164 JUAREZ","CUAUHTÉMOC XALOSTOC","48050","151","PARTICIPACIONES 9255","Cheque N° 30611","APOYO PARA EL PAGO DE LUZ DE LA BODEGA DONDE SE ALMACENA Y DISTRIBUYE EL FERTILIZANTE DEL PROGRAMA FEDERAL \"FERTILIZANTES DEL BIENESTAR\"",4129,"2023-05-22","549156"]
[79,"CYNTHIA LIZETH CHAVEZ CORONA ","CACC980324F16","-","AYUTLA, JAL ","48050","151","PARTICIPACIONES 9255","Transf N° 44896LS01J2G","PAGO A FLORERIA POR DISTINTOS ARREGLOS Y CORONAS ",4820,"2023-05-22","8A9062"]
[80,"CYNTHIA LIZETH CHAVEZ CORONA ","CACC980324F16","-","AYUTLA, JAL ","48050","151","PARTICIPACIONES 9255","Transf N° 44896LS01J2G","PAGO A FLORERIA POR DISTINTOS ARREGLOS Y CORONAS ",2000,"2023-05-22","745645"]
[92,"DISTRIBUIDORA DE ACEITES Y COMBUSTIBLES DE AYUTLA SA DE CV","DAC0209134Y9","CARRETERA AL CRUCERO DE SAN CLEMENTE - PUEBLO VIEJO","AYUTLA","48050","151","PARTICIPACIONES 9255","Transf N° 02446LS01OM5","PAGO DE COMBUSTIBLE PARA REALIZAR LAS DISTINTAS ACTIVIDADES DE ESTE H. AYUNTAMIENTO ",66616,"2023-05-22","B 64121"]
[93,"DISTRIBUIDORA DE ACEITES Y COMBUSTIBLES DE AYUTLA SA DE CV","DAC0209134Y9","CARRETERA AL CRUCERO DE SAN CLEMENTE - PUEBLO VIEJO","AYUTLA","48050","151","PARTICIPACIONES 9255","Transf N° 02446LS01OM5","PAGO DE COMBUSTIBLE PARA REALIZAR LAS DISTINTAS ACTIVIDADES DE ESTE H. AYUNTAMIENTO ",91719.4,"2023-05-22","B 64117"]
[94,"DISTRIBUIDORA DE ACEITES Y COMBUSTIBLES DE AYUTLA SA DE CV","DAC0209134Y9","CARRETERA AL CRUCERO DE SAN CLEMENTE - PUEBLO VIEJO","AYUTLA","48050","151","PARTICIPACIONES 9255","Transf N° 02446LS01OM5","PAGO DE COMBUSTIBLE PARA REALIZAR LAS DISTINTAS ACTIVIDADES DE ESTE H. AYUNTAMIENTO ",68745,"2023-05-22","C13"]
[95,"DISTRIBUIDORA DE ACEITES Y COMBUSTIBLES DE AYUTLA SA DE CV","DAC0209134Y9","CARRETERA AL CRUCERO DE SAN CLEMENTE - PUEBLO VIEJO","AYUTLA","48050","151","PARTICIPACIONES 9255","Transf N° 02446LS01OM5","PAGO DE COMBUSTIBLE PARA REALIZAR LAS DISTINTAS ACTIVIDADES DE ESTE H. AYUNTAMIENTO ",75151,"2023-05-22","C14"]
[96,"DISTRIBUIDORA DE ACEITES Y COMBUSTIBLES DE AYUTLA SA DE CV","DAC0209134Y9","CARRETERA AL CRUCERO DE SAN CLEMENTE - PUEBLO VIEJO","AYUTLA","48050","151","PARTICIPACIONES 9255","Transf N° 02446LS01OM5","PAGO DE COMBUSTIBLE PARA REALIZAR LAS DISTINTAS ACTIVIDADES DE ESTE H. AYUNTAMIENTO ",68931.100000000006,"2023-05-22","B 64139"]
[97,"DISTRIBUIDORA DE ACEITES Y COMBUSTIBLES DE AYUTLA SA DE CV","DAC0209134Y9","CARRETERA AL CRUCERO DE SAN CLEMENTE - PUEBLO VIEJO","AYUTLA","48050","151","PARTICIPACIONES 9255","Transf N° 02446LS01OM5","PAGO DE COMBUSTIBLE PARA REALIZAR LAS DISTINTAS ACTIVIDADES DE ESTE H. AYUNTAMIENTO ",69542.100000000006,"2023-05-22","B 64138"]
[98,"DISTRIBUIDORA DE ACEITES Y COMBUSTIBLES DE AYUTLA SA DE CV","DAC0209134Y9","CARRETERA AL CRUCERO DE SAN CLEMENTE - PUEBLO VIEJO","AYUTLA","48050","151","PARTICIPACIONES 9255","Transf N° 02446LS01OM5","PAGO DE COMBUSTIBLE PARA REALIZAR LAS DISTINTAS ACTIVIDADES DE ESTE H. AYUNTAMIENTO ",68163.399999999994,"2023-05-22","B64137"]
[99,"DISTRIBUIDORA DE ACEITES Y COMBUSTIBLES DE AYUTLA SA DE CV","DAC0209134Y9","CARRETERA AL CRUCERO DE SAN CLEMENTE - PUEBLO VIEJO","AYUTLA","48050","151","PARTICIPACIONES 9255","Transf N° 02446LS01OM5","PAGO DE COMBUSTIBLE PARA REALIZAR LAS DISTINTAS ACTIVIDADES DE ESTE H. AYUNTAMIENTO ",70080.399999999994,"2023-05-22","B 64132"]
[100,"DISTRIBUIDORA DE ACEITES Y COMBUSTIBLES DE AYUTLA SA DE CV","DAC0209134Y9","CARRETERA AL CRUCERO DE SAN CLEMENTE - PUEBLO VIEJO","AYUTLA","48050","151","PARTICIPACIONES 9255","Transf N° 02446LS01OM5","PAGO DE COMBUSTIBLE PARA REALIZAR LAS DISTINTAS ACTIVIDADES DE ESTE H. AYUNTAMIENTO ",68936.3,"2023-05-22","B 64129"]
[341,"RYPAOSA S.A. DE C.V. ","RYP881005B11","-","-","45598","151","PARTICIPACIONES 9255","Transf N° 13766LS01TFR","PAGO DE REFACCIONES PARA LA RETROEXCAVADORA ",1089.94,"2023-05-22","GDL-33989"]
[1,"ALMA ANGELINA ALTAMIRANO FLORES ","AAFA781001MJC","NICOLAS BRAVO INT 35","AYUTLA, JAL","48050","111","CAPTACION 9222","Cheque N° 1867","PAGO POR ELABORACION DE 70 PLATILLOS DE PIPIAN PARA INVITADOS Y PARTICIPANTES DE LA SEMANA CULTURAL 2023",2800,"2023-05-23","549229"]
[364,"SERGIO IVAN DIAZ GUTIERREZ ","DIGS750829F66","-","AYUTLA, JAL.","48050","151","CAPTACION 9222","Cheque N° 1870","PAGO POR ARRENDAMIENTO DE VEHICULO PARA REALIZAR VIAJE AL MUNICIPIO DE CIHUATLAN A LA SELECCION FEMENIL COPA JALISCO ",6380,"2023-05-24","F314A1"]
[342,"RYPAOSA S.A. DE C.V. ","RYP881005B11","-","-","45598","151","PARTICIPACIONES 9255","Transf N° 57196M0021JZ","PAGO POR REFACCIONES PARA LA MOTOCONFORMADORA ",11081.43,"2023-05-30","E5F06F"]
[343,"SAN JOSE ELECTRONICOS ","SJE040526P1A","LOPEZ COTILLA NO. 183 ","GUADALAJARA ","44100","151","PARTICIPACIONES 9255","Cheque N° 30620","PAGO SEMANAL A EMPLEADOS EVENTUALES, HORAS EXTRAS Y GASTOS EN GENERAL ",1175,"2023-05-30","M21377"]
[344,"SECRETARIA DE LA HACIENDA PUBLICA","SPC130227L99","SIN CALLE  SIN N CENTRO","HUENTITÁN EL BAJO","48050","151","PARTICIPACIONES 9255","Cheque N° 30620","PAGO SEMANAL A EMPLEADOS EVENTUALES, HORAS EXTRAS Y GASTOS EN GENERAL ",387,"2023-05-30","930001"]
[345,"SECRETARIA DE LA HACIENDA PUBLICA","SPC130227L99","SIN CALLE  SIN N CENTRO","HUENTITÁN EL BAJO","48050","151","PARTICIPACIONES 9255","Cheque N° 30620","PAGO SEMANAL A EMPLEADOS EVENTUALES, HORAS EXTRAS Y GASTOS EN GENERAL ",817,"2023-05-30","540010"]
[81,"DANIEL ALEJANDRO RAMIREZ VARGAS ","RAVD851007RF5","-","-","48902","151","PARTICIPACIONES 9255","Transf N° 16886LZ00E4T","PAGO POR REPARACION DE PIPA DE AGUA ",19122.02,"2023-05-30","1880B0"]
[82,"DAVID DUEÑAS  CORONA","DUCD810813NA8","20 DE NOVIEMBRE  1A CENTRO ","CUAUTLA","48050","151","PARTICIPACIONES 9255","Cheque N° 30620","PAGO SEMANAL A EMPLEADOS EVENTUALES, HORAS EXTRAS Y GASTOS EN GENERAL ",1071.96,"2023-05-30","5C529B"]
[60,"CARLOS ALBERTO ORTEGA ORDAZ ","OEOC890121HJC","MANUEL ACUÑA 93","EL GRULLO ","48740","151","PARTICIPACIONES 9255","Cheque N° 30620","PAGO SEMANAL A EMPLEADOS EVENTUALES, HORAS EXTRAS Y GASTOS EN GENERAL ",645,"2023-05-30","549220"]
[8,"ANNEL GRAJEDA GOVEA","GAGA861121I11","-","-","45640","151","PARTICIPACIONES 9255","Cheque N° 30620","PAGO SEMANAL A EMPLEADOS EVENTUALES, HORAS EXTRAS Y GASTOS EN GENERAL ",850,"2023-05-30","Z- 80319"]
[9,"ANNEL GRAJEDA GOVEA","GAGA861121I11","-","-","45640","151","PARTICIPACIONES 9255","Cheque N° 30620","PAGO SEMANAL A EMPLEADOS EVENTUALES, HORAS EXTRAS Y GASTOS EN GENERAL ",520,"2023-05-30","Z-78595"]
[117,"EDGAR OMAR ELIZONDO TORO ","EITE780119FM2","PROLONGACION 5 DE MAYO 304","AYUTLA ","48050","151","PARTICIPACIONES 9255","Cheque N° 30620","PAGO SEMANAL A EMPLEADOS EVENTUALES, HORAS EXTRAS Y GASTOS EN GENERAL ",375,"2023-05-30","A-2180"]
[162,"J JAIME GUTIERREZ MARES ","GUMJ6604152C6","-","-","48150","151","PARTICIPACIONES 9255","Cheque N° 30620","PAGO SEMANAL A EMPLEADOS EVENTUALES, HORAS EXTRAS Y GASTOS EN GENERAL ",440,"2023-05-30","9A63C7"]
[131,"GAS VULCANO ","GVU9912072H9","-","-","48050","151","PARTICIPACIONES 9255","Cheque N° 30620","PAGO SEMANAL A EMPLEADOS EVENTUALES, HORAS EXTRAS Y GASTOS EN GENERAL ",544.20000000000005,"2023-05-30","GVF 72446"]
[256,"LUZ ARACELI CUEVAS  PELAYO ","CUPL770318QAA","JUAREZ 54","AYUTLA","48050","151","PARTICIPACIONES 9255","Cheque N° 30620","PAGO SEMANAL A EMPLEADOS EVENTUALES, HORAS EXTRAS Y GASTOS EN GENERAL ",570,"2023-05-30","155780"]
[257,"LUZ ARACELI CUEVAS  PELAYO ","CUPL770318QAA","JUAREZ 54","AYUTLA","48050","151","PARTICIPACIONES 9255","Cheque N° 30620","PAGO SEMANAL A EMPLEADOS EVENTUALES, HORAS EXTRAS Y GASTOS EN GENERAL ",120,"2023-05-30","DA08D8"]
[258,"LUZ ARACELI CUEVAS  PELAYO ","CUPL770318QAA","JUAREZ 54","AYUTLA","48050","151","PARTICIPACIONES 9255","Cheque N° 30620","PAGO SEMANAL A EMPLEADOS EVENTUALES, HORAS EXTRAS Y GASTOS EN GENERAL ",570,"2023-05-30","01F5FB"]
[259,"LUZ MARIA ROBLES CONTRERAS ","ROCL520820H60","-","-","46900","151","PARTICIPACIONES 9255","Cheque N° 30620","PAGO SEMANAL A EMPLEADOS EVENTUALES, HORAS EXTRAS Y GASTOS EN GENERAL ",515.79999999999995,"2023-05-30","ELECT2768"]
[244,"JUANA FELIX  REMIGIO","FERJ560820876","LIBRAMIENTO PONIENTE","AYUTLA","48050","151","PARTICIPACIONES 9255","Cheque N° 30620","PAGO SEMANAL A EMPLEADOS EVENTUALES, HORAS EXTRAS Y GASTOS EN GENERAL ",1410.01,"2023-05-30","830CD8"]
[245,"JUANA FELIX  REMIGIO","FERJ560820876","LIBRAMIENTO PONIENTE","AYUTLA","48050","151","PARTICIPACIONES 9255","Cheque N° 30620","PAGO SEMANAL A EMPLEADOS EVENTUALES, HORAS EXTRAS Y GASTOS EN GENERAL ",400,"2023-05-30","E5D2F3"]
[242,"JUAN PAULO SOLTERO RAMOS ","SORJ760630KZ5","NETZAHUALCOYOTL 243","AYUTLA JAL.","48050","151","PARTICIPACIONES 9255","Cheque N° 30620","PAGO SEMANAL A EMPLEADOS EVENTUALES, HORAS EXTRAS Y GASTOS EN GENERAL ",199.2,"2023-05-30","A-405"]
[185,"JOSE ANTONIO  OROZCO GONZALEZ","OOGA920809NM4","MIGUEL HIDALGO # 51","AYUTLA","48050","151","PARTICIPACIONES 9255","Cheque N° 30620","PAGO SEMANAL A EMPLEADOS EVENTUALES, HORAS EXTRAS Y GASTOS EN GENERAL ",1200,"2023-05-30","88DD52"]
[215,"JOSE JAIME  GONZALEZ  RODRIGUEZ ","GORJ921215LA2","RAMON CORONA #5 CENTRO","AYUTLA","48050","151","PARTICIPACIONES 9255","Cheque N° 30620","PAGO SEMANAL A EMPLEADOS EVENTUALES, HORAS EXTRAS Y GASTOS EN GENERAL ",365.5,"2023-05-30","F-129"]
[216,"JOSE MANUEL CUEVAS CORONA ","CUCM750319JE6","PUEBLA NO. 54","UNION DE TULA ","48000","151","PARTICIPACIONES 9255","Cheque N° 30620","PAGO SEMANAL A EMPLEADOS EVENTUALES, HORAS EXTRAS Y GASTOS EN GENERAL ",290,"2023-05-30","FJM-81"]
[332,"RAMON HERNANDEZ AGUILAR ","HEAR6710276F8","- ","-","48540","151","PARTICIPACIONES 9255","Cheque N° 30620","PAGO SEMANAL A EMPLEADOS EVENTUALES, HORAS EXTRAS Y GASTOS EN GENERAL ",1450,"2023-05-30","FF5A8B"]
[340,"RYPAOSA S.A. DE C.V. ","RYP881005B11","-","-","45598","151","PARTICIPACIONES 9255","Cheque N° 30620","PAGO SEMANAL A EMPLEADOS EVENTUALES, HORAS EXTRAS Y GASTOS EN GENERAL ",831.02,"2023-05-30","GDL 33967"]
[158,"HSBC MEXICO SA","HMI950125KG8","PASEO DE LA REFORMA 347, COL. CUAUHTEMOC","MEXICO","06500","251","INFRAESTRUCTURA 1645 2023","Transf N° ","COMISIONES BANCARIAS CORRESPONDIENTES AL MES DE MAYO DEL 2023 DE INFRA ",41.76,"2023-05-31",0]
[159,"HSBC MEXICO SA","HMI950125KG8","PASEO DE LA REFORMA 347, COL. CUAUHTEMOC","MEXICO","06500","252","FORTALECIMIENTO 1637 2023","Transf N° ","COMISIONES BANCARIAS CORRESPONDIENTES AL MES DE MAYO DEL 2023 DE FORTALECIMIENTO ",46.98,"2023-05-31",0]
[160,"HSBC MEXICO SA","HMI950125KG8","PASEO DE LA REFORMA 347, COL. CUAUHTEMOC","MEXICO","06500","111","AGUA POTABLE 9214","Transf N° ","COMISIONES BANCARIAS CORRESPONDIENTES AL MES DE MAYO DE AGUA POTABLE ",27.84,"2023-05-31",0]
[10,"ANTONIO ALTAMIRANO FREGOSO","AAFA420113HJC","REFORMA 87","AYUTLA, JAL.","48050","111","PARTICIPACIONES 9255","Cheque N° 30643","PAGO DE RENTA DE CASA HABITACION EN DONDE SE HOSPEDA VIALIDAD CORRESPONDIENTE AL MES DE MAYO 2023",2000,"2023-05-31","549256"]
[361,"SECRETARIA DE LA HACIENDA PUBLICA","SPC130227L99","SIN CALLE  SIN N CENTRO","HUENTITÁN EL BAJO","48050","151","PARTICIPACIONES 9255","Cheque N° 30690","PAGO POR MULTAS Y REFRENDOS ",2074.8000000000002,"2023-05-31","930012"]
[362,"SECRETARIA DE LA HACIENDA PUBLICA","SPC130227L99","SIN CALLE  SIN N CENTRO","HUENTITÁN EL BAJO","48050","151","PARTICIPACIONES 9255","Cheque N° 30690","PAGO POR MULTAS Y REFRENDOS ",2169,"2023-05-31","950014"]
[363,"SECRETARIA DE LA HACIENDA PUBLICA","SPC130227L99","SIN CALLE  SIN N CENTRO","HUENTITÁN EL BAJO","48050","151","PARTICIPACIONES 9255","Cheque N° 30690","PAGO POR MULTAS Y REFRENDOS ",2169,"2023-05-31","940013"]

{"sheet":"F11","index":9,"n_rows":212,"n_cols":31,"rows_kept":212,"cut":false,"hidden":false,"merged":[[214,0,214,30],[201,30,202,30],[201,0,202,29],[203,30,204,30],[203,0,204,29],[206,0,207,30],[209,22,210,30],[209,1,210,17],[211,22,212,30],[211,1,212,17],[191,30,192,30],[191,0,192,29],[193,0,194,29],[193,30,194,30],[195,0,196,29],[195,30,196,30],[197,0,198,29],[197,30,198,30],[199,0,200,29],[199,30,200,30],[181,30,182,30],[181,0,182,29],[183,0,184,29],[183,30,184,30],[185,0,186,29],[185,30,186,30],[187,0,188,29],[187,30,188,30],[189,30,190,30],[189,0,190,29],[171,0,172,29],[171,30,172,30],[173,0,174,29],[173,30,174,30],[175,30,176,30],[175,0,176,29],[177,30,178,30],[177,0,178,29],[179,30,180,30],[179,0,180,29],[161,30,162,30],[161,0,162,29],[163,30,164,30],[163,0,164,29],[165,30,166,30],[165,0,166,29],[167,30,168,30],[167,0,168,29],[169,30,170,30],[169,0,170,29],[151,30,152,30],[151,0,152,29],[153,0,154,29],[153,30,154,30],[155,30,156,30],[155,0,156,29],[157,30,158,30],[157,0,158,29],[159,30,160,30],[159,0,160,29],[141,30,142,30],[141,0,142,29],[143,30,144,30],[143,0,144,29],[145,0,146,29],[145,30,146,30],[147,0,148,29],[147,30,148,30],[149,0,150,29],[149,30,150,30],[131,0,132,29],[131,30,132,30],[133,30,134,30],[133,0,134,29],[135,30,136,30],[135,0,136,29],[137,0,138,29],[137,30,138,30],[139,30,140,30],[139,0,140,29],[121,0,122,29],[121,30,122,30],[123,0,124,29],[123,30,124,30],[125,0,126,29],[125,30,126,30],[127,0,128,29],[127,30,128,30],[129,30,130,30],[129,0,130,29],[111,30,112,30],[111,0,112,29],[113,0,114,29],[113,30,114,30],[115,0,116,29],[115,30,116,30],[117,0,118,29],[117,30,118,30],[119,30,120,30],[119,0,120,29],[101,30,102,30],[101,0,102,29],[103,30,104,30],[103,0,104,29],[105,30,106,30],[105,0,106,29],[107,30,108,30],[107,0,108,29],[109,30,110,30],[109,0,110,29],[91,30,92,30],[91,0,92,29],[93,0,94,29],[93,30,94,30],[95,30,96,30],[95,0,96,29],[97,0,98,29],[97,30,98,30],[99,30,100,30],[99,0,100,29],[81,30,82,30],[81,0,82,29],[83,0,84,29],[83,30,84,30],[85,0,86,29],[85,30,86,30],[87,30,88,30],[87,0,88,29],[89,0,90,29],[89,30,90,30],[71,30,72,30],[71,0,72,29],[73,0,74,29],[73,30,74,30],[75,0,76,29],[75,30,76,30],[77,30,78,30],[77,0,78,29],[79,0,80,29],[79,30,80,30],[61,30,62,30],[61,0,62,29],[63,0,64,29],[63,30,64,30],[65,30,66,30],[65,0,66,29],[67,30,68,30],[67,0,68,29],[69,30,70,30],[69,0,70,29],[51,30,52,30],[51,0,52,29],[53,30,54,30],[53,0,54,29],[55,30,56,30],[55,0,56,29],[57,0,58,29],[57,30,58,30],[59,30,60,30],[59,0,60,29],[41,0,42,29],[41,30,42,30],[43,0,44,29],[43,30,44,30],[45,30,46,30],[45,0,46,29],[47,30,48,30],[47,0,48,29],[49,0,50,29],[49,30,50,30],[31,30,32,30],[31,0,32,29],[33,0,34,29],[33,30,34,30],[35,0,36,29],[35,30,36,30],[37,30,38,30],[37,0,38,29],[39,0,40,29],[39,30,40,30],[29,30,30,30],[29,0,30,29],[11,0,12,29],[13,30,14,30],[13,0,14,29],[15,30,16,30],[15,0,16,29],[17,0,18,29],[17,30,18,30],[19,30,20,30],[19,0,20,29],[11,30,12,30],[21,30,22,30],[21,0,22,29],[23,0,24,29],[23,30,24,30],[25,0,26,29],[25,30,26,30],[27,0,28,29],[27,30,28,30],[0,0,0,30],[1,0,1,30],[2,0,2,30],[4,0,4,29],[5,30,6,30],[5,0,6,29],[7,30,8,30],[7,0,8,29],[9,0,10,29],[9,30,10,30]]}
[{"$f":"Validacion!A2","v":"Ayutla"}]
["INFORME SOBRE PASIVOS CONTINGENTES"]
[{"$f":"'F1'!B3","v":"Al 30 de Septiembre de 2023"}]
[]
["DESCRIPCIÓN",null,null,null,null,null,null,null,null,null,null,null,null,null,null,null,null,null,null,null,null,null,null,null,null,null,null,null,null,null,"IMPORTE"]
["No se cuenta con registro de pasivos contingentes",null,null,null,null,null,null,null,null,null,null,null,null,null,null,null,null,null,null,null,null,null,null,null,null,null,null,null,null,null,0]
[]
[]
[]
[]
[]
[]
[]
[]
[]
[]
[]
[]
[]
[]
[]
[]
[]
[]
[]
[]
[]
[]
[]
[]
[]
[]
[]
[]
[]
[]
[]
[]
[]
[]
[]
[]
[]
[]
[]
[]
[]
[]
[]
[]
[]
[]
[]
[]
[]
[]
[]
[]
[]
[]
[]
[]
[]
[]
[]
[]
[]
[]
[]
[]
[]
[]
[]
[]
[]
[]
[]
[]
[]
[]
[]
[]
[]
[]
[]
[]
[]
[]
[]
[]
[]
[]
[]
[]
[]
[]
[]
[]
[]
[]
[]
[]
[]
[]
[]
[]
[]
[]
[]
[]
[]
[]
[]
[]
[]
[]
[]
[]
[]
[]
[]
[]
[]
[]
[]
[]
[]
[]
[]
[]
[]
[]
[]
[]
[]
[]
[]
[]
[]
[]
[]
[]
[]
[]
[]
[]
[]
[]
[]
[]
[]
[]
[]
[]
[]
[]
[]
[]
[]
[]
[]
[]
[]
[]
[]
[]
[]
[]
[]
[]
[]
[]
[]
[]
[]
[]
[]
[]
[]
[]
[]
[]
[]
[]
[]
[]
[]
[]
[]
[]
[]
[]
[]
[]
[]
[]
[]
[]
[]
[]
[]
[]
[]
[]
[]
[]
["Bajo protesta de decir verdad declaramos que los Estados Financieros y sus Notas son razonablemente correctos y resposabilidad del emisor"]
[]
[]
[null,{"$f":"Validacion!A7","v":"C. José Ángel Prudencio Vargas"},null,null,null,null,null,null,null,null,null,null,null,null,null,null,null,null,null,null,null,null,{"$f":"Validacion!A9","v":"L.C.P. Regina Itzel Bedoya Cruz"}]
[]
[null,"Presidente Municipal o Titular del ente público",null,null,null,null,null,null,null,null,null,null,null,null,null,null,null,null,null,null,null,null,"Encargado de la Hacienda Municipal o Responsable de las finanzas del ente público"]

{"sheet":"F13","index":10,"n_rows":1002,"n_cols":35,"rows_kept":1002,"cut":false,"hidden":true,"merged":[[0,12,1,12],[0,13,1,13],[0,14,1,14],[0,6,1,6],[0,7,1,7],[0,8,1,8],[0,9,1,9],[0,10,1,10],[0,11,1,11],[0,5,1,5],[0,0,1,0],[0,1,1,1],[0,2,1,2],[0,3,1,3],[0,4,1,4]]}
["ID","Denominación del programa","Tipo de programa","Finalidad","Función","Sub-función","Nivel MIR","Código del nivel MIR","Resumen Narrativo (objetivos)","Nombre del indicador","Método de cálculo del indicador","Valor meta programado 1 (Numerador)","Valor meta programado 2 (Denominador)","Frecuencia de medición del indicador","Tipo de indicador","Capítulo 1000\n(Modificado)","Capítulo 2000\n(Modificado)","Capítulo 3000\n(Modificado)","Capítulo 4000\n(Modificado)","Capítulo 5000\n(Modificado)","Capítulo 6000\n(Modificado)","Capítulo 7000\n(Modificado)","Capítulo 8000\n(Modificado)","Capítulo 9000\n(Modificado)","Avance del Valor programado 1 (Numerador)","Avance del Valor programado 2 (Denominador)","Avance del Capítulo 1000 (Devengado)","Avance del Capítulo 2000 (Devengado)","Avance del Capítulo 3000 (Devengado)","Avance del Capítulo 4000 (Devengado)","Avance del Capítulo 5000 (Devengado)","Avance del Capítulo 6000 (Devengado)","Avance del Capítulo 7000 (Devengado)","Avance del Capítulo 8000 (Devengado)","Avance del Capítulo 9000 (Devengado)"]
[null,null,null,null,null,null,null,null,null,null,null,null,null,null,null,{"$f":"SUM(P3:P1002)","v":0},0,0,0,0,0,0,0,0,null,null,{"$f":"SUM(AA3:AA1002)","v":0},0,0,0,0,0,0,0,0]
[{"$f":"IF(B3>0,1,\"\")","v":""},null,null,{"$f":"IF(F3=\"\",\"\",INDEX(EF!$A$2:$A$112,MATCH(F3,EF!$C$2:$C$112,0)))","v":""},{"$f":"IF(F3=\"\",\"\",INDEX(EF!$B$2:$B$112,MATCH(F3,EF!$C$2:$C$112,0)))","v":""}]
[{"$f":"IF(B4>0,A3+1,\"\")","v":""},null,null,{"$f":"IF(F4=\"\",\"\",INDEX(EF!$A$2:$A$112,MATCH(F4,EF!$C$2:$C$112,0)))","v":""},{"$f":"IF(F4=\"\",\"\",INDEX(EF!$B$2:$B$112,MATCH(F4,EF!$C$2:$C$112,0)))","v":""}]
[{"$f":"IF(B5>0,A4+1,\"\")","v":""},null,null,{"$f":"IF(F5=\"\",\"\",INDEX(EF!$A$2:$A$112,MATCH(F5,EF!$C$2:$C$112,0)))","v":""},{"$f":"IF(F5=\"\",\"\",INDEX(EF!$B$2:$B$112,MATCH(F5,EF!$C$2:$C$112,0)))","v":""}]
["",null,null,{"$f":"IF(F6=\"\",\"\",INDEX(EF!$A$2:$A$112,MATCH(F6,EF!$C$2:$C$112,0)))","v":""},{"$f":"IF(F6=\"\",\"\",INDEX(EF!$B$2:$B$112,MATCH(F6,EF!$C$2:$C$112,0)))","v":""}]
["",null,null,{"$f":"IF(F7=\"\",\"\",INDEX(EF!$A$2:$A$112,MATCH(F7,EF!$C$2:$C$112,0)))","v":""},{"$f":"IF(F7=\"\",\"\",INDEX(EF!$B$2:$B$112,MATCH(F7,EF!$C$2:$C$112,0)))","v":""}]
["",null,null,{"$f":"IF(F8=\"\",\"\",INDEX(EF!$A$2:$A$112,MATCH(F8,EF!$C$2:$C$112,0)))","v":""},{"$f":"IF(F8=\"\",\"\",INDEX(EF!$B$2:$B$112,MATCH(F8,EF!$C$2:$C$112,0)))","v":""}]
["",null,null,{"$f":"IF(F9=\"\",\"\",INDEX(EF!$A$2:$A$112,MATCH(F9,EF!$C$2:$C$112,0)))","v":""},{"$f":"IF(F9=\"\",\"\",INDEX(EF!$B$2:$B$112,MATCH(F9,EF!$C$2:$C$112,0)))","v":""}]
["",null,null,{"$f":"IF(F10=\"\",\"\",INDEX(EF!$A$2:$A$112,MATCH(F10,EF!$C$2:$C$112,0)))","v":""},{"$f":"IF(F10=\"\",\"\",INDEX(EF!$B$2:$B$112,MATCH(F10,EF!$C$2:$C$112,0)))","v":""}]
["",null,null,{"$f":"IF(F11=\"\",\"\",INDEX(EF!$A$2:$A$112,MATCH(F11,EF!$C$2:$C$112,0)))","v":""},{"$f":"IF(F11=\"\",\"\",INDEX(EF!$B$2:$B$112,MATCH(F11,EF!$C$2:$C$112,0)))","v":""}]
["",null,null,{"$f":"IF(F12=\"\",\"\",INDEX(EF!$A$2:$A$112,MATCH(F12,EF!$C$2:$C$112,0)))","v":""},{"$f":"IF(F12=\"\",\"\",INDEX(EF!$B$2:$B$112,MATCH(F12,EF!$C$2:$C$112,0)))","v":""}]
["",null,null,{"$f":"IF(F13=\"\",\"\",INDEX(EF!$A$2:$A$112,MATCH(F13,EF!$C$2:$C$112,0)))","v":""},{"$f":"IF(F13=\"\",\"\",INDEX(EF!$B$2:$B$112,MATCH(F13,EF!$C$2:$C$112,0)))","v":""}]
["",null,null,{"$f":"IF(F14=\"\",\"\",INDEX(EF!$A$2:$A$112,MATCH(F14,EF!$C$2:$C$112,0)))","v":""},{"$f":"IF(F14=\"\",\"\",INDEX(EF!$B$2:$B$112,MATCH(F14,EF!$C$2:$C$112,0)))","v":""}]
["",null,null,{"$f":"IF(F15=\"\",\"\",INDEX(EF!$A$2:$A$112,MATCH(F15,EF!$C$2:$C$112,0)))","v":""},{"$f":"IF(F15=\"\",\"\",INDEX(EF!$B$2:$B$112,MATCH(F15,EF!$C$2:$C$112,0)))","v":""}]
["",null,null,{"$f":"IF(F16=\"\",\"\",INDEX(EF!$A$2:$A$112,MATCH(F16,EF!$C$2:$C$112,0)))","v":""},{"$f":"IF(F16=\"\",\"\",INDEX(EF!$B$2:$B$112,MATCH(F16,EF!$C$2:$C$112,0)))","v":""}]
["",null,null,{"$f":"IF(F17=\"\",\"\",INDEX(EF!$A$2:$A$112,MATCH(F17,EF!$C$2:$C$112,0)))","v":""},{"$f":"IF(F17=\"\",\"\",INDEX(EF!$B$2:$B$112,MATCH(F17,EF!$C$2:$C$112,0)))","v":""}]
["",null,null,{"$f":"IF(F18=\"\",\"\",INDEX(EF!$A$2:$A$112,MATCH(F18,EF!$C$2:$C$112,0)))","v":""},{"$f":"IF(F18=\"\",\"\",INDEX(EF!$B$2:$B$112,MATCH(F18,EF!$C$2:$C$112,0)))","v":""}]
["",null,null,{"$f":"IF(F19=\"\",\"\",INDEX(EF!$A$2:$A$112,MATCH(F19,EF!$C$2:$C$112,0)))","v":""},{"$f":"IF(F19=\"\",\"\",INDEX(EF!$B$2:$B$112,MATCH(F19,EF!$C$2:$C$112,0)))","v":""}]
["",null,null,{"$f":"IF(F20=\"\",\"\",INDEX(EF!$A$2:$A$112,MATCH(F20,EF!$C$2:$C$112,0)))","v":""},{"$f":"IF(F20=\"\",\"\",INDEX(EF!$B$2:$B$112,MATCH(F20,EF!$C$2:$C$112,0)))","v":""}]
["",null,null,{"$f":"IF(F21=\"\",\"\",INDEX(EF!$A$2:$A$112,MATCH(F21,EF!$C$2:$C$112,0)))","v":""},{"$f":"IF(F21=\"\",\"\",INDEX(EF!$B$2:$B$112,MATCH(F21,EF!$C$2:$C$112,0)))","v":""}]
["",null,null,{"$f":"IF(F22=\"\",\"\",INDEX(EF!$A$2:$A$112,MATCH(F22,EF!$C$2:$C$112,0)))","v":""},{"$f":"IF(F22=\"\",\"\",INDEX(EF!$B$2:$B$112,MATCH(F22,EF!$C$2:$C$112,0)))","v":""}]
["",null,null,{"$f":"IF(F23=\"\",\"\",INDEX(EF!$A$2:$A$112,MATCH(F23,EF!$C$2:$C$112,0)))","v":""},{"$f":"IF(F23=\"\",\"\",INDEX(EF!$B$2:$B$112,MATCH(F23,EF!$C$2:$C$112,0)))","v":""}]
["",null,null,{"$f":"IF(F24=\"\",\"\",INDEX(EF!$A$2:$A$112,MATCH(F24,EF!$C$2:$C$112,0)))","v":""},{"$f":"IF(F24=\"\",\"\",INDEX(EF!$B$2:$B$112,MATCH(F24,EF!$C$2:$C$112,0)))","v":""}]
["",null,null,{"$f":"IF(F25=\"\",\"\",INDEX(EF!$A$2:$A$112,MATCH(F25,EF!$C$2:$C$112,0)))","v":""},{"$f":"IF(F25=\"\",\"\",INDEX(EF!$B$2:$B$112,MATCH(F25,EF!$C$2:$C$112,0)))","v":""}]
["",null,null,{"$f":"IF(F26=\"\",\"\",INDEX(EF!$A$2:$A$112,MATCH(F26,EF!$C$2:$C$112,0)))","v":""},{"$f":"IF(F26=\"\",\"\",INDEX(EF!$B$2:$B$112,MATCH(F26,EF!$C$2:$C$112,0)))","v":""}]
["",null,null,{"$f":"IF(F27=\"\",\"\",INDEX(EF!$A$2:$A$112,MATCH(F27,EF!$C$2:$C$112,0)))","v":""},{"$f":"IF(F27=\"\",\"\",INDEX(EF!$B$2:$B$112,MATCH(F27,EF!$C$2:$C$112,0)))","v":""}]
["",null,null,{"$f":"IF(F28=\"\",\"\",INDEX(EF!$A$2:$A$112,MATCH(F28,EF!$C$2:$C$112,0)))","v":""},{"$f":"IF(F28=\"\",\"\",INDEX(EF!$B$2:$B$112,MATCH(F28,EF!$C$2:$C$112,0)))","v":""}]
["",null,null,{"$f":"IF(F29=\"\",\"\",INDEX(EF!$A$2:$A$112,MATCH(F29,EF!$C$2:$C$112,0)))","v":""},{"$f":"IF(F29=\"\",\"\",INDEX(EF!$B$2:$B$112,MATCH(F29,EF!$C$2:$C$112,0)))","v":""}]
["",null,null,{"$f":"IF(F30=\"\",\"\",INDEX(EF!$A$2:$A$112,MATCH(F30,EF!$C$2:$C$112,0)))","v":""},{"$f":"IF(F30=\"\",\"\",INDEX(EF!$B$2:$B$112,MATCH(F30,EF!$C$2:$C$112,0)))","v":""}]
["",null,null,{"$f":"IF(F31=\"\",\"\",INDEX(EF!$A$2:$A$112,MATCH(F31,EF!$C$2:$C$112,0)))","v":""},{"$f":"IF(F31=\"\",\"\",INDEX(EF!$B$2:$B$112,MATCH(F31,EF!$C$2:$C$112,0)))","v":""}]
["",null,null,{"$f":"IF(F32=\"\",\"\",INDEX(EF!$A$2:$A$112,MATCH(F32,EF!$C$2:$C$112,0)))","v":""},{"$f":"IF(F32=\"\",\"\",INDEX(EF!$B$2:$B$112,MATCH(F32,EF!$C$2:$C$112,0)))","v":""}]
["",null,null,{"$f":"IF(F33=\"\",\"\",INDEX(EF!$A$2:$A$112,MATCH(F33,EF!$C$2:$C$112,0)))","v":""},{"$f":"IF(F33=\"\",\"\",INDEX(EF!$B$2:$B$112,MATCH(F33,EF!$C$2:$C$112,0)))","v":""}]
["",null,null,{"$f":"IF(F34=\"\",\"\",INDEX(EF!$A$2:$A$112,MATCH(F34,EF!$C$2:$C$112,0)))","v":""},{"$f":"IF(F34=\"\",\"\",INDEX(EF!$B$2:$B$112,MATCH(F34,EF!$C$2:$C$112,0)))","v":""}]
["",null,null,{"$f":"IF(F35=\"\",\"\",INDEX(EF!$A$2:$A$112,MATCH(F35,EF!$C$2:$C$112,0)))","v":""},{"$f":"IF(F35=\"\",\"\",INDEX(EF!$B$2:$B$112,MATCH(F35,EF!$C$2:$C$112,0)))","v":""}]
["",null,null,{"$f":"IF(F36=\"\",\"\",INDEX(EF!$A$2:$A$112,MATCH(F36,EF!$C$2:$C$112,0)))","v":""},{"$f":"IF(F36=\"\",\"\",INDEX(EF!$B$2:$B$112,MATCH(F36,EF!$C$2:$C$112,0)))","v":""}]
["",null,null,{"$f":"IF(F37=\"\",\"\",INDEX(EF!$A$2:$A$112,MATCH(F37,EF!$C$2:$C$112,0)))","v":""},{"$f":"IF(F37=\"\",\"\",INDEX(EF!$B$2:$B$112,MATCH(F37,EF!$C$2:$C$112,0)))","v":""}]
["",null,null,{"$f":"IF(F38=\"\",\"\",INDEX(EF!$A$2:$A$112,MATCH(F38,EF!$C$2:$C$112,0)))","v":""},{"$f":"IF(F38=\"\",\"\",INDEX(EF!$B$2:$B$112,MATCH(F38,EF!$C$2:$C$112,0)))","v":""}]
["",null,null,{"$f":"IF(F39=\"\",\"\",INDEX(EF!$A$2:$A$112,MATCH(F39,EF!$C$2:$C$112,0)))","v":""},{"$f":"IF(F39=\"\",\"\",INDEX(EF!$B$2:$B$112,MATCH(F39,EF!$C$2:$C$112,0)))","v":""}]
["",null,null,{"$f":"IF(F40=\"\",\"\",INDEX(EF!$A$2:$A$112,MATCH(F40,EF!$C$2:$C$112,0)))","v":""},{"$f":"IF(F40=\"\",\"\",INDEX(EF!$B$2:$B$112,MATCH(F40,EF!$C$2:$C$112,0)))","v":""}]
["",null,null,{"$f":"IF(F41=\"\",\"\",INDEX(EF!$A$2:$A$112,MATCH(F41,EF!$C$2:$C$112,0)))","v":""},{"$f":"IF(F41=\"\",\"\",INDEX(EF!$B$2:$B$112,MATCH(F41,EF!$C$2:$C$112,0)))","v":""}]
["",null,null,{"$f":"IF(F42=\"\",\"\",INDEX(EF!$A$2:$A$112,MATCH(F42,EF!$C$2:$C$112,0)))","v":""},{"$f":"IF(F42=\"\",\"\",INDEX(EF!$B$2:$B$112,MATCH(F42,EF!$C$2:$C$112,0)))","v":""}]
["",null,null,{"$f":"IF(F43=\"\",\"\",INDEX(EF!$A$2:$A$112,MATCH(F43,EF!$C$2:$C$112,0)))","v":""},{"$f":"IF(F43=\"\",\"\",INDEX(EF!$B$2:$B$112,MATCH(F43,EF!$C$2:$C$112,0)))","v":""}]
["",null,null,{"$f":"IF(F44=\"\",\"\",INDEX(EF!$A$2:$A$112,MATCH(F44,EF!$C$2:$C$112,0)))","v":""},{"$f":"IF(F44=\"\",\"\",INDEX(EF!$B$2:$B$112,MATCH(F44,EF!$C$2:$C$112,0)))","v":""}]
["",null,null,{"$f":"IF(F45=\"\",\"\",INDEX(EF!$A$2:$A$112,MATCH(F45,EF!$C$2:$C$112,0)))","v":""},{"$f":"IF(F45=\"\",\"\",INDEX(EF!$B$2:$B$112,MATCH(F45,EF!$C$2:$C$112,0)))","v":""}]
["",null,null,{"$f":"IF(F46=\"\",\"\",INDEX(EF!$A$2:$A$112,MATCH(F46,EF!$C$2:$C$112,0)))","v":""},{"$f":"IF(F46=\"\",\"\",INDEX(EF!$B$2:$B$112,MATCH(F46,EF!$C$2:$C$112,0)))","v":""}]
["",null,null,{"$f":"IF(F47=\"\",\"\",INDEX(EF!$A$2:$A$112,MATCH(F47,EF!$C$2:$C$112,0)))","v":""},{"$f":"IF(F47=\"\",\"\",INDEX(EF!$B$2:$B$112,MATCH(F47,EF!$C$2:$C$112,0)))","v":""}]
["",null,null,{"$f":"IF(F48=\"\",\"\",INDEX(EF!$A$2:$A$112,MATCH(F48,EF!$C$2:$C$112,0)))","v":""},{"$f":"IF(F48=\"\",\"\",INDEX(EF!$B$2:$B$112,MATCH(F48,EF!$C$2:$C$112,0)))","v":""}]
["",null,null,{"$f":"IF(F49=\"\",\"\",INDEX(EF!$A$2:$A$112,MATCH(F49,EF!$C$2:$C$112,0)))","v":""},{"$f":"IF(F49=\"\",\"\",INDEX(EF!$B$2:$B$112,MATCH(F49,EF!$C$2:$C$112,0)))","v":""}]
["",null,null,{"$f":"IF(F50=\"\",\"\",INDEX(EF!$A$2:$A$112,MATCH(F50,EF!$C$2:$C$112,0)))","v":""},{"$f":"IF(F50=\"\",\"\",INDEX(EF!$B$2:$B$112,MATCH(F50,EF!$C$2:$C$112,0)))","v":""}]
["",null,null,{"$f":"IF(F51=\"\",\"\",INDEX(EF!$A$2:$A$112,MATCH(F51,EF!$C$2:$C$112,0)))","v":""},{"$f":"IF(F51=\"\",\"\",INDEX(EF!$B$2:$B$112,MATCH(F51,EF!$C$2:$C$112,0)))","v":""}]
["",null,null,{"$f":"IF(F52=\"\",\"\",INDEX(EF!$A$2:$A$112,MATCH(F52,EF!$C$2:$C$112,0)))","v":""},{"$f":"IF(F52=\"\",\"\",INDEX(EF!$B$2:$B$112,MATCH(F52,EF!$C$2:$C$112,0)))","v":""}]
["",null,null,{"$f":"IF(F53=\"\",\"\",INDEX(EF!$A$2:$A$112,MATCH(F53,EF!$C$2:$C$112,0)))","v":""},{"$f":"IF(F53=\"\",\"\",INDEX(EF!$B$2:$B$112,MATCH(F53,EF!$C$2:$C$112,0)))","v":""}]
["",null,null,{"$f":"IF(F54=\"\",\"\",INDEX(EF!$A$2:$A$112,MATCH(F54,EF!$C$2:$C$112,0)))","v":""},{"$f":"IF(F54=\"\",\"\",INDEX(EF!$B$2:$B$112,MATCH(F54,EF!$C$2:$C$112,0)))","v":""}]
["",null,null,{"$f":"IF(F55=\"\",\"\",INDEX(EF!$A$2:$A$112,MATCH(F55,EF!$C$2:$C$112,0)))","v":""},{"$f":"IF(F55=\"\",\"\",INDEX(EF!$B$2:$B$112,MATCH(F55,EF!$C$2:$C$112,0)))","v":""}]
["",null,null,{"$f":"IF(F56=\"\",\"\",INDEX(EF!$A$2:$A$112,MATCH(F56,EF!$C$2:$C$112,0)))","v":""},{"$f":"IF(F56=\"\",\"\",INDEX(EF!$B$2:$B$112,MATCH(F56,EF!$C$2:$C$112,0)))","v":""}]
["",null,null,{"$f":"IF(F57=\"\",\"\",INDEX(EF!$A$2:$A$112,MATCH(F57,EF!$C$2:$C$112,0)))","v":""},{"$f":"IF(F57=\"\",\"\",INDEX(EF!$B$2:$B$112,MATCH(F57,EF!$C$2:$C$112,0)))","v":""}]
["",null,null,{"$f":"IF(F58=\"\",\"\",INDEX(EF!$A$2:$A$112,MATCH(F58,EF!$C$2:$C$112,0)))","v":""},{"$f":"IF(F58=\"\",\"\",INDEX(EF!$B$2:$B$112,MATCH(F58,EF!$C$2:$C$112,0)))","v":""}]
["",null,null,{"$f":"IF(F59=\"\",\"\",INDEX(EF!$A$2:$A$112,MATCH(F59,EF!$C$2:$C$112,0)))","v":""},{"$f":"IF(F59=\"\",\"\",INDEX(EF!$B$2:$B$112,MATCH(F59,EF!$C$2:$C$112,0)))","v":""}]
["",null,null,{"$f":"IF(F60=\"\",\"\",INDEX(EF!$A$2:$A$112,MATCH(F60,EF!$C$2:$C$112,0)))","v":""},{"$f":"IF(F60=\"\",\"\",INDEX(EF!$B$2:$B$112,MATCH(F60,EF!$C$2:$C$112,0)))","v":""}]
["",null,null,{"$f":"IF(F61=\"\",\"\",INDEX(EF!$A$2:$A$112,MATCH(F61,EF!$C$2:$C$112,0)))","v":""},{"$f":"IF(F61=\"\",\"\",INDEX(EF!$B$2:$B$112,MATCH(F61,EF!$C$2:$C$112,0)))","v":""}]
["",null,null,{"$f":"IF(F62=\"\",\"\",INDEX(EF!$A$2:$A$112,MATCH(F62,EF!$C$2:$C$112,0)))","v":""},{"$f":"IF(F62=\"\",\"\",INDEX(EF!$B$2:$B$112,MATCH(F62,EF!$C$2:$C$112,0)))","v":""}]
["",null,null,{"$f":"IF(F63=\"\",\"\",INDEX(EF!$A$2:$A$112,MATCH(F63,EF!$C$2:$C$112,0)))","v":""},{"$f":"IF(F63=\"\",\"\",INDEX(EF!$B$2:$B$112,MATCH(F63,EF!$C$2:$C$112,0)))","v":""}]
["",null,null,{"$f":"IF(F64=\"\",\"\",INDEX(EF!$A$2:$A$112,MATCH(F64,EF!$C$2:$C$112,0)))","v":""},{"$f":"IF(F64=\"\",\"\",INDEX(EF!$B$2:$B$112,MATCH(F64,EF!$C$2:$C$112,0)))","v":""}]
["",null,null,{"$f":"IF(F65=\"\",\"\",INDEX(EF!$A$2:$A$112,MATCH(F65,EF!$C$2:$C$112,0)))","v":""},{"$f":"IF(F65=\"\",\"\",INDEX(EF!$B$2:$B$112,MATCH(F65,EF!$C$2:$C$112,0)))","v":""}]
["",null,null,{"$f":"IF(F66=\"\",\"\",INDEX(EF!$A$2:$A$112,MATCH(F66,EF!$C$2:$C$112,0)))","v":""},{"$f":"IF(F66=\"\",\"\",INDEX(EF!$B$2:$B$112,MATCH(F66,EF!$C$2:$C$112,0)))","v":""}]
["",null,null,{"$f":"IF(F67=\"\",\"\",INDEX(EF!$A$2:$A$112,MATCH(F67,EF!$C$2:$C$112,0)))","v":""},{"$f":"IF(F67=\"\",\"\",INDEX(EF!$B$2:$B$112,MATCH(F67,EF!$C$2:$C$112,0)))","v":""}]
["",null,null,{"$f":"IF(F68=\"\",\"\",INDEX(EF!$A$2:$A$112,MATCH(F68,EF!$C$2:$C$112,0)))","v":""},{"$f":"IF(F68=\"\",\"\",INDEX(EF!$B$2:$B$112,MATCH(F68,EF!$C$2:$C$112,0)))","v":""}]
[{"$f":"IF(B69>0,A68+1,\"\")","v":""},null,null,{"$f":"IF(F69=\"\",\"\",INDEX(EF!$A$2:$A$112,MATCH(F69,EF!$C$2:$C$112,0)))","v":""},{"$f":"IF(F69=\"\",\"\",INDEX(EF!$B$2:$B$112,MATCH(F69,EF!$C$2:$C$112,0)))","v":""}]
["",null,null,{"$f":"IF(F70=\"\",\"\",INDEX(EF!$A$2:$A$112,MATCH(F70,EF!$C$2:$C$112,0)))","v":""},{"$f":"IF(F70=\"\",\"\",INDEX(EF!$B$2:$B$112,MATCH(F70,EF!$C$2:$C$112,0)))","v":""}]
["",null,null,{"$f":"IF(F71=\"\",\"\",INDEX(EF!$A$2:$A$112,MATCH(F71,EF!$C$2:$C$112,0)))","v":""},{"$f":"IF(F71=\"\",\"\",INDEX(EF!$B$2:$B$112,MATCH(F71,EF!$C$2:$C$112,0)))","v":""}]
["",null,null,{"$f":"IF(F72=\"\",\"\",INDEX(EF!$A$2:$A$112,MATCH(F72,EF!$C$2:$C$112,0)))","v":""},{"$f":"IF(F72=\"\",\"\",INDEX(EF!$B$2:$B$112,MATCH(F72,EF!$C$2:$C$112,0)))","v":""}]
["",null,null,{"$f":"IF(F73=\"\",\"\",INDEX(EF!$A$2:$A$112,MATCH(F73,EF!$C$2:$C$112,0)))","v":""},{"$f":"IF(F73=\"\",\"\",INDEX(EF!$B$2:$B$112,MATCH(F73,EF!$C$2:$C$112,0)))","v":""}]
["",null,null,{"$f":"IF(F74=\"\",\"\",INDEX(EF!$A$2:$A$112,MATCH(F74,EF!$C$2:$C$112,0)))","v":""},{"$f":"IF(F74=\"\",\"\",INDEX(EF!$B$2:$B$112,MATCH(F74,EF!$C$2:$C$112,0)))","v":""}]
["",null,null,{"$f":"IF(F75=\"\",\"\",INDEX(EF!$A$2:$A$112,MATCH(F75,EF!$C$2:$C$112,0)))","v":""},{"$f":"IF(F75=\"\",\"\",INDEX(EF!$B$2:$B$112,MATCH(F75,EF!$C$2:$C$112,0)))","v":""}]
["",null,null,{"$f":"IF(F76=\"\",\"\",INDEX(EF!$A$2:$A$112,MATCH(F76,EF!$C$2:$C$112,0)))","v":""},{"$f":"IF(F76=\"\",\"\",INDEX(EF!$B$2:$B$112,MATCH(F76,EF!$C$2:$C$112,0)))","v":""}]
["",null,null,{"$f":"IF(F77=\"\",\"\",INDEX(EF!$A$2:$A$112,MATCH(F77,EF!$C$2:$C$112,0)))","v":""},{"$f":"IF(F77=\"\",\"\",INDEX(EF!$B$2:$B$112,MATCH(F77,EF!$C$2:$C$112,0)))","v":""}]
["",null,null,{"$f":"IF(F78=\"\",\"\",INDEX(EF!$A$2:$A$112,MATCH(F78,EF!$C$2:$C$112,0)))","v":""},{"$f":"IF(F78=\"\",\"\",INDEX(EF!$B$2:$B$112,MATCH(F78,EF!$C$2:$C$112,0)))","v":""}]
["",null,null,{"$f":"IF(F79=\"\",\"\",INDEX(EF!$A$2:$A$112,MATCH(F79,EF!$C$2:$C$112,0)))","v":""},{"$f":"IF(F79=\"\",\"\",INDEX(EF!$B$2:$B$112,MATCH(F79,EF!$C$2:$C$112,0)))","v":""}]
["",null,null,{"$f":"IF(F80=\"\",\"\",INDEX(EF!$A$2:$A$112,MATCH(F80,EF!$C$2:$C$112,0)))","v":""},{"$f":"IF(F80=\"\",\"\",INDEX(EF!$B$2:$B$112,MATCH(F80,EF!$C$2:$C$112,0)))","v":""}]
["",null,null,{"$f":"IF(F81=\"\",\"\",INDEX(EF!$A$2:$A$112,MATCH(F81,EF!$C$2:$C$112,0)))","v":""},{"$f":"IF(F81=\"\",\"\",INDEX(EF!$B$2:$B$112,MATCH(F81,EF!$C$2:$C$112,0)))","v":""}]
["",null,null,{"$f":"IF(F82=\"\",\"\",INDEX(EF!$A$2:$A$112,MATCH(F82,EF!$C$2:$C$112,0)))","v":""},{"$f":"IF(F82=\"\",\"\",INDEX(EF!$B$2:$B$112,MATCH(F82,EF!$C$2:$C$112,0)))","v":""}]
["",null,null,{"$f":"IF(F83=\"\",\"\",INDEX(EF!$A$2:$A$112,MATCH(F83,EF!$C$2:$C$112,0)))","v":""},{"$f":"IF(F83=\"\",\"\",INDEX(EF!$B$2:$B$112,MATCH(F83,EF!$C$2:$C$112,0)))","v":""}]
["",null,null,{"$f":"IF(F84=\"\",\"\",INDEX(EF!$A$2:$A$112,MATCH(F84,EF!$C$2:$C$112,0)))","v":""},{"$f":"IF(F84=\"\",\"\",INDEX(EF!$B$2:$B$112,MATCH(F84,EF!$C$2:$C$112,0)))","v":""}]
["",null,null,{"$f":"IF(F85=\"\",\"\",INDEX(EF!$A$2:$A$112,MATCH(F85,EF!$C$2:$C$112,0)))","v":""},{"$f":"IF(F85=\"\",\"\",INDEX(EF!$B$2:$B$112,MATCH(F85,EF!$C$2:$C$112,0)))","v":""}]
["",null,null,{"$f":"IF(F86=\"\",\"\",INDEX(EF!$A$2:$A$112,MATCH(F86,EF!$C$2:$C$112,0)))","v":""},{"$f":"IF(F86=\"\",\"\",INDEX(EF!$B$2:$B$112,MATCH(F86,EF!$C$2:$C$112,0)))","v":""}]
["",null,null,{"$f":"IF(F87=\"\",\"\",INDEX(EF!$A$2:$A$112,MATCH(F87,EF!$C$2:$C$112,0)))","v":""},{"$f":"IF(F87=\"\",\"\",INDEX(EF!$B$2:$B$112,MATCH(F87,EF!$C$2:$C$112,0)))","v":""}]
["",null,null,{"$f":"IF(F88=\"\",\"\",INDEX(EF!$A$2:$A$112,MATCH(F88,EF!$C$2:$C$112,0)))","v":""},{"$f":"IF(F88=\"\",\"\",INDEX(EF!$B$2:$B$112,MATCH(F88,EF!$C$2:$C$112,0)))","v":""}]
["",null,null,{"$f":"IF(F89=\"\",\"\",INDEX(EF!$A$2:$A$112,MATCH(F89,EF!$C$2:$C$112,0)))","v":""},{"$f":"IF(F89=\"\",\"\",INDEX(EF!$B$2:$B$112,MATCH(F89,EF!$C$2:$C$112,0)))","v":""}]
["",null,null,{"$f":"IF(F90=\"\",\"\",INDEX(EF!$A$2:$A$112,MATCH(F90,EF!$C$2:$C$112,0)))","v":""},{"$f":"IF(F90=\"\",\"\",INDEX(EF!$B$2:$B$112,MATCH(F90,EF!$C$2:$C$112,0)))","v":""}]
["",null,null,{"$f":"IF(F91=\"\",\"\",INDEX(EF!$A$2:$A$112,MATCH(F91,EF!$C$2:$C$112,0)))","v":""},{"$f":"IF(F91=\"\",\"\",INDEX(EF!$B$2:$B$112,MATCH(F91,EF!$C$2:$C$112,0)))","v":""}]
["",null,null,{"$f":"IF(F92=\"\",\"\",INDEX(EF!$A$2:$A$112,MATCH(F92,EF!$C$2:$C$112,0)))","v":""},{"$f":"IF(F92=\"\",\"\",INDEX(EF!$B$2:$B$112,MATCH(F92,EF!$C$2:$C$112,0)))","v":""}]
["",null,null,{"$f":"IF(F93=\"\",\"\",INDEX(EF!$A$2:$A$112,MATCH(F93,EF!$C$2:$C$112,0)))","v":""},{"$f":"IF(F93=\"\",\"\",INDEX(EF!$B$2:$B$112,MATCH(F93,EF!$C$2:$C$112,0)))","v":""}]
["",null,null,{"$f":"IF(F94=\"\",\"\",INDEX(EF!$A$2:$A$112,MATCH(F94,EF!$C$2:$C$112,0)))","v":""},{"$f":"IF(F94=\"\",\"\",INDEX(EF!$B$2:$B$112,MATCH(F94,EF!$C$2:$C$112,0)))","v":""}]
["",null,null,{"$f":"IF(F95=\"\",\"\",INDEX(EF!$A$2:$A$112,MATCH(F95,EF!$C$2:$C$112,0)))","v":""},{"$f":"IF(F95=\"\",\"\",INDEX(EF!$B$2:$B$112,MATCH(F95,EF!$C$2:$C$112,0)))","v":""}]
["",null,null,{"$f":"IF(F96=\"\",\"\",INDEX(EF!$A$2:$A$112,MATCH(F96,EF!$C$2:$C$112,0)))","v":""},{"$f":"IF(F96=\"\",\"\",INDEX(EF!$B$2:$B$112,MATCH(F96,EF!$C$2:$C$112,0)))","v":""}]
["",null,null,{"$f":"IF(F97=\"\",\"\",INDEX(EF!$A$2:$A$112,MATCH(F97,EF!$C$2:$C$112,0)))","v":""},{"$f":"IF(F97=\"\",\"\",INDEX(EF!$B$2:$B$112,MATCH(F97,EF!$C$2:$C$112,0)))","v":""}]
["",null,null,{"$f":"IF(F98=\"\",\"\",INDEX(EF!$A$2:$A$112,MATCH(F98,EF!$C$2:$C$112,0)))","v":""},{"$f":"IF(F98=\"\",\"\",INDEX(EF!$B$2:$B$112,MATCH(F98,EF!$C$2:$C$112,0)))","v":""}]
["",null,null,{"$f":"IF(F99=\"\",\"\",INDEX(EF!$A$2:$A$112,MATCH(F99,EF!$C$2:$C$112,0)))","v":""},{"$f":"IF(F99=\"\",\"\",INDEX(EF!$B$2:$B$112,MATCH(F99,EF!$C$2:$C$112,0)))","v":""}]
["",null,null,{"$f":"IF(F100=\"\",\"\",INDEX(EF!$A$2:$A$112,MATCH(F100,EF!$C$2:$C$112,0)))","v":""},{"$f":"IF(F100=\"\",\"\",INDEX(EF!$B$2:$B$112,MATCH(F100,EF!$C$2:$C$112,0)))","v":""}]
["",null,null,{"$f":"IF(F101=\"\",\"\",INDEX(EF!$A$2:$A$112,MATCH(F101,EF!$C$2:$C$112,0)))","v":""},{"$f":"IF(F101=\"\",\"\",INDEX(EF!$B$2:$B$112,MATCH(F101,EF!$C$2:$C$112,0)))","v":""}]
["",null,null,{"$f":"IF(F102=\"\",\"\",INDEX(EF!$A$2:$A$112,MATCH(F102,EF!$C$2:$C$112,0)))","v":""},{"$f":"IF(F102=\"\",\"\",INDEX(EF!$B$2:$B$112,MATCH(F102,EF!$C$2:$C$112,0)))","v":""}]
["",null,null,{"$f":"IF(F103=\"\",\"\",INDEX(EF!$A$2:$A$112,MATCH(F103,EF!$C$2:$C$112,0)))","v":""},{"$f":"IF(F103=\"\",\"\",INDEX(EF!$B$2:$B$112,MATCH(F103,EF!$C$2:$C$112,0)))","v":""}]
["",null,null,{"$f":"IF(F104=\"\",\"\",INDEX(EF!$A$2:$A$112,MATCH(F104,EF!$C$2:$C$112,0)))","v":""},{"$f":"IF(F104=\"\",\"\",INDEX(EF!$B$2:$B$112,MATCH(F104,EF!$C$2:$C$112,0)))","v":""}]
["",null,null,{"$f":"IF(F105=\"\",\"\",INDEX(EF!$A$2:$A$112,MATCH(F105,EF!$C$2:$C$112,0)))","v":""},{"$f":"IF(F105=\"\",\"\",INDEX(EF!$B$2:$B$112,MATCH(F105,EF!$C$2:$C$112,0)))","v":""}]
["",null,null,{"$f":"IF(F106=\"\",\"\",INDEX(EF!$A$2:$A$112,MATCH(F106,EF!$C$2:$C$112,0)))","v":""},{"$f":"IF(F106=\"\",\"\",INDEX(EF!$B$2:$B$112,MATCH(F106,EF!$C$2:$C$112,0)))","v":""}]
["",null,null,{"$f":"IF(F107=\"\",\"\",INDEX(EF!$A$2:$A$112,MATCH(F107,EF!$C$2:$C$112,0)))","v":""},{"$f":"IF(F107=\"\",\"\",INDEX(EF!$B$2:$B$112,MATCH(F107,EF!$C$2:$C$112,0)))","v":""}]
["",null,null,{"$f":"IF(F108=\"\",\"\",INDEX(EF!$A$2:$A$112,MATCH(F108,EF!$C$2:$C$112,0)))","v":""},{"$f":"IF(F108=\"\",\"\",INDEX(EF!$B$2:$B$112,MATCH(F108,EF!$C$2:$C$112,0)))","v":""}]
["",null,null,{"$f":"IF(F109=\"\",\"\",INDEX(EF!$A$2:$A$112,MATCH(F109,EF!$C$2:$C$112,0)))","v":""},{"$f":"IF(F109=\"\",\"\",INDEX(EF!$B$2:$B$112,MATCH(F109,EF!$C$2:$C$112,0)))","v":""}]
["",null,null,{"$f":"IF(F110=\"\",\"\",INDEX(EF!$A$2:$A$112,MATCH(F110,EF!$C$2:$C$112,0)))","v":""},{"$f":"IF(F110=\"\",\"\",INDEX(EF!$B$2:$B$112,MATCH(F110,EF!$C$2:$C$112,0)))","v":""}]
["",null,null,{"$f":"IF(F111=\"\",\"\",INDEX(EF!$A$2:$A$112,MATCH(F111,EF!$C$2:$C$112,0)))","v":""},{"$f":"IF(F111=\"\",\"\",INDEX(EF!$B$2:$B$112,MATCH(F111,EF!$C$2:$C$112,0)))","v":""}]
["",null,null,{"$f":"IF(F112=\"\",\"\",INDEX(EF!$A$2:$A$112,MATCH(F112,EF!$C$2:$C$112,0)))","v":""},{"$f":"IF(F112=\"\",\"\",INDEX(EF!$B$2:$B$112,MATCH(F112,EF!$C$2:$C$112,0)))","v":""}]
["",null,null,{"$f":"IF(F113=\"\",\"\",INDEX(EF!$A$2:$A$112,MATCH(F113,EF!$C$2:$C$112,0)))","v":""},{"$f":"IF(F113=\"\",\"\",INDEX(EF!$B$2:$B$112,MATCH(F113,EF!$C$2:$C$112,0)))","v":""}]
["",null,null,{"$f":"IF(F114=\"\",\"\",INDEX(EF!$A$2:$A$112,MATCH(F114,EF!$C$2:$C$112,0)))","v":""},{"$f":"IF(F114=\"\",\"\",INDEX(EF!$B$2:$B$112,MATCH(F114,EF!$C$2:$C$112,0)))","v":""}]
["",null,null,{"$f":"IF(F115=\"\",\"\",INDEX(EF!$A$2:$A$112,MATCH(F115,EF!$C$2:$C$112,0)))","v":""},{"$f":"IF(F115=\"\",\"\",INDEX(EF!$B$2:$B$112,MATCH(F115,EF!$C$2:$C$112,0)))","v":""}]
["",null,null,{"$f":"IF(F116=\"\",\"\",INDEX(EF!$A$2:$A$112,MATCH(F116,EF!$C$2:$C$112,0)))","v":""},{"$f":"IF(F116=\"\",\"\",INDEX(EF!$B$2:$B$112,MATCH(F116,EF!$C$2:$C$112,0)))","v":""}]
["",null,null,{"$f":"IF(F117=\"\",\"\",INDEX(EF!$A$2:$A$112,MATCH(F117,EF!$C$2:$C$112,0)))","v":""},{"$f":"IF(F117=\"\",\"\",INDEX(EF!$B$2:$B$112,MATCH(F117,EF!$C$2:$C$112,0)))","v":""}]
["",null,null,{"$f":"IF(F118=\"\",\"\",INDEX(EF!$A$2:$A$112,MATCH(F118,EF!$C$2:$C$112,0)))","v":""},{"$f":"IF(F118=\"\",\"\",INDEX(EF!$B$2:$B$112,MATCH(F118,EF!$C$2:$C$112,0)))","v":""}]
["",null,null,{"$f":"IF(F119=\"\",\"\",INDEX(EF!$A$2:$A$112,MATCH(F119,EF!$C$2:$C$112,0)))","v":""},{"$f":"IF(F119=\"\",\"\",INDEX(EF!$B$2:$B$112,MATCH(F119,EF!$C$2:$C$112,0)))","v":""}]
["",null,null,{"$f":"IF(F120=\"\",\"\",INDEX(EF!$A$2:$A$112,MATCH(F120,EF!$C$2:$C$112,0)))","v":""},{"$f":"IF(F120=\"\",\"\",INDEX(EF!$B$2:$B$112,MATCH(F120,EF!$C$2:$C$112,0)))","v":""}]
["",null,null,{"$f":"IF(F121=\"\",\"\",INDEX(EF!$A$2:$A$112,MATCH(F121,EF!$C$2:$C$112,0)))","v":""},{"$f":"IF(F121=\"\",\"\",INDEX(EF!$B$2:$B$112,MATCH(F121,EF!$C$2:$C$112,0)))","v":""}]
["",null,null,{"$f":"IF(F122=\"\",\"\",INDEX(EF!$A$2:$A$112,MATCH(F122,EF!$C$2:$C$112,0)))","v":""},{"$f":"IF(F122=\"\",\"\",INDEX(EF!$B$2:$B$112,MATCH(F122,EF!$C$2:$C$112,0)))","v":""}]
["",null,null,{"$f":"IF(F123=\"\",\"\",INDEX(EF!$A$2:$A$112,MATCH(F123,EF!$C$2:$C$112,0)))","v":""},{"$f":"IF(F123=\"\",\"\",INDEX(EF!$B$2:$B$112,MATCH(F123,EF!$C$2:$C$112,0)))","v":""}]
["",null,null,{"$f":"IF(F124=\"\",\"\",INDEX(EF!$A$2:$A$112,MATCH(F124,EF!$C$2:$C$112,0)))","v":""},{"$f":"IF(F124=\"\",\"\",INDEX(EF!$B$2:$B$112,MATCH(F124,EF!$C$2:$C$112,0)))","v":""}]
["",null,null,{"$f":"IF(F125=\"\",\"\",INDEX(EF!$A$2:$A$112,MATCH(F125,EF!$C$2:$C$112,0)))","v":""},{"$f":"IF(F125=\"\",\"\",INDEX(EF!$B$2:$B$112,MATCH(F125,EF!$C$2:$C$112,0)))","v":""}]
["",null,null,{"$f":"IF(F126=\"\",\"\",INDEX(EF!$A$2:$A$112,MATCH(F126,EF!$C$2:$C$112,0)))","v":""},{"$f":"IF(F126=\"\",\"\",INDEX(EF!$B$2:$B$112,MATCH(F126,EF!$C$2:$C$112,0)))","v":""}]
["",null,null,{"$f":"IF(F127=\"\",\"\",INDEX(EF!$A$2:$A$112,MATCH(F127,EF!$C$2:$C$112,0)))","v":""},{"$f":"IF(F127=\"\",\"\",INDEX(EF!$B$2:$B$112,MATCH(F127,EF!$C$2:$C$112,0)))","v":""}]
["",null,null,{"$f":"IF(F128=\"\",\"\",INDEX(EF!$A$2:$A$112,MATCH(F128,EF!$C$2:$C$112,0)))","v":""},{"$f":"IF(F128=\"\",\"\",INDEX(EF!$B$2:$B$112,MATCH(F128,EF!$C$2:$C$112,0)))","v":""}]
["",null,null,{"$f":"IF(F129=\"\",\"\",INDEX(EF!$A$2:$A$112,MATCH(F129,EF!$C$2:$C$112,0)))","v":""},{"$f":"IF(F129=\"\",\"\",INDEX(EF!$B$2:$B$112,MATCH(F129,EF!$C$2:$C$112,0)))","v":""}]
["",null,null,{"$f":"IF(F130=\"\",\"\",INDEX(EF!$A$2:$A$112,MATCH(F130,EF!$C$2:$C$112,0)))","v":""},{"$f":"IF(F130=\"\",\"\",INDEX(EF!$B$2:$B$112,MATCH(F130,EF!$C$2:$C$112,0)))","v":""}]
["",null,null,{"$f":"IF(F131=\"\",\"\",INDEX(EF!$A$2:$A$112,MATCH(F131,EF!$C$2:$C$112,0)))","v":""},{"$f":"IF(F131=\"\",\"\",INDEX(EF!$B$2:$B$112,MATCH(F131,EF!$C$2:$C$112,0)))","v":""}]
["",null,null,{"$f":"IF(F132=\"\",\"\",INDEX(EF!$A$2:$A$112,MATCH(F132,EF!$C$2:$C$112,0)))","v":""},{"$f":"IF(F132=\"\",\"\",INDEX(EF!$B$2:$B$112,MATCH(F132,EF!$C$2:$C$112,0)))","v":""}]
[{"$f":"IF(B133>0,A132+1,\"\")","v":""},null,null,{"$f":"IF(F133=\"\",\"\",INDEX(EF!$A$2:$A$112,MATCH(F133,EF!$C$2:$C$112,0)))","v":""},{"$f":"IF(F133=\"\",\"\",INDEX(EF!$B$2:$B$112,MATCH(F133,EF!$C$2:$C$112,0)))","v":""}]
["",null,null,{"$f":"IF(F134=\"\",\"\",INDEX(EF!$A$2:$A$112,MATCH(F134,EF!$C$2:$C$112,0)))","v":""},{"$f":"IF(F134=\"\",\"\",INDEX(EF!$B$2:$B$112,MATCH(F134,EF!$C$2:$C$112,0)))","v":""}]
["",null,null,{"$f":"IF(F135=\"\",\"\",INDEX(EF!$A$2:$A$112,MATCH(F135,EF!$C$2:$C$112,0)))","v":""},{"$f":"IF(F135=\"\",\"\",INDEX(EF!$B$2:$B$112,MATCH(F135,EF!$C$2:$C$112,0)))","v":""}]
["",null,null,{"$f":"IF(F136=\"\",\"\",INDEX(EF!$A$2:$A$112,MATCH(F136,EF!$C$2:$C$112,0)))","v":""},{"$f":"IF(F136=\"\",\"\",INDEX(EF!$B$2:$B$112,MATCH(F136,EF!$C$2:$C$112,0)))","v":""}]
["",null,null,{"$f":"IF(F137=\"\",\"\",INDEX(EF!$A$2:$A$112,MATCH(F137,EF!$C$2:$C$112,0)))","v":""},{"$f":"IF(F137=\"\",\"\",INDEX(EF!$B$2:$B$112,MATCH(F137,EF!$C$2:$C$112,0)))","v":""}]
["",null,null,{"$f":"IF(F138=\"\",\"\",INDEX(EF!$A$2:$A$112,MATCH(F138,EF!$C$2:$C$112,0)))","v":""},{"$f":"IF(F138=\"\",\"\",INDEX(EF!$B$2:$B$112,MATCH(F138,EF!$C$2:$C$112,0)))","v":""}]
["",null,null,{"$f":"IF(F139=\"\",\"\",INDEX(EF!$A$2:$A$112,MATCH(F139,EF!$C$2:$C$112,0)))","v":""},{"$f":"IF(F139=\"\",\"\",INDEX(EF!$B$2:$B$112,MATCH(F139,EF!$C$2:$C$112,0)))","v":""}]
["",null,null,{"$f":"IF(F140=\"\",\"\",INDEX(EF!$A$2:$A$112,MATCH(F140,EF!$C$2:$C$112,0)))","v":""},{"$f":"IF(F140=\"\",\"\",INDEX(EF!$B$2:$B$112,MATCH(F140,EF!$C$2:$C$112,0)))","v":""}]
["",null,null,{"$f":"IF(F141=\"\",\"\",INDEX(EF!$A$2:$A$112,MATCH(F141,EF!$C$2:$C$112,0)))","v":""},{"$f":"IF(F141=\"\",\"\",INDEX(EF!$B$2:$B$112,MATCH(F141,EF!$C$2:$C$112,0)))","v":""}]
["",null,null,{"$f":"IF(F142=\"\",\"\",INDEX(EF!$A$2:$A$112,MATCH(F142,EF!$C$2:$C$112,0)))","v":""},{"$f":"IF(F142=\"\",\"\",INDEX(EF!$B$2:$B$112,MATCH(F142,EF!$C$2:$C$112,0)))","v":""}]
["",null,null,{"$f":"IF(F143=\"\",\"\",INDEX(EF!$A$2:$A$112,MATCH(F143,EF!$C$2:$C$112,0)))","v":""},{"$f":"IF(F143=\"\",\"\",INDEX(EF!$B$2:$B$112,MATCH(F143,EF!$C$2:$C$112,0)))","v":""}]
["",null,null,{"$f":"IF(F144=\"\",\"\",INDEX(EF!$A$2:$A$112,MATCH(F144,EF!$C$2:$C$112,0)))","v":""},{"$f":"IF(F144=\"\",\"\",INDEX(EF!$B$2:$B$112,MATCH(F144,EF!$C$2:$C$112,0)))","v":""}]
["",null,null,{"$f":"IF(F145=\"\",\"\",INDEX(EF!$A$2:$A$112,MATCH(F145,EF!$C$2:$C$112,0)))","v":""},{"$f":"IF(F145=\"\",\"\",INDEX(EF!$B$2:$B$112,MATCH(F145,EF!$C$2:$C$112,0)))","v":""}]
["",null,null,{"$f":"IF(F146=\"\",\"\",INDEX(EF!$A$2:$A$112,MATCH(F146,EF!$C$2:$C$112,0)))","v":""},{"$f":"IF(F146=\"\",\"\",INDEX(EF!$B$2:$B$112,MATCH(F146,EF!$C$2:$C$112,0)))","v":""}]
["",null,null,{"$f":"IF(F147=\"\",\"\",INDEX(EF!$A$2:$A$112,MATCH(F147,EF!$C$2:$C$112,0)))","v":""},{"$f":"IF(F147=\"\",\"\",INDEX(EF!$B$2:$B$112,MATCH(F147,EF!$C$2:$C$112,0)))","v":""}]
["",null,null,{"$f":"IF(F148=\"\",\"\",INDEX(EF!$A$2:$A$112,MATCH(F148,EF!$C$2:$C$112,0)))","v":""},{"$f":"IF(F148=\"\",\"\",INDEX(EF!$B$2:$B$112,MATCH(F148,EF!$C$2:$C$112,0)))","v":""}]
["",null,null,{"$f":"IF(F149=\"\",\"\",INDEX(EF!$A$2:$A$112,MATCH(F149,EF!$C$2:$C$112,0)))","v":""},{"$f":"IF(F149=\"\",\"\",INDEX(EF!$B$2:$B$112,MATCH(F149,EF!$C$2:$C$112,0)))","v":""}]
["",null,null,{"$f":"IF(F150=\"\",\"\",INDEX(EF!$A$2:$A$112,MATCH(F150,EF!$C$2:$C$112,0)))","v":""},{"$f":"IF(F150=\"\",\"\",INDEX(EF!$B$2:$B$112,MATCH(F150,EF!$C$2:$C$112,0)))","v":""}]
["",null,null,{"$f":"IF(F151=\"\",\"\",INDEX(EF!$A$2:$A$112,MATCH(F151,EF!$C$2:$C$112,0)))","v":""},{"$f":"IF(F151=\"\",\"\",INDEX(EF!$B$2:$B$112,MATCH(F151,EF!$C$2:$C$112,0)))","v":""}]
["",null,null,{"$f":"IF(F152=\"\",\"\",INDEX(EF!$A$2:$A$112,MATCH(F152,EF!$C$2:$C$112,0)))","v":""},{"$f":"IF(F152=\"\",\"\",INDEX(EF!$B$2:$B$112,MATCH(F152,EF!$C$2:$C$112,0)))","v":""}]
["",null,null,{"$f":"IF(F153=\"\",\"\",INDEX(EF!$A$2:$A$112,MATCH(F153,EF!$C$2:$C$112,0)))","v":""},{"$f":"IF(F153=\"\",\"\",INDEX(EF!$B$2:$B$112,MATCH(F153,EF!$C$2:$C$112,0)))","v":""}]
["",null,null,{"$f":"IF(F154=\"\",\"\",INDEX(EF!$A$2:$A$112,MATCH(F154,EF!$C$2:$C$112,0)))","v":""},{"$f":"IF(F154=\"\",\"\",INDEX(EF!$B$2:$B$112,MATCH(F154,EF!$C$2:$C$112,0)))","v":""}]
["",null,null,{"$f":"IF(F155=\"\",\"\",INDEX(EF!$A$2:$A$112,MATCH(F155,EF!$C$2:$C$112,0)))","v":""},{"$f":"IF(F155=\"\",\"\",INDEX(EF!$B$2:$B$112,MATCH(F155,EF!$C$2:$C$112,0)))","v":""}]
["",null,null,{"$f":"IF(F156=\"\",\"\",INDEX(EF!$A$2:$A$112,MATCH(F156,EF!$C$2:$C$112,0)))","v":""},{"$f":"IF(F156=\"\",\"\",INDEX(EF!$B$2:$B$112,MATCH(F156,EF!$C$2:$C$112,0)))","v":""}]
["",null,null,{"$f":"IF(F157=\"\",\"\",INDEX(EF!$A$2:$A$112,MATCH(F157,EF!$C$2:$C$112,0)))","v":""},{"$f":"IF(F157=\"\",\"\",INDEX(EF!$B$2:$B$112,MATCH(F157,EF!$C$2:$C$112,0)))","v":""}]
["",null,null,{"$f":"IF(F158=\"\",\"\",INDEX(EF!$A$2:$A$112,MATCH(F158,EF!$C$2:$C$112,0)))","v":""},{"$f":"IF(F158=\"\",\"\",INDEX(EF!$B$2:$B$112,MATCH(F158,EF!$C$2:$C$112,0)))","v":""}]
["",null,null,{"$f":"IF(F159=\"\",\"\",INDEX(EF!$A$2:$A$112,MATCH(F159,EF!$C$2:$C$112,0)))","v":""},{"$f":"IF(F159=\"\",\"\",INDEX(EF!$B$2:$B$112,MATCH(F159,EF!$C$2:$C$112,0)))","v":""}]
["",null,null,{"$f":"IF(F160=\"\",\"\",INDEX(EF!$A$2:$A$112,MATCH(F160,EF!$C$2:$C$112,0)))","v":""},{"$f":"IF(F160=\"\",\"\",INDEX(EF!$B$2:$B$112,MATCH(F160,EF!$C$2:$C$112,0)))","v":""}]
["",null,null,{"$f":"IF(F161=\"\",\"\",INDEX(EF!$A$2:$A$112,MATCH(F161,EF!$C$2:$C$112,0)))","v":""},{"$f":"IF(F161=\"\",\"\",INDEX(EF!$B$2:$B$112,MATCH(F161,EF!$C$2:$C$112,0)))","v":""}]
["",null,null,{"$f":"IF(F162=\"\",\"\",INDEX(EF!$A$2:$A$112,MATCH(F162,EF!$C$2:$C$112,0)))","v":""},{"$f":"IF(F162=\"\",\"\",INDEX(EF!$B$2:$B$112,MATCH(F162,EF!$C$2:$C$112,0)))","v":""}]
["",null,null,{"$f":"IF(F163=\"\",\"\",INDEX(EF!$A$2:$A$112,MATCH(F163,EF!$C$2:$C$112,0)))","v":""},{"$f":"IF(F163=\"\",\"\",INDEX(EF!$B$2:$B$112,MATCH(F163,EF!$C$2:$C$112,0)))","v":""}]
["",null,null,{"$f":"IF(F164=\"\",\"\",INDEX(EF!$A$2:$A$112,MATCH(F164,EF!$C$2:$C$112,0)))","v":""},{"$f":"IF(F164=\"\",\"\",INDEX(EF!$B$2:$B$112,MATCH(F164,EF!$C$2:$C$112,0)))","v":""}]
["",null,null,{"$f":"IF(F165=\"\",\"\",INDEX(EF!$A$2:$A$112,MATCH(F165,EF!$C$2:$C$112,0)))","v":""},{"$f":"IF(F165=\"\",\"\",INDEX(EF!$B$2:$B$112,MATCH(F165,EF!$C$2:$C$112,0)))","v":""}]
["",null,null,{"$f":"IF(F166=\"\",\"\",INDEX(EF!$A$2:$A$112,MATCH(F166,EF!$C$2:$C$112,0)))","v":""},{"$f":"IF(F166=\"\",\"\",INDEX(EF!$B$2:$B$112,MATCH(F166,EF!$C$2:$C$112,0)))","v":""}]
["",null,null,{"$f":"IF(F167=\"\",\"\",INDEX(EF!$A$2:$A$112,MATCH(F167,EF!$C$2:$C$112,0)))","v":""},{"$f":"IF(F167=\"\",\"\",INDEX(EF!$B$2:$B$112,MATCH(F167,EF!$C$2:$C$112,0)))","v":""}]
["",null,null,{"$f":"IF(F168=\"\",\"\",INDEX(EF!$A$2:$A$112,MATCH(F168,EF!$C$2:$C$112,0)))","v":""},{"$f":"IF(F168=\"\",\"\",INDEX(EF!$B$2:$B$112,MATCH(F168,EF!$C$2:$C$112,0)))","v":""}]
["",null,null,{"$f":"IF(F169=\"\",\"\",INDEX(EF!$A$2:$A$112,MATCH(F169,EF!$C$2:$C$112,0)))","v":""},{"$f":"IF(F169=\"\",\"\",INDEX(EF!$B$2:$B$112,MATCH(F169,EF!$C$2:$C$112,0)))","v":""}]
["",null,null,{"$f":"IF(F170=\"\",\"\",INDEX(EF!$A$2:$A$112,MATCH(F170,EF!$C$2:$C$112,0)))","v":""},{"$f":"IF(F170=\"\",\"\",INDEX(EF!$B$2:$B$112,MATCH(F170,EF!$C$2:$C$112,0)))","v":""}]
["",null,null,{"$f":"IF(F171=\"\",\"\",INDEX(EF!$A$2:$A$112,MATCH(F171,EF!$C$2:$C$112,0)))","v":""},{"$f":"IF(F171=\"\",\"\",INDEX(EF!$B$2:$B$112,MATCH(F171,EF!$C$2:$C$112,0)))","v":""}]
["",null,null,{"$f":"IF(F172=\"\",\"\",INDEX(EF!$A$2:$A$112,MATCH(F172,EF!$C$2:$C$112,0)))","v":""},{"$f":"IF(F172=\"\",\"\",INDEX(EF!$B$2:$B$112,MATCH(F172,EF!$C$2:$C$112,0)))","v":""}]
["",null,null,{"$f":"IF(F173=\"\",\"\",INDEX(EF!$A$2:$A$112,MATCH(F173,EF!$C$2:$C$112,0)))","v":""},{"$f":"IF(F173=\"\",\"\",INDEX(EF!$B$2:$B$112,MATCH(F173,EF!$C$2:$C$112,0)))","v":""}]
["",null,null,{"$f":"IF(F174=\"\",\"\",INDEX(EF!$A$2:$A$112,MATCH(F174,EF!$C$2:$C$112,0)))","v":""},{"$f":"IF(F174=\"\",\"\",INDEX(EF!$B$2:$B$112,MATCH(F174,EF!$C$2:$C$112,0)))","v":""}]
["",null,null,{"$f":"IF(F175=\"\",\"\",INDEX(EF!$A$2:$A$112,MATCH(F175,EF!$C$2:$C$112,0)))","v":""},{"$f":"IF(F175=\"\",\"\",INDEX(EF!$B$2:$B$112,MATCH(F175,EF!$C$2:$C$112,0)))","v":""}]
["",null,null,{"$f":"IF(F176=\"\",\"\",INDEX(EF!$A$2:$A$112,MATCH(F176,EF!$C$2:$C$112,0)))","v":""},{"$f":"IF(F176=\"\",\"\",INDEX(EF!$B$2:$B$112,MATCH(F176,EF!$C$2:$C$112,0)))","v":""}]
["",null,null,{"$f":"IF(F177=\"\",\"\",INDEX(EF!$A$2:$A$112,MATCH(F177,EF!$C$2:$C$112,0)))","v":""},{"$f":"IF(F177=\"\",\"\",INDEX(EF!$B$2:$B$112,MATCH(F177,EF!$C$2:$C$112,0)))","v":""}]
["",null,null,{"$f":"IF(F178=\"\",\"\",INDEX(EF!$A$2:$A$112,MATCH(F178,EF!$C$2:$C$112,0)))","v":""},{"$f":"IF(F178=\"\",\"\",INDEX(EF!$B$2:$B$112,MATCH(F178,EF!$C$2:$C$112,0)))","v":""}]
["",null,null,{"$f":"IF(F179=\"\",\"\",INDEX(EF!$A$2:$A$112,MATCH(F179,EF!$C$2:$C$112,0)))","v":""},{"$f":"IF(F179=\"\",\"\",INDEX(EF!$B$2:$B$112,MATCH(F179,EF!$C$2:$C$112,0)))","v":""}]
["",null,null,{"$f":"IF(F180=\"\",\"\",INDEX(EF!$A$2:$A$112,MATCH(F180,EF!$C$2:$C$112,0)))","v":""},{"$f":"IF(F180=\"\",\"\",INDEX(EF!$B$2:$B$112,MATCH(F180,EF!$C$2:$C$112,0)))","v":""}]
["",null,null,{"$f":"IF(F181=\"\",\"\",INDEX(EF!$A$2:$A$112,MATCH(F181,EF!$C$2:$C$112,0)))","v":""},{"$f":"IF(F181=\"\",\"\",INDEX(EF!$B$2:$B$112,MATCH(F181,EF!$C$2:$C$112,0)))","v":""}]
["",null,null,{"$f":"IF(F182=\"\",\"\",INDEX(EF!$A$2:$A$112,MATCH(F182,EF!$C$2:$C$112,0)))","v":""},{"$f":"IF(F182=\"\",\"\",INDEX(EF!$B$2:$B$112,MATCH(F182,EF!$C$2:$C$112,0)))","v":""}]
["",null,null,{"$f":"IF(F183=\"\",\"\",INDEX(EF!$A$2:$A$112,MATCH(F183,EF!$C$2:$C$112,0)))","v":""},{"$f":"IF(F183=\"\",\"\",INDEX(EF!$B$2:$B$112,MATCH(F183,EF!$C$2:$C$112,0)))","v":""}]
["",null,null,{"$f":"IF(F184=\"\",\"\",INDEX(EF!$A$2:$A$112,MATCH(F184,EF!$C$2:$C$112,0)))","v":""},{"$f":"IF(F184=\"\",\"\",INDEX(EF!$B$2:$B$112,MATCH(F184,EF!$C$2:$C$112,0)))","v":""}]
["",null,null,{"$f":"IF(F185=\"\",\"\",INDEX(EF!$A$2:$A$112,MATCH(F185,EF!$C$2:$C$112,0)))","v":""},{"$f":"IF(F185=\"\",\"\",INDEX(EF!$B$2:$B$112,MATCH(F185,EF!$C$2:$C$112,0)))","v":""}]
["",null,null,{"$f":"IF(F186=\"\",\"\",INDEX(EF!$A$2:$A$112,MATCH(F186,EF!$C$2:$C$112,0)))","v":""},{"$f":"IF(F186=\"\",\"\",INDEX(EF!$B$2:$B$112,MATCH(F186,EF!$C$2:$C$112,0)))","v":""}]
["",null,null,{"$f":"IF(F187=\"\",\"\",INDEX(EF!$A$2:$A$112,MATCH(F187,EF!$C$2:$C$112,0)))","v":""},{"$f":"IF(F187=\"\",\"\",INDEX(EF!$B$2:$B$112,MATCH(F187,EF!$C$2:$C$112,0)))","v":""}]
["",null,null,{"$f":"IF(F188=\"\",\"\",INDEX(EF!$A$2:$A$112,MATCH(F188,EF!$C$2:$C$112,0)))","v":""},{"$f":"IF(F188=\"\",\"\",INDEX(EF!$B$2:$B$112,MATCH(F188,EF!$C$2:$C$112,0)))","v":""}]
["",null,null,{"$f":"IF(F189=\"\",\"\",INDEX(EF!$A$2:$A$112,MATCH(F189,EF!$C$2:$C$112,0)))","v":""},{"$f":"IF(F189=\"\",\"\",INDEX(EF!$B$2:$B$112,MATCH(F189,EF!$C$2:$C$112,0)))","v":""}]
["",null,null,{"$f":"IF(F190=\"\",\"\",INDEX(EF!$A$2:$A$112,MATCH(F190,EF!$C$2:$C$112,0)))","v":""},{"$f":"IF(F190=\"\",\"\",INDEX(EF!$B$2:$B$112,MATCH(F190,EF!$C$2:$C$112,0)))","v":""}]
["",null,null,{"$f":"IF(F191=\"\",\"\",INDEX(EF!$A$2:$A$112,MATCH(F191,EF!$C$2:$C$112,0)))","v":""},{"$f":"IF(F191=\"\",\"\",INDEX(EF!$B$2:$B$112,MATCH(F191,EF!$C$2:$C$112,0)))","v":""}]
["",null,null,{"$f":"IF(F192=\"\",\"\",INDEX(EF!$A$2:$A$112,MATCH(F192,EF!$C$2:$C$112,0)))","v":""},{"$f":"IF(F192=\"\",\"\",INDEX(EF!$B$2:$B$112,MATCH(F192,EF!$C$2:$C$112,0)))","v":""}]
["",null,null,{"$f":"IF(F193=\"\",\"\",INDEX(EF!$A$2:$A$112,MATCH(F193,EF!$C$2:$C$112,0)))","v":""},{"$f":"IF(F193=\"\",\"\",INDEX(EF!$B$2:$B$112,MATCH(F193,EF!$C$2:$C$112,0)))","v":""}]
["",null,null,{"$f":"IF(F194=\"\",\"\",INDEX(EF!$A$2:$A$112,MATCH(F194,EF!$C$2:$C$112,0)))","v":""},{"$f":"IF(F194=\"\",\"\",INDEX(EF!$B$2:$B$112,MATCH(F194,EF!$C$2:$C$112,0)))","v":""}]
["",null,null,{"$f":"IF(F195=\"\",\"\",INDEX(EF!$A$2:$A$112,MATCH(F195,EF!$C$2:$C$112,0)))","v":""},{"$f":"IF(F195=\"\",\"\",INDEX(EF!$B$2:$B$112,MATCH(F195,EF!$C$2:$C$112,0)))","v":""}]
["",null,null,{"$f":"IF(F196=\"\",\"\",INDEX(EF!$A$2:$A$112,MATCH(F196,EF!$C$2:$C$112,0)))","v":""},{"$f":"IF(F196=\"\",\"\",INDEX(EF!$B$2:$B$112,MATCH(F196,EF!$C$2:$C$112,0)))","v":""}]
[{"$f":"IF(B197>0,A196+1,\"\")","v":""},null,null,{"$f":"IF(F197=\"\",\"\",INDEX(EF!$A$2:$A$112,MATCH(F197,EF!$C$2:$C$112,0)))","v":""},{"$f":"IF(F197=\"\",\"\",INDEX(EF!$B$2:$B$112,MATCH(F197,EF!$C$2:$C$112,0)))","v":""}]
["",null,null,{"$f":"IF(F198=\"\",\"\",INDEX(EF!$A$2:$A$112,MATCH(F198,EF!$C$2:$C$112,0)))","v":""},{"$f":"IF(F198=\"\",\"\",INDEX(EF!$B$2:$B$112,MATCH(F198,EF!$C$2:$C$112,0)))","v":""}]
["",null,null,{"$f":"IF(F199=\"\",\"\",INDEX(EF!$A$2:$A$112,MATCH(F199,EF!$C$2:$C$112,0)))","v":""},{"$f":"IF(F199=\"\",\"\",INDEX(EF!$B$2:$B$112,MATCH(F199,EF!$C$2:$C$112,0)))","v":""}]
["",null,null,{"$f":"IF(F200=\"\",\"\",INDEX(EF!$A$2:$A$112,MATCH(F200,EF!$C$2:$C$112,0)))","v":""},{"$f":"IF(F200=\"\",\"\",INDEX(EF!$B$2:$B$112,MATCH(F200,EF!$C$2:$C$112,0)))","v":""}]
["",null,null,{"$f":"IF(F201=\"\",\"\",INDEX(EF!$A$2:$A$112,MATCH(F201,EF!$C$2:$C$112,0)))","v":""},{"$f":"IF(F201=\"\",\"\",INDEX(EF!$B$2:$B$112,MATCH(F201,EF!$C$2:$C$112,0)))","v":""}]
["",null,null,{"$f":"IF(F202=\"\",\"\",INDEX(EF!$A$2:$A$112,MATCH(F202,EF!$C$2:$C$112,0)))","v":""},{"$f":"IF(F202=\"\",\"\",INDEX(EF!$B$2:$B$112,MATCH(F202,EF!$C$2:$C$112,0)))","v":""}]
[{"$f":"IF(B203>0,A202+1,\"\")","v":""},null,null,{"$f":"IF(F203=\"\",\"\",INDEX(EF!$A$2:$A$112,MATCH(F203,EF!$C$2:$C$112,0)))","v":""},{"$f":"IF(F203=\"\",\"\",INDEX(EF!$B$2:$B$112,MATCH(F203,EF!$C$2:$C$112,0)))","v":""}]
[{"$f":"IF(B204>0,A203+1,\"\")","v":""},null,null,{"$f":"IF(F204=\"\",\"\",INDEX(EF!$A$2:$A$112,MATCH(F204,EF!$C$2:$C$112,0)))","v":""},{"$f":"IF(F204=\"\",\"\",INDEX(EF!$B$2:$B$112,MATCH(F204,EF!$C$2:$C$112,0)))","v":""}]
["",null,null,{"$f":"IF(F205=\"\",\"\",INDEX(EF!$A$2:$A$112,MATCH(F205,EF!$C$2:$C$112,0)))","v":""},{"$f":"IF(F205=\"\",\"\",INDEX(EF!$B$2:$B$112,MATCH(F205,EF!$C$2:$C$112,0)))","v":""}]
["",null,null,{"$f":"IF(F206=\"\",\"\",INDEX(EF!$A$2:$A$112,MATCH(F206,EF!$C$2:$C$112,0)))","v":""},{"$f":"IF(F206=\"\",\"\",INDEX(EF!$B$2:$B$112,MATCH(F206,EF!$C$2:$C$112,0)))","v":""}]
["",null,null,{"$f":"IF(F207=\"\",\"\",INDEX(EF!$A$2:$A$112,MATCH(F207,EF!$C$2:$C$112,0)))","v":""},{"$f":"IF(F207=\"\",\"\",INDEX(EF!$B$2:$B$112,MATCH(F207,EF!$C$2:$C$112,0)))","v":""}]
["",null,null,{"$f":"IF(F208=\"\",\"\",INDEX(EF!$A$2:$A$112,MATCH(F208,EF!$C$2:$C$112,0)))","v":""},{"$f":"IF(F208=\"\",\"\",INDEX(EF!$B$2:$B$112,MATCH(F208,EF!$C$2:$C$112,0)))","v":""}]
["",null,null,{"$f":"IF(F209=\"\",\"\",INDEX(EF!$A$2:$A$112,MATCH(F209,EF!$C$2:$C$112,0)))","v":""},{"$f":"IF(F209=\"\",\"\",INDEX(EF!$B$2:$B$112,MATCH(F209,EF!$C$2:$C$112,0)))","v":""}]
["",null,null,{"$f":"IF(F210=\"\",\"\",INDEX(EF!$A$2:$A$112,MATCH(F210,EF!$C$2:$C$112,0)))","v":""},{"$f":"IF(F210=\"\",\"\",INDEX(EF!$B$2:$B$112,MATCH(F210,EF!$C$2:$C$112,0)))","v":""}]
["",null,null,{"$f":"IF(F211=\"\",\"\",INDEX(EF!$A$2:$A$112,MATCH(F211,EF!$C$2:$C$112,0)))","v":""},{"$f":"IF(F211=\"\",\"\",INDEX(EF!$B$2:$B$112,MATCH(F211,EF!$C$2:$C$112,0)))","v":""}]
["",null,null,{"$f":"IF(F212=\"\",\"\",INDEX(EF!$A$2:$A$112,MATCH(F212,EF!$C$2:$C$112,0)))","v":""},{"$f":"IF(F212=\"\",\"\",INDEX(EF!$B$2:$B$112,MATCH(F212,EF!$C$2:$C$112,0)))","v":""}]
["",null,null,{"$f":"IF(F213=\"\",\"\",INDEX(EF!$A$2:$A$112,MATCH(F213,EF!$C$2:$C$112,0)))","v":""},{"$f":"IF(F213=\"\",\"\",INDEX(EF!$B$2:$B$112,MATCH(F213,EF!$C$2:$C$112,0)))","v":""}]
["",null,null,{"$f":"IF(F214=\"\",\"\",INDEX(EF!$A$2:$A$112,MATCH(F214,EF!$C$2:$C$112,0)))","v":""},{"$f":"IF(F214=\"\",\"\",INDEX(EF!$B$2:$B$112,MATCH(F214,EF!$C$2:$C$112,0)))","v":""}]
["",null,null,{"$f":"IF(F215=\"\",\"\",INDEX(EF!$A$2:$A$112,MATCH(F215,EF!$C$2:$C$112,0)))","v":""},{"$f":"IF(F215=\"\",\"\",INDEX(EF!$B$2:$B$112,MATCH(F215,EF!$C$2:$C$112,0)))","v":""}]
["",null,null,{"$f":"IF(F216=\"\",\"\",INDEX(EF!$A$2:$A$112,MATCH(F216,EF!$C$2:$C$112,0)))","v":""},{"$f":"IF(F216=\"\",\"\",INDEX(EF!$B$2:$B$112,MATCH(F216,EF!$C$2:$C$112,0)))","v":""}]
["",null,null,{"$f":"IF(F217=\"\",\"\",INDEX(EF!$A$2:$A$112,MATCH(F217,EF!$C$2:$C$112,0)))","v":""},{"$f":"IF(F217=\"\",\"\",INDEX(EF!$B$2:$B$112,MATCH(F217,EF!$C$2:$C$112,0)))","v":""}]
["",null,null,{"$f":"IF(F218=\"\",\"\",INDEX(EF!$A$2:$A$112,MATCH(F218,EF!$C$2:$C$112,0)))","v":""},{"$f":"IF(F218=\"\",\"\",INDEX(EF!$B$2:$B$112,MATCH(F218,EF!$C$2:$C$112,0)))","v":""}]
["",null,null,{"$f":"IF(F219=\"\",\"\",INDEX(EF!$A$2:$A$112,MATCH(F219,EF!$C$2:$C$112,0)))","v":""},{"$f":"IF(F219=\"\",\"\",INDEX(EF!$B$2:$B$112,MATCH(F219,EF!$C$2:$C$112,0)))","v":""}]
["",null,null,{"$f":"IF(F220=\"\",\"\",INDEX(EF!$A$2:$A$112,MATCH(F220,EF!$C$2:$C$112,0)))","v":""},{"$f":"IF(F220=\"\",\"\",INDEX(EF!$B$2:$B$112,MATCH(F220,EF!$C$2:$C$112,0)))","v":""}]
["",null,null,{"$f":"IF(F221=\"\",\"\",INDEX(EF!$A$2:$A$112,MATCH(F221,EF!$C$2:$C$112,0)))","v":""},{"$f":"IF(F221=\"\",\"\",INDEX(EF!$B$2:$B$112,MATCH(F221,EF!$C$2:$C$112,0)))","v":""}]
["",null,null,{"$f":"IF(F222=\"\",\"\",INDEX(EF!$A$2:$A$112,MATCH(F222,EF!$C$2:$C$112,0)))","v":""},{"$f":"IF(F222=\"\",\"\",INDEX(EF!$B$2:$B$112,MATCH(F222,EF!$C$2:$C$112,0)))","v":""}]
["",null,null,{"$f":"IF(F223=\"\",\"\",INDEX(EF!$A$2:$A$112,MATCH(F223,EF!$C$2:$C$112,0)))","v":""},{"$f":"IF(F223=\"\",\"\",INDEX(EF!$B$2:$B$112,MATCH(F223,EF!$C$2:$C$112,0)))","v":""}]
["",null,null,{"$f":"IF(F224=\"\",\"\",INDEX(EF!$A$2:$A$112,MATCH(F224,EF!$C$2:$C$112,0)))","v":""},{"$f":"IF(F224=\"\",\"\",INDEX(EF!$B$2:$B$112,MATCH(F224,EF!$C$2:$C$112,0)))","v":""}]
["",null,null,{"$f":"IF(F225=\"\",\"\",INDEX(EF!$A$2:$A$112,MATCH(F225,EF!$C$2:$C$112,0)))","v":""},{"$f":"IF(F225=\"\",\"\",INDEX(EF!$B$2:$B$112,MATCH(F225,EF!$C$2:$C$112,0)))","v":""}]
["",null,null,{"$f":"IF(F226=\"\",\"\",INDEX(EF!$A$2:$A$112,MATCH(F226,EF!$C$2:$C$112,0)))","v":""},{"$f":"IF(F226=\"\",\"\",INDEX(EF!$B$2:$B$112,MATCH(F226,EF!$C$2:$C$112,0)))","v":""}]
["",null,null,{"$f":"IF(F227=\"\",\"\",INDEX(EF!$A$2:$A$112,MATCH(F227,EF!$C$2:$C$112,0)))","v":""},{"$f":"IF(F227=\"\",\"\",INDEX(EF!$B$2:$B$112,MATCH(F227,EF!$C$2:$C$112,0)))","v":""}]
["",null,null,{"$f":"IF(F228=\"\",\"\",INDEX(EF!$A$2:$A$112,MATCH(F228,EF!$C$2:$C$112,0)))","v":""},{"$f":"IF(F228=\"\",\"\",INDEX(EF!$B$2:$B$112,MATCH(F228,EF!$C$2:$C$112,0)))","v":""}]
["",null,null,{"$f":"IF(F229=\"\",\"\",INDEX(EF!$A$2:$A$112,MATCH(F229,EF!$C$2:$C$112,0)))","v":""},{"$f":"IF(F229=\"\",\"\",INDEX(EF!$B$2:$B$112,MATCH(F229,EF!$C$2:$C$112,0)))","v":""}]
["",null,null,{"$f":"IF(F230=\"\",\"\",INDEX(EF!$A$2:$A$112,MATCH(F230,EF!$C$2:$C$112,0)))","v":""},{"$f":"IF(F230=\"\",\"\",INDEX(EF!$B$2:$B$112,MATCH(F230,EF!$C$2:$C$112,0)))","v":""}]
["",null,null,{"$f":"IF(F231=\"\",\"\",INDEX(EF!$A$2:$A$112,MATCH(F231,EF!$C$2:$C$112,0)))","v":""},{"$f":"IF(F231=\"\",\"\",INDEX(EF!$B$2:$B$112,MATCH(F231,EF!$C$2:$C$112,0)))","v":""}]
["",null,null,{"$f":"IF(F232=\"\",\"\",INDEX(EF!$A$2:$A$112,MATCH(F232,EF!$C$2:$C$112,0)))","v":""},{"$f":"IF(F232=\"\",\"\",INDEX(EF!$B$2:$B$112,MATCH(F232,EF!$C$2:$C$112,0)))","v":""}]
["",null,null,{"$f":"IF(F233=\"\",\"\",INDEX(EF!$A$2:$A$112,MATCH(F233,EF!$C$2:$C$112,0)))","v":""},{"$f":"IF(F233=\"\",\"\",INDEX(EF!$B$2:$B$112,MATCH(F233,EF!$C$2:$C$112,0)))","v":""}]
["",null,null,{"$f":"IF(F234=\"\",\"\",INDEX(EF!$A$2:$A$112,MATCH(F234,EF!$C$2:$C$112,0)))","v":""},{"$f":"IF(F234=\"\",\"\",INDEX(EF!$B$2:$B$112,MATCH(F234,EF!$C$2:$C$112,0)))","v":""}]
["",null,null,{"$f":"IF(F235=\"\",\"\",INDEX(EF!$A$2:$A$112,MATCH(F235,EF!$C$2:$C$112,0)))","v":""},{"$f":"IF(F235=\"\",\"\",INDEX(EF!$B$2:$B$112,MATCH(F235,EF!$C$2:$C$112,0)))","v":""}]
["",null,null,{"$f":"IF(F236=\"\",\"\",INDEX(EF!$A$2:$A$112,MATCH(F236,EF!$C$2:$C$112,0)))","v":""},{"$f":"IF(F236=\"\",\"\",INDEX(EF!$B$2:$B$112,MATCH(F236,EF!$C$2:$C$112,0)))","v":""}]
["",null,null,{"$f":"IF(F237=\"\",\"\",INDEX(EF!$A$2:$A$112,MATCH(F237,EF!$C$2:$C$112,0)))","v":""},{"$f":"IF(F237=\"\",\"\",INDEX(EF!$B$2:$B$112,MATCH(F237,EF!$C$2:$C$112,0)))","v":""}]
["",null,null,{"$f":"IF(F238=\"\",\"\",INDEX(EF!$A$2:$A$112,MATCH(F238,EF!$C$2:$C$112,0)))","v":""},{"$f":"IF(F238=\"\",\"\",INDEX(EF!$B$2:$B$112,MATCH(F238,EF!$C$2:$C$112,0)))","v":""}]
["",null,null,{"$f":"IF(F239=\"\",\"\",INDEX(EF!$A$2:$A$112,MATCH(F239,EF!$C$2:$C$112,0)))","v":""},{"$f":"IF(F239=\"\",\"\",INDEX(EF!$B$2:$B$112,MATCH(F239,EF!$C$2:$C$112,0)))","v":""}]
["",null,null,{"$f":"IF(F240=\"\",\"\",INDEX(EF!$A$2:$A$112,MATCH(F240,EF!$C$2:$C$112,0)))","v":""},{"$f":"IF(F240=\"\",\"\",INDEX(EF!$B$2:$B$112,MATCH(F240,EF!$C$2:$C$112,0)))","v":""}]
["",null,null,{"$f":"IF(F241=\"\",\"\",INDEX(EF!$A$2:$A$112,MATCH(F241,EF!$C$2:$C$112,0)))","v":""},{"$f":"IF(F241=\"\",\"\",INDEX(EF!$B$2:$B$112,MATCH(F241,EF!$C$2:$C$112,0)))","v":""}]
["",null,null,{"$f":"IF(F242=\"\",\"\",INDEX(EF!$A$2:$A$112,MATCH(F242,EF!$C$2:$C$112,0)))","v":""},{"$f":"IF(F242=\"\",\"\",INDEX(EF!$B$2:$B$112,MATCH(F242,EF!$C$2:$C$112,0)))","v":""}]
["",null,null,{"$f":"IF(F243=\"\",\"\",INDEX(EF!$A$2:$A$112,MATCH(F243,EF!$C$2:$C$112,0)))","v":""},{"$f":"IF(F243=\"\",\"\",INDEX(EF!$B$2:$B$112,MATCH(F243,EF!$C$2:$C$112,0)))","v":""}]
["",null,null,{"$f":"IF(F244=\"\",\"\",INDEX(EF!$A$2:$A$112,MATCH(F244,EF!$C$2:$C$112,0)))","v":""},{"$f":"IF(F244=\"\",\"\",INDEX(EF!$B$2:$B$112,MATCH(F244,EF!$C$2:$C$112,0)))","v":""}]
["",null,null,{"$f":"IF(F245=\"\",\"\",INDEX(EF!$A$2:$A$112,MATCH(F245,EF!$C$2:$C$112,0)))","v":""},{"$f":"IF(F245=\"\",\"\",INDEX(EF!$B$2:$B$112,MATCH(F245,EF!$C$2:$C$112,0)))","v":""}]
["",null,null,{"$f":"IF(F246=\"\",\"\",INDEX(EF!$A$2:$A$112,MATCH(F246,EF!$C$2:$C$112,0)))","v":""},{"$f":"IF(F246=\"\",\"\",INDEX(EF!$B$2:$B$112,MATCH(F246,EF!$C$2:$C$112,0)))","v":""}]
["",null,null,{"$f":"IF(F247=\"\",\"\",INDEX(EF!$A$2:$A$112,MATCH(F247,EF!$C$2:$C$112,0)))","v":""},{"$f":"IF(F247=\"\",\"\",INDEX(EF!$B$2:$B$112,MATCH(F247,EF!$C$2:$C$112,0)))","v":""}]
["",null,null,{"$f":"IF(F248=\"\",\"\",INDEX(EF!$A$2:$A$112,MATCH(F248,EF!$C$2:$C$112,0)))","v":""},{"$f":"IF(F248=\"\",\"\",INDEX(EF!$B$2:$B$112,MATCH(F248,EF!$C$2:$C$112,0)))","v":""}]
["",null,null,{"$f":"IF(F249=\"\",\"\",INDEX(EF!$A$2:$A$112,MATCH(F249,EF!$C$2:$C$112,0)))","v":""},{"$f":"IF(F249=\"\",\"\",INDEX(EF!$B$2:$B$112,MATCH(F249,EF!$C$2:$C$112,0)))","v":""}]
["",null,null,{"$f":"IF(F250=\"\",\"\",INDEX(EF!$A$2:$A$112,MATCH(F250,EF!$C$2:$C$112,0)))","v":""},{"$f":"IF(F250=\"\",\"\",INDEX(EF!$B$2:$B$112,MATCH(F250,EF!$C$2:$C$112,0)))","v":""}]
["",null,null,{"$f":"IF(F251=\"\",\"\",INDEX(EF!$A$2:$A$112,MATCH(F251,EF!$C$2:$C$112,0)))","v":""},{"$f":"IF(F251=\"\",\"\",INDEX(EF!$B$2:$B$112,MATCH(F251,EF!$C$2:$C$112,0)))","v":""}]
["",null,null,{"$f":"IF(F252=\"\",\"\",INDEX(EF!$A$2:$A$112,MATCH(F252,EF!$C$2:$C$112,0)))","v":""},{"$f":"IF(F252=\"\",\"\",INDEX(EF!$B$2:$B$112,MATCH(F252,EF!$C$2:$C$112,0)))","v":""}]
["",null,null,{"$f":"IF(F253=\"\",\"\",INDEX(EF!$A$2:$A$112,MATCH(F253,EF!$C$2:$C$112,0)))","v":""},{"$f":"IF(F253=\"\",\"\",INDEX(EF!$B$2:$B$112,MATCH(F253,EF!$C$2:$C$112,0)))","v":""}]
["",null,null,{"$f":"IF(F254=\"\",\"\",INDEX(EF!$A$2:$A$112,MATCH(F254,EF!$C$2:$C$112,0)))","v":""},{"$f":"IF(F254=\"\",\"\",INDEX(EF!$B$2:$B$112,MATCH(F254,EF!$C$2:$C$112,0)))","v":""}]
["",null,null,{"$f":"IF(F255=\"\",\"\",INDEX(EF!$A$2:$A$112,MATCH(F255,EF!$C$2:$C$112,0)))","v":""},{"$f":"IF(F255=\"\",\"\",INDEX(EF!$B$2:$B$112,MATCH(F255,EF!$C$2:$C$112,0)))","v":""}]
["",null,null,{"$f":"IF(F256=\"\",\"\",INDEX(EF!$A$2:$A$112,MATCH(F256,EF!$C$2:$C$112,0)))","v":""},{"$f":"IF(F256=\"\",\"\",INDEX(EF!$B$2:$B$112,MATCH(F256,EF!$C$2:$C$112,0)))","v":""}]
["",null,null,{"$f":"IF(F257=\"\",\"\",INDEX(EF!$A$2:$A$112,MATCH(F257,EF!$C$2:$C$112,0)))","v":""},{"$f":"IF(F257=\"\",\"\",INDEX(EF!$B$2:$B$112,MATCH(F257,EF!$C$2:$C$112,0)))","v":""}]
["",null,null,{"$f":"IF(F258=\"\",\"\",INDEX(EF!$A$2:$A$112,MATCH(F258,EF!$C$2:$C$112,0)))","v":""},{"$f":"IF(F258=\"\",\"\",INDEX(EF!$B$2:$B$112,MATCH(F258,EF!$C$2:$C$112,0)))","v":""}]
["",null,null,{"$f":"IF(F259=\"\",\"\",INDEX(EF!$A$2:$A$112,MATCH(F259,EF!$C$2:$C$112,0)))","v":""},{"$f":"IF(F259=\"\",\"\",INDEX(EF!$B$2:$B$112,MATCH(F259,EF!$C$2:$C$112,0)))","v":""}]
["",null,null,{"$f":"IF(F260=\"\",\"\",INDEX(EF!$A$2:$A$112,MATCH(F260,EF!$C$2:$C$112,0)))","v":""},{"$f":"IF(F260=\"\",\"\",INDEX(EF!$B$2:$B$112,MATCH(F260,EF!$C$2:$C$112,0)))","v":""}]
["",null,null,{"$f":"IF(F261=\"\",\"\",INDEX(EF!$A$2:$A$112,MATCH(F261,EF!$C$2:$C$112,0)))","v":""},{"$f":"IF(F261=\"\",\"\",INDEX(EF!$B$2:$B$112,MATCH(F261,EF!$C$2:$C$112,0)))","v":""}]
["",null,null,{"$f":"IF(F262=\"\",\"\",INDEX(EF!$A$2:$A$112,MATCH(F262,EF!$C$2:$C$112,0)))","v":""},{"$f":"IF(F262=\"\",\"\",INDEX(EF!$B$2:$B$112,MATCH(F262,EF!$C$2:$C$112,0)))","v":""}]
["",null,null,{"$f":"IF(F263=\"\",\"\",INDEX(EF!$A$2:$A$112,MATCH(F263,EF!$C$2:$C$112,0)))","v":""},{"$f":"IF(F263=\"\",\"\",INDEX(EF!$B$2:$B$112,MATCH(F263,EF!$C$2:$C$112,0)))","v":""}]
["",null,null,{"$f":"IF(F264=\"\",\"\",INDEX(EF!$A$2:$A$112,MATCH(F264,EF!$C$2:$C$112,0)))","v":""},{"$f":"IF(F264=\"\",\"\",INDEX(EF!$B$2:$B$112,MATCH(F264,EF!$C$2:$C$112,0)))","v":""}]
["",null,null,{"$f":"IF(F265=\"\",\"\",INDEX(EF!$A$2:$A$112,MATCH(F265,EF!$C$2:$C$112,0)))","v":""},{"$f":"IF(F265=\"\",\"\",INDEX(EF!$B$2:$B$112,MATCH(F265,EF!$C$2:$C$112,0)))","v":""}]
["",null,null,{"$f":"IF(F266=\"\",\"\",INDEX(EF!$A$2:$A$112,MATCH(F266,EF!$C$2:$C$112,0)))","v":""},{"$f":"IF(F266=\"\",\"\",INDEX(EF!$B$2:$B$112,MATCH(F266,EF!$C$2:$C$112,0)))","v":""}]
["",null,null,{"$f":"IF(F267=\"\",\"\",INDEX(EF!$A$2:$A$112,MATCH(F267,EF!$C$2:$C$112,0)))","v":""},{"$f":"IF(F267=\"\",\"\",INDEX(EF!$B$2:$B$112,MATCH(F267,EF!$C$2:$C$112,0)))","v":""}]
[{"$f":"IF(B268>0,A267+1,\"\")","v":""},null,null,{"$f":"IF(F268=\"\",\"\",INDEX(EF!$A$2:$A$112,MATCH(F268,EF!$C$2:$C$112,0)))","v":""},{"$f":"IF(F268=\"\",\"\",INDEX(EF!$B$2:$B$112,MATCH(F268,EF!$C$2:$C$112,0)))","v":""}]
["",null,null,{"$f":"IF(F269=\"\",\"\",INDEX(EF!$A$2:$A$112,MATCH(F269,EF!$C$2:$C$112,0)))","v":""},{"$f":"IF(F269=\"\",\"\",INDEX(EF!$B$2:$B$112,MATCH(F269,EF!$C$2:$C$112,0)))","v":""}]
["",null,null,{"$f":"IF(F270=\"\",\"\",INDEX(EF!$A$2:$A$112,MATCH(F270,EF!$C$2:$C$112,0)))","v":""},{"$f":"IF(F270=\"\",\"\",INDEX(EF!$B$2:$B$112,MATCH(F270,EF!$C$2:$C$112,0)))","v":""}]
["",null,null,{"$f":"IF(F271=\"\",\"\",INDEX(EF!$A$2:$A$112,MATCH(F271,EF!$C$2:$C$112,0)))","v":""},{"$f":"IF(F271=\"\",\"\",INDEX(EF!$B$2:$B$112,MATCH(F271,EF!$C$2:$C$112,0)))","v":""}]
["",null,null,{"$f":"IF(F272=\"\",\"\",INDEX(EF!$A$2:$A$112,MATCH(F272,EF!$C$2:$C$112,0)))","v":""},{"$f":"IF(F272=\"\",\"\",INDEX(EF!$B$2:$B$112,MATCH(F272,EF!$C$2:$C$112,0)))","v":""}]
["",null,null,{"$f":"IF(F273=\"\",\"\",INDEX(EF!$A$2:$A$112,MATCH(F273,EF!$C$2:$C$112,0)))","v":""},{"$f":"IF(F273=\"\",\"\",INDEX(EF!$B$2:$B$112,MATCH(F273,EF!$C$2:$C$112,0)))","v":""}]
["",null,null,{"$f":"IF(F274=\"\",\"\",INDEX(EF!$A$2:$A$112,MATCH(F274,EF!$C$2:$C$112,0)))","v":""},{"$f":"IF(F274=\"\",\"\",INDEX(EF!$B$2:$B$112,MATCH(F274,EF!$C$2:$C$112,0)))","v":""}]
["",null,null,{"$f":"IF(F275=\"\",\"\",INDEX(EF!$A$2:$A$112,MATCH(F275,EF!$C$2:$C$112,0)))","v":""},{"$f":"IF(F275=\"\",\"\",INDEX(EF!$B$2:$B$112,MATCH(F275,EF!$C$2:$C$112,0)))","v":""}]
["",null,null,{"$f":"IF(F276=\"\",\"\",INDEX(EF!$A$2:$A$112,MATCH(F276,EF!$C$2:$C$112,0)))","v":""},{"$f":"IF(F276=\"\",\"\",INDEX(EF!$B$2:$B$112,MATCH(F276,EF!$C$2:$C$112,0)))","v":""}]
["",null,null,{"$f":"IF(F277=\"\",\"\",INDEX(EF!$A$2:$A$112,MATCH(F277,EF!$C$2:$C$112,0)))","v":""},{"$f":"IF(F277=\"\",\"\",INDEX(EF!$B$2:$B$112,MATCH(F277,EF!$C$2:$C$112,0)))","v":""}]
["",null,null,{"$f":"IF(F278=\"\",\"\",INDEX(EF!$A$2:$A$112,MATCH(F278,EF!$C$2:$C$112,0)))","v":""},{"$f":"IF(F278=\"\",\"\",INDEX(EF!$B$2:$B$112,MATCH(F278,EF!$C$2:$C$112,0)))","v":""}]
["",null,null,{"$f":"IF(F279=\"\",\"\",INDEX(EF!$A$2:$A$112,MATCH(F279,EF!$C$2:$C$112,0)))","v":""},{"$f":"IF(F279=\"\",\"\",INDEX(EF!$B$2:$B$112,MATCH(F279,EF!$C$2:$C$112,0)))","v":""}]
["",null,null,{"$f":"IF(F280=\"\",\"\",INDEX(EF!$A$2:$A$112,MATCH(F280,EF!$C$2:$C$112,0)))","v":""},{"$f":"IF(F280=\"\",\"\",INDEX(EF!$B$2:$B$112,MATCH(F280,EF!$C$2:$C$112,0)))","v":""}]
["",null,null,{"$f":"IF(F281=\"\",\"\",INDEX(EF!$A$2:$A$112,MATCH(F281,EF!$C$2:$C$112,0)))","v":""},{"$f":"IF(F281=\"\",\"\",INDEX(EF!$B$2:$B$112,MATCH(F281,EF!$C$2:$C$112,0)))","v":""}]
["",null,null,{"$f":"IF(F282=\"\",\"\",INDEX(EF!$A$2:$A$112,MATCH(F282,EF!$C$2:$C$112,0)))","v":""},{"$f":"IF(F282=\"\",\"\",INDEX(EF!$B$2:$B$112,MATCH(F282,EF!$C$2:$C$112,0)))","v":""}]
["",null,null,{"$f":"IF(F283=\"\",\"\",INDEX(EF!$A$2:$A$112,MATCH(F283,EF!$C$2:$C$112,0)))","v":""},{"$f":"IF(F283=\"\",\"\",INDEX(EF!$B$2:$B$112,MATCH(F283,EF!$C$2:$C$112,0)))","v":""}]
["",null,null,{"$f":"IF(F284=\"\",\"\",INDEX(EF!$A$2:$A$112,MATCH(F284,EF!$C$2:$C$112,0)))","v":""},{"$f":"IF(F284=\"\",\"\",INDEX(EF!$B$2:$B$112,MATCH(F284,EF!$C$2:$C$112,0)))","v":""}]
["",null,null,{"$f":"IF(F285=\"\",\"\",INDEX(EF!$A$2:$A$112,MATCH(F285,EF!$C$2:$C$112,0)))","v":""},{"$f":"IF(F285=\"\",\"\",INDEX(EF!$B$2:$B$112,MATCH(F285,EF!$C$2:$C$112,0)))","v":""}]
["",null,null,{"$f":"IF(F286=\"\",\"\",INDEX(EF!$A$2:$A$112,MATCH(F286,EF!$C$2:$C$112,0)))","v":""},{"$f":"IF(F286=\"\",\"\",INDEX(EF!$B$2:$B$112,MATCH(F286,EF!$C$2:$C$112,0)))","v":""}]
["",null,null,{"$f":"IF(F287=\"\",\"\",INDEX(EF!$A$2:$A$112,MATCH(F287,EF!$C$2:$C$112,0)))","v":""},{"$f":"IF(F287=\"\",\"\",INDEX(EF!$B$2:$B$112,MATCH(F287,EF!$C$2:$C$112,0)))","v":""}]
["",null,null,{"$f":"IF(F288=\"\",\"\",INDEX(EF!$A$2:$A$112,MATCH(F288,EF!$C$2:$C$112,0)))","v":""},{"$f":"IF(F288=\"\",\"\",INDEX(EF!$B$2:$B$112,MATCH(F288,EF!$C$2:$C$112,0)))","v":""}]
["",null,null,{"$f":"IF(F289=\"\",\"\",INDEX(EF!$A$2:$A$112,MATCH(F289,EF!$C$2:$C$112,0)))","v":""},{"$f":"IF(F289=\"\",\"\",INDEX(EF!$B$2:$B$112,MATCH(F289,EF!$C$2:$C$112,0)))","v":""}]
["",null,null,{"$f":"IF(F290=\"\",\"\",INDEX(EF!$A$2:$A$112,MATCH(F290,EF!$C$2:$C$112,0)))","v":""},{"$f":"IF(F290=\"\",\"\",INDEX(EF!$B$2:$B$112,MATCH(F290,EF!$C$2:$C$112,0)))","v":""}]
["",null,null,{"$f":"IF(F291=\"\",\"\",INDEX(EF!$A$2:$A$112,MATCH(F291,EF!$C$2:$C$112,0)))","v":""},{"$f":"IF(F291=\"\",\"\",INDEX(EF!$B$2:$B$112,MATCH(F291,EF!$C$2:$C$112,0)))","v":""}]
["",null,null,{"$f":"IF(F292=\"\",\"\",INDEX(EF!$A$2:$A$112,MATCH(F292,EF!$C$2:$C$112,0)))","v":""},{"$f":"IF(F292=\"\",\"\",INDEX(EF!$B$2:$B$112,MATCH(F292,EF!$C$2:$C$112,0)))","v":""}]
["",null,null,{"$f":"IF(F293=\"\",\"\",INDEX(EF!$A$2:$A$112,MATCH(F293,EF!$C$2:$C$112,0)))","v":""},{"$f":"IF(F293=\"\",\"\",INDEX(EF!$B$2:$B$112,MATCH(F293,EF!$C$2:$C$112,0)))","v":""}]
["",null,null,{"$f":"IF(F294=\"\",\"\",INDEX(EF!$A$2:$A$112,MATCH(F294,EF!$C$2:$C$112,0)))","v":""},{"$f":"IF(F294=\"\",\"\",INDEX(EF!$B$2:$B$112,MATCH(F294,EF!$C$2:$C$112,0)))","v":""}]
["",null,null,{"$f":"IF(F295=\"\",\"\",INDEX(EF!$A$2:$A$112,MATCH(F295,EF!$C$2:$C$112,0)))","v":""},{"$f":"IF(F295=\"\",\"\",INDEX(EF!$B$2:$B$112,MATCH(F295,EF!$C$2:$C$112,0)))","v":""}]
["",null,null,{"$f":"IF(F296=\"\",\"\",INDEX(EF!$A$2:$A$112,MATCH(F296,EF!$C$2:$C$112,0)))","v":""},{"$f":"IF(F296=\"\",\"\",INDEX(EF!$B$2:$B$112,MATCH(F296,EF!$C$2:$C$112,0)))","v":""}]
["",null,null,{"$f":"IF(F297=\"\",\"\",INDEX(EF!$A$2:$A$112,MATCH(F297,EF!$C$2:$C$112,0)))","v":""},{"$f":"IF(F297=\"\",\"\",INDEX(EF!$B$2:$B$112,MATCH(F297,EF!$C$2:$C$112,0)))","v":""}]
["",null,null,{"$f":"IF(F298=\"\",\"\",INDEX(EF!$A$2:$A$112,MATCH(F298,EF!$C$2:$C$112,0)))","v":""},{"$f":"IF(F298=\"\",\"\",INDEX(EF!$B$2:$B$112,MATCH(F298,EF!$C$2:$C$112,0)))","v":""}]
["",null,null,{"$f":"IF(F299=\"\",\"\",INDEX(EF!$A$2:$A$112,MATCH(F299,EF!$C$2:$C$112,0)))","v":""},{"$f":"IF(F299=\"\",\"\",INDEX(EF!$B$2:$B$112,MATCH(F299,EF!$C$2:$C$112,0)))","v":""}]
["",null,null,{"$f":"IF(F300=\"\",\"\",INDEX(EF!$A$2:$A$112,MATCH(F300,EF!$C$2:$C$112,0)))","v":""},{"$f":"IF(F300=\"\",\"\",INDEX(EF!$B$2:$B$112,MATCH(F300,EF!$C$2:$C$112,0)))","v":""}]
["",null,null,{"$f":"IF(F301=\"\",\"\",INDEX(EF!$A$2:$A$112,MATCH(F301,EF!$C$2:$C$112,0)))","v":""},{"$f":"IF(F301=\"\",\"\",INDEX(EF!$B$2:$B$112,MATCH(F301,EF!$C$2:$C$112,0)))","v":""}]
["",null,null,{"$f":"IF(F302=\"\",\"\",INDEX(EF!$A$2:$A$112,MATCH(F302,EF!$C$2:$C$112,0)))","v":""},{"$f":"IF(F302=\"\",\"\",INDEX(EF!$B$2:$B$112,MATCH(F302,EF!$C$2:$C$112,0)))","v":""}]
["",null,null,{"$f":"IF(F303=\"\",\"\",INDEX(EF!$A$2:$A$112,MATCH(F303,EF!$C$2:$C$112,0)))","v":""},{"$f":"IF(F303=\"\",\"\",INDEX(EF!$B$2:$B$112,MATCH(F303,EF!$C$2:$C$112,0)))","v":""}]
["",null,null,{"$f":"IF(F304=\"\",\"\",INDEX(EF!$A$2:$A$112,MATCH(F304,EF!$C$2:$C$112,0)))","v":""},{"$f":"IF(F304=\"\",\"\",INDEX(EF!$B$2:$B$112,MATCH(F304,EF!$C$2:$C$112,0)))","v":""}]
["",null,null,{"$f":"IF(F305=\"\",\"\",INDEX(EF!$A$2:$A$112,MATCH(F305,EF!$C$2:$C$112,0)))","v":""},{"$f":"IF(F305=\"\",\"\",INDEX(EF!$B$2:$B$112,MATCH(F305,EF!$C$2:$C$112,0)))","v":""}]
["",null,null,{"$f":"IF(F306=\"\",\"\",INDEX(EF!$A$2:$A$112,MATCH(F306,EF!$C$2:$C$112,0)))","v":""},{"$f":"IF(F306=\"\",\"\",INDEX(EF!$B$2:$B$112,MATCH(F306,EF!$C$2:$C$112,0)))","v":""}]
["",null,null,{"$f":"IF(F307=\"\",\"\",INDEX(EF!$A$2:$A$112,MATCH(F307,EF!$C$2:$C$112,0)))","v":""},{"$f":"IF(F307=\"\",\"\",INDEX(EF!$B$2:$B$112,MATCH(F307,EF!$C$2:$C$112,0)))","v":""}]
["",null,null,{"$f":"IF(F308=\"\",\"\",INDEX(EF!$A$2:$A$112,MATCH(F308,EF!$C$2:$C$112,0)))","v":""},{"$f":"IF(F308=\"\",\"\",INDEX(EF!$B$2:$B$112,MATCH(F308,EF!$C$2:$C$112,0)))","v":""}]
["",null,null,{"$f":"IF(F309=\"\",\"\",INDEX(EF!$A$2:$A$112,MATCH(F309,EF!$C$2:$C$112,0)))","v":""},{"$f":"IF(F309=\"\",\"\",INDEX(EF!$B$2:$B$112,MATCH(F309,EF!$C$2:$C$112,0)))","v":""}]
["",null,null,{"$f":"IF(F310=\"\",\"\",INDEX(EF!$A$2:$A$112,MATCH(F310,EF!$C$2:$C$112,0)))","v":""},{"$f":"IF(F310=\"\",\"\",INDEX(EF!$B$2:$B$112,MATCH(F310,EF!$C$2:$C$112,0)))","v":""}]
["",null,null,{"$f":"IF(F311=\"\",\"\",INDEX(EF!$A$2:$A$112,MATCH(F311,EF!$C$2:$C$112,0)))","v":""},{"$f":"IF(F311=\"\",\"\",INDEX(EF!$B$2:$B$112,MATCH(F311,EF!$C$2:$C$112,0)))","v":""}]
["",null,null,{"$f":"IF(F312=\"\",\"\",INDEX(EF!$A$2:$A$112,MATCH(F312,EF!$C$2:$C$112,0)))","v":""},{"$f":"IF(F312=\"\",\"\",INDEX(EF!$B$2:$B$112,MATCH(F312,EF!$C$2:$C$112,0)))","v":""}]
["",null,null,{"$f":"IF(F313=\"\",\"\",INDEX(EF!$A$2:$A$112,MATCH(F313,EF!$C$2:$C$112,0)))","v":""},{"$f":"IF(F313=\"\",\"\",INDEX(EF!$B$2:$B$112,MATCH(F313,EF!$C$2:$C$112,0)))","v":""}]
["",null,null,{"$f":"IF(F314=\"\",\"\",INDEX(EF!$A$2:$A$112,MATCH(F314,EF!$C$2:$C$112,0)))","v":""},{"$f":"IF(F314=\"\",\"\",INDEX(EF!$B$2:$B$112,MATCH(F314,EF!$C$2:$C$112,0)))","v":""}]
["",null,null,{"$f":"IF(F315=\"\",\"\",INDEX(EF!$A$2:$A$112,MATCH(F315,EF!$C$2:$C$112,0)))","v":""},{"$f":"IF(F315=\"\",\"\",INDEX(EF!$B$2:$B$112,MATCH(F315,EF!$C$2:$C$112,0)))","v":""}]
["",null,null,{"$f":"IF(F316=\"\",\"\",INDEX(EF!$A$2:$A$112,MATCH(F316,EF!$C$2:$C$112,0)))","v":""},{"$f":"IF(F316=\"\",\"\",INDEX(EF!$B$2:$B$112,MATCH(F316,EF!$C$2:$C$112,0)))","v":""}]
["",null,null,{"$f":"IF(F317=\"\",\"\",INDEX(EF!$A$2:$A$112,MATCH(F317,EF!$C$2:$C$112,0)))","v":""},{"$f":"IF(F317=\"\",\"\",INDEX(EF!$B$2:$B$112,MATCH(F317,EF!$C$2:$C$112,0)))","v":""}]
["",null,null,{"$f":"IF(F318=\"\",\"\",INDEX(EF!$A$2:$A$112,MATCH(F318,EF!$C$2:$C$112,0)))","v":""},{"$f":"IF(F318=\"\",\"\",INDEX(EF!$B$2:$B$112,MATCH(F318,EF!$C$2:$C$112,0)))","v":""}]
["",null,null,{"$f":"IF(F319=\"\",\"\",INDEX(EF!$A$2:$A$112,MATCH(F319,EF!$C$2:$C$112,0)))","v":""},{"$f":"IF(F319=\"\",\"\",INDEX(EF!$B$2:$B$112,MATCH(F319,EF!$C$2:$C$112,0)))","v":""}]
["",null,null,{"$f":"IF(F320=\"\",\"\",INDEX(EF!$A$2:$A$112,MATCH(F320,EF!$C$2:$C$112,0)))","v":""},{"$f":"IF(F320=\"\",\"\",INDEX(EF!$B$2:$B$112,MATCH(F320,EF!$C$2:$C$112,0)))","v":""}]
["",null,null,{"$f":"IF(F321=\"\",\"\",INDEX(EF!$A$2:$A$112,MATCH(F321,EF!$C$2:$C$112,0)))","v":""},{"$f":"IF(F321=\"\",\"\",INDEX(EF!$B$2:$B$112,MATCH(F321,EF!$C$2:$C$112,0)))","v":""}]
["",null,null,{"$f":"IF(F322=\"\",\"\",INDEX(EF!$A$2:$A$112,MATCH(F322,EF!$C$2:$C$112,0)))","v":""},{"$f":"IF(F322=\"\",\"\",INDEX(EF!$B$2:$B$112,MATCH(F322,EF!$C$2:$C$112,0)))","v":""}]
["",null,null,{"$f":"IF(F323=\"\",\"\",INDEX(EF!$A$2:$A$112,MATCH(F323,EF!$C$2:$C$112,0)))","v":""},{"$f":"IF(F323=\"\",\"\",INDEX(EF!$B$2:$B$112,MATCH(F323,EF!$C$2:$C$112,0)))","v":""}]
["",null,null,{"$f":"IF(F324=\"\",\"\",INDEX(EF!$A$2:$A$112,MATCH(F324,EF!$C$2:$C$112,0)))","v":""},{"$f":"IF(F324=\"\",\"\",INDEX(EF!$B$2:$B$112,MATCH(F324,EF!$C$2:$C$112,0)))","v":""}]
["",null,null,{"$f":"IF(F325=\"\",\"\",INDEX(EF!$A$2:$A$112,MATCH(F325,EF!$C$2:$C$112,0)))","v":""},{"$f":"IF(F325=\"\",\"\",INDEX(EF!$B$2:$B$112,MATCH(F325,EF!$C$2:$C$112,0)))","v":""}]
["",null,null,{"$f":"IF(F326=\"\",\"\",INDEX(EF!$A$2:$A$112,MATCH(F326,EF!$C$2:$C$112,0)))","v":""},{"$f":"IF(F326=\"\",\"\",INDEX(EF!$B$2:$B$112,MATCH(F326,EF!$C$2:$C$112,0)))","v":""}]
["",null,null,{"$f":"IF(F327=\"\",\"\",INDEX(EF!$A$2:$A$112,MATCH(F327,EF!$C$2:$C$112,0)))","v":""},{"$f":"IF(F327=\"\",\"\",INDEX(EF!$B$2:$B$112,MATCH(F327,EF!$C$2:$C$112,0)))","v":""}]
["",null,null,{"$f":"IF(F328=\"\",\"\",INDEX(EF!$A$2:$A$112,MATCH(F328,EF!$C$2:$C$112,0)))","v":""},{"$f":"IF(F328=\"\",\"\",INDEX(EF!$B$2:$B$112,MATCH(F328,EF!$C$2:$C$112,0)))","v":""}]
["",null,null,{"$f":"IF(F329=\"\",\"\",INDEX(EF!$A$2:$A$112,MATCH(F329,EF!$C$2:$C$112,0)))","v":""},{"$f":"IF(F329=\"\",\"\",INDEX(EF!$B$2:$B$112,MATCH(F329,EF!$C$2:$C$112,0)))","v":""}]
["",null,null,{"$f":"IF(F330=\"\",\"\",INDEX(EF!$A$2:$A$112,MATCH(F330,EF!$C$2:$C$112,0)))","v":""},{"$f":"IF(F330=\"\",\"\",INDEX(EF!$B$2:$B$112,MATCH(F330,EF!$C$2:$C$112,0)))","v":""}]
["",null,null,{"$f":"IF(F331=\"\",\"\",INDEX(EF!$A$2:$A$112,MATCH(F331,EF!$C$2:$C$112,0)))","v":""},{"$f":"IF(F331=\"\",\"\",INDEX(EF!$B$2:$B$112,MATCH(F331,EF!$C$2:$C$112,0)))","v":""}]
[{"$f":"IF(B332>0,A331+1,\"\")","v":""},null,null,{"$f":"IF(F332=\"\",\"\",INDEX(EF!$A$2:$A$112,MATCH(F332,EF!$C$2:$C$112,0)))","v":""},{"$f":"IF(F332=\"\",\"\",INDEX(EF!$B$2:$B$112,MATCH(F332,EF!$C$2:$C$112,0)))","v":""}]
["",null,null,{"$f":"IF(F333=\"\",\"\",INDEX(EF!$A$2:$A$112,MATCH(F333,EF!$C$2:$C$112,0)))","v":""},{"$f":"IF(F333=\"\",\"\",INDEX(EF!$B$2:$B$112,MATCH(F333,EF!$C$2:$C$112,0)))","v":""}]
["",null,null,{"$f":"IF(F334=\"\",\"\",INDEX(EF!$A$2:$A$112,MATCH(F334,EF!$C$2:$C$112,0)))","v":""},{"$f":"IF(F334=\"\",\"\",INDEX(EF!$B$2:$B$112,MATCH(F334,EF!$C$2:$C$112,0)))","v":""}]
["",null,null,{"$f":"IF(F335=\"\",\"\",INDEX(EF!$A$2:$A$112,MATCH(F335,EF!$C$2:$C$112,0)))","v":""},{"$f":"IF(F335=\"\",\"\",INDEX(EF!$B$2:$B$112,MATCH(F335,EF!$C$2:$C$112,0)))","v":""}]
["",null,null,{"$f":"IF(F336=\"\",\"\",INDEX(EF!$A$2:$A$112,MATCH(F336,EF!$C$2:$C$112,0)))","v":""},{"$f":"IF(F336=\"\",\"\",INDEX(EF!$B$2:$B$112,MATCH(F336,EF!$C$2:$C$112,0)))","v":""}]
["",null,null,{"$f":"IF(F337=\"\",\"\",INDEX(EF!$A$2:$A$112,MATCH(F337,EF!$C$2:$C$112,0)))","v":""},{"$f":"IF(F337=\"\",\"\",INDEX(EF!$B$2:$B$112,MATCH(F337,EF!$C$2:$C$112,0)))","v":""}]
["",null,null,{"$f":"IF(F338=\"\",\"\",INDEX(EF!$A$2:$A$112,MATCH(F338,EF!$C$2:$C$112,0)))","v":""},{"$f":"IF(F338=\"\",\"\",INDEX(EF!$B$2:$B$112,MATCH(F338,EF!$C$2:$C$112,0)))","v":""}]
["",null,null,{"$f":"IF(F339=\"\",\"\",INDEX(EF!$A$2:$A$112,MATCH(F339,EF!$C$2:$C$112,0)))","v":""},{"$f":"IF(F339=\"\",\"\",INDEX(EF!$B$2:$B$112,MATCH(F339,EF!$C$2:$C$112,0)))","v":""}]
["",null,null,{"$f":"IF(F340=\"\",\"\",INDEX(EF!$A$2:$A$112,MATCH(F340,EF!$C$2:$C$112,0)))","v":""},{"$f":"IF(F340=\"\",\"\",INDEX(EF!$B$2:$B$112,MATCH(F340,EF!$C$2:$C$112,0)))","v":""}]
["",null,null,{"$f":"IF(F341=\"\",\"\",INDEX(EF!$A$2:$A$112,MATCH(F341,EF!$C$2:$C$112,0)))","v":""},{"$f":"IF(F341=\"\",\"\",INDEX(EF!$B$2:$B$112,MATCH(F341,EF!$C$2:$C$112,0)))","v":""}]
["",null,null,{"$f":"IF(F342=\"\",\"\",INDEX(EF!$A$2:$A$112,MATCH(F342,EF!$C$2:$C$112,0)))","v":""},{"$f":"IF(F342=\"\",\"\",INDEX(EF!$B$2:$B$112,MATCH(F342,EF!$C$2:$C$112,0)))","v":""}]
["",null,null,{"$f":"IF(F343=\"\",\"\",INDEX(EF!$A$2:$A$112,MATCH(F343,EF!$C$2:$C$112,0)))","v":""},{"$f":"IF(F343=\"\",\"\",INDEX(EF!$B$2:$B$112,MATCH(F343,EF!$C$2:$C$112,0)))","v":""}]
["",null,null,{"$f":"IF(F344=\"\",\"\",INDEX(EF!$A$2:$A$112,MATCH(F344,EF!$C$2:$C$112,0)))","v":""},{"$f":"IF(F344=\"\",\"\",INDEX(EF!$B$2:$B$112,MATCH(F344,EF!$C$2:$C$112,0)))","v":""}]
["",null,null,{"$f":"IF(F345=\"\",\"\",INDEX(EF!$A$2:$A$112,MATCH(F345,EF!$C$2:$C$112,0)))","v":""},{"$f":"IF(F345=\"\",\"\",INDEX(EF!$B$2:$B$112,MATCH(F345,EF!$C$2:$C$112,0)))","v":""}]
["",null,null,{"$f":"IF(F346=\"\",\"\",INDEX(EF!$A$2:$A$112,MATCH(F346,EF!$C$2:$C$112,0)))","v":""},{"$f":"IF(F346=\"\",\"\",INDEX(EF!$B$2:$B$112,MATCH(F346,EF!$C$2:$C$112,0)))","v":""}]
["",null,null,{"$f":"IF(F347=\"\",\"\",INDEX(EF!$A$2:$A$112,MATCH(F347,EF!$C$2:$C$112,0)))","v":""},{"$f":"IF(F347=\"\",\"\",INDEX(EF!$B$2:$B$112,MATCH(F347,EF!$C$2:$C$112,0)))","v":""}]
["",null,null,{"$f":"IF(F348=\"\",\"\",INDEX(EF!$A$2:$A$112,MATCH(F348,EF!$C$2:$C$112,0)))","v":""},{"$f":"IF(F348=\"\",\"\",INDEX(EF!$B$2:$B$112,MATCH(F348,EF!$C$2:$C$112,0)))","v":""}]
["",null,null,{"$f":"IF(F349=\"\",\"\",INDEX(EF!$A$2:$A$112,MATCH(F349,EF!$C$2:$C$112,0)))","v":""},{"$f":"IF(F349=\"\",\"\",INDEX(EF!$B$2:$B$112,MATCH(F349,EF!$C$2:$C$112,0)))","v":""}]
["",null,null,{"$f":"IF(F350=\"\",\"\",INDEX(EF!$A$2:$A$112,MATCH(F350,EF!$C$2:$C$112,0)))","v":""},{"$f":"IF(F350=\"\",\"\",INDEX(EF!$B$2:$B$112,MATCH(F350,EF!$C$2:$C$112,0)))","v":""}]
["",null,null,{"$f":"IF(F351=\"\",\"\",INDEX(EF!$A$2:$A$112,MATCH(F351,EF!$C$2:$C$112,0)))","v":""},{"$f":"IF(F351=\"\",\"\",INDEX(EF!$B$2:$B$112,MATCH(F351,EF!$C$2:$C$112,0)))","v":""}]
["",null,null,{"$f":"IF(F352=\"\",\"\",INDEX(EF!$A$2:$A$112,MATCH(F352,EF!$C$2:$C$112,0)))","v":""},{"$f":"IF(F352=\"\",\"\",INDEX(EF!$B$2:$B$112,MATCH(F352,EF!$C$2:$C$112,0)))","v":""}]
["",null,null,{"$f":"IF(F353=\"\",\"\",INDEX(EF!$A$2:$A$112,MATCH(F353,EF!$C$2:$C$112,0)))","v":""},{"$f":"IF(F353=\"\",\"\",INDEX(EF!$B$2:$B$112,MATCH(F353,EF!$C$2:$C$112,0)))","v":""}]
["",null,null,{"$f":"IF(F354=\"\",\"\",INDEX(EF!$A$2:$A$112,MATCH(F354,EF!$C$2:$C$112,0)))","v":""},{"$f":"IF(F354=\"\",\"\",INDEX(EF!$B$2:$B$112,MATCH(F354,EF!$C$2:$C$112,0)))","v":""}]
["",null,null,{"$f":"IF(F355=\"\",\"\",INDEX(EF!$A$2:$A$112,MATCH(F355,EF!$C$2:$C$112,0)))","v":""},{"$f":"IF(F355=\"\",\"\",INDEX(EF!$B$2:$B$112,MATCH(F355,EF!$C$2:$C$112,0)))","v":""}]
["",null,null,{"$f":"IF(F356=\"\",\"\",INDEX(EF!$A$2:$A$112,MATCH(F356,EF!$C$2:$C$112,0)))","v":""},{"$f":"IF(F356=\"\",\"\",INDEX(EF!$B$2:$B$112,MATCH(F356,EF!$C$2:$C$112,0)))","v":""}]
["",null,null,{"$f":"IF(F357=\"\",\"\",INDEX(EF!$A$2:$A$112,MATCH(F357,EF!$C$2:$C$112,0)))","v":""},{"$f":"IF(F357=\"\",\"\",INDEX(EF!$B$2:$B$112,MATCH(F357,EF!$C$2:$C$112,0)))","v":""}]
["",null,null,{"$f":"IF(F358=\"\",\"\",INDEX(EF!$A$2:$A$112,MATCH(F358,EF!$C$2:$C$112,0)))","v":""},{"$f":"IF(F358=\"\",\"\",INDEX(EF!$B$2:$B$112,MATCH(F358,EF!$C$2:$C$112,0)))","v":""}]
["",null,null,{"$f":"IF(F359=\"\",\"\",INDEX(EF!$A$2:$A$112,MATCH(F359,EF!$C$2:$C$112,0)))","v":""},{"$f":"IF(F359=\"\",\"\",INDEX(EF!$B$2:$B$112,MATCH(F359,EF!$C$2:$C$112,0)))","v":""}]
["",null,null,{"$f":"IF(F360=\"\",\"\",INDEX(EF!$A$2:$A$112,MATCH(F360,EF!$C$2:$C$112,0)))","v":""},{"$f":"IF(F360=\"\",\"\",INDEX(EF!$B$2:$B$112,MATCH(F360,EF!$C$2:$C$112,0)))","v":""}]
["",null,null,{"$f":"IF(F361=\"\",\"\",INDEX(EF!$A$2:$A$112,MATCH(F361,EF!$C$2:$C$112,0)))","v":""},{"$f":"IF(F361=\"\",\"\",INDEX(EF!$B$2:$B$112,MATCH(F361,EF!$C$2:$C$112,0)))","v":""}]
["",null,null,{"$f":"IF(F362=\"\",\"\",INDEX(EF!$A$2:$A$112,MATCH(F362,EF!$C$2:$C$112,0)))","v":""},{"$f":"IF(F362=\"\",\"\",INDEX(EF!$B$2:$B$112,MATCH(F362,EF!$C$2:$C$112,0)))","v":""}]
["",null,null,{"$f":"IF(F363=\"\",\"\",INDEX(EF!$A$2:$A$112,MATCH(F363,EF!$C$2:$C$112,0)))","v":""},{"$f":"IF(F363=\"\",\"\",INDEX(EF!$B$2:$B$112,MATCH(F363,EF!$C$2:$C$112,0)))","v":""}]
["",null,null,{"$f":"IF(F364=\"\",\"\",INDEX(EF!$A$2:$A$112,MATCH(F364,EF!$C$2:$C$112,0)))","v":""},{"$f":"IF(F364=\"\",\"\",INDEX(EF!$B$2:$B$112,MATCH(F364,EF!$C$2:$C$112,0)))","v":""}]
["",null,null,{"$f":"IF(F365=\"\",\"\",INDEX(EF!$A$2:$A$112,MATCH(F365,EF!$C$2:$C$112,0)))","v":""},{"$f":"IF(F365=\"\",\"\",INDEX(EF!$B$2:$B$112,MATCH(F365,EF!$C$2:$C$112,0)))","v":""}]
["",null,null,{"$f":"IF(F366=\"\",\"\",INDEX(EF!$A$2:$A$112,MATCH(F366,EF!$C$2:$C$112,0)))","v":""},{"$f":"IF(F366=\"\",\"\",INDEX(EF!$B$2:$B$112,MATCH(F366,EF!$C$2:$C$112,0)))","v":""}]
["",null,null,{"$f":"IF(F367=\"\",\"\",INDEX(EF!$A$2:$A$112,MATCH(F367,EF!$C$2:$C$112,0)))","v":""},{"$f":"IF(F367=\"\",\"\",INDEX(EF!$B$2:$B$112,MATCH(F367,EF!$C$2:$C$112,0)))","v":""}]
["",null,null,{"$f":"IF(F368=\"\",\"\",INDEX(EF!$A$2:$A$112,MATCH(F368,EF!$C$2:$C$112,0)))","v":""},{"$f":"IF(F368=\"\",\"\",INDEX(EF!$B$2:$B$112,MATCH(F368,EF!$C$2:$C$112,0)))","v":""}]
["",null,null,{"$f":"IF(F369=\"\",\"\",INDEX(EF!$A$2:$A$112,MATCH(F369,EF!$C$2:$C$112,0)))","v":""},{"$f":"IF(F369=\"\",\"\",INDEX(EF!$B$2:$B$112,MATCH(F369,EF!$C$2:$C$112,0)))","v":""}]
["",null,null,{"$f":"IF(F370=\"\",\"\",INDEX(EF!$A$2:$A$112,MATCH(F370,EF!$C$2:$C$112,0)))","v":""},{"$f":"IF(F370=\"\",\"\",INDEX(EF!$B$2:$B$112,MATCH(F370,EF!$C$2:$C$112,0)))","v":""}]
["",null,null,{"$f":"IF(F371=\"\",\"\",INDEX(EF!$A$2:$A$112,MATCH(F371,EF!$C$2:$C$112,0)))","v":""},{"$f":"IF(F371=\"\",\"\",INDEX(EF!$B$2:$B$112,MATCH(F371,EF!$C$2:$C$112,0)))","v":""}]
["",null,null,{"$f":"IF(F372=\"\",\"\",INDEX(EF!$A$2:$A$112,MATCH(F372,EF!$C$2:$C$112,0)))","v":""},{"$f":"IF(F372=\"\",\"\",INDEX(EF!$B$2:$B$112,MATCH(F372,EF!$C$2:$C$112,0)))","v":""}]
["",null,null,{"$f":"IF(F373=\"\",\"\",INDEX(EF!$A$2:$A$112,MATCH(F373,EF!$C$2:$C$112,0)))","v":""},{"$f":"IF(F373=\"\",\"\",INDEX(EF!$B$2:$B$112,MATCH(F373,EF!$C$2:$C$112,0)))","v":""}]
["",null,null,{"$f":"IF(F374=\"\",\"\",INDEX(EF!$A$2:$A$112,MATCH(F374,EF!$C$2:$C$112,0)))","v":""},{"$f":"IF(F374=\"\",\"\",INDEX(EF!$B$2:$B$112,MATCH(F374,EF!$C$2:$C$112,0)))","v":""}]
["",null,null,{"$f":"IF(F375=\"\",\"\",INDEX(EF!$A$2:$A$112,MATCH(F375,EF!$C$2:$C$112,0)))","v":""},{"$f":"IF(F375=\"\",\"\",INDEX(EF!$B$2:$B$112,MATCH(F375,EF!$C$2:$C$112,0)))","v":""}]
["",null,null,{"$f":"IF(F376=\"\",\"\",INDEX(EF!$A$2:$A$112,MATCH(F376,EF!$C$2:$C$112,0)))","v":""},{"$f":"IF(F376=\"\",\"\",INDEX(EF!$B$2:$B$112,MATCH(F376,EF!$C$2:$C$112,0)))","v":""}]
["",null,null,{"$f":"IF(F377=\"\",\"\",INDEX(EF!$A$2:$A$112,MATCH(F377,EF!$C$2:$C$112,0)))","v":""},{"$f":"IF(F377=\"\",\"\",INDEX(EF!$B$2:$B$112,MATCH(F377,EF!$C$2:$C$112,0)))","v":""}]
["",null,null,{"$f":"IF(F378=\"\",\"\",INDEX(EF!$A$2:$A$112,MATCH(F378,EF!$C$2:$C$112,0)))","v":""},{"$f":"IF(F378=\"\",\"\",INDEX(EF!$B$2:$B$112,MATCH(F378,EF!$C$2:$C$112,0)))","v":""}]
["",null,null,{"$f":"IF(F379=\"\",\"\",INDEX(EF!$A$2:$A$112,MATCH(F379,EF!$C$2:$C$112,0)))","v":""},{"$f":"IF(F379=\"\",\"\",INDEX(EF!$B$2:$B$112,MATCH(F379,EF!$C$2:$C$112,0)))","v":""}]
["",null,null,{"$f":"IF(F380=\"\",\"\",INDEX(EF!$A$2:$A$112,MATCH(F380,EF!$C$2:$C$112,0)))","v":""},{"$f":"IF(F380=\"\",\"\",INDEX(EF!$B$2:$B$112,MATCH(F380,EF!$C$2:$C$112,0)))","v":""}]
["",null,null,{"$f":"IF(F381=\"\",\"\",INDEX(EF!$A$2:$A$112,MATCH(F381,EF!$C$2:$C$112,0)))","v":""},{"$f":"IF(F381=\"\",\"\",INDEX(EF!$B$2:$B$112,MATCH(F381,EF!$C$2:$C$112,0)))","v":""}]
["",null,null,{"$f":"IF(F382=\"\",\"\",INDEX(EF!$A$2:$A$112,MATCH(F382,EF!$C$2:$C$112,0)))","v":""},{"$f":"IF(F382=\"\",\"\",INDEX(EF!$B$2:$B$112,MATCH(F382,EF!$C$2:$C$112,0)))","v":""}]
["",null,null,{"$f":"IF(F383=\"\",\"\",INDEX(EF!$A$2:$A$112,MATCH(F383,EF!$C$2:$C$112,0)))","v":""},{"$f":"IF(F383=\"\",\"\",INDEX(EF!$B$2:$B$112,MATCH(F383,EF!$C$2:$C$112,0)))","v":""}]
["",null,null,{"$f":"IF(F384=\"\",\"\",INDEX(EF!$A$2:$A$112,MATCH(F384,EF!$C$2:$C$112,0)))","v":""},{"$f":"IF(F384=\"\",\"\",INDEX(EF!$B$2:$B$112,MATCH(F384,EF!$C$2:$C$112,0)))","v":""}]
["",null,null,{"$f":"IF(F385=\"\",\"\",INDEX(EF!$A$2:$A$112,MATCH(F385,EF!$C$2:$C$112,0)))","v":""},{"$f":"IF(F385=\"\",\"\",INDEX(EF!$B$2:$B$112,MATCH(F385,EF!$C$2:$C$112,0)))","v":""}]
["",null,null,{"$f":"IF(F386=\"\",\"\",INDEX(EF!$A$2:$A$112,MATCH(F386,EF!$C$2:$C$112,0)))","v":""},{"$f":"IF(F386=\"\",\"\",INDEX(EF!$B$2:$B$112,MATCH(F386,EF!$C$2:$C$112,0)))","v":""}]
["",null,null,{"$f":"IF(F387=\"\",\"\",INDEX(EF!$A$2:$A$112,MATCH(F387,EF!$C$2:$C$112,0)))","v":""},{"$f":"IF(F387=\"\",\"\",INDEX(EF!$B$2:$B$112,MATCH(F387,EF!$C$2:$C$112,0)))","v":""}]
["",null,null,{"$f":"IF(F388=\"\",\"\",INDEX(EF!$A$2:$A$112,MATCH(F388,EF!$C$2:$C$112,0)))","v":""},{"$f":"IF(F388=\"\",\"\",INDEX(EF!$B$2:$B$112,MATCH(F388,EF!$C$2:$C$112,0)))","v":""}]
["",null,null,{"$f":"IF(F389=\"\",\"\",INDEX(EF!$A$2:$A$112,MATCH(F389,EF!$C$2:$C$112,0)))","v":""},{"$f":"IF(F389=\"\",\"\",INDEX(EF!$B$2:$B$112,MATCH(F389,EF!$C$2:$C$112,0)))","v":""}]
["",null,null,{"$f":"IF(F390=\"\",\"\",INDEX(EF!$A$2:$A$112,MATCH(F390,EF!$C$2:$C$112,0)))","v":""},{"$f":"IF(F390=\"\",\"\",INDEX(EF!$B$2:$B$112,MATCH(F390,EF!$C$2:$C$112,0)))","v":""}]
["",null,null,{"$f":"IF(F391=\"\",\"\",INDEX(EF!$A$2:$A$112,MATCH(F391,EF!$C$2:$C$112,0)))","v":""},{"$f":"IF(F391=\"\",\"\",INDEX(EF!$B$2:$B$112,MATCH(F391,EF!$C$2:$C$112,0)))","v":""}]
["",null,null,{"$f":"IF(F392=\"\",\"\",INDEX(EF!$A$2:$A$112,MATCH(F392,EF!$C$2:$C$112,0)))","v":""},{"$f":"IF(F392=\"\",\"\",INDEX(EF!$B$2:$B$112,MATCH(F392,EF!$C$2:$C$112,0)))","v":""}]
["",null,null,{"$f":"IF(F393=\"\",\"\",INDEX(EF!$A$2:$A$112,MATCH(F393,EF!$C$2:$C$112,0)))","v":""},{"$f":"IF(F393=\"\",\"\",INDEX(EF!$B$2:$B$112,MATCH(F393,EF!$C$2:$C$112,0)))","v":""}]
["",null,null,{"$f":"IF(F394=\"\",\"\",INDEX(EF!$A$2:$A$112,MATCH(F394,EF!$C$2:$C$112,0)))","v":""},{"$f":"IF(F394=\"\",\"\",INDEX(EF!$B$2:$B$112,MATCH(F394,EF!$C$2:$C$112,0)))","v":""}]
["",null,null,{"$f":"IF(F395=\"\",\"\",INDEX(EF!$A$2:$A$112,MATCH(F395,EF!$C$2:$C$112,0)))","v":""},{"$f":"IF(F395=\"\",\"\",INDEX(EF!$B$2:$B$112,MATCH(F395,EF!$C$2:$C$112,0)))","v":""}]
[{"$f":"IF(B396>0,A395+1,\"\")","v":""},null,null,{"$f":"IF(F396=\"\",\"\",INDEX(EF!$A$2:$A$112,MATCH(F396,EF!$C$2:$C$112,0)))","v":""},{"$f":"IF(F396=\"\",\"\",INDEX(EF!$B$2:$B$112,MATCH(F396,EF!$C$2:$C$112,0)))","v":""}]
["",null,null,{"$f":"IF(F397=\"\",\"\",INDEX(EF!$A$2:$A$112,MATCH(F397,EF!$C$2:$C$112,0)))","v":""},{"$f":"IF(F397=\"\",\"\",INDEX(EF!$B$2:$B$112,MATCH(F397,EF!$C$2:$C$112,0)))","v":""}]
["",null,null,{"$f":"IF(F398=\"\",\"\",INDEX(EF!$A$2:$A$112,MATCH(F398,EF!$C$2:$C$112,0)))","v":""},{"$f":"IF(F398=\"\",\"\",INDEX(EF!$B$2:$B$112,MATCH(F398,EF!$C$2:$C$112,0)))","v":""}]
["",null,null,{"$f":"IF(F399=\"\",\"\",INDEX(EF!$A$2:$A$112,MATCH(F399,EF!$C$2:$C$112,0)))","v":""},{"$f":"IF(F399=\"\",\"\",INDEX(EF!$B$2:$B$112,MATCH(F399,EF!$C$2:$C$112,0)))","v":""}]
["",null,null,{"$f":"IF(F400=\"\",\"\",INDEX(EF!$A$2:$A$112,MATCH(F400,EF!$C$2:$C$112,0)))","v":""},{"$f":"IF(F400=\"\",\"\",INDEX(EF!$B$2:$B$112,MATCH(F400,EF!$C$2:$C$112,0)))","v":""}]
[{"$f":"IF(B401>0,A400+1,\"\")","v":""},null,null,{"$f":"IF(F401=\"\",\"\",INDEX(EF!$A$2:$A$112,MATCH(F401,EF!$C$2:$C$112,0)))","v":""},{"$f":"IF(F401=\"\",\"\",INDEX(EF!$B$2:$B$112,MATCH(F401,EF!$C$2:$C$112,0)))","v":""}]
[{"$f":"IF(B402>0,A401+1,\"\")","v":""},null,null,{"$f":"IF(F402=\"\",\"\",INDEX(EF!$A$2:$A$112,MATCH(F402,EF!$C$2:$C$112,0)))","v":""},{"$f":"IF(F402=\"\",\"\",INDEX(EF!$B$2:$B$112,MATCH(F402,EF!$C$2:$C$112,0)))","v":""}]
["",null,null,{"$f":"IF(F403=\"\",\"\",INDEX(EF!$A$2:$A$112,MATCH(F403,EF!$C$2:$C$112,0)))","v":""},{"$f":"IF(F403=\"\",\"\",INDEX(EF!$B$2:$B$112,MATCH(F403,EF!$C$2:$C$112,0)))","v":""}]
["",null,null,{"$f":"IF(F404=\"\",\"\",INDEX(EF!$A$2:$A$112,MATCH(F404,EF!$C$2:$C$112,0)))","v":""},{"$f":"IF(F404=\"\",\"\",INDEX(EF!$B$2:$B$112,MATCH(F404,EF!$C$2:$C$112,0)))","v":""}]
["",null,null,{"$f":"IF(F405=\"\",\"\",INDEX(EF!$A$2:$A$112,MATCH(F405,EF!$C$2:$C$112,0)))","v":""},{"$f":"IF(F405=\"\",\"\",INDEX(EF!$B$2:$B$112,MATCH(F405,EF!$C$2:$C$112,0)))","v":""}]
["",null,null,{"$f":"IF(F406=\"\",\"\",INDEX(EF!$A$2:$A$112,MATCH(F406,EF!$C$2:$C$112,0)))","v":""},{"$f":"IF(F406=\"\",\"\",INDEX(EF!$B$2:$B$112,MATCH(F406,EF!$C$2:$C$112,0)))","v":""}]
["",null,null,{"$f":"IF(F407=\"\",\"\",INDEX(EF!$A$2:$A$112,MATCH(F407,EF!$C$2:$C$112,0)))","v":""},{"$f":"IF(F407=\"\",\"\",INDEX(EF!$B$2:$B$112,MATCH(F407,EF!$C$2:$C$112,0)))","v":""}]
["",null,null,{"$f":"IF(F408=\"\",\"\",INDEX(EF!$A$2:$A$112,MATCH(F408,EF!$C$2:$C$112,0)))","v":""},{"$f":"IF(F408=\"\",\"\",INDEX(EF!$B$2:$B$112,MATCH(F408,EF!$C$2:$C$112,0)))","v":""}]
["",null,null,{"$f":"IF(F409=\"\",\"\",INDEX(EF!$A$2:$A$112,MATCH(F409,EF!$C$2:$C$112,0)))","v":""},{"$f":"IF(F409=\"\",\"\",INDEX(EF!$B$2:$B$112,MATCH(F409,EF!$C$2:$C$112,0)))","v":""}]
["",null,null,{"$f":"IF(F410=\"\",\"\",INDEX(EF!$A$2:$A$112,MATCH(F410,EF!$C$2:$C$112,0)))","v":""},{"$f":"IF(F410=\"\",\"\",INDEX(EF!$B$2:$B$112,MATCH(F410,EF!$C$2:$C$112,0)))","v":""}]
["",null,null,{"$f":"IF(F411=\"\",\"\",INDEX(EF!$A$2:$A$112,MATCH(F411,EF!$C$2:$C$112,0)))","v":""},{"$f":"IF(F411=\"\",\"\",INDEX(EF!$B$2:$B$112,MATCH(F411,EF!$C$2:$C$112,0)))","v":""}]
["",null,null,{"$f":"IF(F412=\"\",\"\",INDEX(EF!$A$2:$A$112,MATCH(F412,EF!$C$2:$C$112,0)))","v":""},{"$f":"IF(F412=\"\",\"\",INDEX(EF!$B$2:$B$112,MATCH(F412,EF!$C$2:$C$112,0)))","v":""}]
["",null,null,{"$f":"IF(F413=\"\",\"\",INDEX(EF!$A$2:$A$112,MATCH(F413,EF!$C$2:$C$112,0)))","v":""},{"$f":"IF(F413=\"\",\"\",INDEX(EF!$B$2:$B$112,MATCH(F413,EF!$C$2:$C$112,0)))","v":""}]
["",null,null,{"$f":"IF(F414=\"\",\"\",INDEX(EF!$A$2:$A$112,MATCH(F414,EF!$C$2:$C$112,0)))","v":""},{"$f":"IF(F414=\"\",\"\",INDEX(EF!$B$2:$B$112,MATCH(F414,EF!$C$2:$C$112,0)))","v":""}]
["",null,null,{"$f":"IF(F415=\"\",\"\",INDEX(EF!$A$2:$A$112,MATCH(F415,EF!$C$2:$C$112,0)))","v":""},{"$f":"IF(F415=\"\",\"\",INDEX(EF!$B$2:$B$112,MATCH(F415,EF!$C$2:$C$112,0)))","v":""}]
["",null,null,{"$f":"IF(F416=\"\",\"\",INDEX(EF!$A$2:$A$112,MATCH(F416,EF!$C$2:$C$112,0)))","v":""},{"$f":"IF(F416=\"\",\"\",INDEX(EF!$B$2:$B$112,MATCH(F416,EF!$C$2:$C$112,0)))","v":""}]
["",null,null,{"$f":"IF(F417=\"\",\"\",INDEX(EF!$A$2:$A$112,MATCH(F417,EF!$C$2:$C$112,0)))","v":""},{"$f":"IF(F417=\"\",\"\",INDEX(EF!$B$2:$B$112,MATCH(F417,EF!$C$2:$C$112,0)))","v":""}]
["",null,null,{"$f":"IF(F418=\"\",\"\",INDEX(EF!$A$2:$A$112,MATCH(F418,EF!$C$2:$C$112,0)))","v":""},{"$f":"IF(F418=\"\",\"\",INDEX(EF!$B$2:$B$112,MATCH(F418,EF!$C$2:$C$112,0)))","v":""}]
["",null,null,{"$f":"IF(F419=\"\",\"\",INDEX(EF!$A$2:$A$112,MATCH(F419,EF!$C$2:$C$112,0)))","v":""},{"$f":"IF(F419=\"\",\"\",INDEX(EF!$B$2:$B$112,MATCH(F419,EF!$C$2:$C$112,0)))","v":""}]
["",null,null,{"$f":"IF(F420=\"\",\"\",INDEX(EF!$A$2:$A$112,MATCH(F420,EF!$C$2:$C$112,0)))","v":""},{"$f":"IF(F420=\"\",\"\",INDEX(EF!$B$2:$B$112,MATCH(F420,EF!$C$2:$C$112,0)))","v":""}]
["",null,null,{"$f":"IF(F421=\"\",\"\",INDEX(EF!$A$2:$A$112,MATCH(F421,EF!$C$2:$C$112,0)))","v":""},{"$f":"IF(F421=\"\",\"\",INDEX(EF!$B$2:$B$112,MATCH(F421,EF!$C$2:$C$112,0)))","v":""}]
["",null,null,{"$f":"IF(F422=\"\",\"\",INDEX(EF!$A$2:$A$112,MATCH(F422,EF!$C$2:$C$112,0)))","v":""},{"$f":"IF(F422=\"\",\"\",INDEX(EF!$B$2:$B$112,MATCH(F422,EF!$C$2:$C$112,0)))","v":""}]
["",null,null,{"$f":"IF(F423=\"\",\"\",INDEX(EF!$A$2:$A$112,MATCH(F423,EF!$C$2:$C$112,0)))","v":""},{"$f":"IF(F423=\"\",\"\",INDEX(EF!$B$2:$B$112,MATCH(F423,EF!$C$2:$C$112,0)))","v":""}]
["",null,null,{"$f":"IF(F424=\"\",\"\",INDEX(EF!$A$2:$A$112,MATCH(F424,EF!$C$2:$C$112,0)))","v":""},{"$f":"IF(F424=\"\",\"\",INDEX(EF!$B$2:$B$112,MATCH(F424,EF!$C$2:$C$112,0)))","v":""}]
["",null,null,{"$f":"IF(F425=\"\",\"\",INDEX(EF!$A$2:$A$112,MATCH(F425,EF!$C$2:$C$112,0)))","v":""},{"$f":"IF(F425=\"\",\"\",INDEX(EF!$B$2:$B$112,MATCH(F425,EF!$C$2:$C$112,0)))","v":""}]
["",null,null,{"$f":"IF(F426=\"\",\"\",INDEX(EF!$A$2:$A$112,MATCH(F426,EF!$C$2:$C$112,0)))","v":""},{"$f":"IF(F426=\"\",\"\",INDEX(EF!$B$2:$B$112,MATCH(F426,EF!$C$2:$C$112,0)))","v":""}]
["",null,null,{"$f":"IF(F427=\"\",\"\",INDEX(EF!$A$2:$A$112,MATCH(F427,EF!$C$2:$C$112,0)))","v":""},{"$f":"IF(F427=\"\",\"\",INDEX(EF!$B$2:$B$112,MATCH(F427,EF!$C$2:$C$112,0)))","v":""}]
["",null,null,{"$f":"IF(F428=\"\",\"\",INDEX(EF!$A$2:$A$112,MATCH(F428,EF!$C$2:$C$112,0)))","v":""},{"$f":"IF(F428=\"\",\"\",INDEX(EF!$B$2:$B$112,MATCH(F428,EF!$C$2:$C$112,0)))","v":""}]
["",null,null,{"$f":"IF(F429=\"\",\"\",INDEX(EF!$A$2:$A$112,MATCH(F429,EF!$C$2:$C$112,0)))","v":""},{"$f":"IF(F429=\"\",\"\",INDEX(EF!$B$2:$B$112,MATCH(F429,EF!$C$2:$C$112,0)))","v":""}]
["",null,null,{"$f":"IF(F430=\"\",\"\",INDEX(EF!$A$2:$A$112,MATCH(F430,EF!$C$2:$C$112,0)))","v":""},{"$f":"IF(F430=\"\",\"\",INDEX(EF!$B$2:$B$112,MATCH(F430,EF!$C$2:$C$112,0)))","v":""}]
["",null,null,{"$f":"IF(F431=\"\",\"\",INDEX(EF!$A$2:$A$112,MATCH(F431,EF!$C$2:$C$112,0)))","v":""},{"$f":"IF(F431=\"\",\"\",INDEX(EF!$B$2:$B$112,MATCH(F431,EF!$C$2:$C$112,0)))","v":""}]
["",null,null,{"$f":"IF(F432=\"\",\"\",INDEX(EF!$A$2:$A$112,MATCH(F432,EF!$C$2:$C$112,0)))","v":""},{"$f":"IF(F432=\"\",\"\",INDEX(EF!$B$2:$B$112,MATCH(F432,EF!$C$2:$C$112,0)))","v":""}]
["",null,null,{"$f":"IF(F433=\"\",\"\",INDEX(EF!$A$2:$A$112,MATCH(F433,EF!$C$2:$C$112,0)))","v":""},{"$f":"IF(F433=\"\",\"\",INDEX(EF!$B$2:$B$112,MATCH(F433,EF!$C$2:$C$112,0)))","v":""}]
["",null,null,{"$f":"IF(F434=\"\",\"\",INDEX(EF!$A$2:$A$112,MATCH(F434,EF!$C$2:$C$112,0)))","v":""},{"$f":"IF(F434=\"\",\"\",INDEX(EF!$B$2:$B$112,MATCH(F434,EF!$C$2:$C$112,0)))","v":""}]
["",null,null,{"$f":"IF(F435=\"\",\"\",INDEX(EF!$A$2:$A$112,MATCH(F435,EF!$C$2:$C$112,0)))","v":""},{"$f":"IF(F435=\"\",\"\",INDEX(EF!$B$2:$B$112,MATCH(F435,EF!$C$2:$C$112,0)))","v":""}]
["",null,null,{"$f":"IF(F436=\"\",\"\",INDEX(EF!$A$2:$A$112,MATCH(F436,EF!$C$2:$C$112,0)))","v":""},{"$f":"IF(F436=\"\",\"\",INDEX(EF!$B$2:$B$112,MATCH(F436,EF!$C$2:$C$112,0)))","v":""}]
["",null,null,{"$f":"IF(F437=\"\",\"\",INDEX(EF!$A$2:$A$112,MATCH(F437,EF!$C$2:$C$112,0)))","v":""},{"$f":"IF(F437=\"\",\"\",INDEX(EF!$B$2:$B$112,MATCH(F437,EF!$C$2:$C$112,0)))","v":""}]
["",null,null,{"$f":"IF(F438=\"\",\"\",INDEX(EF!$A$2:$A$112,MATCH(F438,EF!$C$2:$C$112,0)))","v":""},{"$f":"IF(F438=\"\",\"\",INDEX(EF!$B$2:$B$112,MATCH(F438,EF!$C$2:$C$112,0)))","v":""}]
["",null,null,{"$f":"IF(F439=\"\",\"\",INDEX(EF!$A$2:$A$112,MATCH(F439,EF!$C$2:$C$112,0)))","v":""},{"$f":"IF(F439=\"\",\"\",INDEX(EF!$B$2:$B$112,MATCH(F439,EF!$C$2:$C$112,0)))","v":""}]
["",null,null,{"$f":"IF(F440=\"\",\"\",INDEX(EF!$A$2:$A$112,MATCH(F440,EF!$C$2:$C$112,0)))","v":""},{"$f":"IF(F440=\"\",\"\",INDEX(EF!$B$2:$B$112,MATCH(F440,EF!$C$2:$C$112,0)))","v":""}]
["",null,null,{"$f":"IF(F441=\"\",\"\",INDEX(EF!$A$2:$A$112,MATCH(F441,EF!$C$2:$C$112,0)))","v":""},{"$f":"IF(F441=\"\",\"\",INDEX(EF!$B$2:$B$112,MATCH(F441,EF!$C$2:$C$112,0)))","v":""}]
["",null,null,{"$f":"IF(F442=\"\",\"\",INDEX(EF!$A$2:$A$112,MATCH(F442,EF!$C$2:$C$112,0)))","v":""},{"$f":"IF(F442=\"\",\"\",INDEX(EF!$B$2:$B$112,MATCH(F442,EF!$C$2:$C$112,0)))","v":""}]
["",null,null,{"$f":"IF(F443=\"\",\"\",INDEX(EF!$A$2:$A$112,MATCH(F443,EF!$C$2:$C$112,0)))","v":""},{"$f":"IF(F443=\"\",\"\",INDEX(EF!$B$2:$B$112,MATCH(F443,EF!$C$2:$C$112,0)))","v":""}]
["",null,null,{"$f":"IF(F444=\"\",\"\",INDEX(EF!$A$2:$A$112,MATCH(F444,EF!$C$2:$C$112,0)))","v":""},{"$f":"IF(F444=\"\",\"\",INDEX(EF!$B$2:$B$112,MATCH(F444,EF!$C$2:$C$112,0)))","v":""}]
["",null,null,{"$f":"IF(F445=\"\",\"\",INDEX(EF!$A$2:$A$112,MATCH(F445,EF!$C$2:$C$112,0)))","v":""},{"$f":"IF(F445=\"\",\"\",INDEX(EF!$B$2:$B$112,MATCH(F445,EF!$C$2:$C$112,0)))","v":""}]
["",null,null,{"$f":"IF(F446=\"\",\"\",INDEX(EF!$A$2:$A$112,MATCH(F446,EF!$C$2:$C$112,0)))","v":""},{"$f":"IF(F446=\"\",\"\",INDEX(EF!$B$2:$B$112,MATCH(F446,EF!$C$2:$C$112,0)))","v":""}]
["",null,null,{"$f":"IF(F447=\"\",\"\",INDEX(EF!$A$2:$A$112,MATCH(F447,EF!$C$2:$C$112,0)))","v":""},{"$f":"IF(F447=\"\",\"\",INDEX(EF!$B$2:$B$112,MATCH(F447,EF!$C$2:$C$112,0)))","v":""}]
["",null,null,{"$f":"IF(F448=\"\",\"\",INDEX(EF!$A$2:$A$112,MATCH(F448,EF!$C$2:$C$112,0)))","v":""},{"$f":"IF(F448=\"\",\"\",INDEX(EF!$B$2:$B$112,MATCH(F448,EF!$C$2:$C$112,0)))","v":""}]
["",null,null,{"$f":"IF(F449=\"\",\"\",INDEX(EF!$A$2:$A$112,MATCH(F449,EF!$C$2:$C$112,0)))","v":""},{"$f":"IF(F449=\"\",\"\",INDEX(EF!$B$2:$B$112,MATCH(F449,EF!$C$2:$C$112,0)))","v":""}]
["",null,null,{"$f":"IF(F450=\"\",\"\",INDEX(EF!$A$2:$A$112,MATCH(F450,EF!$C$2:$C$112,0)))","v":""},{"$f":"IF(F450=\"\",\"\",INDEX(EF!$B$2:$B$112,MATCH(F450,EF!$C$2:$C$112,0)))","v":""}]
["",null,null,{"$f":"IF(F451=\"\",\"\",INDEX(EF!$A$2:$A$112,MATCH(F451,EF!$C$2:$C$112,0)))","v":""},{"$f":"IF(F451=\"\",\"\",INDEX(EF!$B$2:$B$112,MATCH(F451,EF!$C$2:$C$112,0)))","v":""}]
["",null,null,{"$f":"IF(F452=\"\",\"\",INDEX(EF!$A$2:$A$112,MATCH(F452,EF!$C$2:$C$112,0)))","v":""},{"$f":"IF(F452=\"\",\"\",INDEX(EF!$B$2:$B$112,MATCH(F452,EF!$C$2:$C$112,0)))","v":""}]
["",null,null,{"$f":"IF(F453=\"\",\"\",INDEX(EF!$A$2:$A$112,MATCH(F453,EF!$C$2:$C$112,0)))","v":""},{"$f":"IF(F453=\"\",\"\",INDEX(EF!$B$2:$B$112,MATCH(F453,EF!$C$2:$C$112,0)))","v":""}]
["",null,null,{"$f":"IF(F454=\"\",\"\",INDEX(EF!$A$2:$A$112,MATCH(F454,EF!$C$2:$C$112,0)))","v":""},{"$f":"IF(F454=\"\",\"\",INDEX(EF!$B$2:$B$112,MATCH(F454,EF!$C$2:$C$112,0)))","v":""}]
["",null,null,{"$f":"IF(F455=\"\",\"\",INDEX(EF!$A$2:$A$112,MATCH(F455,EF!$C$2:$C$112,0)))","v":""},{"$f":"IF(F455=\"\",\"\",INDEX(EF!$B$2:$B$112,MATCH(F455,EF!$C$2:$C$112,0)))","v":""}]
["",null,null,{"$f":"IF(F456=\"\",\"\",INDEX(EF!$A$2:$A$112,MATCH(F456,EF!$C$2:$C$112,0)))","v":""},{"$f":"IF(F456=\"\",\"\",INDEX(EF!$B$2:$B$112,MATCH(F456,EF!$C$2:$C$112,0)))","v":""}]
["",null,null,{"$f":"IF(F457=\"\",\"\",INDEX(EF!$A$2:$A$112,MATCH(F457,EF!$C$2:$C$112,0)))","v":""},{"$f":"IF(F457=\"\",\"\",INDEX(EF!$B$2:$B$112,MATCH(F457,EF!$C$2:$C$112,0)))","v":""}]
["",null,null,{"$f":"IF(F458=\"\",\"\",INDEX(EF!$A$2:$A$112,MATCH(F458,EF!$C$2:$C$112,0)))","v":""},{"$f":"IF(F458=\"\",\"\",INDEX(EF!$B$2:$B$112,MATCH(F458,EF!$C$2:$C$112,0)))","v":""}]
["",null,null,{"$f":"IF(F459=\"\",\"\",INDEX(EF!$A$2:$A$112,MATCH(F459,EF!$C$2:$C$112,0)))","v":""},{"$f":"IF(F459=\"\",\"\",INDEX(EF!$B$2:$B$112,MATCH(F459,EF!$C$2:$C$112,0)))","v":""}]
["",null,null,{"$f":"IF(F460=\"\",\"\",INDEX(EF!$A$2:$A$112,MATCH(F460,EF!$C$2:$C$112,0)))","v":""},{"$f":"IF(F460=\"\",\"\",INDEX(EF!$B$2:$B$112,MATCH(F460,EF!$C$2:$C$112,0)))","v":""}]
["",null,null,{"$f":"IF(F461=\"\",\"\",INDEX(EF!$A$2:$A$112,MATCH(F461,EF!$C$2:$C$112,0)))","v":""},{"$f":"IF(F461=\"\",\"\",INDEX(EF!$B$2:$B$112,MATCH(F461,EF!$C$2:$C$112,0)))","v":""}]
["",null,null,{"$f":"IF(F462=\"\",\"\",INDEX(EF!$A$2:$A$112,MATCH(F462,EF!$C$2:$C$112,0)))","v":""},{"$f":"IF(F462=\"\",\"\",INDEX(EF!$B$2:$B$112,MATCH(F462,EF!$C$2:$C$112,0)))","v":""}]
["",null,null,{"$f":"IF(F463=\"\",\"\",INDEX(EF!$A$2:$A$112,MATCH(F463,EF!$C$2:$C$112,0)))","v":""},{"$f":"IF(F463=\"\",\"\",INDEX(EF!$B$2:$B$112,MATCH(F463,EF!$C$2:$C$112,0)))","v":""}]
["",null,null,{"$f":"IF(F464=\"\",\"\",INDEX(EF!$A$2:$A$112,MATCH(F464,EF!$C$2:$C$112,0)))","v":""},{"$f":"IF(F464=\"\",\"\",INDEX(EF!$B$2:$B$112,MATCH(F464,EF!$C$2:$C$112,0)))","v":""}]
["",null,null,{"$f":"IF(F465=\"\",\"\",INDEX(EF!$A$2:$A$112,MATCH(F465,EF!$C$2:$C$112,0)))","v":""},{"$f":"IF(F465=\"\",\"\",INDEX(EF!$B$2:$B$112,MATCH(F465,EF!$C$2:$C$112,0)))","v":""}]
[{"$f":"IF(B466>0,A465+1,\"\")","v":""},null,null,{"$f":"IF(F466=\"\",\"\",INDEX(EF!$A$2:$A$112,MATCH(F466,EF!$C$2:$C$112,0)))","v":""},{"$f":"IF(F466=\"\",\"\",INDEX(EF!$B$2:$B$112,MATCH(F466,EF!$C$2:$C$112,0)))","v":""}]
["",null,null,{"$f":"IF(F467=\"\",\"\",INDEX(EF!$A$2:$A$112,MATCH(F467,EF!$C$2:$C$112,0)))","v":""},{"$f":"IF(F467=\"\",\"\",INDEX(EF!$B$2:$B$112,MATCH(F467,EF!$C$2:$C$112,0)))","v":""}]
["",null,null,{"$f":"IF(F468=\"\",\"\",INDEX(EF!$A$2:$A$112,MATCH(F468,EF!$C$2:$C$112,0)))","v":""},{"$f":"IF(F468=\"\",\"\",INDEX(EF!$B$2:$B$112,MATCH(F468,EF!$C$2:$C$112,0)))","v":""}]
["",null,null,{"$f":"IF(F469=\"\",\"\",INDEX(EF!$A$2:$A$112,MATCH(F469,EF!$C$2:$C$112,0)))","v":""},{"$f":"IF(F469=\"\",\"\",INDEX(EF!$B$2:$B$112,MATCH(F469,EF!$C$2:$C$112,0)))","v":""}]
["",null,null,{"$f":"IF(F470=\"\",\"\",INDEX(EF!$A$2:$A$112,MATCH(F470,EF!$C$2:$C$112,0)))","v":""},{"$f":"IF(F470=\"\",\"\",INDEX(EF!$B$2:$B$112,MATCH(F470,EF!$C$2:$C$112,0)))","v":""}]
["",null,null,{"$f":"IF(F471=\"\",\"\",INDEX(EF!$A$2:$A$112,MATCH(F471,EF!$C$2:$C$112,0)))","v":""},{"$f":"IF(F471=\"\",\"\",INDEX(EF!$B$2:$B$112,MATCH(F471,EF!$C$2:$C$112,0)))","v":""}]
["",null,null,{"$f":"IF(F472=\"\",\"\",INDEX(EF!$A$2:$A$112,MATCH(F472,EF!$C$2:$C$112,0)))","v":""},{"$f":"IF(F472=\"\",\"\",INDEX(EF!$B$2:$B$112,MATCH(F472,EF!$C$2:$C$112,0)))","v":""}]
["",null,null,{"$f":"IF(F473=\"\",\"\",INDEX(EF!$A$2:$A$112,MATCH(F473,EF!$C$2:$C$112,0)))","v":""},{"$f":"IF(F473=\"\",\"\",INDEX(EF!$B$2:$B$112,MATCH(F473,EF!$C$2:$C$112,0)))","v":""}]
["",null,null,{"$f":"IF(F474=\"\",\"\",INDEX(EF!$A$2:$A$112,MATCH(F474,EF!$C$2:$C$112,0)))","v":""},{"$f":"IF(F474=\"\",\"\",INDEX(EF!$B$2:$B$112,MATCH(F474,EF!$C$2:$C$112,0)))","v":""}]
["",null,null,{"$f":"IF(F475=\"\",\"\",INDEX(EF!$A$2:$A$112,MATCH(F475,EF!$C$2:$C$112,0)))","v":""},{"$f":"IF(F475=\"\",\"\",INDEX(EF!$B$2:$B$112,MATCH(F475,EF!$C$2:$C$112,0)))","v":""}]
["",null,null,{"$f":"IF(F476=\"\",\"\",INDEX(EF!$A$2:$A$112,MATCH(F476,EF!$C$2:$C$112,0)))","v":""},{"$f":"IF(F476=\"\",\"\",INDEX(EF!$B$2:$B$112,MATCH(F476,EF!$C$2:$C$112,0)))","v":""}]
["",null,null,{"$f":"IF(F477=\"\",\"\",INDEX(EF!$A$2:$A$112,MATCH(F477,EF!$C$2:$C$112,0)))","v":""},{"$f":"IF(F477=\"\",\"\",INDEX(EF!$B$2:$B$112,MATCH(F477,EF!$C$2:$C$112,0)))","v":""}]
["",null,null,{"$f":"IF(F478=\"\",\"\",INDEX(EF!$A$2:$A$112,MATCH(F478,EF!$C$2:$C$112,0)))","v":""},{"$f":"IF(F478=\"\",\"\",INDEX(EF!$B$2:$B$112,MATCH(F478,EF!$C$2:$C$112,0)))","v":""}]
["",null,null,{"$f":"IF(F479=\"\",\"\",INDEX(EF!$A$2:$A$112,MATCH(F479,EF!$C$2:$C$112,0)))","v":""},{"$f":"IF(F479=\"\",\"\",INDEX(EF!$B$2:$B$112,MATCH(F479,EF!$C$2:$C$112,0)))","v":""}]
["",null,null,{"$f":"IF(F480=\"\",\"\",INDEX(EF!$A$2:$A$112,MATCH(F480,EF!$C$2:$C$112,0)))","v":""},{"$f":"IF(F480=\"\",\"\",INDEX(EF!$B$2:$B$112,MATCH(F480,EF!$C$2:$C$112,0)))","v":""}]
["",null,null,{"$f":"IF(F481=\"\",\"\",INDEX(EF!$A$2:$A$112,MATCH(F481,EF!$C$2:$C$112,0)))","v":""},{"$f":"IF(F481=\"\",\"\",INDEX(EF!$B$2:$B$112,MATCH(F481,EF!$C$2:$C$112,0)))","v":""}]
["",null,null,{"$f":"IF(F482=\"\",\"\",INDEX(EF!$A$2:$A$112,MATCH(F482,EF!$C$2:$C$112,0)))","v":""},{"$f":"IF(F482=\"\",\"\",INDEX(EF!$B$2:$B$112,MATCH(F482,EF!$C$2:$C$112,0)))","v":""}]
["",null,null,{"$f":"IF(F483=\"\",\"\",INDEX(EF!$A$2:$A$112,MATCH(F483,EF!$C$2:$C$112,0)))","v":""},{"$f":"IF(F483=\"\",\"\",INDEX(EF!$B$2:$B$112,MATCH(F483,EF!$C$2:$C$112,0)))","v":""}]
["",null,null,{"$f":"IF(F484=\"\",\"\",INDEX(EF!$A$2:$A$112,MATCH(F484,EF!$C$2:$C$112,0)))","v":""},{"$f":"IF(F484=\"\",\"\",INDEX(EF!$B$2:$B$112,MATCH(F484,EF!$C$2:$C$112,0)))","v":""}]
["",null,null,{"$f":"IF(F485=\"\",\"\",INDEX(EF!$A$2:$A$112,MATCH(F485,EF!$C$2:$C$112,0)))","v":""},{"$f":"IF(F485=\"\",\"\",INDEX(EF!$B$2:$B$112,MATCH(F485,EF!$C$2:$C$112,0)))","v":""}]
["",null,null,{"$f":"IF(F486=\"\",\"\",INDEX(EF!$A$2:$A$112,MATCH(F486,EF!$C$2:$C$112,0)))","v":""},{"$f":"IF(F486=\"\",\"\",INDEX(EF!$B$2:$B$112,MATCH(F486,EF!$C$2:$C$112,0)))","v":""}]
["",null,null,{"$f":"IF(F487=\"\",\"\",INDEX(EF!$A$2:$A$112,MATCH(F487,EF!$C$2:$C$112,0)))","v":""},{"$f":"IF(F487=\"\",\"\",INDEX(EF!$B$2:$B$112,MATCH(F487,EF!$C$2:$C$112,0)))","v":""}]
["",null,null,{"$f":"IF(F488=\"\",\"\",INDEX(EF!$A$2:$A$112,MATCH(F488,EF!$C$2:$C$112,0)))","v":""},{"$f":"IF(F488=\"\",\"\",INDEX(EF!$B$2:$B$112,MATCH(F488,EF!$C$2:$C$112,0)))","v":""}]
["",null,null,{"$f":"IF(F489=\"\",\"\",INDEX(EF!$A$2:$A$112,MATCH(F489,EF!$C$2:$C$112,0)))","v":""},{"$f":"IF(F489=\"\",\"\",INDEX(EF!$B$2:$B$112,MATCH(F489,EF!$C$2:$C$112,0)))","v":""}]
["",null,null,{"$f":"IF(F490=\"\",\"\",INDEX(EF!$A$2:$A$112,MATCH(F490,EF!$C$2:$C$112,0)))","v":""},{"$f":"IF(F490=\"\",\"\",INDEX(EF!$B$2:$B$112,MATCH(F490,EF!$C$2:$C$112,0)))","v":""}]
["",null,null,{"$f":"IF(F491=\"\",\"\",INDEX(EF!$A$2:$A$112,MATCH(F491,EF!$C$2:$C$112,0)))","v":""},{"$f":"IF(F491=\"\",\"\",INDEX(EF!$B$2:$B$112,MATCH(F491,EF!$C$2:$C$112,0)))","v":""}]
["",null,null,{"$f":"IF(F492=\"\",\"\",INDEX(EF!$A$2:$A$112,MATCH(F492,EF!$C$2:$C$112,0)))","v":""},{"$f":"IF(F492=\"\",\"\",INDEX(EF!$B$2:$B$112,MATCH(F492,EF!$C$2:$C$112,0)))","v":""}]
["",null,null,{"$f":"IF(F493=\"\",\"\",INDEX(EF!$A$2:$A$112,MATCH(F493,EF!$C$2:$C$112,0)))","v":""},{"$f":"IF(F493=\"\",\"\",INDEX(EF!$B$2:$B$112,MATCH(F493,EF!$C$2:$C$112,0)))","v":""}]
["",null,null,{"$f":"IF(F494=\"\",\"\",INDEX(EF!$A$2:$A$112,MATCH(F494,EF!$C$2:$C$112,0)))","v":""},{"$f":"IF(F494=\"\",\"\",INDEX(EF!$B$2:$B$112,MATCH(F494,EF!$C$2:$C$112,0)))","v":""}]
["",null,null,{"$f":"IF(F495=\"\",\"\",INDEX(EF!$A$2:$A$112,MATCH(F495,EF!$C$2:$C$112,0)))","v":""},{"$f":"IF(F495=\"\",\"\",INDEX(EF!$B$2:$B$112,MATCH(F495,EF!$C$2:$C$112,0)))","v":""}]
["",null,null,{"$f":"IF(F496=\"\",\"\",INDEX(EF!$A$2:$A$112,MATCH(F496,EF!$C$2:$C$112,0)))","v":""},{"$f":"IF(F496=\"\",\"\",INDEX(EF!$B$2:$B$112,MATCH(F496,EF!$C$2:$C$112,0)))","v":""}]
["",null,null,{"$f":"IF(F497=\"\",\"\",INDEX(EF!$A$2:$A$112,MATCH(F497,EF!$C$2:$C$112,0)))","v":""},{"$f":"IF(F497=\"\",\"\",INDEX(EF!$B$2:$B$112,MATCH(F497,EF!$C$2:$C$112,0)))","v":""}]
["",null,null,{"$f":"IF(F498=\"\",\"\",INDEX(EF!$A$2:$A$112,MATCH(F498,EF!$C$2:$C$112,0)))","v":""},{"$f":"IF(F498=\"\",\"\",INDEX(EF!$B$2:$B$112,MATCH(F498,EF!$C$2:$C$112,0)))","v":""}]
["",null,null,{"$f":"IF(F499=\"\",\"\",INDEX(EF!$A$2:$A$112,MATCH(F499,EF!$C$2:$C$112,0)))","v":""},{"$f":"IF(F499=\"\",\"\",INDEX(EF!$B$2:$B$112,MATCH(F499,EF!$C$2:$C$112,0)))","v":""}]
["",null,null,{"$f":"IF(F500=\"\",\"\",INDEX(EF!$A$2:$A$112,MATCH(F500,EF!$C$2:$C$112,0)))","v":""},{"$f":"IF(F500=\"\",\"\",INDEX(EF!$B$2:$B$112,MATCH(F500,EF!$C$2:$C$112,0)))","v":""}]
["",null,null,{"$f":"IF(F501=\"\",\"\",INDEX(EF!$A$2:$A$112,MATCH(F501,EF!$C$2:$C$112,0)))","v":""},{"$f":"IF(F501=\"\",\"\",INDEX(EF!$B$2:$B$112,MATCH(F501,EF!$C$2:$C$112,0)))","v":""}]
["",null,null,{"$f":"IF(F502=\"\",\"\",INDEX(EF!$A$2:$A$112,MATCH(F502,EF!$C$2:$C$112,0)))","v":""},{"$f":"IF(F502=\"\",\"\",INDEX(EF!$B$2:$B$112,MATCH(F502,EF!$C$2:$C$112,0)))","v":""}]
["",null,null,{"$f":"IF(F503=\"\",\"\",INDEX(EF!$A$2:$A$112,MATCH(F503,EF!$C$2:$C$112,0)))","v":""},{"$f":"IF(F503=\"\",\"\",INDEX(EF!$B$2:$B$112,MATCH(F503,EF!$C$2:$C$112,0)))","v":""}]
["",null,null,{"$f":"IF(F504=\"\",\"\",INDEX(EF!$A$2:$A$112,MATCH(F504,EF!$C$2:$C$112,0)))","v":""},{"$f":"IF(F504=\"\",\"\",INDEX(EF!$B$2:$B$112,MATCH(F504,EF!$C$2:$C$112,0)))","v":""}]
["",null,null,{"$f":"IF(F505=\"\",\"\",INDEX(EF!$A$2:$A$112,MATCH(F505,EF!$C$2:$C$112,0)))","v":""},{"$f":"IF(F505=\"\",\"\",INDEX(EF!$B$2:$B$112,MATCH(F505,EF!$C$2:$C$112,0)))","v":""}]
["",null,null,{"$f":"IF(F506=\"\",\"\",INDEX(EF!$A$2:$A$112,MATCH(F506,EF!$C$2:$C$112,0)))","v":""},{"$f":"IF(F506=\"\",\"\",INDEX(EF!$B$2:$B$112,MATCH(F506,EF!$C$2:$C$112,0)))","v":""}]
["",null,null,{"$f":"IF(F507=\"\",\"\",INDEX(EF!$A$2:$A$112,MATCH(F507,EF!$C$2:$C$112,0)))","v":""},{"$f":"IF(F507=\"\",\"\",INDEX(EF!$B$2:$B$112,MATCH(F507,EF!$C$2:$C$112,0)))","v":""}]
["",null,null,{"$f":"IF(F508=\"\",\"\",INDEX(EF!$A$2:$A$112,MATCH(F508,EF!$C$2:$C$112,0)))","v":""},{"$f":"IF(F508=\"\",\"\",INDEX(EF!$B$2:$B$112,MATCH(F508,EF!$C$2:$C$112,0)))","v":""}]
["",null,null,{"$f":"IF(F509=\"\",\"\",INDEX(EF!$A$2:$A$112,MATCH(F509,EF!$C$2:$C$112,0)))","v":""},{"$f":"IF(F509=\"\",\"\",INDEX(EF!$B$2:$B$112,MATCH(F509,EF!$C$2:$C$112,0)))","v":""}]
["",null,null,{"$f":"IF(F510=\"\",\"\",INDEX(EF!$A$2:$A$112,MATCH(F510,EF!$C$2:$C$112,0)))","v":""},{"$f":"IF(F510=\"\",\"\",INDEX(EF!$B$2:$B$112,MATCH(F510,EF!$C$2:$C$112,0)))","v":""}]
["",null,null,{"$f":"IF(F511=\"\",\"\",INDEX(EF!$A$2:$A$112,MATCH(F511,EF!$C$2:$C$112,0)))","v":""},{"$f":"IF(F511=\"\",\"\",INDEX(EF!$B$2:$B$112,MATCH(F511,EF!$C$2:$C$112,0)))","v":""}]
["",null,null,{"$f":"IF(F512=\"\",\"\",INDEX(EF!$A$2:$A$112,MATCH(F512,EF!$C$2:$C$112,0)))","v":""},{"$f":"IF(F512=\"\",\"\",INDEX(EF!$B$2:$B$112,MATCH(F512,EF!$C$2:$C$112,0)))","v":""}]
["",null,null,{"$f":"IF(F513=\"\",\"\",INDEX(EF!$A$2:$A$112,MATCH(F513,EF!$C$2:$C$112,0)))","v":""},{"$f":"IF(F513=\"\",\"\",INDEX(EF!$B$2:$B$112,MATCH(F513,EF!$C$2:$C$112,0)))","v":""}]
["",null,null,{"$f":"IF(F514=\"\",\"\",INDEX(EF!$A$2:$A$112,MATCH(F514,EF!$C$2:$C$112,0)))","v":""},{"$f":"IF(F514=\"\",\"\",INDEX(EF!$B$2:$B$112,MATCH(F514,EF!$C$2:$C$112,0)))","v":""}]
["",null,null,{"$f":"IF(F515=\"\",\"\",INDEX(EF!$A$2:$A$112,MATCH(F515,EF!$C$2:$C$112,0)))","v":""},{"$f":"IF(F515=\"\",\"\",INDEX(EF!$B$2:$B$112,MATCH(F515,EF!$C$2:$C$112,0)))","v":""}]
["",null,null,{"$f":"IF(F516=\"\",\"\",INDEX(EF!$A$2:$A$112,MATCH(F516,EF!$C$2:$C$112,0)))","v":""},{"$f":"IF(F516=\"\",\"\",INDEX(EF!$B$2:$B$112,MATCH(F516,EF!$C$2:$C$112,0)))","v":""}]
["",null,null,{"$f":"IF(F517=\"\",\"\",INDEX(EF!$A$2:$A$112,MATCH(F517,EF!$C$2:$C$112,0)))","v":""},{"$f":"IF(F517=\"\",\"\",INDEX(EF!$B$2:$B$112,MATCH(F517,EF!$C$2:$C$112,0)))","v":""}]
["",null,null,{"$f":"IF(F518=\"\",\"\",INDEX(EF!$A$2:$A$112,MATCH(F518,EF!$C$2:$C$112,0)))","v":""},{"$f":"IF(F518=\"\",\"\",INDEX(EF!$B$2:$B$112,MATCH(F518,EF!$C$2:$C$112,0)))","v":""}]
["",null,null,{"$f":"IF(F519=\"\",\"\",INDEX(EF!$A$2:$A$112,MATCH(F519,EF!$C$2:$C$112,0)))","v":""},{"$f":"IF(F519=\"\",\"\",INDEX(EF!$B$2:$B$112,MATCH(F519,EF!$C$2:$C$112,0)))","v":""}]
["",null,null,{"$f":"IF(F520=\"\",\"\",INDEX(EF!$A$2:$A$112,MATCH(F520,EF!$C$2:$C$112,0)))","v":""},{"$f":"IF(F520=\"\",\"\",INDEX(EF!$B$2:$B$112,MATCH(F520,EF!$C$2:$C$112,0)))","v":""}]
["",null,null,{"$f":"IF(F521=\"\",\"\",INDEX(EF!$A$2:$A$112,MATCH(F521,EF!$C$2:$C$112,0)))","v":""},{"$f":"IF(F521=\"\",\"\",INDEX(EF!$B$2:$B$112,MATCH(F521,EF!$C$2:$C$112,0)))","v":""}]
["",null,null,{"$f":"IF(F522=\"\",\"\",INDEX(EF!$A$2:$A$112,MATCH(F522,EF!$C$2:$C$112,0)))","v":""},{"$f":"IF(F522=\"\",\"\",INDEX(EF!$B$2:$B$112,MATCH(F522,EF!$C$2:$C$112,0)))","v":""}]
["",null,null,{"$f":"IF(F523=\"\",\"\",INDEX(EF!$A$2:$A$112,MATCH(F523,EF!$C$2:$C$112,0)))","v":""},{"$f":"IF(F523=\"\",\"\",INDEX(EF!$B$2:$B$112,MATCH(F523,EF!$C$2:$C$112,0)))","v":""}]
["",null,null,{"$f":"IF(F524=\"\",\"\",INDEX(EF!$A$2:$A$112,MATCH(F524,EF!$C$2:$C$112,0)))","v":""},{"$f":"IF(F524=\"\",\"\",INDEX(EF!$B$2:$B$112,MATCH(F524,EF!$C$2:$C$112,0)))","v":""}]
["",null,null,{"$f":"IF(F525=\"\",\"\",INDEX(EF!$A$2:$A$112,MATCH(F525,EF!$C$2:$C$112,0)))","v":""},{"$f":"IF(F525=\"\",\"\",INDEX(EF!$B$2:$B$112,MATCH(F525,EF!$C$2:$C$112,0)))","v":""}]
["",null,null,{"$f":"IF(F526=\"\",\"\",INDEX(EF!$A$2:$A$112,MATCH(F526,EF!$C$2:$C$112,0)))","v":""},{"$f":"IF(F526=\"\",\"\",INDEX(EF!$B$2:$B$112,MATCH(F526,EF!$C$2:$C$112,0)))","v":""}]
["",null,null,{"$f":"IF(F527=\"\",\"\",INDEX(EF!$A$2:$A$112,MATCH(F527,EF!$C$2:$C$112,0)))","v":""},{"$f":"IF(F527=\"\",\"\",INDEX(EF!$B$2:$B$112,MATCH(F527,EF!$C$2:$C$112,0)))","v":""}]
["",null,null,{"$f":"IF(F528=\"\",\"\",INDEX(EF!$A$2:$A$112,MATCH(F528,EF!$C$2:$C$112,0)))","v":""},{"$f":"IF(F528=\"\",\"\",INDEX(EF!$B$2:$B$112,MATCH(F528,EF!$C$2:$C$112,0)))","v":""}]
["",null,null,{"$f":"IF(F529=\"\",\"\",INDEX(EF!$A$2:$A$112,MATCH(F529,EF!$C$2:$C$112,0)))","v":""},{"$f":"IF(F529=\"\",\"\",INDEX(EF!$B$2:$B$112,MATCH(F529,EF!$C$2:$C$112,0)))","v":""}]
[{"$f":"IF(B530>0,A529+1,\"\")","v":""},null,null,{"$f":"IF(F530=\"\",\"\",INDEX(EF!$A$2:$A$112,MATCH(F530,EF!$C$2:$C$112,0)))","v":""},{"$f":"IF(F530=\"\",\"\",INDEX(EF!$B$2:$B$112,MATCH(F530,EF!$C$2:$C$112,0)))","v":""}]
["",null,null,{"$f":"IF(F531=\"\",\"\",INDEX(EF!$A$2:$A$112,MATCH(F531,EF!$C$2:$C$112,0)))","v":""},{"$f":"IF(F531=\"\",\"\",INDEX(EF!$B$2:$B$112,MATCH(F531,EF!$C$2:$C$112,0)))","v":""}]
["",null,null,{"$f":"IF(F532=\"\",\"\",INDEX(EF!$A$2:$A$112,MATCH(F532,EF!$C$2:$C$112,0)))","v":""},{"$f":"IF(F532=\"\",\"\",INDEX(EF!$B$2:$B$112,MATCH(F532,EF!$C$2:$C$112,0)))","v":""}]
["",null,null,{"$f":"IF(F533=\"\",\"\",INDEX(EF!$A$2:$A$112,MATCH(F533,EF!$C$2:$C$112,0)))","v":""},{"$f":"IF(F533=\"\",\"\",INDEX(EF!$B$2:$B$112,MATCH(F533,EF!$C$2:$C$112,0)))","v":""}]
["",null,null,{"$f":"IF(F534=\"\",\"\",INDEX(EF!$A$2:$A$112,MATCH(F534,EF!$C$2:$C$112,0)))","v":""},{"$f":"IF(F534=\"\",\"\",INDEX(EF!$B$2:$B$112,MATCH(F534,EF!$C$2:$C$112,0)))","v":""}]
["",null,null,{"$f":"IF(F535=\"\",\"\",INDEX(EF!$A$2:$A$112,MATCH(F535,EF!$C$2:$C$112,0)))","v":""},{"$f":"IF(F535=\"\",\"\",INDEX(EF!$B$2:$B$112,MATCH(F535,EF!$C$2:$C$112,0)))","v":""}]
["",null,null,{"$f":"IF(F536=\"\",\"\",INDEX(EF!$A$2:$A$112,MATCH(F536,EF!$C$2:$C$112,0)))","v":""},{"$f":"IF(F536=\"\",\"\",INDEX(EF!$B$2:$B$112,MATCH(F536,EF!$C$2:$C$112,0)))","v":""}]
["",null,null,{"$f":"IF(F537=\"\",\"\",INDEX(EF!$A$2:$A$112,MATCH(F537,EF!$C$2:$C$112,0)))","v":""},{"$f":"IF(F537=\"\",\"\",INDEX(EF!$B$2:$B$112,MATCH(F537,EF!$C$2:$C$112,0)))","v":""}]
["",null,null,{"$f":"IF(F538=\"\",\"\",INDEX(EF!$A$2:$A$112,MATCH(F538,EF!$C$2:$C$112,0)))","v":""},{"$f":"IF(F538=\"\",\"\",INDEX(EF!$B$2:$B$112,MATCH(F538,EF!$C$2:$C$112,0)))","v":""}]
["",null,null,{"$f":"IF(F539=\"\",\"\",INDEX(EF!$A$2:$A$112,MATCH(F539,EF!$C$2:$C$112,0)))","v":""},{"$f":"IF(F539=\"\",\"\",INDEX(EF!$B$2:$B$112,MATCH(F539,EF!$C$2:$C$112,0)))","v":""}]
["",null,null,{"$f":"IF(F540=\"\",\"\",INDEX(EF!$A$2:$A$112,MATCH(F540,EF!$C$2:$C$112,0)))","v":""},{"$f":"IF(F540=\"\",\"\",INDEX(EF!$B$2:$B$112,MATCH(F540,EF!$C$2:$C$112,0)))","v":""}]
["",null,null,{"$f":"IF(F541=\"\",\"\",INDEX(EF!$A$2:$A$112,MATCH(F541,EF!$C$2:$C$112,0)))","v":""},{"$f":"IF(F541=\"\",\"\",INDEX(EF!$B$2:$B$112,MATCH(F541,EF!$C$2:$C$112,0)))","v":""}]
["",null,null,{"$f":"IF(F542=\"\",\"\",INDEX(EF!$A$2:$A$112,MATCH(F542,EF!$C$2:$C$112,0)))","v":""},{"$f":"IF(F542=\"\",\"\",INDEX(EF!$B$2:$B$112,MATCH(F542,EF!$C$2:$C$112,0)))","v":""}]
["",null,null,{"$f":"IF(F543=\"\",\"\",INDEX(EF!$A$2:$A$112,MATCH(F543,EF!$C$2:$C$112,0)))","v":""},{"$f":"IF(F543=\"\",\"\",INDEX(EF!$B$2:$B$112,MATCH(F543,EF!$C$2:$C$112,0)))","v":""}]
["",null,null,{"$f":"IF(F544=\"\",\"\",INDEX(EF!$A$2:$A$112,MATCH(F544,EF!$C$2:$C$112,0)))","v":""},{"$f":"IF(F544=\"\",\"\",INDEX(EF!$B$2:$B$112,MATCH(F544,EF!$C$2:$C$112,0)))","v":""}]
["",null,null,{"$f":"IF(F545=\"\",\"\",INDEX(EF!$A$2:$A$112,MATCH(F545,EF!$C$2:$C$112,0)))","v":""},{"$f":"IF(F545=\"\",\"\",INDEX(EF!$B$2:$B$112,MATCH(F545,EF!$C$2:$C$112,0)))","v":""}]
["",null,null,{"$f":"IF(F546=\"\",\"\",INDEX(EF!$A$2:$A$112,MATCH(F546,EF!$C$2:$C$112,0)))","v":""},{"$f":"IF(F546=\"\",\"\",INDEX(EF!$B$2:$B$112,MATCH(F546,EF!$C$2:$C$112,0)))","v":""}]
["",null,null,{"$f":"IF(F547=\"\",\"\",INDEX(EF!$A$2:$A$112,MATCH(F547,EF!$C$2:$C$112,0)))","v":""},{"$f":"IF(F547=\"\",\"\",INDEX(EF!$B$2:$B$112,MATCH(F547,EF!$C$2:$C$112,0)))","v":""}]
["",null,null,{"$f":"IF(F548=\"\",\"\",INDEX(EF!$A$2:$A$112,MATCH(F548,EF!$C$2:$C$112,0)))","v":""},{"$f":"IF(F548=\"\",\"\",INDEX(EF!$B$2:$B$112,MATCH(F548,EF!$C$2:$C$112,0)))","v":""}]
["",null,null,{"$f":"IF(F549=\"\",\"\",INDEX(EF!$A$2:$A$112,MATCH(F549,EF!$C$2:$C$112,0)))","v":""},{"$f":"IF(F549=\"\",\"\",INDEX(EF!$B$2:$B$112,MATCH(F549,EF!$C$2:$C$112,0)))","v":""}]
["",null,null,{"$f":"IF(F550=\"\",\"\",INDEX(EF!$A$2:$A$112,MATCH(F550,EF!$C$2:$C$112,0)))","v":""},{"$f":"IF(F550=\"\",\"\",INDEX(EF!$B$2:$B$112,MATCH(F550,EF!$C$2:$C$112,0)))","v":""}]
["",null,null,{"$f":"IF(F551=\"\",\"\",INDEX(EF!$A$2:$A$112,MATCH(F551,EF!$C$2:$C$112,0)))","v":""},{"$f":"IF(F551=\"\",\"\",INDEX(EF!$B$2:$B$112,MATCH(F551,EF!$C$2:$C$112,0)))","v":""}]
["",null,null,{"$f":"IF(F552=\"\",\"\",INDEX(EF!$A$2:$A$112,MATCH(F552,EF!$C$2:$C$112,0)))","v":""},{"$f":"IF(F552=\"\",\"\",INDEX(EF!$B$2:$B$112,MATCH(F552,EF!$C$2:$C$112,0)))","v":""}]
["",null,null,{"$f":"IF(F553=\"\",\"\",INDEX(EF!$A$2:$A$112,MATCH(F553,EF!$C$2:$C$112,0)))","v":""},{"$f":"IF(F553=\"\",\"\",INDEX(EF!$B$2:$B$112,MATCH(F553,EF!$C$2:$C$112,0)))","v":""}]
["",null,null,{"$f":"IF(F554=\"\",\"\",INDEX(EF!$A$2:$A$112,MATCH(F554,EF!$C$2:$C$112,0)))","v":""},{"$f":"IF(F554=\"\",\"\",INDEX(EF!$B$2:$B$112,MATCH(F554,EF!$C$2:$C$112,0)))","v":""}]
["",null,null,{"$f":"IF(F555=\"\",\"\",INDEX(EF!$A$2:$A$112,MATCH(F555,EF!$C$2:$C$112,0)))","v":""},{"$f":"IF(F555=\"\",\"\",INDEX(EF!$B$2:$B$112,MATCH(F555,EF!$C$2:$C$112,0)))","v":""}]
["",null,null,{"$f":"IF(F556=\"\",\"\",INDEX(EF!$A$2:$A$112,MATCH(F556,EF!$C$2:$C$112,0)))","v":""},{"$f":"IF(F556=\"\",\"\",INDEX(EF!$B$2:$B$112,MATCH(F556,EF!$C$2:$C$112,0)))","v":""}]
["",null,null,{"$f":"IF(F557=\"\",\"\",INDEX(EF!$A$2:$A$112,MATCH(F557,EF!$C$2:$C$112,0)))","v":""},{"$f":"IF(F557=\"\",\"\",INDEX(EF!$B$2:$B$112,MATCH(F557,EF!$C$2:$C$112,0)))","v":""}]
["",null,null,{"$f":"IF(F558=\"\",\"\",INDEX(EF!$A$2:$A$112,MATCH(F558,EF!$C$2:$C$112,0)))","v":""},{"$f":"IF(F558=\"\",\"\",INDEX(EF!$B$2:$B$112,MATCH(F558,EF!$C$2:$C$112,0)))","v":""}]
["",null,null,{"$f":"IF(F559=\"\",\"\",INDEX(EF!$A$2:$A$112,MATCH(F559,EF!$C$2:$C$112,0)))","v":""},{"$f":"IF(F559=\"\",\"\",INDEX(EF!$B$2:$B$112,MATCH(F559,EF!$C$2:$C$112,0)))","v":""}]
["",null,null,{"$f":"IF(F560=\"\",\"\",INDEX(EF!$A$2:$A$112,MATCH(F560,EF!$C$2:$C$112,0)))","v":""},{"$f":"IF(F560=\"\",\"\",INDEX(EF!$B$2:$B$112,MATCH(F560,EF!$C$2:$C$112,0)))","v":""}]
["",null,null,{"$f":"IF(F561=\"\",\"\",INDEX(EF!$A$2:$A$112,MATCH(F561,EF!$C$2:$C$112,0)))","v":""},{"$f":"IF(F561=\"\",\"\",INDEX(EF!$B$2:$B$112,MATCH(F561,EF!$C$2:$C$112,0)))","v":""}]
["",null,null,{"$f":"IF(F562=\"\",\"\",INDEX(EF!$A$2:$A$112,MATCH(F562,EF!$C$2:$C$112,0)))","v":""},{"$f":"IF(F562=\"\",\"\",INDEX(EF!$B$2:$B$112,MATCH(F562,EF!$C$2:$C$112,0)))","v":""}]
["",null,null,{"$f":"IF(F563=\"\",\"\",INDEX(EF!$A$2:$A$112,MATCH(F563,EF!$C$2:$C$112,0)))","v":""},{"$f":"IF(F563=\"\",\"\",INDEX(EF!$B$2:$B$112,MATCH(F563,EF!$C$2:$C$112,0)))","v":""}]
["",null,null,{"$f":"IF(F564=\"\",\"\",INDEX(EF!$A$2:$A$112,MATCH(F564,EF!$C$2:$C$112,0)))","v":""},{"$f":"IF(F564=\"\",\"\",INDEX(EF!$B$2:$B$112,MATCH(F564,EF!$C$2:$C$112,0)))","v":""}]
["",null,null,{"$f":"IF(F565=\"\",\"\",INDEX(EF!$A$2:$A$112,MATCH(F565,EF!$C$2:$C$112,0)))","v":""},{"$f":"IF(F565=\"\",\"\",INDEX(EF!$B$2:$B$112,MATCH(F565,EF!$C$2:$C$112,0)))","v":""}]
["",null,null,{"$f":"IF(F566=\"\",\"\",INDEX(EF!$A$2:$A$112,MATCH(F566,EF!$C$2:$C$112,0)))","v":""},{"$f":"IF(F566=\"\",\"\",INDEX(EF!$B$2:$B$112,MATCH(F566,EF!$C$2:$C$112,0)))","v":""}]
["",null,null,{"$f":"IF(F567=\"\",\"\",INDEX(EF!$A$2:$A$112,MATCH(F567,EF!$C$2:$C$112,0)))","v":""},{"$f":"IF(F567=\"\",\"\",INDEX(EF!$B$2:$B$112,MATCH(F567,EF!$C$2:$C$112,0)))","v":""}]
["",null,null,{"$f":"IF(F568=\"\",\"\",INDEX(EF!$A$2:$A$112,MATCH(F568,EF!$C$2:$C$112,0)))","v":""},{"$f":"IF(F568=\"\",\"\",INDEX(EF!$B$2:$B$112,MATCH(F568,EF!$C$2:$C$112,0)))","v":""}]
["",null,null,{"$f":"IF(F569=\"\",\"\",INDEX(EF!$A$2:$A$112,MATCH(F569,EF!$C$2:$C$112,0)))","v":""},{"$f":"IF(F569=\"\",\"\",INDEX(EF!$B$2:$B$112,MATCH(F569,EF!$C$2:$C$112,0)))","v":""}]
["",null,null,{"$f":"IF(F570=\"\",\"\",INDEX(EF!$A$2:$A$112,MATCH(F570,EF!$C$2:$C$112,0)))","v":""},{"$f":"IF(F570=\"\",\"\",INDEX(EF!$B$2:$B$112,MATCH(F570,EF!$C$2:$C$112,0)))","v":""}]
["",null,null,{"$f":"IF(F571=\"\",\"\",INDEX(EF!$A$2:$A$112,MATCH(F571,EF!$C$2:$C$112,0)))","v":""},{"$f":"IF(F571=\"\",\"\",INDEX(EF!$B$2:$B$112,MATCH(F571,EF!$C$2:$C$112,0)))","v":""}]
["",null,null,{"$f":"IF(F572=\"\",\"\",INDEX(EF!$A$2:$A$112,MATCH(F572,EF!$C$2:$C$112,0)))","v":""},{"$f":"IF(F572=\"\",\"\",INDEX(EF!$B$2:$B$112,MATCH(F572,EF!$C$2:$C$112,0)))","v":""}]
["",null,null,{"$f":"IF(F573=\"\",\"\",INDEX(EF!$A$2:$A$112,MATCH(F573,EF!$C$2:$C$112,0)))","v":""},{"$f":"IF(F573=\"\",\"\",INDEX(EF!$B$2:$B$112,MATCH(F573,EF!$C$2:$C$112,0)))","v":""}]
["",null,null,{"$f":"IF(F574=\"\",\"\",INDEX(EF!$A$2:$A$112,MATCH(F574,EF!$C$2:$C$112,0)))","v":""},{"$f":"IF(F574=\"\",\"\",INDEX(EF!$B$2:$B$112,MATCH(F574,EF!$C$2:$C$112,0)))","v":""}]
["",null,null,{"$f":"IF(F575=\"\",\"\",INDEX(EF!$A$2:$A$112,MATCH(F575,EF!$C$2:$C$112,0)))","v":""},{"$f":"IF(F575=\"\",\"\",INDEX(EF!$B$2:$B$112,MATCH(F575,EF!$C$2:$C$112,0)))","v":""}]
["",null,null,{"$f":"IF(F576=\"\",\"\",INDEX(EF!$A$2:$A$112,MATCH(F576,EF!$C$2:$C$112,0)))","v":""},{"$f":"IF(F576=\"\",\"\",INDEX(EF!$B$2:$B$112,MATCH(F576,EF!$C$2:$C$112,0)))","v":""}]
["",null,null,{"$f":"IF(F577=\"\",\"\",INDEX(EF!$A$2:$A$112,MATCH(F577,EF!$C$2:$C$112,0)))","v":""},{"$f":"IF(F577=\"\",\"\",INDEX(EF!$B$2:$B$112,MATCH(F577,EF!$C$2:$C$112,0)))","v":""}]
["",null,null,{"$f":"IF(F578=\"\",\"\",INDEX(EF!$A$2:$A$112,MATCH(F578,EF!$C$2:$C$112,0)))","v":""},{"$f":"IF(F578=\"\",\"\",INDEX(EF!$B$2:$B$112,MATCH(F578,EF!$C$2:$C$112,0)))","v":""}]
["",null,null,{"$f":"IF(F579=\"\",\"\",INDEX(EF!$A$2:$A$112,MATCH(F579,EF!$C$2:$C$112,0)))","v":""},{"$f":"IF(F579=\"\",\"\",INDEX(EF!$B$2:$B$112,MATCH(F579,EF!$C$2:$C$112,0)))","v":""}]
["",null,null,{"$f":"IF(F580=\"\",\"\",INDEX(EF!$A$2:$A$112,MATCH(F580,EF!$C$2:$C$112,0)))","v":""},{"$f":"IF(F580=\"\",\"\",INDEX(EF!$B$2:$B$112,MATCH(F580,EF!$C$2:$C$112,0)))","v":""}]
["",null,null,{"$f":"IF(F581=\"\",\"\",INDEX(EF!$A$2:$A$112,MATCH(F581,EF!$C$2:$C$112,0)))","v":""},{"$f":"IF(F581=\"\",\"\",INDEX(EF!$B$2:$B$112,MATCH(F581,EF!$C$2:$C$112,0)))","v":""}]
["",null,null,{"$f":"IF(F582=\"\",\"\",INDEX(EF!$A$2:$A$112,MATCH(F582,EF!$C$2:$C$112,0)))","v":""},{"$f":"IF(F582=\"\",\"\",INDEX(EF!$B$2:$B$112,MATCH(F582,EF!$C$2:$C$112,0)))","v":""}]
["",null,null,{"$f":"IF(F583=\"\",\"\",INDEX(EF!$A$2:$A$112,MATCH(F583,EF!$C$2:$C$112,0)))","v":""},{"$f":"IF(F583=\"\",\"\",INDEX(EF!$B$2:$B$112,MATCH(F583,EF!$C$2:$C$112,0)))","v":""}]
["",null,null,{"$f":"IF(F584=\"\",\"\",INDEX(EF!$A$2:$A$112,MATCH(F584,EF!$C$2:$C$112,0)))","v":""},{"$f":"IF(F584=\"\",\"\",INDEX(EF!$B$2:$B$112,MATCH(F584,EF!$C$2:$C$112,0)))","v":""}]
["",null,null,{"$f":"IF(F585=\"\",\"\",INDEX(EF!$A$2:$A$112,MATCH(F585,EF!$C$2:$C$112,0)))","v":""},{"$f":"IF(F585=\"\",\"\",INDEX(EF!$B$2:$B$112,MATCH(F585,EF!$C$2:$C$112,0)))","v":""}]
["",null,null,{"$f":"IF(F586=\"\",\"\",INDEX(EF!$A$2:$A$112,MATCH(F586,EF!$C$2:$C$112,0)))","v":""},{"$f":"IF(F586=\"\",\"\",INDEX(EF!$B$2:$B$112,MATCH(F586,EF!$C$2:$C$112,0)))","v":""}]
["",null,null,{"$f":"IF(F587=\"\",\"\",INDEX(EF!$A$2:$A$112,MATCH(F587,EF!$C$2:$C$112,0)))","v":""},{"$f":"IF(F587=\"\",\"\",INDEX(EF!$B$2:$B$112,MATCH(F587,EF!$C$2:$C$112,0)))","v":""}]
["",null,null,{"$f":"IF(F588=\"\",\"\",INDEX(EF!$A$2:$A$112,MATCH(F588,EF!$C$2:$C$112,0)))","v":""},{"$f":"IF(F588=\"\",\"\",INDEX(EF!$B$2:$B$112,MATCH(F588,EF!$C$2:$C$112,0)))","v":""}]
["",null,null,{"$f":"IF(F589=\"\",\"\",INDEX(EF!$A$2:$A$112,MATCH(F589,EF!$C$2:$C$112,0)))","v":""},{"$f":"IF(F589=\"\",\"\",INDEX(EF!$B$2:$B$112,MATCH(F589,EF!$C$2:$C$112,0)))","v":""}]
["",null,null,{"$f":"IF(F590=\"\",\"\",INDEX(EF!$A$2:$A$112,MATCH(F590,EF!$C$2:$C$112,0)))","v":""},{"$f":"IF(F590=\"\",\"\",INDEX(EF!$B$2:$B$112,MATCH(F590,EF!$C$2:$C$112,0)))","v":""}]
["",null,null,{"$f":"IF(F591=\"\",\"\",INDEX(EF!$A$2:$A$112,MATCH(F591,EF!$C$2:$C$112,0)))","v":""},{"$f":"IF(F591=\"\",\"\",INDEX(EF!$B$2:$B$112,MATCH(F591,EF!$C$2:$C$112,0)))","v":""}]
["",null,null,{"$f":"IF(F592=\"\",\"\",INDEX(EF!$A$2:$A$112,MATCH(F592,EF!$C$2:$C$112,0)))","v":""},{"$f":"IF(F592=\"\",\"\",INDEX(EF!$B$2:$B$112,MATCH(F592,EF!$C$2:$C$112,0)))","v":""}]
["",null,null,{"$f":"IF(F593=\"\",\"\",INDEX(EF!$A$2:$A$112,MATCH(F593,EF!$C$2:$C$112,0)))","v":""},{"$f":"IF(F593=\"\",\"\",INDEX(EF!$B$2:$B$112,MATCH(F593,EF!$C$2:$C$112,0)))","v":""}]
[{"$f":"IF(B594>0,A593+1,\"\")","v":""},null,null,{"$f":"IF(F594=\"\",\"\",INDEX(EF!$A$2:$A$112,MATCH(F594,EF!$C$2:$C$112,0)))","v":""},{"$f":"IF(F594=\"\",\"\",INDEX(EF!$B$2:$B$112,MATCH(F594,EF!$C$2:$C$112,0)))","v":""}]
["",null,null,{"$f":"IF(F595=\"\",\"\",INDEX(EF!$A$2:$A$112,MATCH(F595,EF!$C$2:$C$112,0)))","v":""},{"$f":"IF(F595=\"\",\"\",INDEX(EF!$B$2:$B$112,MATCH(F595,EF!$C$2:$C$112,0)))","v":""}]
["",null,null,{"$f":"IF(F596=\"\",\"\",INDEX(EF!$A$2:$A$112,MATCH(F596,EF!$C$2:$C$112,0)))","v":""},{"$f":"IF(F596=\"\",\"\",INDEX(EF!$B$2:$B$112,MATCH(F596,EF!$C$2:$C$112,0)))","v":""}]
["",null,null,{"$f":"IF(F597=\"\",\"\",INDEX(EF!$A$2:$A$112,MATCH(F597,EF!$C$2:$C$112,0)))","v":""},{"$f":"IF(F597=\"\",\"\",INDEX(EF!$B$2:$B$112,MATCH(F597,EF!$C$2:$C$112,0)))","v":""}]
["",null,null,{"$f":"IF(F598=\"\",\"\",INDEX(EF!$A$2:$A$112,MATCH(F598,EF!$C$2:$C$112,0)))","v":""},{"$f":"IF(F598=\"\",\"\",INDEX(EF!$B$2:$B$112,MATCH(F598,EF!$C$2:$C$112,0)))","v":""}]
[{"$f":"IF(B599>0,A598+1,\"\")","v":""},null,null,{"$f":"IF(F599=\"\",\"\",INDEX(EF!$A$2:$A$112,MATCH(F599,EF!$C$2:$C$112,0)))","v":""},{"$f":"IF(F599=\"\",\"\",INDEX(EF!$B$2:$B$112,MATCH(F599,EF!$C$2:$C$112,0)))","v":""}]
[{"$f":"IF(B600>0,A599+1,\"\")","v":""},null,null,{"$f":"IF(F600=\"\",\"\",INDEX(EF!$A$2:$A$112,MATCH(F600,EF!$C$2:$C$112,0)))","v":""},{"$f":"IF(F600=\"\",\"\",INDEX(EF!$B$2:$B$112,MATCH(F600,EF!$C$2:$C$112,0)))","v":""}]
["",null,null,{"$f":"IF(F601=\"\",\"\",INDEX(EF!$A$2:$A$112,MATCH(F601,EF!$C$2:$C$112,0)))","v":""},{"$f":"IF(F601=\"\",\"\",INDEX(EF!$B$2:$B$112,MATCH(F601,EF!$C$2:$C$112,0)))","v":""}]
["",null,null,{"$f":"IF(F602=\"\",\"\",INDEX(EF!$A$2:$A$112,MATCH(F602,EF!$C$2:$C$112,0)))","v":""},{"$f":"IF(F602=\"\",\"\",INDEX(EF!$B$2:$B$112,MATCH(F602,EF!$C$2:$C$112,0)))","v":""}]
["",null,null,{"$f":"IF(F603=\"\",\"\",INDEX(EF!$A$2:$A$112,MATCH(F603,EF!$C$2:$C$112,0)))","v":""},{"$f":"IF(F603=\"\",\"\",INDEX(EF!$B$2:$B$112,MATCH(F603,EF!$C$2:$C$112,0)))","v":""}]
["",null,null,{"$f":"IF(F604=\"\",\"\",INDEX(EF!$A$2:$A$112,MATCH(F604,EF!$C$2:$C$112,0)))","v":""},{"$f":"IF(F604=\"\",\"\",INDEX(EF!$B$2:$B$112,MATCH(F604,EF!$C$2:$C$112,0)))","v":""}]
["",null,null,{"$f":"IF(F605=\"\",\"\",INDEX(EF!$A$2:$A$112,MATCH(F605,EF!$C$2:$C$112,0)))","v":""},{"$f":"IF(F605=\"\",\"\",INDEX(EF!$B$2:$B$112,MATCH(F605,EF!$C$2:$C$112,0)))","v":""}]
["",null,null,{"$f":"IF(F606=\"\",\"\",INDEX(EF!$A$2:$A$112,MATCH(F606,EF!$C$2:$C$112,0)))","v":""},{"$f":"IF(F606=\"\",\"\",INDEX(EF!$B$2:$B$112,MATCH(F606,EF!$C$2:$C$112,0)))","v":""}]
["",null,null,{"$f":"IF(F607=\"\",\"\",INDEX(EF!$A$2:$A$112,MATCH(F607,EF!$C$2:$C$112,0)))","v":""},{"$f":"IF(F607=\"\",\"\",INDEX(EF!$B$2:$B$112,MATCH(F607,EF!$C$2:$C$112,0)))","v":""}]
["",null,null,{"$f":"IF(F608=\"\",\"\",INDEX(EF!$A$2:$A$112,MATCH(F608,EF!$C$2:$C$112,0)))","v":""},{"$f":"IF(F608=\"\",\"\",INDEX(EF!$B$2:$B$112,MATCH(F608,EF!$C$2:$C$112,0)))","v":""}]
["",null,null,{"$f":"IF(F609=\"\",\"\",INDEX(EF!$A$2:$A$112,MATCH(F609,EF!$C$2:$C$112,0)))","v":""},{"$f":"IF(F609=\"\",\"\",INDEX(EF!$B$2:$B$112,MATCH(F609,EF!$C$2:$C$112,0)))","v":""}]
["",null,null,{"$f":"IF(F610=\"\",\"\",INDEX(EF!$A$2:$A$112,MATCH(F610,EF!$C$2:$C$112,0)))","v":""},{"$f":"IF(F610=\"\",\"\",INDEX(EF!$B$2:$B$112,MATCH(F610,EF!$C$2:$C$112,0)))","v":""}]
["",null,null,{"$f":"IF(F611=\"\",\"\",INDEX(EF!$A$2:$A$112,MATCH(F611,EF!$C$2:$C$112,0)))","v":""},{"$f":"IF(F611=\"\",\"\",INDEX(EF!$B$2:$B$112,MATCH(F611,EF!$C$2:$C$112,0)))","v":""}]
["",null,null,{"$f":"IF(F612=\"\",\"\",INDEX(EF!$A$2:$A$112,MATCH(F612,EF!$C$2:$C$112,0)))","v":""},{"$f":"IF(F612=\"\",\"\",INDEX(EF!$B$2:$B$112,MATCH(F612,EF!$C$2:$C$112,0)))","v":""}]
["",null,null,{"$f":"IF(F613=\"\",\"\",INDEX(EF!$A$2:$A$112,MATCH(F613,EF!$C$2:$C$112,0)))","v":""},{"$f":"IF(F613=\"\",\"\",INDEX(EF!$B$2:$B$112,MATCH(F613,EF!$C$2:$C$112,0)))","v":""}]
["",null,null,{"$f":"IF(F614=\"\",\"\",INDEX(EF!$A$2:$A$112,MATCH(F614,EF!$C$2:$C$112,0)))","v":""},{"$f":"IF(F614=\"\",\"\",INDEX(EF!$B$2:$B$112,MATCH(F614,EF!$C$2:$C$112,0)))","v":""}]
["",null,null,{"$f":"IF(F615=\"\",\"\",INDEX(EF!$A$2:$A$112,MATCH(F615,EF!$C$2:$C$112,0)))","v":""},{"$f":"IF(F615=\"\",\"\",INDEX(EF!$B$2:$B$112,MATCH(F615,EF!$C$2:$C$112,0)))","v":""}]
["",null,null,{"$f":"IF(F616=\"\",\"\",INDEX(EF!$A$2:$A$112,MATCH(F616,EF!$C$2:$C$112,0)))","v":""},{"$f":"IF(F616=\"\",\"\",INDEX(EF!$B$2:$B$112,MATCH(F616,EF!$C$2:$C$112,0)))","v":""}]
["",null,null,{"$f":"IF(F617=\"\",\"\",INDEX(EF!$A$2:$A$112,MATCH(F617,EF!$C$2:$C$112,0)))","v":""},{"$f":"IF(F617=\"\",\"\",INDEX(EF!$B$2:$B$112,MATCH(F617,EF!$C$2:$C$112,0)))","v":""}]
["",null,null,{"$f":"IF(F618=\"\",\"\",INDEX(EF!$A$2:$A$112,MATCH(F618,EF!$C$2:$C$112,0)))","v":""},{"$f":"IF(F618=\"\",\"\",INDEX(EF!$B$2:$B$112,MATCH(F618,EF!$C$2:$C$112,0)))","v":""}]
["",null,null,{"$f":"IF(F619=\"\",\"\",INDEX(EF!$A$2:$A$112,MATCH(F619,EF!$C$2:$C$112,0)))","v":""},{"$f":"IF(F619=\"\",\"\",INDEX(EF!$B$2:$B$112,MATCH(F619,EF!$C$2:$C$112,0)))","v":""}]
["",null,null,{"$f":"IF(F620=\"\",\"\",INDEX(EF!$A$2:$A$112,MATCH(F620,EF!$C$2:$C$112,0)))","v":""},{"$f":"IF(F620=\"\",\"\",INDEX(EF!$B$2:$B$112,MATCH(F620,EF!$C$2:$C$112,0)))","v":""}]
["",null,null,{"$f":"IF(F621=\"\",\"\",INDEX(EF!$A$2:$A$112,MATCH(F621,EF!$C$2:$C$112,0)))","v":""},{"$f":"IF(F621=\"\",\"\",INDEX(EF!$B$2:$B$112,MATCH(F621,EF!$C$2:$C$112,0)))","v":""}]
["",null,null,{"$f":"IF(F622=\"\",\"\",INDEX(EF!$A$2:$A$112,MATCH(F622,EF!$C$2:$C$112,0)))","v":""},{"$f":"IF(F622=\"\",\"\",INDEX(EF!$B$2:$B$112,MATCH(F622,EF!$C$2:$C$112,0)))","v":""}]
["",null,null,{"$f":"IF(F623=\"\",\"\",INDEX(EF!$A$2:$A$112,MATCH(F623,EF!$C$2:$C$112,0)))","v":""},{"$f":"IF(F623=\"\",\"\",INDEX(EF!$B$2:$B$112,MATCH(F623,EF!$C$2:$C$112,0)))","v":""}]
["",null,null,{"$f":"IF(F624=\"\",\"\",INDEX(EF!$A$2:$A$112,MATCH(F624,EF!$C$2:$C$112,0)))","v":""},{"$f":"IF(F624=\"\",\"\",INDEX(EF!$B$2:$B$112,MATCH(F624,EF!$C$2:$C$112,0)))","v":""}]
["",null,null,{"$f":"IF(F625=\"\",\"\",INDEX(EF!$A$2:$A$112,MATCH(F625,EF!$C$2:$C$112,0)))","v":""},{"$f":"IF(F625=\"\",\"\",INDEX(EF!$B$2:$B$112,MATCH(F625,EF!$C$2:$C$112,0)))","v":""}]
["",null,null,{"$f":"IF(F626=\"\",\"\",INDEX(EF!$A$2:$A$112,MATCH(F626,EF!$C$2:$C$112,0)))","v":""},{"$f":"IF(F626=\"\",\"\",INDEX(EF!$B$2:$B$112,MATCH(F626,EF!$C$2:$C$112,0)))","v":""}]
["",null,null,{"$f":"IF(F627=\"\",\"\",INDEX(EF!$A$2:$A$112,MATCH(F627,EF!$C$2:$C$112,0)))","v":""},{"$f":"IF(F627=\"\",\"\",INDEX(EF!$B$2:$B$112,MATCH(F627,EF!$C$2:$C$112,0)))","v":""}]
["",null,null,{"$f":"IF(F628=\"\",\"\",INDEX(EF!$A$2:$A$112,MATCH(F628,EF!$C$2:$C$112,0)))","v":""},{"$f":"IF(F628=\"\",\"\",INDEX(EF!$B$2:$B$112,MATCH(F628,EF!$C$2:$C$112,0)))","v":""}]
["",null,null,{"$f":"IF(F629=\"\",\"\",INDEX(EF!$A$2:$A$112,MATCH(F629,EF!$C$2:$C$112,0)))","v":""},{"$f":"IF(F629=\"\",\"\",INDEX(EF!$B$2:$B$112,MATCH(F629,EF!$C$2:$C$112,0)))","v":""}]
["",null,null,{"$f":"IF(F630=\"\",\"\",INDEX(EF!$A$2:$A$112,MATCH(F630,EF!$C$2:$C$112,0)))","v":""},{"$f":"IF(F630=\"\",\"\",INDEX(EF!$B$2:$B$112,MATCH(F630,EF!$C$2:$C$112,0)))","v":""}]
["",null,null,{"$f":"IF(F631=\"\",\"\",INDEX(EF!$A$2:$A$112,MATCH(F631,EF!$C$2:$C$112,0)))","v":""},{"$f":"IF(F631=\"\",\"\",INDEX(EF!$B$2:$B$112,MATCH(F631,EF!$C$2:$C$112,0)))","v":""}]
["",null,null,{"$f":"IF(F632=\"\",\"\",INDEX(EF!$A$2:$A$112,MATCH(F632,EF!$C$2:$C$112,0)))","v":""},{"$f":"IF(F632=\"\",\"\",INDEX(EF!$B$2:$B$112,MATCH(F632,EF!$C$2:$C$112,0)))","v":""}]
["",null,null,{"$f":"IF(F633=\"\",\"\",INDEX(EF!$A$2:$A$112,MATCH(F633,EF!$C$2:$C$112,0)))","v":""},{"$f":"IF(F633=\"\",\"\",INDEX(EF!$B$2:$B$112,MATCH(F633,EF!$C$2:$C$112,0)))","v":""}]
["",null,null,{"$f":"IF(F634=\"\",\"\",INDEX(EF!$A$2:$A$112,MATCH(F634,EF!$C$2:$C$112,0)))","v":""},{"$f":"IF(F634=\"\",\"\",INDEX(EF!$B$2:$B$112,MATCH(F634,EF!$C$2:$C$112,0)))","v":""}]
["",null,null,{"$f":"IF(F635=\"\",\"\",INDEX(EF!$A$2:$A$112,MATCH(F635,EF!$C$2:$C$112,0)))","v":""},{"$f":"IF(F635=\"\",\"\",INDEX(EF!$B$2:$B$112,MATCH(F635,EF!$C$2:$C$112,0)))","v":""}]
["",null,null,{"$f":"IF(F636=\"\",\"\",INDEX(EF!$A$2:$A$112,MATCH(F636,EF!$C$2:$C$112,0)))","v":""},{"$f":"IF(F636=\"\",\"\",INDEX(EF!$B$2:$B$112,MATCH(F636,EF!$C$2:$C$112,0)))","v":""}]
["",null,null,{"$f":"IF(F637=\"\",\"\",INDEX(EF!$A$2:$A$112,MATCH(F637,EF!$C$2:$C$112,0)))","v":""},{"$f":"IF(F637=\"\",\"\",INDEX(EF!$B$2:$B$112,MATCH(F637,EF!$C$2:$C$112,0)))","v":""}]
["",null,null,{"$f":"IF(F638=\"\",\"\",INDEX(EF!$A$2:$A$112,MATCH(F638,EF!$C$2:$C$112,0)))","v":""},{"$f":"IF(F638=\"\",\"\",INDEX(EF!$B$2:$B$112,MATCH(F638,EF!$C$2:$C$112,0)))","v":""}]
["",null,null,{"$f":"IF(F639=\"\",\"\",INDEX(EF!$A$2:$A$112,MATCH(F639,EF!$C$2:$C$112,0)))","v":""},{"$f":"IF(F639=\"\",\"\",INDEX(EF!$B$2:$B$112,MATCH(F639,EF!$C$2:$C$112,0)))","v":""}]
["",null,null,{"$f":"IF(F640=\"\",\"\",INDEX(EF!$A$2:$A$112,MATCH(F640,EF!$C$2:$C$112,0)))","v":""},{"$f":"IF(F640=\"\",\"\",INDEX(EF!$B$2:$B$112,MATCH(F640,EF!$C$2:$C$112,0)))","v":""}]
["",null,null,{"$f":"IF(F641=\"\",\"\",INDEX(EF!$A$2:$A$112,MATCH(F641,EF!$C$2:$C$112,0)))","v":""},{"$f":"IF(F641=\"\",\"\",INDEX(EF!$B$2:$B$112,MATCH(F641,EF!$C$2:$C$112,0)))","v":""}]
["",null,null,{"$f":"IF(F642=\"\",\"\",INDEX(EF!$A$2:$A$112,MATCH(F642,EF!$C$2:$C$112,0)))","v":""},{"$f":"IF(F642=\"\",\"\",INDEX(EF!$B$2:$B$112,MATCH(F642,EF!$C$2:$C$112,0)))","v":""}]
["",null,null,{"$f":"IF(F643=\"\",\"\",INDEX(EF!$A$2:$A$112,MATCH(F643,EF!$C$2:$C$112,0)))","v":""},{"$f":"IF(F643=\"\",\"\",INDEX(EF!$B$2:$B$112,MATCH(F643,EF!$C$2:$C$112,0)))","v":""}]
["",null,null,{"$f":"IF(F644=\"\",\"\",INDEX(EF!$A$2:$A$112,MATCH(F644,EF!$C$2:$C$112,0)))","v":""},{"$f":"IF(F644=\"\",\"\",INDEX(EF!$B$2:$B$112,MATCH(F644,EF!$C$2:$C$112,0)))","v":""}]
["",null,null,{"$f":"IF(F645=\"\",\"\",INDEX(EF!$A$2:$A$112,MATCH(F645,EF!$C$2:$C$112,0)))","v":""},{"$f":"IF(F645=\"\",\"\",INDEX(EF!$B$2:$B$112,MATCH(F645,EF!$C$2:$C$112,0)))","v":""}]
["",null,null,{"$f":"IF(F646=\"\",\"\",INDEX(EF!$A$2:$A$112,MATCH(F646,EF!$C$2:$C$112,0)))","v":""},{"$f":"IF(F646=\"\",\"\",INDEX(EF!$B$2:$B$112,MATCH(F646,EF!$C$2:$C$112,0)))","v":""}]
["",null,null,{"$f":"IF(F647=\"\",\"\",INDEX(EF!$A$2:$A$112,MATCH(F647,EF!$C$2:$C$112,0)))","v":""},{"$f":"IF(F647=\"\",\"\",INDEX(EF!$B$2:$B$112,MATCH(F647,EF!$C$2:$C$112,0)))","v":""}]
["",null,null,{"$f":"IF(F648=\"\",\"\",INDEX(EF!$A$2:$A$112,MATCH(F648,EF!$C$2:$C$112,0)))","v":""},{"$f":"IF(F648=\"\",\"\",INDEX(EF!$B$2:$B$112,MATCH(F648,EF!$C$2:$C$112,0)))","v":""}]
["",null,null,{"$f":"IF(F649=\"\",\"\",INDEX(EF!$A$2:$A$112,MATCH(F649,EF!$C$2:$C$112,0)))","v":""},{"$f":"IF(F649=\"\",\"\",INDEX(EF!$B$2:$B$112,MATCH(F649,EF!$C$2:$C$112,0)))","v":""}]
["",null,null,{"$f":"IF(F650=\"\",\"\",INDEX(EF!$A$2:$A$112,MATCH(F650,EF!$C$2:$C$112,0)))","v":""},{"$f":"IF(F650=\"\",\"\",INDEX(EF!$B$2:$B$112,MATCH(F650,EF!$C$2:$C$112,0)))","v":""}]
["",null,null,{"$f":"IF(F651=\"\",\"\",INDEX(EF!$A$2:$A$112,MATCH(F651,EF!$C$2:$C$112,0)))","v":""},{"$f":"IF(F651=\"\",\"\",INDEX(EF!$B$2:$B$112,MATCH(F651,EF!$C$2:$C$112,0)))","v":""}]
["",null,null,{"$f":"IF(F652=\"\",\"\",INDEX(EF!$A$2:$A$112,MATCH(F652,EF!$C$2:$C$112,0)))","v":""},{"$f":"IF(F652=\"\",\"\",INDEX(EF!$B$2:$B$112,MATCH(F652,EF!$C$2:$C$112,0)))","v":""}]
["",null,null,{"$f":"IF(F653=\"\",\"\",INDEX(EF!$A$2:$A$112,MATCH(F653,EF!$C$2:$C$112,0)))","v":""},{"$f":"IF(F653=\"\",\"\",INDEX(EF!$B$2:$B$112,MATCH(F653,EF!$C$2:$C$112,0)))","v":""}]
["",null,null,{"$f":"IF(F654=\"\",\"\",INDEX(EF!$A$2:$A$112,MATCH(F654,EF!$C$2:$C$112,0)))","v":""},{"$f":"IF(F654=\"\",\"\",INDEX(EF!$B$2:$B$112,MATCH(F654,EF!$C$2:$C$112,0)))","v":""}]
["",null,null,{"$f":"IF(F655=\"\",\"\",INDEX(EF!$A$2:$A$112,MATCH(F655,EF!$C$2:$C$112,0)))","v":""},{"$f":"IF(F655=\"\",\"\",INDEX(EF!$B$2:$B$112,MATCH(F655,EF!$C$2:$C$112,0)))","v":""}]
["",null,null,{"$f":"IF(F656=\"\",\"\",INDEX(EF!$A$2:$A$112,MATCH(F656,EF!$C$2:$C$112,0)))","v":""},{"$f":"IF(F656=\"\",\"\",INDEX(EF!$B$2:$B$112,MATCH(F656,EF!$C$2:$C$112,0)))","v":""}]
["",null,null,{"$f":"IF(F657=\"\",\"\",INDEX(EF!$A$2:$A$112,MATCH(F657,EF!$C$2:$C$112,0)))","v":""},{"$f":"IF(F657=\"\",\"\",INDEX(EF!$B$2:$B$112,MATCH(F657,EF!$C$2:$C$112,0)))","v":""}]
["",null,null,{"$f":"IF(F658=\"\",\"\",INDEX(EF!$A$2:$A$112,MATCH(F658,EF!$C$2:$C$112,0)))","v":""},{"$f":"IF(F658=\"\",\"\",INDEX(EF!$B$2:$B$112,MATCH(F658,EF!$C$2:$C$112,0)))","v":""}]
["",null,null,{"$f":"IF(F659=\"\",\"\",INDEX(EF!$A$2:$A$112,MATCH(F659,EF!$C$2:$C$112,0)))","v":""},{"$f":"IF(F659=\"\",\"\",INDEX(EF!$B$2:$B$112,MATCH(F659,EF!$C$2:$C$112,0)))","v":""}]
["",null,null,{"$f":"IF(F660=\"\",\"\",INDEX(EF!$A$2:$A$112,MATCH(F660,EF!$C$2:$C$112,0)))","v":""},{"$f":"IF(F660=\"\",\"\",INDEX(EF!$B$2:$B$112,MATCH(F660,EF!$C$2:$C$112,0)))","v":""}]
["",null,null,{"$f":"IF(F661=\"\",\"\",INDEX(EF!$A$2:$A$112,MATCH(F661,EF!$C$2:$C$112,0)))","v":""},{"$f":"IF(F661=\"\",\"\",INDEX(EF!$B$2:$B$112,MATCH(F661,EF!$C$2:$C$112,0)))","v":""}]
["",null,null,{"$f":"IF(F662=\"\",\"\",INDEX(EF!$A$2:$A$112,MATCH(F662,EF!$C$2:$C$112,0)))","v":""},{"$f":"IF(F662=\"\",\"\",INDEX(EF!$B$2:$B$112,MATCH(F662,EF!$C$2:$C$112,0)))","v":""}]
["",null,null,{"$f":"IF(F663=\"\",\"\",INDEX(EF!$A$2:$A$112,MATCH(F663,EF!$C$2:$C$112,0)))","v":""},{"$f":"IF(F663=\"\",\"\",INDEX(EF!$B$2:$B$112,MATCH(F663,EF!$C$2:$C$112,0)))","v":""}]
[{"$f":"IF(B664>0,A663+1,\"\")","v":""},null,null,{"$f":"IF(F664=\"\",\"\",INDEX(EF!$A$2:$A$112,MATCH(F664,EF!$C$2:$C$112,0)))","v":""},{"$f":"IF(F664=\"\",\"\",INDEX(EF!$B$2:$B$112,MATCH(F664,EF!$C$2:$C$112,0)))","v":""}]
["",null,null,{"$f":"IF(F665=\"\",\"\",INDEX(EF!$A$2:$A$112,MATCH(F665,EF!$C$2:$C$112,0)))","v":""},{"$f":"IF(F665=\"\",\"\",INDEX(EF!$B$2:$B$112,MATCH(F665,EF!$C$2:$C$112,0)))","v":""}]
["",null,null,{"$f":"IF(F666=\"\",\"\",INDEX(EF!$A$2:$A$112,MATCH(F666,EF!$C$2:$C$112,0)))","v":""},{"$f":"IF(F666=\"\",\"\",INDEX(EF!$B$2:$B$112,MATCH(F666,EF!$C$2:$C$112,0)))","v":""}]
["",null,null,{"$f":"IF(F667=\"\",\"\",INDEX(EF!$A$2:$A$112,MATCH(F667,EF!$C$2:$C$112,0)))","v":""},{"$f":"IF(F667=\"\",\"\",INDEX(EF!$B$2:$B$112,MATCH(F667,EF!$C$2:$C$112,0)))","v":""}]
["",null,null,{"$f":"IF(F668=\"\",\"\",INDEX(EF!$A$2:$A$112,MATCH(F668,EF!$C$2:$C$112,0)))","v":""},{"$f":"IF(F668=\"\",\"\",INDEX(EF!$B$2:$B$112,MATCH(F668,EF!$C$2:$C$112,0)))","v":""}]
["",null,null,{"$f":"IF(F669=\"\",\"\",INDEX(EF!$A$2:$A$112,MATCH(F669,EF!$C$2:$C$112,0)))","v":""},{"$f":"IF(F669=\"\",\"\",INDEX(EF!$B$2:$B$112,MATCH(F669,EF!$C$2:$C$112,0)))","v":""}]
["",null,null,{"$f":"IF(F670=\"\",\"\",INDEX(EF!$A$2:$A$112,MATCH(F670,EF!$C$2:$C$112,0)))","v":""},{"$f":"IF(F670=\"\",\"\",INDEX(EF!$B$2:$B$112,MATCH(F670,EF!$C$2:$C$112,0)))","v":""}]
["",null,null,{"$f":"IF(F671=\"\",\"\",INDEX(EF!$A$2:$A$112,MATCH(F671,EF!$C$2:$C$112,0)))","v":""},{"$f":"IF(F671=\"\",\"\",INDEX(EF!$B$2:$B$112,MATCH(F671,EF!$C$2:$C$112,0)))","v":""}]
["",null,null,{"$f":"IF(F672=\"\",\"\",INDEX(EF!$A$2:$A$112,MATCH(F672,EF!$C$2:$C$112,0)))","v":""},{"$f":"IF(F672=\"\",\"\",INDEX(EF!$B$2:$B$112,MATCH(F672,EF!$C$2:$C$112,0)))","v":""}]
["",null,null,{"$f":"IF(F673=\"\",\"\",INDEX(EF!$A$2:$A$112,MATCH(F673,EF!$C$2:$C$112,0)))","v":""},{"$f":"IF(F673=\"\",\"\",INDEX(EF!$B$2:$B$112,MATCH(F673,EF!$C$2:$C$112,0)))","v":""}]
["",null,null,{"$f":"IF(F674=\"\",\"\",INDEX(EF!$A$2:$A$112,MATCH(F674,EF!$C$2:$C$112,0)))","v":""},{"$f":"IF(F674=\"\",\"\",INDEX(EF!$B$2:$B$112,MATCH(F674,EF!$C$2:$C$112,0)))","v":""}]
["",null,null,{"$f":"IF(F675=\"\",\"\",INDEX(EF!$A$2:$A$112,MATCH(F675,EF!$C$2:$C$112,0)))","v":""},{"$f":"IF(F675=\"\",\"\",INDEX(EF!$B$2:$B$112,MATCH(F675,EF!$C$2:$C$112,0)))","v":""}]
["",null,null,{"$f":"IF(F676=\"\",\"\",INDEX(EF!$A$2:$A$112,MATCH(F676,EF!$C$2:$C$112,0)))","v":""},{"$f":"IF(F676=\"\",\"\",INDEX(EF!$B$2:$B$112,MATCH(F676,EF!$C$2:$C$112,0)))","v":""}]
["",null,null,{"$f":"IF(F677=\"\",\"\",INDEX(EF!$A$2:$A$112,MATCH(F677,EF!$C$2:$C$112,0)))","v":""},{"$f":"IF(F677=\"\",\"\",INDEX(EF!$B$2:$B$112,MATCH(F677,EF!$C$2:$C$112,0)))","v":""}]
["",null,null,{"$f":"IF(F678=\"\",\"\",INDEX(EF!$A$2:$A$112,MATCH(F678,EF!$C$2:$C$112,0)))","v":""},{"$f":"IF(F678=\"\",\"\",INDEX(EF!$B$2:$B$112,MATCH(F678,EF!$C$2:$C$112,0)))","v":""}]
["",null,null,{"$f":"IF(F679=\"\",\"\",INDEX(EF!$A$2:$A$112,MATCH(F679,EF!$C$2:$C$112,0)))","v":""},{"$f":"IF(F679=\"\",\"\",INDEX(EF!$B$2:$B$112,MATCH(F679,EF!$C$2:$C$112,0)))","v":""}]
["",null,null,{"$f":"IF(F680=\"\",\"\",INDEX(EF!$A$2:$A$112,MATCH(F680,EF!$C$2:$C$112,0)))","v":""},{"$f":"IF(F680=\"\",\"\",INDEX(EF!$B$2:$B$112,MATCH(F680,EF!$C$2:$C$112,0)))","v":""}]
["",null,null,{"$f":"IF(F681=\"\",\"\",INDEX(EF!$A$2:$A$112,MATCH(F681,EF!$C$2:$C$112,0)))","v":""},{"$f":"IF(F681=\"\",\"\",INDEX(EF!$B$2:$B$112,MATCH(F681,EF!$C$2:$C$112,0)))","v":""}]
["",null,null,{"$f":"IF(F682=\"\",\"\",INDEX(EF!$A$2:$A$112,MATCH(F682,EF!$C$2:$C$112,0)))","v":""},{"$f":"IF(F682=\"\",\"\",INDEX(EF!$B$2:$B$112,MATCH(F682,EF!$C$2:$C$112,0)))","v":""}]
["",null,null,{"$f":"IF(F683=\"\",\"\",INDEX(EF!$A$2:$A$112,MATCH(F683,EF!$C$2:$C$112,0)))","v":""},{"$f":"IF(F683=\"\",\"\",INDEX(EF!$B$2:$B$112,MATCH(F683,EF!$C$2:$C$112,0)))","v":""}]
["",null,null,{"$f":"IF(F684=\"\",\"\",INDEX(EF!$A$2:$A$112,MATCH(F684,EF!$C$2:$C$112,0)))","v":""},{"$f":"IF(F684=\"\",\"\",INDEX(EF!$B$2:$B$112,MATCH(F684,EF!$C$2:$C$112,0)))","v":""}]
["",null,null,{"$f":"IF(F685=\"\",\"\",INDEX(EF!$A$2:$A$112,MATCH(F685,EF!$C$2:$C$112,0)))","v":""},{"$f":"IF(F685=\"\",\"\",INDEX(EF!$B$2:$B$112,MATCH(F685,EF!$C$2:$C$112,0)))","v":""}]
["",null,null,{"$f":"IF(F686=\"\",\"\",INDEX(EF!$A$2:$A$112,MATCH(F686,EF!$C$2:$C$112,0)))","v":""},{"$f":"IF(F686=\"\",\"\",INDEX(EF!$B$2:$B$112,MATCH(F686,EF!$C$2:$C$112,0)))","v":""}]
["",null,null,{"$f":"IF(F687=\"\",\"\",INDEX(EF!$A$2:$A$112,MATCH(F687,EF!$C$2:$C$112,0)))","v":""},{"$f":"IF(F687=\"\",\"\",INDEX(EF!$B$2:$B$112,MATCH(F687,EF!$C$2:$C$112,0)))","v":""}]
["",null,null,{"$f":"IF(F688=\"\",\"\",INDEX(EF!$A$2:$A$112,MATCH(F688,EF!$C$2:$C$112,0)))","v":""},{"$f":"IF(F688=\"\",\"\",INDEX(EF!$B$2:$B$112,MATCH(F688,EF!$C$2:$C$112,0)))","v":""}]
["",null,null,{"$f":"IF(F689=\"\",\"\",INDEX(EF!$A$2:$A$112,MATCH(F689,EF!$C$2:$C$112,0)))","v":""},{"$f":"IF(F689=\"\",\"\",INDEX(EF!$B$2:$B$112,MATCH(F689,EF!$C$2:$C$112,0)))","v":""}]
["",null,null,{"$f":"IF(F690=\"\",\"\",INDEX(EF!$A$2:$A$112,MATCH(F690,EF!$C$2:$C$112,0)))","v":""},{"$f":"IF(F690=\"\",\"\",INDEX(EF!$B$2:$B$112,MATCH(F690,EF!$C$2:$C$112,0)))","v":""}]
["",null,null,{"$f":"IF(F691=\"\",\"\",INDEX(EF!$A$2:$A$112,MATCH(F691,EF!$C$2:$C$112,0)))","v":""},{"$f":"IF(F691=\"\",\"\",INDEX(EF!$B$2:$B$112,MATCH(F691,EF!$C$2:$C$112,0)))","v":""}]
["",null,null,{"$f":"IF(F692=\"\",\"\",INDEX(EF!$A$2:$A$112,MATCH(F692,EF!$C$2:$C$112,0)))","v":""},{"$f":"IF(F692=\"\",\"\",INDEX(EF!$B$2:$B$112,MATCH(F692,EF!$C$2:$C$112,0)))","v":""}]
["",null,null,{"$f":"IF(F693=\"\",\"\",INDEX(EF!$A$2:$A$112,MATCH(F693,EF!$C$2:$C$112,0)))","v":""},{"$f":"IF(F693=\"\",\"\",INDEX(EF!$B$2:$B$112,MATCH(F693,EF!$C$2:$C$112,0)))","v":""}]
["",null,null,{"$f":"IF(F694=\"\",\"\",INDEX(EF!$A$2:$A$112,MATCH(F694,EF!$C$2:$C$112,0)))","v":""},{"$f":"IF(F694=\"\",\"\",INDEX(EF!$B$2:$B$112,MATCH(F694,EF!$C$2:$C$112,0)))","v":""}]
["",null,null,{"$f":"IF(F695=\"\",\"\",INDEX(EF!$A$2:$A$112,MATCH(F695,EF!$C$2:$C$112,0)))","v":""},{"$f":"IF(F695=\"\",\"\",INDEX(EF!$B$2:$B$112,MATCH(F695,EF!$C$2:$C$112,0)))","v":""}]
["",null,null,{"$f":"IF(F696=\"\",\"\",INDEX(EF!$A$2:$A$112,MATCH(F696,EF!$C$2:$C$112,0)))","v":""},{"$f":"IF(F696=\"\",\"\",INDEX(EF!$B$2:$B$112,MATCH(F696,EF!$C$2:$C$112,0)))","v":""}]
["",null,null,{"$f":"IF(F697=\"\",\"\",INDEX(EF!$A$2:$A$112,MATCH(F697,EF!$C$2:$C$112,0)))","v":""},{"$f":"IF(F697=\"\",\"\",INDEX(EF!$B$2:$B$112,MATCH(F697,EF!$C$2:$C$112,0)))","v":""}]
["",null,null,{"$f":"IF(F698=\"\",\"\",INDEX(EF!$A$2:$A$112,MATCH(F698,EF!$C$2:$C$112,0)))","v":""},{"$f":"IF(F698=\"\",\"\",INDEX(EF!$B$2:$B$112,MATCH(F698,EF!$C$2:$C$112,0)))","v":""}]
["",null,null,{"$f":"IF(F699=\"\",\"\",INDEX(EF!$A$2:$A$112,MATCH(F699,EF!$C$2:$C$112,0)))","v":""},{"$f":"IF(F699=\"\",\"\",INDEX(EF!$B$2:$B$112,MATCH(F699,EF!$C$2:$C$112,0)))","v":""}]
["",null,null,{"$f":"IF(F700=\"\",\"\",INDEX(EF!$A$2:$A$112,MATCH(F700,EF!$C$2:$C$112,0)))","v":""},{"$f":"IF(F700=\"\",\"\",INDEX(EF!$B$2:$B$112,MATCH(F700,EF!$C$2:$C$112,0)))","v":""}]
["",null,null,{"$f":"IF(F701=\"\",\"\",INDEX(EF!$A$2:$A$112,MATCH(F701,EF!$C$2:$C$112,0)))","v":""},{"$f":"IF(F701=\"\",\"\",INDEX(EF!$B$2:$B$112,MATCH(F701,EF!$C$2:$C$112,0)))","v":""}]
["",null,null,{"$f":"IF(F702=\"\",\"\",INDEX(EF!$A$2:$A$112,MATCH(F702,EF!$C$2:$C$112,0)))","v":""},{"$f":"IF(F702=\"\",\"\",INDEX(EF!$B$2:$B$112,MATCH(F702,EF!$C$2:$C$112,0)))","v":""}]
["",null,null,{"$f":"IF(F703=\"\",\"\",INDEX(EF!$A$2:$A$112,MATCH(F703,EF!$C$2:$C$112,0)))","v":""},{"$f":"IF(F703=\"\",\"\",INDEX(EF!$B$2:$B$112,MATCH(F703,EF!$C$2:$C$112,0)))","v":""}]
["",null,null,{"$f":"IF(F704=\"\",\"\",INDEX(EF!$A$2:$A$112,MATCH(F704,EF!$C$2:$C$112,0)))","v":""},{"$f":"IF(F704=\"\",\"\",INDEX(EF!$B$2:$B$112,MATCH(F704,EF!$C$2:$C$112,0)))","v":""}]
["",null,null,{"$f":"IF(F705=\"\",\"\",INDEX(EF!$A$2:$A$112,MATCH(F705,EF!$C$2:$C$112,0)))","v":""},{"$f":"IF(F705=\"\",\"\",INDEX(EF!$B$2:$B$112,MATCH(F705,EF!$C$2:$C$112,0)))","v":""}]
["",null,null,{"$f":"IF(F706=\"\",\"\",INDEX(EF!$A$2:$A$112,MATCH(F706,EF!$C$2:$C$112,0)))","v":""},{"$f":"IF(F706=\"\",\"\",INDEX(EF!$B$2:$B$112,MATCH(F706,EF!$C$2:$C$112,0)))","v":""}]
["",null,null,{"$f":"IF(F707=\"\",\"\",INDEX(EF!$A$2:$A$112,MATCH(F707,EF!$C$2:$C$112,0)))","v":""},{"$f":"IF(F707=\"\",\"\",INDEX(EF!$B$2:$B$112,MATCH(F707,EF!$C$2:$C$112,0)))","v":""}]
["",null,null,{"$f":"IF(F708=\"\",\"\",INDEX(EF!$A$2:$A$112,MATCH(F708,EF!$C$2:$C$112,0)))","v":""},{"$f":"IF(F708=\"\",\"\",INDEX(EF!$B$2:$B$112,MATCH(F708,EF!$C$2:$C$112,0)))","v":""}]
["",null,null,{"$f":"IF(F709=\"\",\"\",INDEX(EF!$A$2:$A$112,MATCH(F709,EF!$C$2:$C$112,0)))","v":""},{"$f":"IF(F709=\"\",\"\",INDEX(EF!$B$2:$B$112,MATCH(F709,EF!$C$2:$C$112,0)))","v":""}]
["",null,null,{"$f":"IF(F710=\"\",\"\",INDEX(EF!$A$2:$A$112,MATCH(F710,EF!$C$2:$C$112,0)))","v":""},{"$f":"IF(F710=\"\",\"\",INDEX(EF!$B$2:$B$112,MATCH(F710,EF!$C$2:$C$112,0)))","v":""}]
["",null,null,{"$f":"IF(F711=\"\",\"\",INDEX(EF!$A$2:$A$112,MATCH(F711,EF!$C$2:$C$112,0)))","v":""},{"$f":"IF(F711=\"\",\"\",INDEX(EF!$B$2:$B$112,MATCH(F711,EF!$C$2:$C$112,0)))","v":""}]
["",null,null,{"$f":"IF(F712=\"\",\"\",INDEX(EF!$A$2:$A$112,MATCH(F712,EF!$C$2:$C$112,0)))","v":""},{"$f":"IF(F712=\"\",\"\",INDEX(EF!$B$2:$B$112,MATCH(F712,EF!$C$2:$C$112,0)))","v":""}]
["",null,null,{"$f":"IF(F713=\"\",\"\",INDEX(EF!$A$2:$A$112,MATCH(F713,EF!$C$2:$C$112,0)))","v":""},{"$f":"IF(F713=\"\",\"\",INDEX(EF!$B$2:$B$112,MATCH(F713,EF!$C$2:$C$112,0)))","v":""}]
["",null,null,{"$f":"IF(F714=\"\",\"\",INDEX(EF!$A$2:$A$112,MATCH(F714,EF!$C$2:$C$112,0)))","v":""},{"$f":"IF(F714=\"\",\"\",INDEX(EF!$B$2:$B$112,MATCH(F714,EF!$C$2:$C$112,0)))","v":""}]
["",null,null,{"$f":"IF(F715=\"\",\"\",INDEX(EF!$A$2:$A$112,MATCH(F715,EF!$C$2:$C$112,0)))","v":""},{"$f":"IF(F715=\"\",\"\",INDEX(EF!$B$2:$B$112,MATCH(F715,EF!$C$2:$C$112,0)))","v":""}]
["",null,null,{"$f":"IF(F716=\"\",\"\",INDEX(EF!$A$2:$A$112,MATCH(F716,EF!$C$2:$C$112,0)))","v":""},{"$f":"IF(F716=\"\",\"\",INDEX(EF!$B$2:$B$112,MATCH(F716,EF!$C$2:$C$112,0)))","v":""}]
["",null,null,{"$f":"IF(F717=\"\",\"\",INDEX(EF!$A$2:$A$112,MATCH(F717,EF!$C$2:$C$112,0)))","v":""},{"$f":"IF(F717=\"\",\"\",INDEX(EF!$B$2:$B$112,MATCH(F717,EF!$C$2:$C$112,0)))","v":""}]
["",null,null,{"$f":"IF(F718=\"\",\"\",INDEX(EF!$A$2:$A$112,MATCH(F718,EF!$C$2:$C$112,0)))","v":""},{"$f":"IF(F718=\"\",\"\",INDEX(EF!$B$2:$B$112,MATCH(F718,EF!$C$2:$C$112,0)))","v":""}]
["",null,null,{"$f":"IF(F719=\"\",\"\",INDEX(EF!$A$2:$A$112,MATCH(F719,EF!$C$2:$C$112,0)))","v":""},{"$f":"IF(F719=\"\",\"\",INDEX(EF!$B$2:$B$112,MATCH(F719,EF!$C$2:$C$112,0)))","v":""}]
["",null,null,{"$f":"IF(F720=\"\",\"\",INDEX(EF!$A$2:$A$112,MATCH(F720,EF!$C$2:$C$112,0)))","v":""},{"$f":"IF(F720=\"\",\"\",INDEX(EF!$B$2:$B$112,MATCH(F720,EF!$C$2:$C$112,0)))","v":""}]
["",null,null,{"$f":"IF(F721=\"\",\"\",INDEX(EF!$A$2:$A$112,MATCH(F721,EF!$C$2:$C$112,0)))","v":""},{"$f":"IF(F721=\"\",\"\",INDEX(EF!$B$2:$B$112,MATCH(F721,EF!$C$2:$C$112,0)))","v":""}]
["",null,null,{"$f":"IF(F722=\"\",\"\",INDEX(EF!$A$2:$A$112,MATCH(F722,EF!$C$2:$C$112,0)))","v":""},{"$f":"IF(F722=\"\",\"\",INDEX(EF!$B$2:$B$112,MATCH(F722,EF!$C$2:$C$112,0)))","v":""}]
["",null,null,{"$f":"IF(F723=\"\",\"\",INDEX(EF!$A$2:$A$112,MATCH(F723,EF!$C$2:$C$112,0)))","v":""},{"$f":"IF(F723=\"\",\"\",INDEX(EF!$B$2:$B$112,MATCH(F723,EF!$C$2:$C$112,0)))","v":""}]
["",null,null,{"$f":"IF(F724=\"\",\"\",INDEX(EF!$A$2:$A$112,MATCH(F724,EF!$C$2:$C$112,0)))","v":""},{"$f":"IF(F724=\"\",\"\",INDEX(EF!$B$2:$B$112,MATCH(F724,EF!$C$2:$C$112,0)))","v":""}]
["",null,null,{"$f":"IF(F725=\"\",\"\",INDEX(EF!$A$2:$A$112,MATCH(F725,EF!$C$2:$C$112,0)))","v":""},{"$f":"IF(F725=\"\",\"\",INDEX(EF!$B$2:$B$112,MATCH(F725,EF!$C$2:$C$112,0)))","v":""}]
["",null,null,{"$f":"IF(F726=\"\",\"\",INDEX(EF!$A$2:$A$112,MATCH(F726,EF!$C$2:$C$112,0)))","v":""},{"$f":"IF(F726=\"\",\"\",INDEX(EF!$B$2:$B$112,MATCH(F726,EF!$C$2:$C$112,0)))","v":""}]
["",null,null,{"$f":"IF(F727=\"\",\"\",INDEX(EF!$A$2:$A$112,MATCH(F727,EF!$C$2:$C$112,0)))","v":""},{"$f":"IF(F727=\"\",\"\",INDEX(EF!$B$2:$B$112,MATCH(F727,EF!$C$2:$C$112,0)))","v":""}]
[{"$f":"IF(B728>0,A727+1,\"\")","v":""},null,null,{"$f":"IF(F728=\"\",\"\",INDEX(EF!$A$2:$A$112,MATCH(F728,EF!$C$2:$C$112,0)))","v":""},{"$f":"IF(F728=\"\",\"\",INDEX(EF!$B$2:$B$112,MATCH(F728,EF!$C$2:$C$112,0)))","v":""}]
["",null,null,{"$f":"IF(F729=\"\",\"\",INDEX(EF!$A$2:$A$112,MATCH(F729,EF!$C$2:$C$112,0)))","v":""},{"$f":"IF(F729=\"\",\"\",INDEX(EF!$B$2:$B$112,MATCH(F729,EF!$C$2:$C$112,0)))","v":""}]
["",null,null,{"$f":"IF(F730=\"\",\"\",INDEX(EF!$A$2:$A$112,MATCH(F730,EF!$C$2:$C$112,0)))","v":""},{"$f":"IF(F730=\"\",\"\",INDEX(EF!$B$2:$B$112,MATCH(F730,EF!$C$2:$C$112,0)))","v":""}]
["",null,null,{"$f":"IF(F731=\"\",\"\",INDEX(EF!$A$2:$A$112,MATCH(F731,EF!$C$2:$C$112,0)))","v":""},{"$f":"IF(F731=\"\",\"\",INDEX(EF!$B$2:$B$112,MATCH(F731,EF!$C$2:$C$112,0)))","v":""}]
["",null,null,{"$f":"IF(F732=\"\",\"\",INDEX(EF!$A$2:$A$112,MATCH(F732,EF!$C$2:$C$112,0)))","v":""},{"$f":"IF(F732=\"\",\"\",INDEX(EF!$B$2:$B$112,MATCH(F732,EF!$C$2:$C$112,0)))","v":""}]
["",null,null,{"$f":"IF(F733=\"\",\"\",INDEX(EF!$A$2:$A$112,MATCH(F733,EF!$C$2:$C$112,0)))","v":""},{"$f":"IF(F733=\"\",\"\",INDEX(EF!$B$2:$B$112,MATCH(F733,EF!$C$2:$C$112,0)))","v":""}]
["",null,null,{"$f":"IF(F734=\"\",\"\",INDEX(EF!$A$2:$A$112,MATCH(F734,EF!$C$2:$C$112,0)))","v":""},{"$f":"IF(F734=\"\",\"\",INDEX(EF!$B$2:$B$112,MATCH(F734,EF!$C$2:$C$112,0)))","v":""}]
["",null,null,{"$f":"IF(F735=\"\",\"\",INDEX(EF!$A$2:$A$112,MATCH(F735,EF!$C$2:$C$112,0)))","v":""},{"$f":"IF(F735=\"\",\"\",INDEX(EF!$B$2:$B$112,MATCH(F735,EF!$C$2:$C$112,0)))","v":""}]
["",null,null,{"$f":"IF(F736=\"\",\"\",INDEX(EF!$A$2:$A$112,MATCH(F736,EF!$C$2:$C$112,0)))","v":""},{"$f":"IF(F736=\"\",\"\",INDEX(EF!$B$2:$B$112,MATCH(F736,EF!$C$2:$C$112,0)))","v":""}]
["",null,null,{"$f":"IF(F737=\"\",\"\",INDEX(EF!$A$2:$A$112,MATCH(F737,EF!$C$2:$C$112,0)))","v":""},{"$f":"IF(F737=\"\",\"\",INDEX(EF!$B$2:$B$112,MATCH(F737,EF!$C$2:$C$112,0)))","v":""}]
["",null,null,{"$f":"IF(F738=\"\",\"\",INDEX(EF!$A$2:$A$112,MATCH(F738,EF!$C$2:$C$112,0)))","v":""},{"$f":"IF(F738=\"\",\"\",INDEX(EF!$B$2:$B$112,MATCH(F738,EF!$C$2:$C$112,0)))","v":""}]
["",null,null,{"$f":"IF(F739=\"\",\"\",INDEX(EF!$A$2:$A$112,MATCH(F739,EF!$C$2:$C$112,0)))","v":""},{"$f":"IF(F739=\"\",\"\",INDEX(EF!$B$2:$B$112,MATCH(F739,EF!$C$2:$C$112,0)))","v":""}]
["",null,null,{"$f":"IF(F740=\"\",\"\",INDEX(EF!$A$2:$A$112,MATCH(F740,EF!$C$2:$C$112,0)))","v":""},{"$f":"IF(F740=\"\",\"\",INDEX(EF!$B$2:$B$112,MATCH(F740,EF!$C$2:$C$112,0)))","v":""}]
["",null,null,{"$f":"IF(F741=\"\",\"\",INDEX(EF!$A$2:$A$112,MATCH(F741,EF!$C$2:$C$112,0)))","v":""},{"$f":"IF(F741=\"\",\"\",INDEX(EF!$B$2:$B$112,MATCH(F741,EF!$C$2:$C$112,0)))","v":""}]
["",null,null,{"$f":"IF(F742=\"\",\"\",INDEX(EF!$A$2:$A$112,MATCH(F742,EF!$C$2:$C$112,0)))","v":""},{"$f":"IF(F742=\"\",\"\",INDEX(EF!$B$2:$B$112,MATCH(F742,EF!$C$2:$C$112,0)))","v":""}]
["",null,null,{"$f":"IF(F743=\"\",\"\",INDEX(EF!$A$2:$A$112,MATCH(F743,EF!$C$2:$C$112,0)))","v":""},{"$f":"IF(F743=\"\",\"\",INDEX(EF!$B$2:$B$112,MATCH(F743,EF!$C$2:$C$112,0)))","v":""}]
["",null,null,{"$f":"IF(F744=\"\",\"\",INDEX(EF!$A$2:$A$112,MATCH(F744,EF!$C$2:$C$112,0)))","v":""},{"$f":"IF(F744=\"\",\"\",INDEX(EF!$B$2:$B$112,MATCH(F744,EF!$C$2:$C$112,0)))","v":""}]
["",null,null,{"$f":"IF(F745=\"\",\"\",INDEX(EF!$A$2:$A$112,MATCH(F745,EF!$C$2:$C$112,0)))","v":""},{"$f":"IF(F745=\"\",\"\",INDEX(EF!$B$2:$B$112,MATCH(F745,EF!$C$2:$C$112,0)))","v":""}]
["",null,null,{"$f":"IF(F746=\"\",\"\",INDEX(EF!$A$2:$A$112,MATCH(F746,EF!$C$2:$C$112,0)))","v":""},{"$f":"IF(F746=\"\",\"\",INDEX(EF!$B$2:$B$112,MATCH(F746,EF!$C$2:$C$112,0)))","v":""}]
["",null,null,{"$f":"IF(F747=\"\",\"\",INDEX(EF!$A$2:$A$112,MATCH(F747,EF!$C$2:$C$112,0)))","v":""},{"$f":"IF(F747=\"\",\"\",INDEX(EF!$B$2:$B$112,MATCH(F747,EF!$C$2:$C$112,0)))","v":""}]
["",null,null,{"$f":"IF(F748=\"\",\"\",INDEX(EF!$A$2:$A$112,MATCH(F748,EF!$C$2:$C$112,0)))","v":""},{"$f":"IF(F748=\"\",\"\",INDEX(EF!$B$2:$B$112,MATCH(F748,EF!$C$2:$C$112,0)))","v":""}]
["",null,null,{"$f":"IF(F749=\"\",\"\",INDEX(EF!$A$2:$A$112,MATCH(F749,EF!$C$2:$C$112,0)))","v":""},{"$f":"IF(F749=\"\",\"\",INDEX(EF!$B$2:$B$112,MATCH(F749,EF!$C$2:$C$112,0)))","v":""}]
["",null,null,{"$f":"IF(F750=\"\",\"\",INDEX(EF!$A$2:$A$112,MATCH(F750,EF!$C$2:$C$112,0)))","v":""},{"$f":"IF(F750=\"\",\"\",INDEX(EF!$B$2:$B$112,MATCH(F750,EF!$C$2:$C$112,0)))","v":""}]
["",null,null,{"$f":"IF(F751=\"\",\"\",INDEX(EF!$A$2:$A$112,MATCH(F751,EF!$C$2:$C$112,0)))","v":""},{"$f":"IF(F751=\"\",\"\",INDEX(EF!$B$2:$B$112,MATCH(F751,EF!$C$2:$C$112,0)))","v":""}]
["",null,null,{"$f":"IF(F752=\"\",\"\",INDEX(EF!$A$2:$A$112,MATCH(F752,EF!$C$2:$C$112,0)))","v":""},{"$f":"IF(F752=\"\",\"\",INDEX(EF!$B$2:$B$112,MATCH(F752,EF!$C$2:$C$112,0)))","v":""}]
["",null,null,{"$f":"IF(F753=\"\",\"\",INDEX(EF!$A$2:$A$112,MATCH(F753,EF!$C$2:$C$112,0)))","v":""},{"$f":"IF(F753=\"\",\"\",INDEX(EF!$B$2:$B$112,MATCH(F753,EF!$C$2:$C$112,0)))","v":""}]
["",null,null,{"$f":"IF(F754=\"\",\"\",INDEX(EF!$A$2:$A$112,MATCH(F754,EF!$C$2:$C$112,0)))","v":""},{"$f":"IF(F754=\"\",\"\",INDEX(EF!$B$2:$B$112,MATCH(F754,EF!$C$2:$C$112,0)))","v":""}]
["",null,null,{"$f":"IF(F755=\"\",\"\",INDEX(EF!$A$2:$A$112,MATCH(F755,EF!$C$2:$C$112,0)))","v":""},{"$f":"IF(F755=\"\",\"\",INDEX(EF!$B$2:$B$112,MATCH(F755,EF!$C$2:$C$112,0)))","v":""}]
["",null,null,{"$f":"IF(F756=\"\",\"\",INDEX(EF!$A$2:$A$112,MATCH(F756,EF!$C$2:$C$112,0)))","v":""},{"$f":"IF(F756=\"\",\"\",INDEX(EF!$B$2:$B$112,MATCH(F756,EF!$C$2:$C$112,0)))","v":""}]
["",null,null,{"$f":"IF(F757=\"\",\"\",INDEX(EF!$A$2:$A$112,MATCH(F757,EF!$C$2:$C$112,0)))","v":""},{"$f":"IF(F757=\"\",\"\",INDEX(EF!$B$2:$B$112,MATCH(F757,EF!$C$2:$C$112,0)))","v":""}]
["",null,null,{"$f":"IF(F758=\"\",\"\",INDEX(EF!$A$2:$A$112,MATCH(F758,EF!$C$2:$C$112,0)))","v":""},{"$f":"IF(F758=\"\",\"\",INDEX(EF!$B$2:$B$112,MATCH(F758,EF!$C$2:$C$112,0)))","v":""}]
["",null,null,{"$f":"IF(F759=\"\",\"\",INDEX(EF!$A$2:$A$112,MATCH(F759,EF!$C$2:$C$112,0)))","v":""},{"$f":"IF(F759=\"\",\"\",INDEX(EF!$B$2:$B$112,MATCH(F759,EF!$C$2:$C$112,0)))","v":""}]
["",null,null,{"$f":"IF(F760=\"\",\"\",INDEX(EF!$A$2:$A$112,MATCH(F760,EF!$C$2:$C$112,0)))","v":""},{"$f":"IF(F760=\"\",\"\",INDEX(EF!$B$2:$B$112,MATCH(F760,EF!$C$2:$C$112,0)))","v":""}]
["",null,null,{"$f":"IF(F761=\"\",\"\",INDEX(EF!$A$2:$A$112,MATCH(F761,EF!$C$2:$C$112,0)))","v":""},{"$f":"IF(F761=\"\",\"\",INDEX(EF!$B$2:$B$112,MATCH(F761,EF!$C$2:$C$112,0)))","v":""}]
["",null,null,{"$f":"IF(F762=\"\",\"\",INDEX(EF!$A$2:$A$112,MATCH(F762,EF!$C$2:$C$112,0)))","v":""},{"$f":"IF(F762=\"\",\"\",INDEX(EF!$B$2:$B$112,MATCH(F762,EF!$C$2:$C$112,0)))","v":""}]
["",null,null,{"$f":"IF(F763=\"\",\"\",INDEX(EF!$A$2:$A$112,MATCH(F763,EF!$C$2:$C$112,0)))","v":""},{"$f":"IF(F763=\"\",\"\",INDEX(EF!$B$2:$B$112,MATCH(F763,EF!$C$2:$C$112,0)))","v":""}]
["",null,null,{"$f":"IF(F764=\"\",\"\",INDEX(EF!$A$2:$A$112,MATCH(F764,EF!$C$2:$C$112,0)))","v":""},{"$f":"IF(F764=\"\",\"\",INDEX(EF!$B$2:$B$112,MATCH(F764,EF!$C$2:$C$112,0)))","v":""}]
["",null,null,{"$f":"IF(F765=\"\",\"\",INDEX(EF!$A$2:$A$112,MATCH(F765,EF!$C$2:$C$112,0)))","v":""},{"$f":"IF(F765=\"\",\"\",INDEX(EF!$B$2:$B$112,MATCH(F765,EF!$C$2:$C$112,0)))","v":""}]
["",null,null,{"$f":"IF(F766=\"\",\"\",INDEX(EF!$A$2:$A$112,MATCH(F766,EF!$C$2:$C$112,0)))","v":""},{"$f":"IF(F766=\"\",\"\",INDEX(EF!$B$2:$B$112,MATCH(F766,EF!$C$2:$C$112,0)))","v":""}]
["",null,null,{"$f":"IF(F767=\"\",\"\",INDEX(EF!$A$2:$A$112,MATCH(F767,EF!$C$2:$C$112,0)))","v":""},{"$f":"IF(F767=\"\",\"\",INDEX(EF!$B$2:$B$112,MATCH(F767,EF!$C$2:$C$112,0)))","v":""}]
["",null,null,{"$f":"IF(F768=\"\",\"\",INDEX(EF!$A$2:$A$112,MATCH(F768,EF!$C$2:$C$112,0)))","v":""},{"$f":"IF(F768=\"\",\"\",INDEX(EF!$B$2:$B$112,MATCH(F768,EF!$C$2:$C$112,0)))","v":""}]
["",null,null,{"$f":"IF(F769=\"\",\"\",INDEX(EF!$A$2:$A$112,MATCH(F769,EF!$C$2:$C$112,0)))","v":""},{"$f":"IF(F769=\"\",\"\",INDEX(EF!$B$2:$B$112,MATCH(F769,EF!$C$2:$C$112,0)))","v":""}]
["",null,null,{"$f":"IF(F770=\"\",\"\",INDEX(EF!$A$2:$A$112,MATCH(F770,EF!$C$2:$C$112,0)))","v":""},{"$f":"IF(F770=\"\",\"\",INDEX(EF!$B$2:$B$112,MATCH(F770,EF!$C$2:$C$112,0)))","v":""}]
["",null,null,{"$f":"IF(F771=\"\",\"\",INDEX(EF!$A$2:$A$112,MATCH(F771,EF!$C$2:$C$112,0)))","v":""},{"$f":"IF(F771=\"\",\"\",INDEX(EF!$B$2:$B$112,MATCH(F771,EF!$C$2:$C$112,0)))","v":""}]
["",null,null,{"$f":"IF(F772=\"\",\"\",INDEX(EF!$A$2:$A$112,MATCH(F772,EF!$C$2:$C$112,0)))","v":""},{"$f":"IF(F772=\"\",\"\",INDEX(EF!$B$2:$B$112,MATCH(F772,EF!$C$2:$C$112,0)))","v":""}]
["",null,null,{"$f":"IF(F773=\"\",\"\",INDEX(EF!$A$2:$A$112,MATCH(F773,EF!$C$2:$C$112,0)))","v":""},{"$f":"IF(F773=\"\",\"\",INDEX(EF!$B$2:$B$112,MATCH(F773,EF!$C$2:$C$112,0)))","v":""}]
["",null,null,{"$f":"IF(F774=\"\",\"\",INDEX(EF!$A$2:$A$112,MATCH(F774,EF!$C$2:$C$112,0)))","v":""},{"$f":"IF(F774=\"\",\"\",INDEX(EF!$B$2:$B$112,MATCH(F774,EF!$C$2:$C$112,0)))","v":""}]
["",null,null,{"$f":"IF(F775=\"\",\"\",INDEX(EF!$A$2:$A$112,MATCH(F775,EF!$C$2:$C$112,0)))","v":""},{"$f":"IF(F775=\"\",\"\",INDEX(EF!$B$2:$B$112,MATCH(F775,EF!$C$2:$C$112,0)))","v":""}]
["",null,null,{"$f":"IF(F776=\"\",\"\",INDEX(EF!$A$2:$A$112,MATCH(F776,EF!$C$2:$C$112,0)))","v":""},{"$f":"IF(F776=\"\",\"\",INDEX(EF!$B$2:$B$112,MATCH(F776,EF!$C$2:$C$112,0)))","v":""}]
["",null,null,{"$f":"IF(F777=\"\",\"\",INDEX(EF!$A$2:$A$112,MATCH(F777,EF!$C$2:$C$112,0)))","v":""},{"$f":"IF(F777=\"\",\"\",INDEX(EF!$B$2:$B$112,MATCH(F777,EF!$C$2:$C$112,0)))","v":""}]
["",null,null,{"$f":"IF(F778=\"\",\"\",INDEX(EF!$A$2:$A$112,MATCH(F778,EF!$C$2:$C$112,0)))","v":""},{"$f":"IF(F778=\"\",\"\",INDEX(EF!$B$2:$B$112,MATCH(F778,EF!$C$2:$C$112,0)))","v":""}]
["",null,null,{"$f":"IF(F779=\"\",\"\",INDEX(EF!$A$2:$A$112,MATCH(F779,EF!$C$2:$C$112,0)))","v":""},{"$f":"IF(F779=\"\",\"\",INDEX(EF!$B$2:$B$112,MATCH(F779,EF!$C$2:$C$112,0)))","v":""}]
["",null,null,{"$f":"IF(F780=\"\",\"\",INDEX(EF!$A$2:$A$112,MATCH(F780,EF!$C$2:$C$112,0)))","v":""},{"$f":"IF(F780=\"\",\"\",INDEX(EF!$B$2:$B$112,MATCH(F780,EF!$C$2:$C$112,0)))","v":""}]
["",null,null,{"$f":"IF(F781=\"\",\"\",INDEX(EF!$A$2:$A$112,MATCH(F781,EF!$C$2:$C$112,0)))","v":""},{"$f":"IF(F781=\"\",\"\",INDEX(EF!$B$2:$B$112,MATCH(F781,EF!$C$2:$C$112,0)))","v":""}]
["",null,null,{"$f":"IF(F782=\"\",\"\",INDEX(EF!$A$2:$A$112,MATCH(F782,EF!$C$2:$C$112,0)))","v":""},{"$f":"IF(F782=\"\",\"\",INDEX(EF!$B$2:$B$112,MATCH(F782,EF!$C$2:$C$112,0)))","v":""}]
["",null,null,{"$f":"IF(F783=\"\",\"\",INDEX(EF!$A$2:$A$112,MATCH(F783,EF!$C$2:$C$112,0)))","v":""},{"$f":"IF(F783=\"\",\"\",INDEX(EF!$B$2:$B$112,MATCH(F783,EF!$C$2:$C$112,0)))","v":""}]
["",null,null,{"$f":"IF(F784=\"\",\"\",INDEX(EF!$A$2:$A$112,MATCH(F784,EF!$C$2:$C$112,0)))","v":""},{"$f":"IF(F784=\"\",\"\",INDEX(EF!$B$2:$B$112,MATCH(F784,EF!$C$2:$C$112,0)))","v":""}]
["",null,null,{"$f":"IF(F785=\"\",\"\",INDEX(EF!$A$2:$A$112,MATCH(F785,EF!$C$2:$C$112,0)))","v":""},{"$f":"IF(F785=\"\",\"\",INDEX(EF!$B$2:$B$112,MATCH(F785,EF!$C$2:$C$112,0)))","v":""}]
["",null,null,{"$f":"IF(F786=\"\",\"\",INDEX(EF!$A$2:$A$112,MATCH(F786,EF!$C$2:$C$112,0)))","v":""},{"$f":"IF(F786=\"\",\"\",INDEX(EF!$B$2:$B$112,MATCH(F786,EF!$C$2:$C$112,0)))","v":""}]
["",null,null,{"$f":"IF(F787=\"\",\"\",INDEX(EF!$A$2:$A$112,MATCH(F787,EF!$C$2:$C$112,0)))","v":""},{"$f":"IF(F787=\"\",\"\",INDEX(EF!$B$2:$B$112,MATCH(F787,EF!$C$2:$C$112,0)))","v":""}]
["",null,null,{"$f":"IF(F788=\"\",\"\",INDEX(EF!$A$2:$A$112,MATCH(F788,EF!$C$2:$C$112,0)))","v":""},{"$f":"IF(F788=\"\",\"\",INDEX(EF!$B$2:$B$112,MATCH(F788,EF!$C$2:$C$112,0)))","v":""}]
["",null,null,{"$f":"IF(F789=\"\",\"\",INDEX(EF!$A$2:$A$112,MATCH(F789,EF!$C$2:$C$112,0)))","v":""},{"$f":"IF(F789=\"\",\"\",INDEX(EF!$B$2:$B$112,MATCH(F789,EF!$C$2:$C$112,0)))","v":""}]
["",null,null,{"$f":"IF(F790=\"\",\"\",INDEX(EF!$A$2:$A$112,MATCH(F790,EF!$C$2:$C$112,0)))","v":""},{"$f":"IF(F790=\"\",\"\",INDEX(EF!$B$2:$B$112,MATCH(F790,EF!$C$2:$C$112,0)))","v":""}]
["",null,null,{"$f":"IF(F791=\"\",\"\",INDEX(EF!$A$2:$A$112,MATCH(F791,EF!$C$2:$C$112,0)))","v":""},{"$f":"IF(F791=\"\",\"\",INDEX(EF!$B$2:$B$112,MATCH(F791,EF!$C$2:$C$112,0)))","v":""}]
[{"$f":"IF(B792>0,A791+1,\"\")","v":""},null,null,{"$f":"IF(F792=\"\",\"\",INDEX(EF!$A$2:$A$112,MATCH(F792,EF!$C$2:$C$112,0)))","v":""},{"$f":"IF(F792=\"\",\"\",INDEX(EF!$B$2:$B$112,MATCH(F792,EF!$C$2:$C$112,0)))","v":""}]
["",null,null,{"$f":"IF(F793=\"\",\"\",INDEX(EF!$A$2:$A$112,MATCH(F793,EF!$C$2:$C$112,0)))","v":""},{"$f":"IF(F793=\"\",\"\",INDEX(EF!$B$2:$B$112,MATCH(F793,EF!$C$2:$C$112,0)))","v":""}]
["",null,null,{"$f":"IF(F794=\"\",\"\",INDEX(EF!$A$2:$A$112,MATCH(F794,EF!$C$2:$C$112,0)))","v":""},{"$f":"IF(F794=\"\",\"\",INDEX(EF!$B$2:$B$112,MATCH(F794,EF!$C$2:$C$112,0)))","v":""}]
["",null,null,{"$f":"IF(F795=\"\",\"\",INDEX(EF!$A$2:$A$112,MATCH(F795,EF!$C$2:$C$112,0)))","v":""},{"$f":"IF(F795=\"\",\"\",INDEX(EF!$B$2:$B$112,MATCH(F795,EF!$C$2:$C$112,0)))","v":""}]
["",null,null,{"$f":"IF(F796=\"\",\"\",INDEX(EF!$A$2:$A$112,MATCH(F796,EF!$C$2:$C$112,0)))","v":""},{"$f":"IF(F796=\"\",\"\",INDEX(EF!$B$2:$B$112,MATCH(F796,EF!$C$2:$C$112,0)))","v":""}]
[{"$f":"IF(B797>0,A796+1,\"\")","v":""},null,null,{"$f":"IF(F797=\"\",\"\",INDEX(EF!$A$2:$A$112,MATCH(F797,EF!$C$2:$C$112,0)))","v":""},{"$f":"IF(F797=\"\",\"\",INDEX(EF!$B$2:$B$112,MATCH(F797,EF!$C$2:$C$112,0)))","v":""}]
[{"$f":"IF(B798>0,A797+1,\"\")","v":""},null,null,{"$f":"IF(F798=\"\",\"\",INDEX(EF!$A$2:$A$112,MATCH(F798,EF!$C$2:$C$112,0)))","v":""},{"$f":"IF(F798=\"\",\"\",INDEX(EF!$B$2:$B$112,MATCH(F798,EF!$C$2:$C$112,0)))","v":""}]
["",null,null,{"$f":"IF(F799=\"\",\"\",INDEX(EF!$A$2:$A$112,MATCH(F799,EF!$C$2:$C$112,0)))","v":""},{"$f":"IF(F799=\"\",\"\",INDEX(EF!$B$2:$B$112,MATCH(F799,EF!$C$2:$C$112,0)))","v":""}]
["",null,null,{"$f":"IF(F800=\"\",\"\",INDEX(EF!$A$2:$A$112,MATCH(F800,EF!$C$2:$C$112,0)))","v":""},{"$f":"IF(F800=\"\",\"\",INDEX(EF!$B$2:$B$112,MATCH(F800,EF!$C$2:$C$112,0)))","v":""}]
["",null,null,{"$f":"IF(F801=\"\",\"\",INDEX(EF!$A$2:$A$112,MATCH(F801,EF!$C$2:$C$112,0)))","v":""},{"$f":"IF(F801=\"\",\"\",INDEX(EF!$B$2:$B$112,MATCH(F801,EF!$C$2:$C$112,0)))","v":""}]
["",null,null,{"$f":"IF(F802=\"\",\"\",INDEX(EF!$A$2:$A$112,MATCH(F802,EF!$C$2:$C$112,0)))","v":""},{"$f":"IF(F802=\"\",\"\",INDEX(EF!$B$2:$B$112,MATCH(F802,EF!$C$2:$C$112,0)))","v":""}]
["",null,null,{"$f":"IF(F803=\"\",\"\",INDEX(EF!$A$2:$A$112,MATCH(F803,EF!$C$2:$C$112,0)))","v":""},{"$f":"IF(F803=\"\",\"\",INDEX(EF!$B$2:$B$112,MATCH(F803,EF!$C$2:$C$112,0)))","v":""}]
["",null,null,{"$f":"IF(F804=\"\",\"\",INDEX(EF!$A$2:$A$112,MATCH(F804,EF!$C$2:$C$112,0)))","v":""},{"$f":"IF(F804=\"\",\"\",INDEX(EF!$B$2:$B$112,MATCH(F804,EF!$C$2:$C$112,0)))","v":""}]
["",null,null,{"$f":"IF(F805=\"\",\"\",INDEX(EF!$A$2:$A$112,MATCH(F805,EF!$C$2:$C$112,0)))","v":""},{"$f":"IF(F805=\"\",\"\",INDEX(EF!$B$2:$B$112,MATCH(F805,EF!$C$2:$C$112,0)))","v":""}]
["",null,null,{"$f":"IF(F806=\"\",\"\",INDEX(EF!$A$2:$A$112,MATCH(F806,EF!$C$2:$C$112,0)))","v":""},{"$f":"IF(F806=\"\",\"\",INDEX(EF!$B$2:$B$112,MATCH(F806,EF!$C$2:$C$112,0)))","v":""}]
["",null,null,{"$f":"IF(F807=\"\",\"\",INDEX(EF!$A$2:$A$112,MATCH(F807,EF!$C$2:$C$112,0)))","v":""},{"$f":"IF(F807=\"\",\"\",INDEX(EF!$B$2:$B$112,MATCH(F807,EF!$C$2:$C$112,0)))","v":""}]
["",null,null,{"$f":"IF(F808=\"\",\"\",INDEX(EF!$A$2:$A$112,MATCH(F808,EF!$C$2:$C$112,0)))","v":""},{"$f":"IF(F808=\"\",\"\",INDEX(EF!$B$2:$B$112,MATCH(F808,EF!$C$2:$C$112,0)))","v":""}]
["",null,null,{"$f":"IF(F809=\"\",\"\",INDEX(EF!$A$2:$A$112,MATCH(F809,EF!$C$2:$C$112,0)))","v":""},{"$f":"IF(F809=\"\",\"\",INDEX(EF!$B$2:$B$112,MATCH(F809,EF!$C$2:$C$112,0)))","v":""}]
["",null,null,{"$f":"IF(F810=\"\",\"\",INDEX(EF!$A$2:$A$112,MATCH(F810,EF!$C$2:$C$112,0)))","v":""},{"$f":"IF(F810=\"\",\"\",INDEX(EF!$B$2:$B$112,MATCH(F810,EF!$C$2:$C$112,0)))","v":""}]
["",null,null,{"$f":"IF(F811=\"\",\"\",INDEX(EF!$A$2:$A$112,MATCH(F811,EF!$C$2:$C$112,0)))","v":""},{"$f":"IF(F811=\"\",\"\",INDEX(EF!$B$2:$B$112,MATCH(F811,EF!$C$2:$C$112,0)))","v":""}]
["",null,null,{"$f":"IF(F812=\"\",\"\",INDEX(EF!$A$2:$A$112,MATCH(F812,EF!$C$2:$C$112,0)))","v":""},{"$f":"IF(F812=\"\",\"\",INDEX(EF!$B$2:$B$112,MATCH(F812,EF!$C$2:$C$112,0)))","v":""}]
["",null,null,{"$f":"IF(F813=\"\",\"\",INDEX(EF!$A$2:$A$112,MATCH(F813,EF!$C$2:$C$112,0)))","v":""},{"$f":"IF(F813=\"\",\"\",INDEX(EF!$B$2:$B$112,MATCH(F813,EF!$C$2:$C$112,0)))","v":""}]
["",null,null,{"$f":"IF(F814=\"\",\"\",INDEX(EF!$A$2:$A$112,MATCH(F814,EF!$C$2:$C$112,0)))","v":""},{"$f":"IF(F814=\"\",\"\",INDEX(EF!$B$2:$B$112,MATCH(F814,EF!$C$2:$C$112,0)))","v":""}]
["",null,null,{"$f":"IF(F815=\"\",\"\",INDEX(EF!$A$2:$A$112,MATCH(F815,EF!$C$2:$C$112,0)))","v":""},{"$f":"IF(F815=\"\",\"\",INDEX(EF!$B$2:$B$112,MATCH(F815,EF!$C$2:$C$112,0)))","v":""}]
["",null,null,{"$f":"IF(F816=\"\",\"\",INDEX(EF!$A$2:$A$112,MATCH(F816,EF!$C$2:$C$112,0)))","v":""},{"$f":"IF(F816=\"\",\"\",INDEX(EF!$B$2:$B$112,MATCH(F816,EF!$C$2:$C$112,0)))","v":""}]
["",null,null,{"$f":"IF(F817=\"\",\"\",INDEX(EF!$A$2:$A$112,MATCH(F817,EF!$C$2:$C$112,0)))","v":""},{"$f":"IF(F817=\"\",\"\",INDEX(EF!$B$2:$B$112,MATCH(F817,EF!$C$2:$C$112,0)))","v":""}]
["",null,null,{"$f":"IF(F818=\"\",\"\",INDEX(EF!$A$2:$A$112,MATCH(F818,EF!$C$2:$C$112,0)))","v":""},{"$f":"IF(F818=\"\",\"\",INDEX(EF!$B$2:$B$112,MATCH(F818,EF!$C$2:$C$112,0)))","v":""}]
["",null,null,{"$f":"IF(F819=\"\",\"\",INDEX(EF!$A$2:$A$112,MATCH(F819,EF!$C$2:$C$112,0)))","v":""},{"$f":"IF(F819=\"\",\"\",INDEX(EF!$B$2:$B$112,MATCH(F819,EF!$C$2:$C$112,0)))","v":""}]
["",null,null,{"$f":"IF(F820=\"\",\"\",INDEX(EF!$A$2:$A$112,MATCH(F820,EF!$C$2:$C$112,0)))","v":""},{"$f":"IF(F820=\"\",\"\",INDEX(EF!$B$2:$B$112,MATCH(F820,EF!$C$2:$C$112,0)))","v":""}]
["",null,null,{"$f":"IF(F821=\"\",\"\",INDEX(EF!$A$2:$A$112,MATCH(F821,EF!$C$2:$C$112,0)))","v":""},{"$f":"IF(F821=\"\",\"\",INDEX(EF!$B$2:$B$112,MATCH(F821,EF!$C$2:$C$112,0)))","v":""}]
["",null,null,{"$f":"IF(F822=\"\",\"\",INDEX(EF!$A$2:$A$112,MATCH(F822,EF!$C$2:$C$112,0)))","v":""},{"$f":"IF(F822=\"\",\"\",INDEX(EF!$B$2:$B$112,MATCH(F822,EF!$C$2:$C$112,0)))","v":""}]
["",null,null,{"$f":"IF(F823=\"\",\"\",INDEX(EF!$A$2:$A$112,MATCH(F823,EF!$C$2:$C$112,0)))","v":""},{"$f":"IF(F823=\"\",\"\",INDEX(EF!$B$2:$B$112,MATCH(F823,EF!$C$2:$C$112,0)))","v":""}]
["",null,null,{"$f":"IF(F824=\"\",\"\",INDEX(EF!$A$2:$A$112,MATCH(F824,EF!$C$2:$C$112,0)))","v":""},{"$f":"IF(F824=\"\",\"\",INDEX(EF!$B$2:$B$112,MATCH(F824,EF!$C$2:$C$112,0)))","v":""}]
["",null,null,{"$f":"IF(F825=\"\",\"\",INDEX(EF!$A$2:$A$112,MATCH(F825,EF!$C$2:$C$112,0)))","v":""},{"$f":"IF(F825=\"\",\"\",INDEX(EF!$B$2:$B$112,MATCH(F825,EF!$C$2:$C$112,0)))","v":""}]
["",null,null,{"$f":"IF(F826=\"\",\"\",INDEX(EF!$A$2:$A$112,MATCH(F826,EF!$C$2:$C$112,0)))","v":""},{"$f":"IF(F826=\"\",\"\",INDEX(EF!$B$2:$B$112,MATCH(F826,EF!$C$2:$C$112,0)))","v":""}]
["",null,null,{"$f":"IF(F827=\"\",\"\",INDEX(EF!$A$2:$A$112,MATCH(F827,EF!$C$2:$C$112,0)))","v":""},{"$f":"IF(F827=\"\",\"\",INDEX(EF!$B$2:$B$112,MATCH(F827,EF!$C$2:$C$112,0)))","v":""}]
["",null,null,{"$f":"IF(F828=\"\",\"\",INDEX(EF!$A$2:$A$112,MATCH(F828,EF!$C$2:$C$112,0)))","v":""},{"$f":"IF(F828=\"\",\"\",INDEX(EF!$B$2:$B$112,MATCH(F828,EF!$C$2:$C$112,0)))","v":""}]
["",null,null,{"$f":"IF(F829=\"\",\"\",INDEX(EF!$A$2:$A$112,MATCH(F829,EF!$C$2:$C$112,0)))","v":""},{"$f":"IF(F829=\"\",\"\",INDEX(EF!$B$2:$B$112,MATCH(F829,EF!$C$2:$C$112,0)))","v":""}]
["",null,null,{"$f":"IF(F830=\"\",\"\",INDEX(EF!$A$2:$A$112,MATCH(F830,EF!$C$2:$C$112,0)))","v":""},{"$f":"IF(F830=\"\",\"\",INDEX(EF!$B$2:$B$112,MATCH(F830,EF!$C$2:$C$112,0)))","v":""}]
["",null,null,{"$f":"IF(F831=\"\",\"\",INDEX(EF!$A$2:$A$112,MATCH(F831,EF!$C$2:$C$112,0)))","v":""},{"$f":"IF(F831=\"\",\"\",INDEX(EF!$B$2:$B$112,MATCH(F831,EF!$C$2:$C$112,0)))","v":""}]
["",null,null,{"$f":"IF(F832=\"\",\"\",INDEX(EF!$A$2:$A$112,MATCH(F832,EF!$C$2:$C$112,0)))","v":""},{"$f":"IF(F832=\"\",\"\",INDEX(EF!$B$2:$B$112,MATCH(F832,EF!$C$2:$C$112,0)))","v":""}]
["",null,null,{"$f":"IF(F833=\"\",\"\",INDEX(EF!$A$2:$A$112,MATCH(F833,EF!$C$2:$C$112,0)))","v":""},{"$f":"IF(F833=\"\",\"\",INDEX(EF!$B$2:$B$112,MATCH(F833,EF!$C$2:$C$112,0)))","v":""}]
["",null,null,{"$f":"IF(F834=\"\",\"\",INDEX(EF!$A$2:$A$112,MATCH(F834,EF!$C$2:$C$112,0)))","v":""},{"$f":"IF(F834=\"\",\"\",INDEX(EF!$B$2:$B$112,MATCH(F834,EF!$C$2:$C$112,0)))","v":""}]
["",null,null,{"$f":"IF(F835=\"\",\"\",INDEX(EF!$A$2:$A$112,MATCH(F835,EF!$C$2:$C$112,0)))","v":""},{"$f":"IF(F835=\"\",\"\",INDEX(EF!$B$2:$B$112,MATCH(F835,EF!$C$2:$C$112,0)))","v":""}]
["",null,null,{"$f":"IF(F836=\"\",\"\",INDEX(EF!$A$2:$A$112,MATCH(F836,EF!$C$2:$C$112,0)))","v":""},{"$f":"IF(F836=\"\",\"\",INDEX(EF!$B$2:$B$112,MATCH(F836,EF!$C$2:$C$112,0)))","v":""}]
["",null,null,{"$f":"IF(F837=\"\",\"\",INDEX(EF!$A$2:$A$112,MATCH(F837,EF!$C$2:$C$112,0)))","v":""},{"$f":"IF(F837=\"\",\"\",INDEX(EF!$B$2:$B$112,MATCH(F837,EF!$C$2:$C$112,0)))","v":""}]
["",null,null,{"$f":"IF(F838=\"\",\"\",INDEX(EF!$A$2:$A$112,MATCH(F838,EF!$C$2:$C$112,0)))","v":""},{"$f":"IF(F838=\"\",\"\",INDEX(EF!$B$2:$B$112,MATCH(F838,EF!$C$2:$C$112,0)))","v":""}]
["",null,null,{"$f":"IF(F839=\"\",\"\",INDEX(EF!$A$2:$A$112,MATCH(F839,EF!$C$2:$C$112,0)))","v":""},{"$f":"IF(F839=\"\",\"\",INDEX(EF!$B$2:$B$112,MATCH(F839,EF!$C$2:$C$112,0)))","v":""}]
["",null,null,{"$f":"IF(F840=\"\",\"\",INDEX(EF!$A$2:$A$112,MATCH(F840,EF!$C$2:$C$112,0)))","v":""},{"$f":"IF(F840=\"\",\"\",INDEX(EF!$B$2:$B$112,MATCH(F840,EF!$C$2:$C$112,0)))","v":""}]
["",null,null,{"$f":"IF(F841=\"\",\"\",INDEX(EF!$A$2:$A$112,MATCH(F841,EF!$C$2:$C$112,0)))","v":""},{"$f":"IF(F841=\"\",\"\",INDEX(EF!$B$2:$B$112,MATCH(F841,EF!$C$2:$C$112,0)))","v":""}]
["",null,null,{"$f":"IF(F842=\"\",\"\",INDEX(EF!$A$2:$A$112,MATCH(F842,EF!$C$2:$C$112,0)))","v":""},{"$f":"IF(F842=\"\",\"\",INDEX(EF!$B$2:$B$112,MATCH(F842,EF!$C$2:$C$112,0)))","v":""}]
["",null,null,{"$f":"IF(F843=\"\",\"\",INDEX(EF!$A$2:$A$112,MATCH(F843,EF!$C$2:$C$112,0)))","v":""},{"$f":"IF(F843=\"\",\"\",INDEX(EF!$B$2:$B$112,MATCH(F843,EF!$C$2:$C$112,0)))","v":""}]
["",null,null,{"$f":"IF(F844=\"\",\"\",INDEX(EF!$A$2:$A$112,MATCH(F844,EF!$C$2:$C$112,0)))","v":""},{"$f":"IF(F844=\"\",\"\",INDEX(EF!$B$2:$B$112,MATCH(F844,EF!$C$2:$C$112,0)))","v":""}]
["",null,null,{"$f":"IF(F845=\"\",\"\",INDEX(EF!$A$2:$A$112,MATCH(F845,EF!$C$2:$C$112,0)))","v":""},{"$f":"IF(F845=\"\",\"\",INDEX(EF!$B$2:$B$112,MATCH(F845,EF!$C$2:$C$112,0)))","v":""}]
["",null,null,{"$f":"IF(F846=\"\",\"\",INDEX(EF!$A$2:$A$112,MATCH(F846,EF!$C$2:$C$112,0)))","v":""},{"$f":"IF(F846=\"\",\"\",INDEX(EF!$B$2:$B$112,MATCH(F846,EF!$C$2:$C$112,0)))","v":""}]
["",null,null,{"$f":"IF(F847=\"\",\"\",INDEX(EF!$A$2:$A$112,MATCH(F847,EF!$C$2:$C$112,0)))","v":""},{"$f":"IF(F847=\"\",\"\",INDEX(EF!$B$2:$B$112,MATCH(F847,EF!$C$2:$C$112,0)))","v":""}]
["",null,null,{"$f":"IF(F848=\"\",\"\",INDEX(EF!$A$2:$A$112,MATCH(F848,EF!$C$2:$C$112,0)))","v":""},{"$f":"IF(F848=\"\",\"\",INDEX(EF!$B$2:$B$112,MATCH(F848,EF!$C$2:$C$112,0)))","v":""}]
["",null,null,{"$f":"IF(F849=\"\",\"\",INDEX(EF!$A$2:$A$112,MATCH(F849,EF!$C$2:$C$112,0)))","v":""},{"$f":"IF(F849=\"\",\"\",INDEX(EF!$B$2:$B$112,MATCH(F849,EF!$C$2:$C$112,0)))","v":""}]
["",null,null,{"$f":"IF(F850=\"\",\"\",INDEX(EF!$A$2:$A$112,MATCH(F850,EF!$C$2:$C$112,0)))","v":""},{"$f":"IF(F850=\"\",\"\",INDEX(EF!$B$2:$B$112,MATCH(F850,EF!$C$2:$C$112,0)))","v":""}]
["",null,null,{"$f":"IF(F851=\"\",\"\",INDEX(EF!$A$2:$A$112,MATCH(F851,EF!$C$2:$C$112,0)))","v":""},{"$f":"IF(F851=\"\",\"\",INDEX(EF!$B$2:$B$112,MATCH(F851,EF!$C$2:$C$112,0)))","v":""}]
["",null,null,{"$f":"IF(F852=\"\",\"\",INDEX(EF!$A$2:$A$112,MATCH(F852,EF!$C$2:$C$112,0)))","v":""},{"$f":"IF(F852=\"\",\"\",INDEX(EF!$B$2:$B$112,MATCH(F852,EF!$C$2:$C$112,0)))","v":""}]
["",null,null,{"$f":"IF(F853=\"\",\"\",INDEX(EF!$A$2:$A$112,MATCH(F853,EF!$C$2:$C$112,0)))","v":""},{"$f":"IF(F853=\"\",\"\",INDEX(EF!$B$2:$B$112,MATCH(F853,EF!$C$2:$C$112,0)))","v":""}]
["",null,null,{"$f":"IF(F854=\"\",\"\",INDEX(EF!$A$2:$A$112,MATCH(F854,EF!$C$2:$C$112,0)))","v":""},{"$f":"IF(F854=\"\",\"\",INDEX(EF!$B$2:$B$112,MATCH(F854,EF!$C$2:$C$112,0)))","v":""}]
["",null,null,{"$f":"IF(F855=\"\",\"\",INDEX(EF!$A$2:$A$112,MATCH(F855,EF!$C$2:$C$112,0)))","v":""},{"$f":"IF(F855=\"\",\"\",INDEX(EF!$B$2:$B$112,MATCH(F855,EF!$C$2:$C$112,0)))","v":""}]
["",null,null,{"$f":"IF(F856=\"\",\"\",INDEX(EF!$A$2:$A$112,MATCH(F856,EF!$C$2:$C$112,0)))","v":""},{"$f":"IF(F856=\"\",\"\",INDEX(EF!$B$2:$B$112,MATCH(F856,EF!$C$2:$C$112,0)))","v":""}]
["",null,null,{"$f":"IF(F857=\"\",\"\",INDEX(EF!$A$2:$A$112,MATCH(F857,EF!$C$2:$C$112,0)))","v":""},{"$f":"IF(F857=\"\",\"\",INDEX(EF!$B$2:$B$112,MATCH(F857,EF!$C$2:$C$112,0)))","v":""}]
["",null,null,{"$f":"IF(F858=\"\",\"\",INDEX(EF!$A$2:$A$112,MATCH(F858,EF!$C$2:$C$112,0)))","v":""},{"$f":"IF(F858=\"\",\"\",INDEX(EF!$B$2:$B$112,MATCH(F858,EF!$C$2:$C$112,0)))","v":""}]
["",null,null,{"$f":"IF(F859=\"\",\"\",INDEX(EF!$A$2:$A$112,MATCH(F859,EF!$C$2:$C$112,0)))","v":""},{"$f":"IF(F859=\"\",\"\",INDEX(EF!$B$2:$B$112,MATCH(F859,EF!$C$2:$C$112,0)))","v":""}]
["",null,null,{"$f":"IF(F860=\"\",\"\",INDEX(EF!$A$2:$A$112,MATCH(F860,EF!$C$2:$C$112,0)))","v":""},{"$f":"IF(F860=\"\",\"\",INDEX(EF!$B$2:$B$112,MATCH(F860,EF!$C$2:$C$112,0)))","v":""}]
["",null,null,{"$f":"IF(F861=\"\",\"\",INDEX(EF!$A$2:$A$112,MATCH(F861,EF!$C$2:$C$112,0)))","v":""},{"$f":"IF(F861=\"\",\"\",INDEX(EF!$B$2:$B$112,MATCH(F861,EF!$C$2:$C$112,0)))","v":""}]
[{"$f":"IF(B862>0,A861+1,\"\")","v":""},null,null,{"$f":"IF(F862=\"\",\"\",INDEX(EF!$A$2:$A$112,MATCH(F862,EF!$C$2:$C$112,0)))","v":""},{"$f":"IF(F862=\"\",\"\",INDEX(EF!$B$2:$B$112,MATCH(F862,EF!$C$2:$C$112,0)))","v":""}]
["",null,null,{"$f":"IF(F863=\"\",\"\",INDEX(EF!$A$2:$A$112,MATCH(F863,EF!$C$2:$C$112,0)))","v":""},{"$f":"IF(F863=\"\",\"\",INDEX(EF!$B$2:$B$112,MATCH(F863,EF!$C$2:$C$112,0)))","v":""}]
["",null,null,{"$f":"IF(F864=\"\",\"\",INDEX(EF!$A$2:$A$112,MATCH(F864,EF!$C$2:$C$112,0)))","v":""},{"$f":"IF(F864=\"\",\"\",INDEX(EF!$B$2:$B$112,MATCH(F864,EF!$C$2:$C$112,0)))","v":""}]
["",null,null,{"$f":"IF(F865=\"\",\"\",INDEX(EF!$A$2:$A$112,MATCH(F865,EF!$C$2:$C$112,0)))","v":""},{"$f":"IF(F865=\"\",\"\",INDEX(EF!$B$2:$B$112,MATCH(F865,EF!$C$2:$C$112,0)))","v":""}]
["",null,null,{"$f":"IF(F866=\"\",\"\",INDEX(EF!$A$2:$A$112,MATCH(F866,EF!$C$2:$C$112,0)))","v":""},{"$f":"IF(F866=\"\",\"\",INDEX(EF!$B$2:$B$112,MATCH(F866,EF!$C$2:$C$112,0)))","v":""}]
["",null,null,{"$f":"IF(F867=\"\",\"\",INDEX(EF!$A$2:$A$112,MATCH(F867,EF!$C$2:$C$112,0)))","v":""},{"$f":"IF(F867=\"\",\"\",INDEX(EF!$B$2:$B$112,MATCH(F867,EF!$C$2:$C$112,0)))","v":""}]
["",null,null,{"$f":"IF(F868=\"\",\"\",INDEX(EF!$A$2:$A$112,MATCH(F868,EF!$C$2:$C$112,0)))","v":""},{"$f":"IF(F868=\"\",\"\",INDEX(EF!$B$2:$B$112,MATCH(F868,EF!$C$2:$C$112,0)))","v":""}]
["",null,null,{"$f":"IF(F869=\"\",\"\",INDEX(EF!$A$2:$A$112,MATCH(F869,EF!$C$2:$C$112,0)))","v":""},{"$f":"IF(F869=\"\",\"\",INDEX(EF!$B$2:$B$112,MATCH(F869,EF!$C$2:$C$112,0)))","v":""}]
["",null,null,{"$f":"IF(F870=\"\",\"\",INDEX(EF!$A$2:$A$112,MATCH(F870,EF!$C$2:$C$112,0)))","v":""},{"$f":"IF(F870=\"\",\"\",INDEX(EF!$B$2:$B$112,MATCH(F870,EF!$C$2:$C$112,0)))","v":""}]
["",null,null,{"$f":"IF(F871=\"\",\"\",INDEX(EF!$A$2:$A$112,MATCH(F871,EF!$C$2:$C$112,0)))","v":""},{"$f":"IF(F871=\"\",\"\",INDEX(EF!$B$2:$B$112,MATCH(F871,EF!$C$2:$C$112,0)))","v":""}]
["",null,null,{"$f":"IF(F872=\"\",\"\",INDEX(EF!$A$2:$A$112,MATCH(F872,EF!$C$2:$C$112,0)))","v":""},{"$f":"IF(F872=\"\",\"\",INDEX(EF!$B$2:$B$112,MATCH(F872,EF!$C$2:$C$112,0)))","v":""}]
["",null,null,{"$f":"IF(F873=\"\",\"\",INDEX(EF!$A$2:$A$112,MATCH(F873,EF!$C$2:$C$112,0)))","v":""},{"$f":"IF(F873=\"\",\"\",INDEX(EF!$B$2:$B$112,MATCH(F873,EF!$C$2:$C$112,0)))","v":""}]
["",null,null,{"$f":"IF(F874=\"\",\"\",INDEX(EF!$A$2:$A$112,MATCH(F874,EF!$C$2:$C$112,0)))","v":""},{"$f":"IF(F874=\"\",\"\",INDEX(EF!$B$2:$B$112,MATCH(F874,EF!$C$2:$C$112,0)))","v":""}]
["",null,null,{"$f":"IF(F875=\"\",\"\",INDEX(EF!$A$2:$A$112,MATCH(F875,EF!$C$2:$C$112,0)))","v":""},{"$f":"IF(F875=\"\",\"\",INDEX(EF!$B$2:$B$112,MATCH(F875,EF!$C$2:$C$112,0)))","v":""}]
["",null,null,{"$f":"IF(F876=\"\",\"\",INDEX(EF!$A$2:$A$112,MATCH(F876,EF!$C$2:$C$112,0)))","v":""},{"$f":"IF(F876=\"\",\"\",INDEX(EF!$B$2:$B$112,MATCH(F876,EF!$C$2:$C$112,0)))","v":""}]
["",null,null,{"$f":"IF(F877=\"\",\"\",INDEX(EF!$A$2:$A$112,MATCH(F877,EF!$C$2:$C$112,0)))","v":""},{"$f":"IF(F877=\"\",\"\",INDEX(EF!$B$2:$B$112,MATCH(F877,EF!$C$2:$C$112,0)))","v":""}]
["",null,null,{"$f":"IF(F878=\"\",\"\",INDEX(EF!$A$2:$A$112,MATCH(F878,EF!$C$2:$C$112,0)))","v":""},{"$f":"IF(F878=\"\",\"\",INDEX(EF!$B$2:$B$112,MATCH(F878,EF!$C$2:$C$112,0)))","v":""}]
["",null,null,{"$f":"IF(F879=\"\",\"\",INDEX(EF!$A$2:$A$112,MATCH(F879,EF!$C$2:$C$112,0)))","v":""},{"$f":"IF(F879=\"\",\"\",INDEX(EF!$B$2:$B$112,MATCH(F879,EF!$C$2:$C$112,0)))","v":""}]
["",null,null,{"$f":"IF(F880=\"\",\"\",INDEX(EF!$A$2:$A$112,MATCH(F880,EF!$C$2:$C$112,0)))","v":""},{"$f":"IF(F880=\"\",\"\",INDEX(EF!$B$2:$B$112,MATCH(F880,EF!$C$2:$C$112,0)))","v":""}]
["",null,null,{"$f":"IF(F881=\"\",\"\",INDEX(EF!$A$2:$A$112,MATCH(F881,EF!$C$2:$C$112,0)))","v":""},{"$f":"IF(F881=\"\",\"\",INDEX(EF!$B$2:$B$112,MATCH(F881,EF!$C$2:$C$112,0)))","v":""}]
["",null,null,{"$f":"IF(F882=\"\",\"\",INDEX(EF!$A$2:$A$112,MATCH(F882,EF!$C$2:$C$112,0)))","v":""},{"$f":"IF(F882=\"\",\"\",INDEX(EF!$B$2:$B$112,MATCH(F882,EF!$C$2:$C$112,0)))","v":""}]
["",null,null,{"$f":"IF(F883=\"\",\"\",INDEX(EF!$A$2:$A$112,MATCH(F883,EF!$C$2:$C$112,0)))","v":""},{"$f":"IF(F883=\"\",\"\",INDEX(EF!$B$2:$B$112,MATCH(F883,EF!$C$2:$C$112,0)))","v":""}]
["",null,null,{"$f":"IF(F884=\"\",\"\",INDEX(EF!$A$2:$A$112,MATCH(F884,EF!$C$2:$C$112,0)))","v":""},{"$f":"IF(F884=\"\",\"\",INDEX(EF!$B$2:$B$112,MATCH(F884,EF!$C$2:$C$112,0)))","v":""}]
["",null,null,{"$f":"IF(F885=\"\",\"\",INDEX(EF!$A$2:$A$112,MATCH(F885,EF!$C$2:$C$112,0)))","v":""},{"$f":"IF(F885=\"\",\"\",INDEX(EF!$B$2:$B$112,MATCH(F885,EF!$C$2:$C$112,0)))","v":""}]
["",null,null,{"$f":"IF(F886=\"\",\"\",INDEX(EF!$A$2:$A$112,MATCH(F886,EF!$C$2:$C$112,0)))","v":""},{"$f":"IF(F886=\"\",\"\",INDEX(EF!$B$2:$B$112,MATCH(F886,EF!$C$2:$C$112,0)))","v":""}]
["",null,null,{"$f":"IF(F887=\"\",\"\",INDEX(EF!$A$2:$A$112,MATCH(F887,EF!$C$2:$C$112,0)))","v":""},{"$f":"IF(F887=\"\",\"\",INDEX(EF!$B$2:$B$112,MATCH(F887,EF!$C$2:$C$112,0)))","v":""}]
["",null,null,{"$f":"IF(F888=\"\",\"\",INDEX(EF!$A$2:$A$112,MATCH(F888,EF!$C$2:$C$112,0)))","v":""},{"$f":"IF(F888=\"\",\"\",INDEX(EF!$B$2:$B$112,MATCH(F888,EF!$C$2:$C$112,0)))","v":""}]
["",null,null,{"$f":"IF(F889=\"\",\"\",INDEX(EF!$A$2:$A$112,MATCH(F889,EF!$C$2:$C$112,0)))","v":""},{"$f":"IF(F889=\"\",\"\",INDEX(EF!$B$2:$B$112,MATCH(F889,EF!$C$2:$C$112,0)))","v":""}]
["",null,null,{"$f":"IF(F890=\"\",\"\",INDEX(EF!$A$2:$A$112,MATCH(F890,EF!$C$2:$C$112,0)))","v":""},{"$f":"IF(F890=\"\",\"\",INDEX(EF!$B$2:$B$112,MATCH(F890,EF!$C$2:$C$112,0)))","v":""}]
["",null,null,{"$f":"IF(F891=\"\",\"\",INDEX(EF!$A$2:$A$112,MATCH(F891,EF!$C$2:$C$112,0)))","v":""},{"$f":"IF(F891=\"\",\"\",INDEX(EF!$B$2:$B$112,MATCH(F891,EF!$C$2:$C$112,0)))","v":""}]
["",null,null,{"$f":"IF(F892=\"\",\"\",INDEX(EF!$A$2:$A$112,MATCH(F892,EF!$C$2:$C$112,0)))","v":""},{"$f":"IF(F892=\"\",\"\",INDEX(EF!$B$2:$B$112,MATCH(F892,EF!$C$2:$C$112,0)))","v":""}]
["",null,null,{"$f":"IF(F893=\"\",\"\",INDEX(EF!$A$2:$A$112,MATCH(F893,EF!$C$2:$C$112,0)))","v":""},{"$f":"IF(F893=\"\",\"\",INDEX(EF!$B$2:$B$112,MATCH(F893,EF!$C$2:$C$112,0)))","v":""}]
["",null,null,{"$f":"IF(F894=\"\",\"\",INDEX(EF!$A$2:$A$112,MATCH(F894,EF!$C$2:$C$112,0)))","v":""},{"$f":"IF(F894=\"\",\"\",INDEX(EF!$B$2:$B$112,MATCH(F894,EF!$C$2:$C$112,0)))","v":""}]
["",null,null,{"$f":"IF(F895=\"\",\"\",INDEX(EF!$A$2:$A$112,MATCH(F895,EF!$C$2:$C$112,0)))","v":""},{"$f":"IF(F895=\"\",\"\",INDEX(EF!$B$2:$B$112,MATCH(F895,EF!$C$2:$C$112,0)))","v":""}]
["",null,null,{"$f":"IF(F896=\"\",\"\",INDEX(EF!$A$2:$A$112,MATCH(F896,EF!$C$2:$C$112,0)))","v":""},{"$f":"IF(F896=\"\",\"\",INDEX(EF!$B$2:$B$112,MATCH(F896,EF!$C$2:$C$112,0)))","v":""}]
["",null,null,{"$f":"IF(F897=\"\",\"\",INDEX(EF!$A$2:$A$112,MATCH(F897,EF!$C$2:$C$112,0)))","v":""},{"$f":"IF(F897=\"\",\"\",INDEX(EF!$B$2:$B$112,MATCH(F897,EF!$C$2:$C$112,0)))","v":""}]
["",null,null,{"$f":"IF(F898=\"\",\"\",INDEX(EF!$A$2:$A$112,MATCH(F898,EF!$C$2:$C$112,0)))","v":""},{"$f":"IF(F898=\"\",\"\",INDEX(EF!$B$2:$B$112,MATCH(F898,EF!$C$2:$C$112,0)))","v":""}]
["",null,null,{"$f":"IF(F899=\"\",\"\",INDEX(EF!$A$2:$A$112,MATCH(F899,EF!$C$2:$C$112,0)))","v":""},{"$f":"IF(F899=\"\",\"\",INDEX(EF!$B$2:$B$112,MATCH(F899,EF!$C$2:$C$112,0)))","v":""}]
["",null,null,{"$f":"IF(F900=\"\",\"\",INDEX(EF!$A$2:$A$112,MATCH(F900,EF!$C$2:$C$112,0)))","v":""},{"$f":"IF(F900=\"\",\"\",INDEX(EF!$B$2:$B$112,MATCH(F900,EF!$C$2:$C$112,0)))","v":""}]
["",null,null,{"$f":"IF(F901=\"\",\"\",INDEX(EF!$A$2:$A$112,MATCH(F901,EF!$C$2:$C$112,0)))","v":""},{"$f":"IF(F901=\"\",\"\",INDEX(EF!$B$2:$B$112,MATCH(F901,EF!$C$2:$C$112,0)))","v":""}]
["",null,null,{"$f":"IF(F902=\"\",\"\",INDEX(EF!$A$2:$A$112,MATCH(F902,EF!$C$2:$C$112,0)))","v":""},{"$f":"IF(F902=\"\",\"\",INDEX(EF!$B$2:$B$112,MATCH(F902,EF!$C$2:$C$112,0)))","v":""}]
["",null,null,{"$f":"IF(F903=\"\",\"\",INDEX(EF!$A$2:$A$112,MATCH(F903,EF!$C$2:$C$112,0)))","v":""},{"$f":"IF(F903=\"\",\"\",INDEX(EF!$B$2:$B$112,MATCH(F903,EF!$C$2:$C$112,0)))","v":""}]
["",null,null,{"$f":"IF(F904=\"\",\"\",INDEX(EF!$A$2:$A$112,MATCH(F904,EF!$C$2:$C$112,0)))","v":""},{"$f":"IF(F904=\"\",\"\",INDEX(EF!$B$2:$B$112,MATCH(F904,EF!$C$2:$C$112,0)))","v":""}]
["",null,null,{"$f":"IF(F905=\"\",\"\",INDEX(EF!$A$2:$A$112,MATCH(F905,EF!$C$2:$C$112,0)))","v":""},{"$f":"IF(F905=\"\",\"\",INDEX(EF!$B$2:$B$112,MATCH(F905,EF!$C$2:$C$112,0)))","v":""}]
["",null,null,{"$f":"IF(F906=\"\",\"\",INDEX(EF!$A$2:$A$112,MATCH(F906,EF!$C$2:$C$112,0)))","v":""},{"$f":"IF(F906=\"\",\"\",INDEX(EF!$B$2:$B$112,MATCH(F906,EF!$C$2:$C$112,0)))","v":""}]
["",null,null,{"$f":"IF(F907=\"\",\"\",INDEX(EF!$A$2:$A$112,MATCH(F907,EF!$C$2:$C$112,0)))","v":""},{"$f":"IF(F907=\"\",\"\",INDEX(EF!$B$2:$B$112,MATCH(F907,EF!$C$2:$C$112,0)))","v":""}]
["",null,null,{"$f":"IF(F908=\"\",\"\",INDEX(EF!$A$2:$A$112,MATCH(F908,EF!$C$2:$C$112,0)))","v":""},{"$f":"IF(F908=\"\",\"\",INDEX(EF!$B$2:$B$112,MATCH(F908,EF!$C$2:$C$112,0)))","v":""}]
["",null,null,{"$f":"IF(F909=\"\",\"\",INDEX(EF!$A$2:$A$112,MATCH(F909,EF!$C$2:$C$112,0)))","v":""},{"$f":"IF(F909=\"\",\"\",INDEX(EF!$B$2:$B$112,MATCH(F909,EF!$C$2:$C$112,0)))","v":""}]
["",null,null,{"$f":"IF(F910=\"\",\"\",INDEX(EF!$A$2:$A$112,MATCH(F910,EF!$C$2:$C$112,0)))","v":""},{"$f":"IF(F910=\"\",\"\",INDEX(EF!$B$2:$B$112,MATCH(F910,EF!$C$2:$C$112,0)))","v":""}]
["",null,null,{"$f":"IF(F911=\"\",\"\",INDEX(EF!$A$2:$A$112,MATCH(F911,EF!$C$2:$C$112,0)))","v":""},{"$f":"IF(F911=\"\",\"\",INDEX(EF!$B$2:$B$112,MATCH(F911,EF!$C$2:$C$112,0)))","v":""}]
["",null,null,{"$f":"IF(F912=\"\",\"\",INDEX(EF!$A$2:$A$112,MATCH(F912,EF!$C$2:$C$112,0)))","v":""},{"$f":"IF(F912=\"\",\"\",INDEX(EF!$B$2:$B$112,MATCH(F912,EF!$C$2:$C$112,0)))","v":""}]
["",null,null,{"$f":"IF(F913=\"\",\"\",INDEX(EF!$A$2:$A$112,MATCH(F913,EF!$C$2:$C$112,0)))","v":""},{"$f":"IF(F913=\"\",\"\",INDEX(EF!$B$2:$B$112,MATCH(F913,EF!$C$2:$C$112,0)))","v":""}]
["",null,null,{"$f":"IF(F914=\"\",\"\",INDEX(EF!$A$2:$A$112,MATCH(F914,EF!$C$2:$C$112,0)))","v":""},{"$f":"IF(F914=\"\",\"\",INDEX(EF!$B$2:$B$112,MATCH(F914,EF!$C$2:$C$112,0)))","v":""}]
["",null,null,{"$f":"IF(F915=\"\",\"\",INDEX(EF!$A$2:$A$112,MATCH(F915,EF!$C$2:$C$112,0)))","v":""},{"$f":"IF(F915=\"\",\"\",INDEX(EF!$B$2:$B$112,MATCH(F915,EF!$C$2:$C$112,0)))","v":""}]
["",null,null,{"$f":"IF(F916=\"\",\"\",INDEX(EF!$A$2:$A$112,MATCH(F916,EF!$C$2:$C$112,0)))","v":""},{"$f":"IF(F916=\"\",\"\",INDEX(EF!$B$2:$B$112,MATCH(F916,EF!$C$2:$C$112,0)))","v":""}]
["",null,null,{"$f":"IF(F917=\"\",\"\",INDEX(EF!$A$2:$A$112,MATCH(F917,EF!$C$2:$C$112,0)))","v":""},{"$f":"IF(F917=\"\",\"\",INDEX(EF!$B$2:$B$112,MATCH(F917,EF!$C$2:$C$112,0)))","v":""}]
["",null,null,{"$f":"IF(F918=\"\",\"\",INDEX(EF!$A$2:$A$112,MATCH(F918,EF!$C$2:$C$112,0)))","v":""},{"$f":"IF(F918=\"\",\"\",INDEX(EF!$B$2:$B$112,MATCH(F918,EF!$C$2:$C$112,0)))","v":""}]
["",null,null,{"$f":"IF(F919=\"\",\"\",INDEX(EF!$A$2:$A$112,MATCH(F919,EF!$C$2:$C$112,0)))","v":""},{"$f":"IF(F919=\"\",\"\",INDEX(EF!$B$2:$B$112,MATCH(F919,EF!$C$2:$C$112,0)))","v":""}]
["",null,null,{"$f":"IF(F920=\"\",\"\",INDEX(EF!$A$2:$A$112,MATCH(F920,EF!$C$2:$C$112,0)))","v":""},{"$f":"IF(F920=\"\",\"\",INDEX(EF!$B$2:$B$112,MATCH(F920,EF!$C$2:$C$112,0)))","v":""}]
["",null,null,{"$f":"IF(F921=\"\",\"\",INDEX(EF!$A$2:$A$112,MATCH(F921,EF!$C$2:$C$112,0)))","v":""},{"$f":"IF(F921=\"\",\"\",INDEX(EF!$B$2:$B$112,MATCH(F921,EF!$C$2:$C$112,0)))","v":""}]
["",null,null,{"$f":"IF(F922=\"\",\"\",INDEX(EF!$A$2:$A$112,MATCH(F922,EF!$C$2:$C$112,0)))","v":""},{"$f":"IF(F922=\"\",\"\",INDEX(EF!$B$2:$B$112,MATCH(F922,EF!$C$2:$C$112,0)))","v":""}]
["",null,null,{"$f":"IF(F923=\"\",\"\",INDEX(EF!$A$2:$A$112,MATCH(F923,EF!$C$2:$C$112,0)))","v":""},{"$f":"IF(F923=\"\",\"\",INDEX(EF!$B$2:$B$112,MATCH(F923,EF!$C$2:$C$112,0)))","v":""}]
["",null,null,{"$f":"IF(F924=\"\",\"\",INDEX(EF!$A$2:$A$112,MATCH(F924,EF!$C$2:$C$112,0)))","v":""},{"$f":"IF(F924=\"\",\"\",INDEX(EF!$B$2:$B$112,MATCH(F924,EF!$C$2:$C$112,0)))","v":""}]
["",null,null,{"$f":"IF(F925=\"\",\"\",INDEX(EF!$A$2:$A$112,MATCH(F925,EF!$C$2:$C$112,0)))","v":""},{"$f":"IF(F925=\"\",\"\",INDEX(EF!$B$2:$B$112,MATCH(F925,EF!$C$2:$C$112,0)))","v":""}]
[{"$f":"IF(B926>0,A925+1,\"\")","v":""},null,null,{"$f":"IF(F926=\"\",\"\",INDEX(EF!$A$2:$A$112,MATCH(F926,EF!$C$2:$C$112,0)))","v":""},{"$f":"IF(F926=\"\",\"\",INDEX(EF!$B$2:$B$112,MATCH(F926,EF!$C$2:$C$112,0)))","v":""}]
["",null,null,{"$f":"IF(F927=\"\",\"\",INDEX(EF!$A$2:$A$112,MATCH(F927,EF!$C$2:$C$112,0)))","v":""},{"$f":"IF(F927=\"\",\"\",INDEX(EF!$B$2:$B$112,MATCH(F927,EF!$C$2:$C$112,0)))","v":""}]
["",null,null,{"$f":"IF(F928=\"\",\"\",INDEX(EF!$A$2:$A$112,MATCH(F928,EF!$C$2:$C$112,0)))","v":""},{"$f":"IF(F928=\"\",\"\",INDEX(EF!$B$2:$B$112,MATCH(F928,EF!$C$2:$C$112,0)))","v":""}]
["",null,null,{"$f":"IF(F929=\"\",\"\",INDEX(EF!$A$2:$A$112,MATCH(F929,EF!$C$2:$C$112,0)))","v":""},{"$f":"IF(F929=\"\",\"\",INDEX(EF!$B$2:$B$112,MATCH(F929,EF!$C$2:$C$112,0)))","v":""}]
["",null,null,{"$f":"IF(F930=\"\",\"\",INDEX(EF!$A$2:$A$112,MATCH(F930,EF!$C$2:$C$112,0)))","v":""},{"$f":"IF(F930=\"\",\"\",INDEX(EF!$B$2:$B$112,MATCH(F930,EF!$C$2:$C$112,0)))","v":""}]
["",null,null,{"$f":"IF(F931=\"\",\"\",INDEX(EF!$A$2:$A$112,MATCH(F931,EF!$C$2:$C$112,0)))","v":""},{"$f":"IF(F931=\"\",\"\",INDEX(EF!$B$2:$B$112,MATCH(F931,EF!$C$2:$C$112,0)))","v":""}]
["",null,null,{"$f":"IF(F932=\"\",\"\",INDEX(EF!$A$2:$A$112,MATCH(F932,EF!$C$2:$C$112,0)))","v":""},{"$f":"IF(F932=\"\",\"\",INDEX(EF!$B$2:$B$112,MATCH(F932,EF!$C$2:$C$112,0)))","v":""}]
["",null,null,{"$f":"IF(F933=\"\",\"\",INDEX(EF!$A$2:$A$112,MATCH(F933,EF!$C$2:$C$112,0)))","v":""},{"$f":"IF(F933=\"\",\"\",INDEX(EF!$B$2:$B$112,MATCH(F933,EF!$C$2:$C$112,0)))","v":""}]
["",null,null,{"$f":"IF(F934=\"\",\"\",INDEX(EF!$A$2:$A$112,MATCH(F934,EF!$C$2:$C$112,0)))","v":""},{"$f":"IF(F934=\"\",\"\",INDEX(EF!$B$2:$B$112,MATCH(F934,EF!$C$2:$C$112,0)))","v":""}]
["",null,null,{"$f":"IF(F935=\"\",\"\",INDEX(EF!$A$2:$A$112,MATCH(F935,EF!$C$2:$C$112,0)))","v":""},{"$f":"IF(F935=\"\",\"\",INDEX(EF!$B$2:$B$112,MATCH(F935,EF!$C$2:$C$112,0)))","v":""}]
["",null,null,{"$f":"IF(F936=\"\",\"\",INDEX(EF!$A$2:$A$112,MATCH(F936,EF!$C$2:$C$112,0)))","v":""},{"$f":"IF(F936=\"\",\"\",INDEX(EF!$B$2:$B$112,MATCH(F936,EF!$C$2:$C$112,0)))","v":""}]
["",null,null,{"$f":"IF(F937=\"\",\"\",INDEX(EF!$A$2:$A$112,MATCH(F937,EF!$C$2:$C$112,0)))","v":""},{"$f":"IF(F937=\"\",\"\",INDEX(EF!$B$2:$B$112,MATCH(F937,EF!$C$2:$C$112,0)))","v":""}]
["",null,null,{"$f":"IF(F938=\"\",\"\",INDEX(EF!$A$2:$A$112,MATCH(F938,EF!$C$2:$C$112,0)))","v":""},{"$f":"IF(F938=\"\",\"\",INDEX(EF!$B$2:$B$112,MATCH(F938,EF!$C$2:$C$112,0)))","v":""}]
["",null,null,{"$f":"IF(F939=\"\",\"\",INDEX(EF!$A$2:$A$112,MATCH(F939,EF!$C$2:$C$112,0)))","v":""},{"$f":"IF(F939=\"\",\"\",INDEX(EF!$B$2:$B$112,MATCH(F939,EF!$C$2:$C$112,0)))","v":""}]
["",null,null,{"$f":"IF(F940=\"\",\"\",INDEX(EF!$A$2:$A$112,MATCH(F940,EF!$C$2:$C$112,0)))","v":""},{"$f":"IF(F940=\"\",\"\",INDEX(EF!$B$2:$B$112,MATCH(F940,EF!$C$2:$C$112,0)))","v":""}]
["",null,null,{"$f":"IF(F941=\"\",\"\",INDEX(EF!$A$2:$A$112,MATCH(F941,EF!$C$2:$C$112,0)))","v":""},{"$f":"IF(F941=\"\",\"\",INDEX(EF!$B$2:$B$112,MATCH(F941,EF!$C$2:$C$112,0)))","v":""}]
["",null,null,{"$f":"IF(F942=\"\",\"\",INDEX(EF!$A$2:$A$112,MATCH(F942,EF!$C$2:$C$112,0)))","v":""},{"$f":"IF(F942=\"\",\"\",INDEX(EF!$B$2:$B$112,MATCH(F942,EF!$C$2:$C$112,0)))","v":""}]
["",null,null,{"$f":"IF(F943=\"\",\"\",INDEX(EF!$A$2:$A$112,MATCH(F943,EF!$C$2:$C$112,0)))","v":""},{"$f":"IF(F943=\"\",\"\",INDEX(EF!$B$2:$B$112,MATCH(F943,EF!$C$2:$C$112,0)))","v":""}]
["",null,null,{"$f":"IF(F944=\"\",\"\",INDEX(EF!$A$2:$A$112,MATCH(F944,EF!$C$2:$C$112,0)))","v":""},{"$f":"IF(F944=\"\",\"\",INDEX(EF!$B$2:$B$112,MATCH(F944,EF!$C$2:$C$112,0)))","v":""}]
["",null,null,{"$f":"IF(F945=\"\",\"\",INDEX(EF!$A$2:$A$112,MATCH(F945,EF!$C$2:$C$112,0)))","v":""},{"$f":"IF(F945=\"\",\"\",INDEX(EF!$B$2:$B$112,MATCH(F945,EF!$C$2:$C$112,0)))","v":""}]
["",null,null,{"$f":"IF(F946=\"\",\"\",INDEX(EF!$A$2:$A$112,MATCH(F946,EF!$C$2:$C$112,0)))","v":""},{"$f":"IF(F946=\"\",\"\",INDEX(EF!$B$2:$B$112,MATCH(F946,EF!$C$2:$C$112,0)))","v":""}]
["",null,null,{"$f":"IF(F947=\"\",\"\",INDEX(EF!$A$2:$A$112,MATCH(F947,EF!$C$2:$C$112,0)))","v":""},{"$f":"IF(F947=\"\",\"\",INDEX(EF!$B$2:$B$112,MATCH(F947,EF!$C$2:$C$112,0)))","v":""}]
["",null,null,{"$f":"IF(F948=\"\",\"\",INDEX(EF!$A$2:$A$112,MATCH(F948,EF!$C$2:$C$112,0)))","v":""},{"$f":"IF(F948=\"\",\"\",INDEX(EF!$B$2:$B$112,MATCH(F948,EF!$C$2:$C$112,0)))","v":""}]
["",null,null,{"$f":"IF(F949=\"\",\"\",INDEX(EF!$A$2:$A$112,MATCH(F949,EF!$C$2:$C$112,0)))","v":""},{"$f":"IF(F949=\"\",\"\",INDEX(EF!$B$2:$B$112,MATCH(F949,EF!$C$2:$C$112,0)))","v":""}]
["",null,null,{"$f":"IF(F950=\"\",\"\",INDEX(EF!$A$2:$A$112,MATCH(F950,EF!$C$2:$C$112,0)))","v":""},{"$f":"IF(F950=\"\",\"\",INDEX(EF!$B$2:$B$112,MATCH(F950,EF!$C$2:$C$112,0)))","v":""}]
["",null,null,{"$f":"IF(F951=\"\",\"\",INDEX(EF!$A$2:$A$112,MATCH(F951,EF!$C$2:$C$112,0)))","v":""},{"$f":"IF(F951=\"\",\"\",INDEX(EF!$B$2:$B$112,MATCH(F951,EF!$C$2:$C$112,0)))","v":""}]
["",null,null,{"$f":"IF(F952=\"\",\"\",INDEX(EF!$A$2:$A$112,MATCH(F952,EF!$C$2:$C$112,0)))","v":""},{"$f":"IF(F952=\"\",\"\",INDEX(EF!$B$2:$B$112,MATCH(F952,EF!$C$2:$C$112,0)))","v":""}]
["",null,null,{"$f":"IF(F953=\"\",\"\",INDEX(EF!$A$2:$A$112,MATCH(F953,EF!$C$2:$C$112,0)))","v":""},{"$f":"IF(F953=\"\",\"\",INDEX(EF!$B$2:$B$112,MATCH(F953,EF!$C$2:$C$112,0)))","v":""}]
["",null,null,{"$f":"IF(F954=\"\",\"\",INDEX(EF!$A$2:$A$112,MATCH(F954,EF!$C$2:$C$112,0)))","v":""},{"$f":"IF(F954=\"\",\"\",INDEX(EF!$B$2:$B$112,MATCH(F954,EF!$C$2:$C$112,0)))","v":""}]
["",null,null,{"$f":"IF(F955=\"\",\"\",INDEX(EF!$A$2:$A$112,MATCH(F955,EF!$C$2:$C$112,0)))","v":""},{"$f":"IF(F955=\"\",\"\",INDEX(EF!$B$2:$B$112,MATCH(F955,EF!$C$2:$C$112,0)))","v":""}]
["",null,null,{"$f":"IF(F956=\"\",\"\",INDEX(EF!$A$2:$A$112,MATCH(F956,EF!$C$2:$C$112,0)))","v":""},{"$f":"IF(F956=\"\",\"\",INDEX(EF!$B$2:$B$112,MATCH(F956,EF!$C$2:$C$112,0)))","v":""}]
["",null,null,{"$f":"IF(F957=\"\",\"\",INDEX(EF!$A$2:$A$112,MATCH(F957,EF!$C$2:$C$112,0)))","v":""},{"$f":"IF(F957=\"\",\"\",INDEX(EF!$B$2:$B$112,MATCH(F957,EF!$C$2:$C$112,0)))","v":""}]
["",null,null,{"$f":"IF(F958=\"\",\"\",INDEX(EF!$A$2:$A$112,MATCH(F958,EF!$C$2:$C$112,0)))","v":""},{"$f":"IF(F958=\"\",\"\",INDEX(EF!$B$2:$B$112,MATCH(F958,EF!$C$2:$C$112,0)))","v":""}]
["",null,null,{"$f":"IF(F959=\"\",\"\",INDEX(EF!$A$2:$A$112,MATCH(F959,EF!$C$2:$C$112,0)))","v":""},{"$f":"IF(F959=\"\",\"\",INDEX(EF!$B$2:$B$112,MATCH(F959,EF!$C$2:$C$112,0)))","v":""}]
["",null,null,{"$f":"IF(F960=\"\",\"\",INDEX(EF!$A$2:$A$112,MATCH(F960,EF!$C$2:$C$112,0)))","v":""},{"$f":"IF(F960=\"\",\"\",INDEX(EF!$B$2:$B$112,MATCH(F960,EF!$C$2:$C$112,0)))","v":""}]
["",null,null,{"$f":"IF(F961=\"\",\"\",INDEX(EF!$A$2:$A$112,MATCH(F961,EF!$C$2:$C$112,0)))","v":""},{"$f":"IF(F961=\"\",\"\",INDEX(EF!$B$2:$B$112,MATCH(F961,EF!$C$2:$C$112,0)))","v":""}]
["",null,null,{"$f":"IF(F962=\"\",\"\",INDEX(EF!$A$2:$A$112,MATCH(F962,EF!$C$2:$C$112,0)))","v":""},{"$f":"IF(F962=\"\",\"\",INDEX(EF!$B$2:$B$112,MATCH(F962,EF!$C$2:$C$112,0)))","v":""}]
["",null,null,{"$f":"IF(F963=\"\",\"\",INDEX(EF!$A$2:$A$112,MATCH(F963,EF!$C$2:$C$112,0)))","v":""},{"$f":"IF(F963=\"\",\"\",INDEX(EF!$B$2:$B$112,MATCH(F963,EF!$C$2:$C$112,0)))","v":""}]
["",null,null,{"$f":"IF(F964=\"\",\"\",INDEX(EF!$A$2:$A$112,MATCH(F964,EF!$C$2:$C$112,0)))","v":""},{"$f":"IF(F964=\"\",\"\",INDEX(EF!$B$2:$B$112,MATCH(F964,EF!$C$2:$C$112,0)))","v":""}]
["",null,null,{"$f":"IF(F965=\"\",\"\",INDEX(EF!$A$2:$A$112,MATCH(F965,EF!$C$2:$C$112,0)))","v":""},{"$f":"IF(F965=\"\",\"\",INDEX(EF!$B$2:$B$112,MATCH(F965,EF!$C$2:$C$112,0)))","v":""}]
["",null,null,{"$f":"IF(F966=\"\",\"\",INDEX(EF!$A$2:$A$112,MATCH(F966,EF!$C$2:$C$112,0)))","v":""},{"$f":"IF(F966=\"\",\"\",INDEX(EF!$B$2:$B$112,MATCH(F966,EF!$C$2:$C$112,0)))","v":""}]
["",null,null,{"$f":"IF(F967=\"\",\"\",INDEX(EF!$A$2:$A$112,MATCH(F967,EF!$C$2:$C$112,0)))","v":""},{"$f":"IF(F967=\"\",\"\",INDEX(EF!$B$2:$B$112,MATCH(F967,EF!$C$2:$C$112,0)))","v":""}]
["",null,null,{"$f":"IF(F968=\"\",\"\",INDEX(EF!$A$2:$A$112,MATCH(F968,EF!$C$2:$C$112,0)))","v":""},{"$f":"IF(F968=\"\",\"\",INDEX(EF!$B$2:$B$112,MATCH(F968,EF!$C$2:$C$112,0)))","v":""}]
["",null,null,{"$f":"IF(F969=\"\",\"\",INDEX(EF!$A$2:$A$112,MATCH(F969,EF!$C$2:$C$112,0)))","v":""},{"$f":"IF(F969=\"\",\"\",INDEX(EF!$B$2:$B$112,MATCH(F969,EF!$C$2:$C$112,0)))","v":""}]
["",null,null,{"$f":"IF(F970=\"\",\"\",INDEX(EF!$A$2:$A$112,MATCH(F970,EF!$C$2:$C$112,0)))","v":""},{"$f":"IF(F970=\"\",\"\",INDEX(EF!$B$2:$B$112,MATCH(F970,EF!$C$2:$C$112,0)))","v":""}]
["",null,null,{"$f":"IF(F971=\"\",\"\",INDEX(EF!$A$2:$A$112,MATCH(F971,EF!$C$2:$C$112,0)))","v":""},{"$f":"IF(F971=\"\",\"\",INDEX(EF!$B$2:$B$112,MATCH(F971,EF!$C$2:$C$112,0)))","v":""}]
["",null,null,{"$f":"IF(F972=\"\",\"\",INDEX(EF!$A$2:$A$112,MATCH(F972,EF!$C$2:$C$112,0)))","v":""},{"$f":"IF(F972=\"\",\"\",INDEX(EF!$B$2:$B$112,MATCH(F972,EF!$C$2:$C$112,0)))","v":""}]
["",null,null,{"$f":"IF(F973=\"\",\"\",INDEX(EF!$A$2:$A$112,MATCH(F973,EF!$C$2:$C$112,0)))","v":""},{"$f":"IF(F973=\"\",\"\",INDEX(EF!$B$2:$B$112,MATCH(F973,EF!$C$2:$C$112,0)))","v":""}]
["",null,null,{"$f":"IF(F974=\"\",\"\",INDEX(EF!$A$2:$A$112,MATCH(F974,EF!$C$2:$C$112,0)))","v":""},{"$f":"IF(F974=\"\",\"\",INDEX(EF!$B$2:$B$112,MATCH(F974,EF!$C$2:$C$112,0)))","v":""}]
["",null,null,{"$f":"IF(F975=\"\",\"\",INDEX(EF!$A$2:$A$112,MATCH(F975,EF!$C$2:$C$112,0)))","v":""},{"$f":"IF(F975=\"\",\"\",INDEX(EF!$B$2:$B$112,MATCH(F975,EF!$C$2:$C$112,0)))","v":""}]
["",null,null,{"$f":"IF(F976=\"\",\"\",INDEX(EF!$A$2:$A$112,MATCH(F976,EF!$C$2:$C$112,0)))","v":""},{"$f":"IF(F976=\"\",\"\",INDEX(EF!$B$2:$B$112,MATCH(F976,EF!$C$2:$C$112,0)))","v":""}]
["",null,null,{"$f":"IF(F977=\"\",\"\",INDEX(EF!$A$2:$A$112,MATCH(F977,EF!$C$2:$C$112,0)))","v":""},{"$f":"IF(F977=\"\",\"\",INDEX(EF!$B$2:$B$112,MATCH(F977,EF!$C$2:$C$112,0)))","v":""}]
["",null,null,{"$f":"IF(F978=\"\",\"\",INDEX(EF!$A$2:$A$112,MATCH(F978,EF!$C$2:$C$112,0)))","v":""},{"$f":"IF(F978=\"\",\"\",INDEX(EF!$B$2:$B$112,MATCH(F978,EF!$C$2:$C$112,0)))","v":""}]
["",null,null,{"$f":"IF(F979=\"\",\"\",INDEX(EF!$A$2:$A$112,MATCH(F979,EF!$C$2:$C$112,0)))","v":""},{"$f":"IF(F979=\"\",\"\",INDEX(EF!$B$2:$B$112,MATCH(F979,EF!$C$2:$C$112,0)))","v":""}]
["",null,null,{"$f":"IF(F980=\"\",\"\",INDEX(EF!$A$2:$A$112,MATCH(F980,EF!$C$2:$C$112,0)))","v":""},{"$f":"IF(F980=\"\",\"\",INDEX(EF!$B$2:$B$112,MATCH(F980,EF!$C$2:$C$112,0)))","v":""}]
["",null,null,{"$f":"IF(F981=\"\",\"\",INDEX(EF!$A$2:$A$112,MATCH(F981,EF!$C$2:$C$112,0)))","v":""},{"$f":"IF(F981=\"\",\"\",INDEX(EF!$B$2:$B$112,MATCH(F981,EF!$C$2:$C$112,0)))","v":""}]
["",null,null,{"$f":"IF(F982=\"\",\"\",INDEX(EF!$A$2:$A$112,MATCH(F982,EF!$C$2:$C$112,0)))","v":""},{"$f":"IF(F982=\"\",\"\",INDEX(EF!$B$2:$B$112,MATCH(F982,EF!$C$2:$C$112,0)))","v":""}]
["",null,null,{"$f":"IF(F983=\"\",\"\",INDEX(EF!$A$2:$A$112,MATCH(F983,EF!$C$2:$C$112,0)))","v":""},{"$f":"IF(F983=\"\",\"\",INDEX(EF!$B$2:$B$112,MATCH(F983,EF!$C$2:$C$112,0)))","v":""}]
["",null,null,{"$f":"IF(F984=\"\",\"\",INDEX(EF!$A$2:$A$112,MATCH(F984,EF!$C$2:$C$112,0)))","v":""},{"$f":"IF(F984=\"\",\"\",INDEX(EF!$B$2:$B$112,MATCH(F984,EF!$C$2:$C$112,0)))","v":""}]
["",null,null,{"$f":"IF(F985=\"\",\"\",INDEX(EF!$A$2:$A$112,MATCH(F985,EF!$C$2:$C$112,0)))","v":""},{"$f":"IF(F985=\"\",\"\",INDEX(EF!$B$2:$B$112,MATCH(F985,EF!$C$2:$C$112,0)))","v":""}]
["",null,null,{"$f":"IF(F986=\"\",\"\",INDEX(EF!$A$2:$A$112,MATCH(F986,EF!$C$2:$C$112,0)))","v":""},{"$f":"IF(F986=\"\",\"\",INDEX(EF!$B$2:$B$112,MATCH(F986,EF!$C$2:$C$112,0)))","v":""}]
["",null,null,{"$f":"IF(F987=\"\",\"\",INDEX(EF!$A$2:$A$112,MATCH(F987,EF!$C$2:$C$112,0)))","v":""},{"$f":"IF(F987=\"\",\"\",INDEX(EF!$B$2:$B$112,MATCH(F987,EF!$C$2:$C$112,0)))","v":""}]
["",null,null,{"$f":"IF(F988=\"\",\"\",INDEX(EF!$A$2:$A$112,MATCH(F988,EF!$C$2:$C$112,0)))","v":""},{"$f":"IF(F988=\"\",\"\",INDEX(EF!$B$2:$B$112,MATCH(F988,EF!$C$2:$C$112,0)))","v":""}]
["",null,null,{"$f":"IF(F989=\"\",\"\",INDEX(EF!$A$2:$A$112,MATCH(F989,EF!$C$2:$C$112,0)))","v":""},{"$f":"IF(F989=\"\",\"\",INDEX(EF!$B$2:$B$112,MATCH(F989,EF!$C$2:$C$112,0)))","v":""}]
[{"$f":"IF(B990>0,A989+1,\"\")","v":""},null,null,{"$f":"IF(F990=\"\",\"\",INDEX(EF!$A$2:$A$112,MATCH(F990,EF!$C$2:$C$112,0)))","v":""},{"$f":"IF(F990=\"\",\"\",INDEX(EF!$B$2:$B$112,MATCH(F990,EF!$C$2:$C$112,0)))","v":""}]
["",null,null,{"$f":"IF(F991=\"\",\"\",INDEX(EF!$A$2:$A$112,MATCH(F991,EF!$C$2:$C$112,0)))","v":""},{"$f":"IF(F991=\"\",\"\",INDEX(EF!$B$2:$B$112,MATCH(F991,EF!$C$2:$C$112,0)))","v":""}]
["",null,null,{"$f":"IF(F992=\"\",\"\",INDEX(EF!$A$2:$A$112,MATCH(F992,EF!$C$2:$C$112,0)))","v":""},{"$f":"IF(F992=\"\",\"\",INDEX(EF!$B$2:$B$112,MATCH(F992,EF!$C$2:$C$112,0)))","v":""}]
["",null,null,{"$f":"IF(F993=\"\",\"\",INDEX(EF!$A$2:$A$112,MATCH(F993,EF!$C$2:$C$112,0)))","v":""},{"$f":"IF(F993=\"\",\"\",INDEX(EF!$B$2:$B$112,MATCH(F993,EF!$C$2:$C$112,0)))","v":""}]
["",null,null,{"$f":"IF(F994=\"\",\"\",INDEX(EF!$A$2:$A$112,MATCH(F994,EF!$C$2:$C$112,0)))","v":""},{"$f":"IF(F994=\"\",\"\",INDEX(EF!$B$2:$B$112,MATCH(F994,EF!$C$2:$C$112,0)))","v":""}]
["",null,null,{"$f":"IF(F995=\"\",\"\",INDEX(EF!$A$2:$A$112,MATCH(F995,EF!$C$2:$C$112,0)))","v":""},{"$f":"IF(F995=\"\",\"\",INDEX(EF!$B$2:$B$112,MATCH(F995,EF!$C$2:$C$112,0)))","v":""}]
["",null,null,{"$f":"IF(F996=\"\",\"\",INDEX(EF!$A$2:$A$112,MATCH(F996,EF!$C$2:$C$112,0)))","v":""},{"$f":"IF(F996=\"\",\"\",INDEX(EF!$B$2:$B$112,MATCH(F996,EF!$C$2:$C$112,0)))","v":""}]
["",null,null,{"$f":"IF(F997=\"\",\"\",INDEX(EF!$A$2:$A$112,MATCH(F997,EF!$C$2:$C$112,0)))","v":""},{"$f":"IF(F997=\"\",\"\",INDEX(EF!$B$2:$B$112,MATCH(F997,EF!$C$2:$C$112,0)))","v":""}]
["",null,null,{"$f":"IF(F998=\"\",\"\",INDEX(EF!$A$2:$A$112,MATCH(F998,EF!$C$2:$C$112,0)))","v":""},{"$f":"IF(F998=\"\",\"\",INDEX(EF!$B$2:$B$112,MATCH(F998,EF!$C$2:$C$112,0)))","v":""}]
[{"$f":"IF(B999>0,A998+1,\"\")","v":""},null,null,{"$f":"IF(F999=\"\",\"\",INDEX(EF!$A$2:$A$112,MATCH(F999,EF!$C$2:$C$112,0)))","v":""},{"$f":"IF(F999=\"\",\"\",INDEX(EF!$B$2:$B$112,MATCH(F999,EF!$C$2:$C$112,0)))","v":""}]
["",null,null,{"$f":"IF(F1000=\"\",\"\",INDEX(EF!$A$2:$A$112,MATCH(F1000,EF!$C$2:$C$112,0)))","v":""},{"$f":"IF(F1000=\"\",\"\",INDEX(EF!$B$2:$B$112,MATCH(F1000,EF!$C$2:$C$112,0)))","v":""}]
["",null,null,{"$f":"IF(F1001=\"\",\"\",INDEX(EF!$A$2:$A$112,MATCH(F1001,EF!$C$2:$C$112,0)))","v":""},{"$f":"IF(F1001=\"\",\"\",INDEX(EF!$B$2:$B$112,MATCH(F1001,EF!$C$2:$C$112,0)))","v":""}]
["",null,null,{"$f":"IF(F1002=\"\",\"\",INDEX(EF!$A$2:$A$112,MATCH(F1002,EF!$C$2:$C$112,0)))","v":""},{"$f":"IF(F1002=\"\",\"\",INDEX(EF!$B$2:$B$112,MATCH(F1002,EF!$C$2:$C$112,0)))","v":""}]

{"sheet":"F18A","index":11,"n_rows":70,"n_cols":7,"rows_kept":70,"cut":false,"hidden":true,"merged":[[0,0,0,6],[1,0,1,6],[2,0,2,6],[3,0,3,6],[5,0,6,0],[5,1,5,5],[5,6,6,6],[63,0,64,6],[67,0,68,1],[67,3,68,5],[69,0,70,1],[69,3,70,5]]}
[{"$f":"Validacion!A2","v":"Ayutla"}]
["ESTADO ANALÍTICO DEL EJERCICIO DEL PRESUPUESTO DE EGRESOS DETALLADO - LDF"]
["CLASIFICACIÓN ADMINISTRATIVA"]
[{"$f":"'F6'!A3","v":"Del 1° de Enero al 30 de Septiembre de 2023"}]
[]
["CONCEPTO","EGRESOS",null,null,null,null,"SUBEJERCICIO"]
[null,"APROBADO","AMPLIACIONES/\n(REDUCCIONES)","MODIFICADO","DEVENGADO","PAGADO"]
["I. GASTO NO ETIQUETADO"]
[null,null,null,{"$f":"B9+C9","v":0},null,null,{"$f":"D9-E9","v":0}]
[null,null,null,{"$f":"B10+C10","v":0},null,null,{"$f":"D10-E10","v":0}]
[null,null,null,0,null,null,0]
[null,null,null,0,null,null,0]
[null,null,null,0,null,null,0]
[null,null,null,0,null,null,0]
[null,null,null,0,null,null,0]
[null,null,null,0,null,null,0]
[null,null,null,0,null,null,0]
[null,null,null,0,null,null,0]
[null,null,null,0,null,null,0]
[null,null,null,0,null,null,0]
[null,null,null,0,null,null,0]
[null,null,null,0,null,null,0]
[null,null,null,0,null,null,0]
[null,null,null,0,null,null,0]
[null,null,null,0,null,null,0]
[null,null,null,0,null,null,0]
[null,null,null,0,null,null,0]
[null,null,null,0,null,null,0]
[null,null,null,0,null,null,0]
[null,null,null,0,null,null,0]
[null,null,null,0,null,null,0]
[null,null,null,0,null,null,0]
[null,null,null,0,null,null,0]
["TOTAL DEL GASTO NO ETIQUETADO",{"$f":"SUM(B8:B33)","v":0},{"$f":"SUM(C8:C33)","v":0},0,0,0,0]
["II. GASTO ETIQUETADO"]
[null,null,null,{"$f":"B36+C36","v":0},null,null,{"$f":"D36-E36","v":0}]
[null,null,null,{"$f":"B37+C37","v":0},null,null,{"$f":"D37-E37","v":0}]
[null,null,null,0,null,null,0]
[null,null,null,0,null,null,0]
[null,null,null,0,null,null,0]
[null,null,null,0,null,null,0]
[null,null,null,0,null,null,0]
[null,null,null,0,null,null,0]
[null,null,null,0,null,null,0]
[null,null,null,0,null,null,0]
[null,null,null,0,null,null,0]
[null,null,null,0,null,null,0]
[null,null,null,0,null,null,0]
[null,null,null,0,null,null,0]
[null,null,null,0,null,null,0]
[null,null,null,0,null,null,0]
[null,null,null,0,null,null,0]
[null,null,null,0,null,null,0]
[null,null,null,0,null,null,0]
[null,null,null,0,null,null,0]
[null,null,null,0,null,null,0]
[null,null,null,0,null,null,0]
[null,null,null,0,null,null,0]
[null,null,null,0,null,null,0]
[null,null,null,0,null,null,0]
["TOTAL DEL GASTO ETIQUETADO",{"$f":"SUM(B35:B60)","v":0},{"$f":"SUM(C35:C60)","v":0},0,0,0,0]
["TOTAL DEL GASTO",{"$f":"B34+B61","v":0},{"$f":"C34+C61","v":0},0,0,0,0]
[]
["Bajo protesta de decir verdad declaramos que los estados financieros y sus notas, son razonablemente correctos y son responsabilidad del emisor."]
[]
[]
[]
[{"$f":"Validacion!A7","v":"C. José Ángel Prudencio Vargas"},null,null,{"$f":"Validacion!A9","v":"L.C.P. Regina Itzel Bedoya Cruz"}]
[]
["Presidente Municipal o titular del ente público",null,null,"Encargado de la Hacienda Municipal\n o Responsable de las finanzas del ente público"]

{"sheet":"F19A","index":12,"n_rows":83,"n_cols":9,"rows_kept":83,"cut":false,"hidden":true,"merged":[[0,1,0,9],[1,1,1,8],[2,1,2,8],[3,2,3,9],[5,3,5,7],[5,8,6,8],[80,4,81,7],[82,2,83,2],[82,4,83,7],[5,0,6,2],[51,1,51,2],[59,1,59,2],[69,1,69,2],[17,1,17,2],[25,1,25,2],[35,1,35,2],[80,2,81,2]]}
[null,{"$f":"Validacion!A2","v":"Ayutla"}]
[null,"ESTADO ANALÍTICO DEL EJERCICIO DEL PRESUPUESTO DE EGRESOS DETALLADO - LDF"]
[null,"CLASIFICACIÓN FUNCIONAL (FINALIDAD Y FUNCIÓN)"]
[null,null,{"$f":"'F6'!A3","v":"Del 1° de Enero al 30 de Septiembre de 2023"}]
[]
["CONCEPTO",null,null,"EGRESOS",null,null,null,null,"SUBEJERCICIO"]
[null,null,null,"APROBADO","AMPLIACIONES/\n(REDUCCIONES)","MODIFICADO","DEVENGADO","PAGADO"]
["I","GASTO NO ETIQUETADO"]
[null,"A Gobierno",null,{"$f":"SUM(D10:D17)","v":0},{"$f":"SUM(E10:E17)","v":0},{"$f":"D9+E9","v":0},{"$f":"SUM(G10:G17)","v":0},0,{"$f":"F9-G9","v":0}]
[null,null,"Legislación",null,null,{"$f":"D10+E10","v":0},null,null,{"$f":"F10-G10","v":0}]
[null,null,"Justicia",null,null,0,null,null,0]
[null,null,"Coordinación de la política de gobierno",null,null,0,null,null,0]
[null,null,"Relaciones exteriores",null,null,0,null,null,0]
[null,null,"Asuntos financieros y hacendarios",null,null,0,null,null,0]
[null,null,"Seguridad nacional",null,null,0,null,null,0]
[null,null,"Asuntos de orden público y de seguridad interior",null,null,0,null,null,0]
[null,null,"Otros servicios generales",null,null,0,null,null,0]
[null,"B Desarrollo social",null,{"$f":"SUM(D19:D25)","v":0},{"$f":"SUM(E19:E25)","v":0},0,{"$f":"SUM(G19:G25)","v":0},0,0]
[null,null,"Protección ambiental",null,null,0,null,null,0]
[null,null,"Vivienda y servicios a la comunidad",null,null,0,null,null,0]
[null,null,"Salud",null,null,0,null,null,0]
[null,null,"Recreación, cultura y otras manifestaciones sociales",null,null,0,null,null,0]
[null,null,"Educación",null,null,0,null,null,0]
[null,null,"Protección social",null,null,0,null,null,0]
[null,null,"Otros asuntos sociales",null,null,0,null,null,0]
[null,"C Desarrollo económico",null,{"$f":"SUM(D27:D35)","v":0},{"$f":"SUM(E27:E35)","v":0},0,{"$f":"SUM(G27:G35)","v":0},0,0]
[null,null,"Asuntos económicos, comerciales y laborales en general",null,null,0,null,null,0]
[null,null,"Agropecuaria, silvicultura, pesca y caza",null,null,0,null,null,0]
[null,null,"Combustibles y energía",null,null,0,null,null,0]
[null,null,"Minería, manufacturas y construcción",null,null,0,null,null,0]
[null,null,"Transporte",null,null,0,null,null,0]
[null,null,"Comunicaciones",null,null,0,null,null,0]
[null,null,"Turismo",null,null,0,null,null,0]
[null,null,"Ciencia, tecnología e innovación",null,null,0,null,null,0]
[null,null,"Otras industrias y otros asuntos económicos",null,null,0,null,null,0]
[null,"D Otras no clasificadas en fdunciones anteriores",null,{"$f":"SUM(D37:D40)","v":0},{"$f":"SUM(E37:E40)","v":0},0,{"$f":"SUM(G37:G40)","v":0},{"$f":"SUM(H37:H40)","v":0},0]
[null,null,"Transacciones de la deuda publica / costo financiero de la deuda",null,null,0,null,null,0]
[null,null,"Transferencias, participaciones y aportaciones entre diferentes niveles y órdenes de gobierno",null,null,0,null,null,0]
[null,null,"Saneamiento del sistema financiero",null,null,0,null,null,0]
[null,null,"Adeudos de ejercicios fiscales anteriores",null,null,0,null,null,0]
[null,null,"TOTAL DEL GASTO NO ETIQUETADO",{"$f":"D9+D18+D26+D36","v":0},{"$f":"E9+E18+E26+E36","v":0},0,{"$f":"G9+G18+G26+G36","v":0},{"$f":"H9+H18+H26+H36","v":0},0]
["II","GASTO ETIQUETADO"]
[null,"A Gobierno",null,{"$f":"SUM(D44:D51)","v":0},{"$f":"SUM(E44:E51)","v":0},{"$f":"D43+E43","v":0},{"$f":"SUM(G44:G51)","v":0},0,{"$f":"F43-G43","v":0}]
[null,null,"Legislación",null,null,{"$f":"D44+E44","v":0},null,null,{"$f":"F44-G44","v":0}]
[null,null,"Justicia",null,null,0,null,null,0]
[null,null,"Coordinación de la política de gobierno",null,null,0,null,null,0]
[null,null,"Relaciones exteriores",null,null,0,null,null,0]
[null,null,"Asuntos financieros y hacendarios",null,null,0,null,null,0]
[null,null,"Seguridad nacional",null,null,0,null,null,0]
[null,null,"Asuntos de orden público y de seguridad interior",null,null,0,null,null,0]
[null,null,"Otros servicios generales",null,null,0,null,null,0]
[null,"B Desarrollo social",null,{"$f":"SUM(D53:D59)","v":0},{"$f":"SUM(E53:E59)","v":0},0,{"$f":"SUM(G53:G59)","v":0},0,0]
[null,null,"Protección ambiental",null,null,0,null,null,0]
[null,null,"Vivienda y servicios a la comunidad",null,null,0,null,null,0]
[null,null,"Salud",null,null,0,null,null,0]
[null,null,"Recreación, cultura y otras manifestaciones sociales",null,null,0,null,null,0]
[null,null,"Educación",null,null,0,null,null,0]
[null,null,"Protección social",null,null,0,null,null,0]
[null,null,"Otros asuntos sociales",null,null,0,null,null,0]
[null,"C Desarrollo económico",null,{"$f":"SUM(D61:D69)","v":0},{"$f":"SUM(E61:E69)","v":0},0,{"$f":"SUM(G61:G69)","v":0},0,0]
[null,null,"Asuntos económicos, comerciales y laborales en general",null,null,0,null,null,0]
[null,null,"Agropecuaria, silvicultura, pesca y caza",null,null,0,null,null,0]
[null,null,"Combustibles y energía",null,null,0,null,null,0]
[null,null,"Minería, manufacturas y construcción",null,null,0,null,null,0]
[null,null,"Transporte",null,null,0,null,null,0]
[null,null,"Comunicaciones",null,null,0,null,null,0]
[null,null,"Turismo",null,null,0,null,null,0]
[null,null,"Ciencia, tecnología e innovación",null,null,0,null,null,0]
[null,null,"Otras industrias y otros asuntos económicos",null,null,0,null,null,0]
[null,"D Otras no clasificadas en fdunciones anteriores",null,{"$f":"SUM(D71:D74)","v":0},{"$f":"SUM(E71:E74)","v":0},0,{"$f":"SUM(G71:G74)","v":0},{"$f":"SUM(H71:H74)","v":0},0]
[null,null,"Transacciones de la deuda publica / costo financiero de la deuda",null,null,0,null,null,0]
[null,null,"Transferencias, participaciones y aportaciones entre diferentes niveles y órdenes de gobierno",null,null,0,null,null,0]
[null,null,"Saneamiento del sistema financiero",null,null,0,null,null,0]
[null,null,"Adeudos de ejercicios fiscales anteriores",null,null,0,null,null,0]
[null,null,"TOTAL DEL GASTO ETIQUETADO",{"$f":"D43+D52+D60+D70","v":0},{"$f":"E43+E52+E60+E70","v":0},{"$f":"D75+E75","v":0},{"$f":"G43+G52+G60+G70","v":0},{"$f":"H43+H52+H60+H70","v":0},0]
[null,null,"TOTAL DEL GASTO",{"$f":"D41+D75","v":0},{"$f":"E41+E75","v":0},{"$f":"F41+F75","v":0},0,0,0]
[]
[null,"Bajo protesta de decir verdad declaramos que los estados financieros y sus notas, son razonablemente correctos y son responsabilidad del emisor."]
[]
[]
[null,null,{"$f":"Validacion!A7","v":"C. José Ángel Prudencio Vargas"},null,{"$f":"Validacion!A9","v":"L.C.P. Regina Itzel Bedoya Cruz"}]
[]
[null,null,"Presidente Municipal o titular del ente público",null,"Encargado de la Hacienda Municipal\n o Responsable de las finanzas del ente público"]

{"sheet":"F21","index":13,"n_rows":39,"n_cols":9,"rows_kept":39,"cut":false,"hidden":true,"merged":[[2,0,2,8],[5,0,6,2],[38,2,39,2],[38,5,39,7],[0,0,0,8],[1,0,1,8],[3,0,3,8],[4,0,4,8],[5,3,5,7],[5,8,6,8],[36,2,37,2],[36,5,37,7],[7,1,7,2],[19,1,19,2],[31,1,31,2]]}
[{"$f":"Validacion!A2","v":"Ayutla"}]
["ESTADO ANALÍTICO DEL EJERCICIO DEL PRESPUESTO DE EGRESOS DETALLADO - LDF"]
["CLASIFICACIÓN DE SERVICIOS PERSONALES POR CATEGORÍA"]
[{"$f":"'F6'!A3","v":"Del 1° de Enero al 30 de Septiembre de 2023"}]
[]
["CONCEPTO",null,null,"EGRESOS",null,null,null,null,"SUBEJERCICIO"]
[null,null,null,"APROBADO","AMPLIACIONES/\n(REDUCCIONES)","MODFICADO","DEVENGADO","PAGADO"]
["I","GASTOS NO ETIQUETADOS"]
[null,"A","Personal administrativo y de servicio público",null,null,{"$f":"D9+E9","v":0},null,null,{"$f":"F9-G9","v":0}]
[null,"B","Magisterio",null,null,{"$f":"D10+E10","v":0},null,null,{"$f":"F10-G10","v":0}]
[null,"C","Servicios de salud",{"$f":"D12+D13","v":0},{"$f":"E12+E13","v":0},0,{"$f":"G12+G13","v":0},{"$f":"H12+H13","v":0},0]
[null,null,"Personal administrativo ",null,null,0,null,null,0]
[null,null,"Personal médico, paramédico y afín",null,null,0,null,null,0]
[null,"D","Seguridad pública",null,null,0,null,null,0]
[null,"E","Gastos asociados a la implementación  de nuevas leyes federales o reformas a las mismas",{"$f":"D16+D17","v":0},{"$f":"E16+E17","v":0},0,{"$f":"G16+G17","v":0},{"$f":"H16+H17","v":0},0]
[null,null,"Nombre del programa o ley",null,null,0,null,null,0]
[null,null,"Nombre del programa o ley",null,null,0,null,null,0]
[null,"F","Sentencias laborales definitivas",null,null,0,null,null,0]
[null,null,"TOTAL DEL GASTO NO ETIQUETADO",{"$f":"D9+D10+D11+D14+D15+D18","v":0},{"$f":"E9+E10+E11+E14+E15+E18","v":0},0,0,0,0]
["II","GASTOS ETIQUETADOS"]
[null,"A","Personal administrativo y de servicio público",null,null,{"$f":"D21+E21","v":0},null,null,{"$f":"F21-G21","v":0}]
[null,"B","Magisterio",null,null,{"$f":"D22+E22","v":0},null,null,0]
[null,"C","Servicios de salud",{"$f":"D24+D25","v":0},{"$f":"E24+E25","v":0},{"$f":"D23+E23","v":0},{"$f":"G24+G25","v":0},0,0]
[null,null,"Personal administrativo ",null,null,{"$f":"D24+E24","v":0},null,null,0]
[null,null,"Personal médico, paramédico y afín",null,null,0,null,null,0]
[null,"D","Seguridad pública",null,null,{"$f":"D26+E26","v":0},null,null,0]
[null,"E","Gastos asociados a la implementación  de nuevas leyes federales o reformas a las mismas",{"$f":"D28+D29","v":0},{"$f":"E28+E29","v":0},{"$f":"D27+E27","v":0},{"$f":"G28+G29","v":0},0,0]
[null,null,"Nombre del programa o ley",null,null,{"$f":"D28+E28","v":0},null,null,0]
[null,null,"Nombre del programa o ley",null,null,0,null,null,0]
[null,"F","Sentencias laborales definitivas",null,null,{"$f":"D30+E30","v":0},null,null,0]
[null,null,"TOTAL DEL GASTO ETIQUETADO",{"$f":"D21+D22+D23+D26+D27+D30","v":0},{"$f":"E21+E22+E23+E26+E27+E30","v":0},{"$f":"D31+E31","v":0},{"$f":"G21+G22+G23+G26+G27+G30","v":0},{"$f":"H21+H22+H23+H26+H27+H30","v":0},0]
["III","TOTAL DEL GASTO DE SERVICIOS PERSONALES",null,{"$f":"D19+D31","v":0},{"$f":"E19+E31","v":0},{"$f":"F19+F31","v":0},0,0,{"$f":"F32-G32","v":0}]
[]
["Bajo protesta de decir verdad declaramos que los estados financieros y sus notas, son razonablemente correctos y son responsabilidad del emisor."]
[]
[]
[null,null,{"$f":"Validacion!A7","v":"C. José Ángel Prudencio Vargas"},null,null,{"$f":"Validacion!A9","v":"L.C.P. Regina Itzel Bedoya Cruz"}]
[]
[null,null,"Presidente Municipal o titular del ente público",null,null,"Encargado de la Hacienda Municipal o\nResponsable de las finanzas del ente público"]

{"sheet":"F22","index":14,"n_rows":61,"n_cols":7,"rows_kept":61,"cut":false,"hidden":true,"merged":[[25,0,25,2],[34,0,34,2],[44,0,44,2],[54,0,55,6],[60,2,61,2],[60,4,61,6],[58,2,59,2],[58,4,59,6],[19,0,19,2],[0,0,0,6],[1,0,1,6],[2,0,2,6],[3,0,3,6],[4,0,4,2]]}
[{"$f":"Validacion!A2","v":"Ayutla"}]
["BALANCE PRESUPUESTARIO - LDF"]
[{"$f":"'F6'!A3","v":"Del 1° de Enero al 30 de Septiembre de 2023"}]
[]
["CONCEPTO",null,null,null,"ESTIMADO/\nAPROBADO","DEVENGADO","RECAUDADO/\nPAGADO"]
["A",null,"Ingresos totales",null,{"$f":"SUM(E7:E9)","v":0},{"$f":"SUM(F7:F9)","v":0},0]
[null,"A1","Ingresos de libre disposición",null,{"$f":"F7B!C39","v":0},{"$f":"F7B!F39","v":0},{"$f":"F7B!G39","v":0}]
[null,"A2","Transferencias federales etiquetadas",null,{"$f":"F7B!C61","v":0},{"$f":"F7B!F61","v":0},{"$f":"F7B!G61","v":0}]
[null,"A3","Financiamiento neto",null,{"$f":"E33","v":0},{"$f":"F33","v":0},{"$f":"G33","v":0}]
["B",null,"Egresos presupuestarios",null,{"$f":"SUM(E11:E12)","v":0},{"$f":"SUM(F11:F12)","v":0},0]
[null,"B1","Gastos no etiquetado (sin incluir amortización de la deuda pública)",null,{"$f":"F8B!D80-E31","v":0},{"$f":"F8B!G80-F31","v":0},{"$f":"F8B!H80-G31","v":0}]
[null,"B2","Gasto etiquetado (sin incluir amortización de la deuda pública)",null,{"$f":"F8B!D154-E32","v":0},{"$f":"F8B!G154-F32","v":0},{"$f":"F8B!H154-G32","v":0}]
["C",null,"Remanentes del ejercicio anterior",null,{"$f":"SUM(E14:E15)","v":0},{"$f":"SUM(F14:F15)","v":0},0]
[null,"C1","Remanentes de ingresos de libre disposición aplicados en el periodo"]
[null,"C2","Remanentes de transferencias federales etiquetadas aplicados en el periodo"]
["I",null,"Balance presupuestario",null,{"$f":"E6-E10+E13","v":0},{"$f":"F6-F10+F13","v":0},0]
["II",null,"Balance presupuestario sin financiamiento neto",null,{"$f":"E16-E9","v":0},{"$f":"F16-F9","v":0},0]
["III",null,"Balance presupuestario sin financiamiento neto y sin remanentes del ejercicio anterior",null,{"$f":"E17-E13","v":0},{"$f":"F17-F13","v":0},0]
[]
["CONCEPTO",null,null,null,"APROBADO","DEVENGADO","PAGADO"]
["E",null,"Intereses, comisiones y gastos de la deuda",null,{"$f":"SUM(E22:E23)","v":0},{"$f":"SUM(F22:F23)","v":0},0]
[null,"E1","Intereses, comisiones y gastos de la deuda con gasto no etiquetado",null,{"$f":"SUM(F8B!D74:D77)","v":0},{"$f":"SUM(F8B!G74:G77)","v":0},{"$f":"SUM(F8B!H74:H77)","v":0}]
[null,"E2","Intereses, comisiones y gastos de la deuda con gasto etiquetado",null,{"$f":"SUM(F8B!D148:D151)","v":0},{"$f":"SUM(F8B!G148:G151)","v":0},{"$f":"SUM(F8B!H148:H151)","v":0}]
["IV",null,"Balance primario",null,{"$f":"E18+E21","v":0},{"$f":"F18+F21","v":0},0]
[]
["CONCEPTO",null,null,null,"ESTIMADO/\nAPROBADO","DEVENGADO","RECAUDADO/\nPAGADO"]
["F",null,"Financiamiento ",null,{"$f":"SUM(E28:E29)","v":0},{"$f":"SUM(F28:F29)","v":0},0]
[null,"F1","Financiamiento con fuente de pago de ingresos de libre disposición",null,{"$f":"F7B!C66","v":0},{"$f":"F7B!F66","v":0},{"$f":"F7B!G66","v":0}]
[null,"F2","Financiamiento con fuente de pago de transferencias federales etiquetadas",null,{"$f":"F7B!C67","v":0},{"$f":"F7B!F67","v":0},{"$f":"F7B!G67","v":0}]
["G",null,"Amortización de la deuda",null,{"$f":"SUM(E31:E32)","v":0},{"$f":"SUM(F31:F32)","v":0},0]
[null,"G1","Amortización de la deuda pública con gasto no etiquetado",null,{"$f":"F8B!D73","v":0},{"$f":"F8B!G73","v":0},{"$f":"F8B!H73","v":0}]
[null,"G2","Amortización de la deuda pública con gasto etiquetado",null,{"$f":"F8B!D147","v":0},{"$f":"F8B!G147","v":0},{"$f":"F8B!H147","v":0}]
["A3",null,"Financiamiento Neto",null,{"$f":"E27-E30","v":0},{"$f":"F27-F30","v":0},0]
[]
["CONCEPTO",null,null,null,"ESTIMADO/\nAPROBADO","DEVENGADO","RECAUDADO/\nPAGADO"]
["A1",null,"Ingresos de libre disposición",null,{"$f":"E7","v":0},{"$f":"F7","v":0},{"$f":"G7","v":0}]
["A3.1",null,"Financiamiento neto con fuente de pago de ingresos de libre disposición",null,{"$f":"E38-E39","v":0},{"$f":"F38-F39","v":0},{"$f":"G38-G39","v":0}]
[null,"F1","Financiamiento con fuente de pago de ingresos de libre disposición",null,{"$f":"E28","v":0},{"$f":"F28","v":0},{"$f":"G28","v":0}]
[null,"G1","Amortización de la deuda pública con gasto etiquetado",null,{"$f":"E31","v":0},{"$f":"F31","v":0},{"$f":"G31","v":0}]
["B1",null,"Gasto no etiquetado  (sin incluir amortización de la deuda pública)",null,{"$f":"E11","v":0},{"$f":"F11","v":0},{"$f":"G11","v":0}]
["C1",null,"Remanente de ingresos de libre disposición aplicados en el periodo",null,null,{"$f":"F14","v":0},{"$f":"G14","v":0}]
["V",null,"Balance presupuestario de recursos disponibles",null,{"$f":"E36+E37-E40+E41","v":0},{"$f":"F36+F37-F40+F41","v":0},{"$f":"G36+G37-G40+G41","v":0}]
["VI",null,"Balance presupuestario de recursos disponibles sin financiamiento neto",null,{"$f":"E42-E37","v":0},{"$f":"F42-F37","v":0},{"$f":"G42-G37","v":0}]
[]
["CONCEPTO",null,null,null,"ESTIMADO/\nAPROBADO","DEVENGADO","RECAUDADO/\nPAGADO"]
["A2",null,"Transferencias federales etiquetadas",null,{"$f":"E8","v":0},{"$f":"F8","v":0},{"$f":"G8","v":0}]
["A3.2",null,"Financiamiento neto con fuente de pago de transferencias federales etiquetadas",null,{"$f":"E48-E49","v":0},{"$f":"F48-F49","v":0},0]
[null,"F2","Financiamiento con fuente de pago de transferencias federales",null,{"$f":"E29","v":0},{"$f":"F29","v":0},{"$f":"G29","v":0}]
[null,"G2","Amortización de la deuda pública con gasto  etiquetado",null,{"$f":"E32","v":0},{"$f":"F32","v":0},{"$f":"G32","v":0}]
["B2",null,"Gasto  etiquetado  (sin incluir amortización de la deuda pública)",null,{"$f":"E12","v":0},{"$f":"F12","v":0},{"$f":"G12","v":0}]
["C2",null,"Remanente de transferencias federales etiquetadas aplicados en el periodo",null,null,{"$f":"F15","v":0},{"$f":"G15","v":0}]
["VII",null,"Balance presupuestario de recursos etiquetados",null,{"$f":"E46+E47-E50+E51","v":0},{"$f":"F46+F47-F50+F51","v":0},{"$f":"G46+G47-G50+G51","v":0}]
["VIII",null,"Balance presupuestario de recursos etiquetados sin financiamiento neto",null,{"$f":"E52-E47","v":0},{"$f":"F52-F47","v":0},{"$f":"G52-G47","v":0}]
[]
["Bajo protesta de decir verdad declaramos que los estados financieros y sus notas, son razonablemente correctos y son responsabilidad del emisor."]
[]
[]
[]
[null,null,{"$f":"Validacion!A7","v":"C. José Ángel Prudencio Vargas"},null,{"$f":"Validacion!A9","v":"L.C.P. Regina Itzel Bedoya Cruz"}]
[]
[null,null,"Presidente Municipal o titular del ente público",null,"Encargado de la Hacienda Municipal o\nResponsable de las finanzas del ente público"]

{"sheet":"F23","index":15,"n_rows":500,"n_cols":23,"rows_kept":500,"cut":false,"hidden":true,"merged":[[4,4,6,5],[4,6,5,9],[4,20,7,20],[4,21,6,22],[0,0,0,22],[1,0,1,22],[2,0,2,22],[4,0,7,0],[4,1,7,1],[4,2,7,2],[4,3,7,3],[6,6,7,6],[6,7,6,9],[4,10,6,12],[4,13,6,14],[4,15,6,18],[4,19,7,19]]}
[{"$f":"Validacion!A2","v":"Ayutla"}]
["INFORMATIVA ANUAL DE OBRAS"]
[{"$f":"'F6'!A3","v":"Del 1° de Enero al 30 de Septiembre de 2023"}]
[]
["NOMBRE DE OBRA O NÚMERO DE ORDEN DE TRABAJO","LOCALIDAD","DESCRIPCIÓN DE LA OBRA U OBJETO DEL CONTRATO","NOMBRE DEL EJECUTOR DE LA OBRA","UBICACIÓN GEOGRÁFICA",null,"MODALIDAD DE EJECUCIÓN",null,null,null,"PLAZO DE EJECUCIÓN",null,null,"PRORROGA Y/O DIFERIMIENTO",null,"ORIGEN DEL RECURSO (MONTO)",null,null,null,"IMPORTE TOTAL DEL PAGO","ESTATUS DE LA OBRA","ENTREGA RECEPCIÓN Y/O MINUTA DE TERMINACIÓIN"]
[]
[null,null,null,null,null,null,"ADMÓN. DIRECTA","CONTRATO"]
[null,null,null,null,"LATITUD","LONGITUD",null,"ADJ. DIRECTA","CONCURSO SIMPL.","LICITA. PÚBLICA","INICIO","TERMINO","DÍAS NATURALES","SI","NO","PROPIOS","ESTATAL","FISMDF","CONVENIO FEDERAL",null,null,"SI","NO"]
[null,null,null,null,null,null,null,null,null,null,null,null,{"$f":"L9-K9","v":0},null,null,null,null,null,null,{"$f":"SUM(P9:S9)","v":0}]
[null,null,null,null,null,null,null,null,null,null,null,null,{"$f":"L10-K10","v":0},null,null,null,null,null,null,{"$f":"SUM(P10:S10)","v":0}]
[null,null,null,null,null,null,null,null,null,null,null,null,0,null,null,null,null,null,null,0]
[null,null,null,null,null,null,null,null,null,null,null,null,0,null,null,null,null,null,null,0]
[null,null,null,null,null,null,null,null,null,null,null,null,0,null,null,null,null,null,null,0]
[null,null,null,null,null,null,null,null,null,null,null,null,0,null,null,null,null,null,null,0]
[null,null,null,null,null,null,null,null,null,null,null,null,0,null,null,null,null,null,null,0]
[null,null,null,null,null,null,null,null,null,null,null,null,0,null,null,null,null,null,null,0]
[null,null,null,null,null,null,null,null,null,null,null,null,0,null,null,null,null,null,null,0]
[null,null,null,null,null,null,null,null,null,null,null,null,0,null,null,null,null,null,null,0]
[null,null,null,null,null,null,null,null,null,null,null,null,0,null,null,null,null,null,null,0]
[null,null,null,null,null,null,null,null,null,null,null,null,0,null,null,null,null,null,null,0]
[null,null,null,null,null,null,null,null,null,null,null,null,0,null,null,null,null,null,null,0]
[null,null,null,null,null,null,null,null,null,null,null,null,0,null,null,null,null,null,null,0]
[null,null,null,null,null,null,null,null,null,null,null,null,0,null,null,null,null,null,null,0]
[null,null,null,null,null,null,null,null,null,null,null,null,0,null,null,null,null,null,null,0]
[null,null,null,null,null,null,null,null,null,null,null,null,0,null,null,null,null,null,null,0]
[null,null,null,null,null,null,null,null,null,null,null,null,0,null,null,null,null,null,null,0]
[null,null,null,null,null,null,null,null,null,null,null,null,0,null,null,null,null,null,null,0]
[null,null,null,null,null,null,null,null,null,null,null,null,0,null,null,null,null,null,null,0]
[null,null,null,null,null,null,null,null,null,null,null,null,0,null,null,null,null,null,null,0]
[null,null,null,null,null,null,null,null,null,null,null,null,0,null,null,null,null,null,null,0]
[null,null,null,null,null,null,null,null,null,null,null,null,0,null,null,null,null,null,null,0]
[null,null,null,null,null,null,null,null,null,null,null,null,0,null,null,null,null,null,null,0]
[null,null,null,null,null,null,null,null,null,null,null,null,0,null,null,null,null,null,null,0]
[null,null,null,null,null,null,null,null,null,null,null,null,0,null,null,null,null,null,null,0]
[null,null,null,null,null,null,null,null,null,null,null,null,0,null,null,null,null,null,null,0]
[null,null,null,null,null,null,null,null,null,null,null,null,0,null,null,null,null,null,null,0]
[null,null,null,null,null,null,null,null,null,null,null,null,0,null,null,null,null,null,null,0]
[null,null,null,null,null,null,null,null,null,null,null,null,0,null,null,null,null,null,null,0]
[null,null,null,null,null,null,null,null,null,null,null,null,0,null,null,null,null,null,null,0]
[null,null,null,null,null,null,null,null,null,null,null,null,0,null,null,null,null,null,null,0]
[null,null,null,null,null,null,null,null,null,null,null,null,0,null,null,null,null,null,null,0]
[null,null,null,null,null,null,null,null,null,null,null,null,0,null,null,null,null,null,null,0]
[null,null,null,null,null,null,null,null,null,null,null,null,0,null,null,null,null,null,null,0]
[null,null,null,null,null,null,null,null,null,null,null,null,0,null,null,null,null,null,null,0]
[null,null,null,null,null,null,null,null,null,null,null,null,0,null,null,null,null,null,null,0]
[null,null,null,null,null,null,null,null,null,null,null,null,0,null,null,null,null,null,null,0]
[null,null,null,null,null,null,null,null,null,null,null,null,0,null,null,null,null,null,null,0]
[null,null,null,null,null,null,null,null,null,null,null,null,0,null,null,null,null,null,null,0]
[null,null,null,null,null,null,null,null,null,null,null,null,0,null,null,null,null,null,null,0]
[null,null,null,null,null,null,null,null,null,null,null,null,0,null,null,null,null,null,null,0]
[null,null,null,null,null,null,null,null,null,null,null,null,0,null,null,null,null,null,null,0]
[null,null,null,null,null,null,null,null,null,null,null,null,0,null,null,null,null,null,null,0]
[null,null,null,null,null,null,null,null,null,null,null,null,0,null,null,null,null,null,null,0]
[null,null,null,null,null,null,null,null,null,null,null,null,0,null,null,null,null,null,null,0]
[null,null,null,null,null,null,null,null,null,null,null,null,0,null,null,null,null,null,null,0]
[null,null,null,null,null,null,null,null,null,null,null,null,0,null,null,null,null,null,null,0]
[null,null,null,null,null,null,null,null,null,null,null,null,0,null,null,null,null,null,null,0]
[null,null,null,null,null,null,null,null,null,null,null,null,0,null,null,null,null,null,null,0]
[null,null,null,null,null,null,null,null,null,null,null,null,0,null,null,null,null,null,null,0]
[null,null,null,null,null,null,null,null,null,null,null,null,0,null,null,null,null,null,null,0]
[null,null,null,null,null,null,null,null,null,null,null,null,0,null,null,null,null,null,null,0]
[null,null,null,null,null,null,null,null,null,null,null,null,0,null,null,null,null,null,null,0]
[null,null,null,null,null,null,null,null,null,null,null,null,0,null,null,null,null,null,null,0]
[null,null,null,null,null,null,null,null,null,null,null,null,0,null,null,null,null,null,null,0]
[null,null,null,null,null,null,null,null,null,null,null,null,0,null,null,null,null,null,null,0]
[null,null,null,null,null,null,null,null,null,null,null,null,0,null,null,null,null,null,null,0]
[null,null,null,null,null,null,null,null,null,null,null,null,0,null,null,null,null,null,null,0]
[null,null,null,null,null,null,null,null,null,null,null,null,0,null,null,null,null,null,null,0]
[null,null,null,null,null,null,null,null,null,null,null,null,0,null,null,null,null,null,null,0]
[null,null,null,null,null,null,null,null,null,null,null,null,0,null,null,null,null,null,null,0]
[null,null,null,null,null,null,null,null,null,null,null,null,0,null,null,null,null,null,null,0]
[null,null,null,null,null,null,null,null,null,null,null,null,0,null,null,null,null,null,null,0]
[null,null,null,null,null,null,null,null,null,null,null,null,0,null,null,null,null,null,null,0]
[null,null,null,null,null,null,null,null,null,null,null,null,{"$f":"L74-K74","v":0},null,null,null,null,null,null,{"$f":"SUM(P74:S74)","v":0}]
[null,null,null,null,null,null,null,null,null,null,null,null,0,null,null,null,null,null,null,0]
[null,null,null,null,null,null,null,null,null,null,null,null,0,null,null,null,null,null,null,0]
[null,null,null,null,null,null,null,null,null,null,null,null,0,null,null,null,null,null,null,0]
[null,null,null,null,null,null,null,null,null,null,null,null,0,null,null,null,null,null,null,0]
[null,null,null,null,null,null,null,null,null,null,null,null,0,null,null,null,null,null,null,0]
[null,null,null,null,null,null,null,null,null,null,null,null,0,null,null,null,null,null,null,0]
[null,null,null,null,null,null,null,null,null,null,null,null,0,null,null,null,null,null,null,0]
[null,null,null,null,null,null,null,null,null,null,null,null,0,null,null,null,null,null,null,0]
[null,null,null,null,null,null,null,null,null,null,null,null,0,null,null,null,null,null,null,0]
[null,null,null,null,null,null,null,null,null,null,null,null,0,null,null,null,null,null,null,0]
[null,null,null,null,null,null,null,null,null,null,null,null,0,null,null,null,null,null,null,0]
[null,null,null,null,null,null,null,null,null,null,null,null,0,null,null,null,null,null,null,0]
[null,null,null,null,null,null,null,null,null,null,null,null,0,null,null,null,null,null,null,0]
[null,null,null,null,null,null,null,null,null,null,null,null,0,null,null,null,null,null,null,0]
[null,null,null,null,null,null,null,null,null,null,null,null,0,null,null,null,null,null,null,0]
[null,null,null,null,null,null,null,null,null,null,null,null,0,null,null,null,null,null,null,0]
[null,null,null,null,null,null,null,null,null,null,null,null,0,null,null,null,null,null,null,0]
[null,null,null,null,null,null,null,null,null,null,null,null,0,null,null,null,null,null,null,0]
[null,null,null,null,null,null,null,null,null,null,null,null,0,null,null,null,null,null,null,0]
[null,null,null,null,null,null,null,null,null,null,null,null,0,null,null,null,null,null,null,0]
[null,null,null,null,null,null,null,null,null,null,null,null,0,null,null,null,null,null,null,0]
[null,null,null,null,null,null,null,null,null,null,null,null,0,null,null,null,null,null,null,0]
[null,null,null,null,null,null,null,null,null,null,null,null,0,null,null,null,null,null,null,0]
[null,null,null,null,null,null,null,null,null,null,null,null,0,null,null,null,null,null,null,0]
[null,null,null,null,null,null,null,null,null,null,null,null,0,null,null,null,null,null,null,0]
[null,null,null,null,null,null,null,null,null,null,null,null,0,null,null,null,null,null,null,0]
[null,null,null,null,null,null,null,null,null,null,null,null,0,null,null,null,null,null,null,0]
[null,null,null,null,null,null,null,null,null,null,null,null,0,null,null,null,null,null,null,0]
[null,null,null,null,null,null,null,null,null,null,null,null,0,null,null,null,null,null,null,0]
[null,null,null,null,null,null,null,null,null,null,null,null,0,null,null,null,null,null,null,0]
[null,null,null,null,null,null,null,null,null,null,null,null,0,null,null,null,null,null,null,0]
[null,null,null,null,null,null,null,null,null,null,null,null,0,null,null,null,null,null,null,0]
[null,null,null,null,null,null,null,null,null,null,null,null,0,null,null,null,null,null,null,0]
[null,null,null,null,null,null,null,null,null,null,null,null,0,null,null,null,null,null,null,0]
[null,null,null,null,null,null,null,null,null,null,null,null,0,null,null,null,null,null,null,0]
[null,null,null,null,null,null,null,null,null,null,null,null,0,null,null,null,null,null,null,0]
[null,null,null,null,null,null,null,null,null,null,null,null,0,null,null,null,null,null,null,0]
[null,null,null,null,null,null,null,null,null,null,null,null,0,null,null,null,null,null,null,0]
[null,null,null,null,null,null,null,null,null,null,null,null,0,null,null,null,null,null,null,0]
[null,null,null,null,null,null,null,null,null,null,null,null,0,null,null,null,null,null,null,0]
[null,null,null,null,null,null,null,null,null,null,null,null,0,null,null,null,null,null,null,0]
[null,null,null,null,null,null,null,null,null,null,null,null,0,null,null,null,null,null,null,0]
[null,null,null,null,null,null,null,null,null,null,null,null,0,null,null,null,null,null,null,0]
[null,null,null,null,null,null,null,null,null,null,null,null,0,null,null,null,null,null,null,0]
[null,null,null,null,null,null,null,null,null,null,null,null,0,null,null,null,null,null,null,0]
[null,null,null,null,null,null,null,null,null,null,null,null,0,null,null,null,null,null,null,0]
[null,null,null,null,null,null,null,null,null,null,null,null,0,null,null,null,null,null,null,0]
[null,null,null,null,null,null,null,null,null,null,null,null,0,null,null,null,null,null,null,0]
[null,null,null,null,null,null,null,null,null,null,null,null,0,null,null,null,null,null,null,0]
[null,null,null,null,null,null,null,null,null,null,null,null,0,null,null,null,null,null,null,0]
[null,null,null,null,null,null,null,null,null,null,null,null,0,null,null,null,null,null,null,0]
[null,null,null,null,null,null,null,null,null,null,null,null,0,null,null,null,null,null,null,0]
[null,null,null,null,null,null,null,null,null,null,null,null,0,null,null,null,null,null,null,0]
[null,null,null,null,null,null,null,null,null,null,null,null,0,null,null,null,null,null,null,0]
[null,null,null,null,null,null,null,null,null,null,null,null,0,null,null,null,null,null,null,0]
[null,null,null,null,null,null,null,null,null,null,null,null,0,null,null,null,null,null,null,0]
[null,null,null,null,null,null,null,null,null,null,null,null,0,null,null,null,null,null,null,0]
[null,null,null,null,null,null,null,null,null,null,null,null,0,null,null,null,null,null,null,0]
[null,null,null,null,null,null,null,null,null,null,null,null,0,null,null,null,null,null,null,0]
[null,null,null,null,null,null,null,null,null,null,null,null,0,null,null,null,null,null,null,0]
[null,null,null,null,null,null,null,null,null,null,null,null,0,null,null,null,null,null,null,0]
[null,null,null,null,null,null,null,null,null,null,null,null,0,null,null,null,null,null,null,0]
[null,null,null,null,null,null,null,null,null,null,null,null,0,null,null,null,null,null,null,0]
[null,null,null,null,null,null,null,null,null,null,null,null,{"$f":"L138-K138","v":0},null,null,null,null,null,null,{"$f":"SUM(P138:S138)","v":0}]
[null,null,null,null,null,null,null,null,null,null,null,null,0,null,null,null,null,null,null,0]
[null,null,null,null,null,null,null,null,null,null,null,null,0,null,null,null,null,null,null,0]
[null,null,null,null,null,null,null,null,null,null,null,null,0,null,null,null,null,null,null,0]
[null,null,null,null,null,null,null,null,null,null,null,null,0,null,null,null,null,null,null,0]
[null,null,null,null,null,null,null,null,null,null,null,null,0,null,null,null,null,null,null,0]
[null,null,null,null,null,null,null,null,null,null,null,null,0,null,null,null,null,null,null,0]
[null,null,null,null,null,null,null,null,null,null,null,null,0,null,null,null,null,null,null,0]
[null,null,null,null,null,null,null,null,null,null,null,null,0,null,null,null,null,null,null,0]
[null,null,null,null,null,null,null,null,null,null,null,null,0,null,null,null,null,null,null,0]
[null,null,null,null,null,null,null,null,null,null,null,null,0,null,null,null,null,null,null,0]
[null,null,null,null,null,null,null,null,null,null,null,null,0,null,null,null,null,null,null,0]
[null,null,null,null,null,null,null,null,null,null,null,null,0,null,null,null,null,null,null,0]
[null,null,null,null,null,null,null,null,null,null,null,null,0,null,null,null,null,null,null,0]
[null,null,null,null,null,null,null,null,null,null,null,null,0,null,null,null,null,null,null,0]
[null,null,null,null,null,null,null,null,null,null,null,null,0,null,null,null,null,null,null,0]
[null,null,null,null,null,null,null,null,null,null,null,null,0,null,null,null,null,null,null,0]
[null,null,null,null,null,null,null,null,null,null,null,null,0,null,null,null,null,null,null,0]
[null,null,null,null,null,null,null,null,null,null,null,null,0,null,null,null,null,null,null,0]
[null,null,null,null,null,null,null,null,null,null,null,null,0,null,null,null,null,null,null,0]
[null,null,null,null,null,null,null,null,null,null,null,null,0,null,null,null,null,null,null,0]
[null,null,null,null,null,null,null,null,null,null,null,null,0,null,null,null,null,null,null,0]
[null,null,null,null,null,null,null,null,null,null,null,null,0,null,null,null,null,null,null,0]
[null,null,null,null,null,null,null,null,null,null,null,null,0,null,null,null,null,null,null,0]
[null,null,null,null,null,null,null,null,null,null,null,null,0,null,null,null,null,null,null,0]
[null,null,null,null,null,null,null,null,null,null,null,null,0,null,null,null,null,null,null,0]
[null,null,null,null,null,null,null,null,null,null,null,null,0,null,null,null,null,null,null,0]
[null,null,null,null,null,null,null,null,null,null,null,null,0,null,null,null,null,null,null,0]
[null,null,null,null,null,null,null,null,null,null,null,null,0,null,null,null,null,null,null,0]
[null,null,null,null,null,null,null,null,null,null,null,null,0,null,null,null,null,null,null,0]
[null,null,null,null,null,null,null,null,null,null,null,null,0,null,null,null,null,null,null,0]
[null,null,null,null,null,null,null,null,null,null,null,null,0,null,null,null,null,null,null,0]
[null,null,null,null,null,null,null,null,null,null,null,null,0,null,null,null,null,null,null,0]
[null,null,null,null,null,null,null,null,null,null,null,null,0,null,null,null,null,null,null,0]
[null,null,null,null,null,null,null,null,null,null,null,null,0,null,null,null,null,null,null,0]
[null,null,null,null,null,null,null,null,null,null,null,null,0,null,null,null,null,null,null,0]
[null,null,null,null,null,null,null,null,null,null,null,null,0,null,null,null,null,null,null,0]
[null,null,null,null,null,null,null,null,null,null,null,null,0,null,null,null,null,null,null,0]
[null,null,null,null,null,null,null,null,null,null,null,null,0,null,null,null,null,null,null,0]
[null,null,null,null,null,null,null,null,null,null,null,null,0,null,null,null,null,null,null,0]
[null,null,null,null,null,null,null,null,null,null,null,null,0,null,null,null,null,null,null,0]
[null,null,null,null,null,null,null,null,null,null,null,null,0,null,null,null,null,null,null,0]
[null,null,null,null,null,null,null,null,null,null,null,null,0,null,null,null,null,null,null,0]
[null,null,null,null,null,null,null,null,null,null,null,null,0,null,null,null,null,null,null,0]
[null,null,null,null,null,null,null,null,null,null,null,null,0,null,null,null,null,null,null,0]
[null,null,null,null,null,null,null,null,null,null,null,null,0,null,null,null,null,null,null,0]
[null,null,null,null,null,null,null,null,null,null,null,null,0,null,null,null,null,null,null,0]
[null,null,null,null,null,null,null,null,null,null,null,null,0,null,null,null,null,null,null,0]
[null,null,null,null,null,null,null,null,null,null,null,null,0,null,null,null,null,null,null,0]
[null,null,null,null,null,null,null,null,null,null,null,null,0,null,null,null,null,null,null,0]
[null,null,null,null,null,null,null,null,null,null,null,null,0,null,null,null,null,null,null,0]
[null,null,null,null,null,null,null,null,null,null,null,null,0,null,null,null,null,null,null,0]
[null,null,null,null,null,null,null,null,null,null,null,null,0,null,null,null,null,null,null,0]
[null,null,null,null,null,null,null,null,null,null,null,null,0,null,null,null,null,null,null,0]
[null,null,null,null,null,null,null,null,null,null,null,null,0,null,null,null,null,null,null,0]
[null,null,null,null,null,null,null,null,null,null,null,null,0,null,null,null,null,null,null,0]
[null,null,null,null,null,null,null,null,null,null,null,null,0,null,null,null,null,null,null,0]
[null,null,null,null,null,null,null,null,null,null,null,null,0,null,null,null,null,null,null,0]
[null,null,null,null,null,null,null,null,null,null,null,null,0,null,null,null,null,null,null,0]
[null,null,null,null,null,null,null,null,null,null,null,null,0,null,null,null,null,null,null,0]
[null,null,null,null,null,null,null,null,null,null,null,null,0,null,null,null,null,null,null,0]
[null,null,null,null,null,null,null,null,null,null,null,null,0,null,null,null,null,null,null,0]
[null,null,null,null,null,null,null,null,null,null,null,null,0,null,null,null,null,null,null,0]
[null,null,null,null,null,null,null,null,null,null,null,null,0,null,null,null,null,null,null,0]
[null,null,null,null,null,null,null,null,null,null,null,null,{"$f":"L202-K202","v":0},null,null,null,null,null,null,{"$f":"SUM(P202:S202)","v":0}]
[null,null,null,null,null,null,null,null,null,null,null,null,0,null,null,null,null,null,null,0]
[null,null,null,null,null,null,null,null,null,null,null,null,0,null,null,null,null,null,null,0]
[null,null,null,null,null,null,null,null,null,null,null,null,0,null,null,null,null,null,null,0]
[null,null,null,null,null,null,null,null,null,null,null,null,0,null,null,null,null,null,null,0]
[null,null,null,null,null,null,null,null,null,null,null,null,0,null,null,null,null,null,null,0]
[null,null,null,null,null,null,null,null,null,null,null,null,0,null,null,null,null,null,null,0]
[null,null,null,null,null,null,null,null,null,null,null,null,0,null,null,null,null,null,null,0]
[null,null,null,null,null,null,null,null,null,null,null,null,0,null,null,null,null,null,null,0]
[null,null,null,null,null,null,null,null,null,null,null,null,0,null,null,null,null,null,null,0]
[null,null,null,null,null,null,null,null,null,null,null,null,0,null,null,null,null,null,null,0]
[null,null,null,null,null,null,null,null,null,null,null,null,0,null,null,null,null,null,null,0]
[null,null,null,null,null,null,null,null,null,null,null,null,0,null,null,null,null,null,null,0]
[null,null,null,null,null,null,null,null,null,null,null,null,0,null,null,null,null,null,null,0]
[null,null,null,null,null,null,null,null,null,null,null,null,0,null,null,null,null,null,null,0]
[null,null,null,null,null,null,null,null,null,null,null,null,0,null,null,null,null,null,null,0]
[null,null,null,null,null,null,null,null,null,null,null,null,0,null,null,null,null,null,null,0]
[null,null,null,null,null,null,null,null,null,null,null,null,0,null,null,null,null,null,null,0]
[null,null,null,null,null,null,null,null,null,null,null,null,0,null,null,null,null,null,null,0]
[null,null,null,null,null,null,null,null,null,null,null,null,0,null,null,null,null,null,null,0]
[null,null,null,null,null,null,null,null,null,null,null,null,0,null,null,null,null,null,null,0]
[null,null,null,null,null,null,null,null,null,null,null,null,0,null,null,null,null,null,null,0]
[null,null,null,null,null,null,null,null,null,null,null,null,0,null,null,null,null,null,null,0]
[null,null,null,null,null,null,null,null,null,null,null,null,0,null,null,null,null,null,null,0]
[null,null,null,null,null,null,null,null,null,null,null,null,0,null,null,null,null,null,null,0]
[null,null,null,null,null,null,null,null,null,null,null,null,0,null,null,null,null,null,null,0]
[null,null,null,null,null,null,null,null,null,null,null,null,0,null,null,null,null,null,null,0]
[null,null,null,null,null,null,null,null,null,null,null,null,0,null,null,null,null,null,null,0]
[null,null,null,null,null,null,null,null,null,null,null,null,0,null,null,null,null,null,null,0]
[null,null,null,null,null,null,null,null,null,null,null,null,0,null,null,null,null,null,null,0]
[null,null,null,null,null,null,null,null,null,null,null,null,0,null,null,null,null,null,null,0]
[null,null,null,null,null,null,null,null,null,null,null,null,0,null,null,null,null,null,null,0]
[null,null,null,null,null,null,null,null,null,null,null,null,0,null,null,null,null,null,null,0]
[null,null,null,null,null,null,null,null,null,null,null,null,0,null,null,null,null,null,null,0]
[null,null,null,null,null,null,null,null,null,null,null,null,0,null,null,null,null,null,null,0]
[null,null,null,null,null,null,null,null,null,null,null,null,0,null,null,null,null,null,null,0]
[null,null,null,null,null,null,null,null,null,null,null,null,0,null,null,null,null,null,null,0]
[null,null,null,null,null,null,null,null,null,null,null,null,0,null,null,null,null,null,null,0]
[null,null,null,null,null,null,null,null,null,null,null,null,0,null,null,null,null,null,null,0]
[null,null,null,null,null,null,null,null,null,null,null,null,0,null,null,null,null,null,null,0]
[null,null,null,null,null,null,null,null,null,null,null,null,0,null,null,null,null,null,null,0]
[null,null,null,null,null,null,null,null,null,null,null,null,0,null,null,null,null,null,null,0]
[null,null,null,null,null,null,null,null,null,null,null,null,0,null,null,null,null,null,null,0]
[null,null,null,null,null,null,null,null,null,null,null,null,0,null,null,null,null,null,null,0]
[null,null,null,null,null,null,null,null,null,null,null,null,0,null,null,null,null,null,null,0]
[null,null,null,null,null,null,null,null,null,null,null,null,0,null,null,null,null,null,null,0]
[null,null,null,null,null,null,null,null,null,null,null,null,0,null,null,null,null,null,null,0]
[null,null,null,null,null,null,null,null,null,null,null,null,0,null,null,null,null,null,null,0]
[null,null,null,null,null,null,null,null,null,null,null,null,0,null,null,null,null,null,null,0]
[null,null,null,null,null,null,null,null,null,null,null,null,0,null,null,null,null,null,null,0]
[null,null,null,null,null,null,null,null,null,null,null,null,0,null,null,null,null,null,null,0]
[null,null,null,null,null,null,null,null,null,null,null,null,0,null,null,null,null,null,null,0]
[null,null,null,null,null,null,null,null,null,null,null,null,0,null,null,null,null,null,null,0]
[null,null,null,null,null,null,null,null,null,null,null,null,0,null,null,null,null,null,null,0]
[null,null,null,null,null,null,null,null,null,null,null,null,0,null,null,null,null,null,null,0]
[null,null,null,null,null,null,null,null,null,null,null,null,0,null,null,null,null,null,null,0]
[null,null,null,null,null,null,null,null,null,null,null,null,0,null,null,null,null,null,null,0]
[null,null,null,null,null,null,null,null,null,null,null,null,0,null,null,null,null,null,null,0]
[null,null,null,null,null,null,null,null,null,null,null,null,0,null,null,null,null,null,null,0]
[null,null,null,null,null,null,null,null,null,null,null,null,0,null,null,null,null,null,null,0]
[null,null,null,null,null,null,null,null,null,null,null,null,0,null,null,null,null,null,null,0]
[null,null,null,null,null,null,null,null,null,null,null,null,0,null,null,null,null,null,null,0]
[null,null,null,null,null,null,null,null,null,null,null,null,0,null,null,null,null,null,null,0]
[null,null,null,null,null,null,null,null,null,null,null,null,0,null,null,null,null,null,null,0]
[null,null,null,null,null,null,null,null,null,null,null,null,{"$f":"L266-K266","v":0},null,null,null,null,null,null,{"$f":"SUM(P266:S266)","v":0}]
[null,null,null,null,null,null,null,null,null,null,null,null,0,null,null,null,null,null,null,0]
[null,null,null,null,null,null,null,null,null,null,null,null,0,null,null,null,null,null,null,0]
[null,null,null,null,null,null,null,null,null,null,null,null,0,null,null,null,null,null,null,0]
[null,null,null,null,null,null,null,null,null,null,null,null,0,null,null,null,null,null,null,0]
[null,null,null,null,null,null,null,null,null,null,null,null,0,null,null,null,null,null,null,0]
[null,null,null,null,null,null,null,null,null,null,null,null,0,null,null,null,null,null,null,0]
[null,null,null,null,null,null,null,null,null,null,null,null,0,null,null,null,null,null,null,0]
[null,null,null,null,null,null,null,null,null,null,null,null,0,null,null,null,null,null,null,0]
[null,null,null,null,null,null,null,null,null,null,null,null,0,null,null,null,null,null,null,0]
[null,null,null,null,null,null,null,null,null,null,null,null,0,null,null,null,null,null,null,0]
[null,null,null,null,null,null,null,null,null,null,null,null,0,null,null,null,null,null,null,0]
[null,null,null,null,null,null,null,null,null,null,null,null,0,null,null,null,null,null,null,0]
[null,null,null,null,null,null,null,null,null,null,null,null,0,null,null,null,null,null,null,0]
[null,null,null,null,null,null,null,null,null,null,null,null,0,null,null,null,null,null,null,0]
[null,null,null,null,null,null,null,null,null,null,null,null,0,null,null,null,null,null,null,0]
[null,null,null,null,null,null,null,null,null,null,null,null,0,null,null,null,null,null,null,0]
[null,null,null,null,null,null,null,null,null,null,null,null,0,null,null,null,null,null,null,0]
[null,null,null,null,null,null,null,null,null,null,null,null,0,null,null,null,null,null,null,0]
[null,null,null,null,null,null,null,null,null,null,null,null,0,null,null,null,null,null,null,0]
[null,null,null,null,null,null,null,null,null,null,null,null,0,null,null,null,null,null,null,0]
[null,null,null,null,null,null,null,null,null,null,null,null,0,null,null,null,null,null,null,0]
[null,null,null,null,null,null,null,null,null,null,null,null,0,null,null,null,null,null,null,0]
[null,null,null,null,null,null,null,null,null,null,null,null,0,null,null,null,null,null,null,0]
[null,null,null,null,null,null,null,null,null,null,null,null,0,null,null,null,null,null,null,0]
[null,null,null,null,null,null,null,null,null,null,null,null,0,null,null,null,null,null,null,0]
[null,null,null,null,null,null,null,null,null,null,null,null,0,null,null,null,null,null,null,0]
[null,null,null,null,null,null,null,null,null,null,null,null,0,null,null,null,null,null,null,0]
[null,null,null,null,null,null,null,null,null,null,null,null,0,null,null,null,null,null,null,0]
[null,null,null,null,null,null,null,null,null,null,null,null,0,null,null,null,null,null,null,0]
[null,null,null,null,null,null,null,null,null,null,null,null,0,null,null,null,null,null,null,0]
[null,null,null,null,null,null,null,null,null,null,null,null,0,null,null,null,null,null,null,0]
[null,null,null,null,null,null,null,null,null,null,null,null,0,null,null,null,null,null,null,0]
[null,null,null,null,null,null,null,null,null,null,null,null,0,null,null,null,null,null,null,0]
[null,null,null,null,null,null,null,null,null,null,null,null,0,null,null,null,null,null,null,0]
[null,null,null,null,null,null,null,null,null,null,null,null,0,null,null,null,null,null,null,0]
[null,null,null,null,null,null,null,null,null,null,null,null,0,null,null,null,null,null,null,0]
[null,null,null,null,null,null,null,null,null,null,null,null,0,null,null,null,null,null,null,0]
[null,null,null,null,null,null,null,null,null,null,null,null,0,null,null,null,null,null,null,0]
[null,null,null,null,null,null,null,null,null,null,null,null,0,null,null,null,null,null,null,0]
[null,null,null,null,null,null,null,null,null,null,null,null,0,null,null,null,null,null,null,0]
[null,null,null,null,null,null,null,null,null,null,null,null,0,null,null,null,null,null,null,0]
[null,null,null,null,null,null,null,null,null,null,null,null,0,null,null,null,null,null,null,0]
[null,null,null,null,null,null,null,null,null,null,null,null,0,null,null,null,null,null,null,0]
[null,null,null,null,null,null,null,null,null,null,null,null,0,null,null,null,null,null,null,0]
[null,null,null,null,null,null,null,null,null,null,null,null,0,null,null,null,null,null,null,0]
[null,null,null,null,null,null,null,null,null,null,null,null,0,null,null,null,null,null,null,0]
[null,null,null,null,null,null,null,null,null,null,null,null,0,null,null,null,null,null,null,0]
[null,null,null,null,null,null,null,null,null,null,null,null,0,null,null,null,null,null,null,0]
[null,null,null,null,null,null,null,null,null,null,null,null,0,null,null,null,null,null,null,0]
[null,null,null,null,null,null,null,null,null,null,null,null,0,null,null,null,null,null,null,0]
[null,null,null,null,null,null,null,null,null,null,null,null,0,null,null,null,null,null,null,0]
[null,null,null,null,null,null,null,null,null,null,null,null,0,null,null,null,null,null,null,0]
[null,null,null,null,null,null,null,null,null,null,null,null,0,null,null,null,null,null,null,0]
[null,null,null,null,null,null,null,null,null,null,null,null,0,null,null,null,null,null,null,0]
[null,null,null,null,null,null,null,null,null,null,null,null,0,null,null,null,null,null,null,0]
[null,null,null,null,null,null,null,null,null,null,null,null,0,null,null,null,null,null,null,0]
[null,null,null,null,null,null,null,null,null,null,null,null,0,null,null,null,null,null,null,0]
[null,null,null,null,null,null,null,null,null,null,null,null,0,null,null,null,null,null,null,0]
[null,null,null,null,null,null,null,null,null,null,null,null,0,null,null,null,null,null,null,0]
[null,null,null,null,null,null,null,null,null,null,null,null,0,null,null,null,null,null,null,0]
[null,null,null,null,null,null,null,null,null,null,null,null,0,null,null,null,null,null,null,0]
[null,null,null,null,null,null,null,null,null,null,null,null,0,null,null,null,null,null,null,0]
[null,null,null,null,null,null,null,null,null,null,null,null,0,null,null,null,null,null,null,0]
[null,null,null,null,null,null,null,null,null,null,null,null,{"$f":"L330-K330","v":0},null,null,null,null,null,null,{"$f":"SUM(P330:S330)","v":0}]
[null,null,null,null,null,null,null,null,null,null,null,null,0,null,null,null,null,null,null,0]
[null,null,null,null,null,null,null,null,null,null,null,null,0,null,null,null,null,null,null,0]
[null,null,null,null,null,null,null,null,null,null,null,null,0,null,null,null,null,null,null,0]
[null,null,null,null,null,null,null,null,null,null,null,null,0,null,null,null,null,null,null,0]
[null,null,null,null,null,null,null,null,null,null,null,null,0,null,null,null,null,null,null,0]
[null,null,null,null,null,null,null,null,null,null,null,null,0,null,null,null,null,null,null,0]
[null,null,null,null,null,null,null,null,null,null,null,null,0,null,null,null,null,null,null,0]
[null,null,null,null,null,null,null,null,null,null,null,null,0,null,null,null,null,null,null,0]
[null,null,null,null,null,null,null,null,null,null,null,null,0,null,null,null,null,null,null,0]
[null,null,null,null,null,null,null,null,null,null,null,null,0,null,null,null,null,null,null,0]
[null,null,null,null,null,null,null,null,null,null,null,null,0,null,null,null,null,null,null,0]
[null,null,null,null,null,null,null,null,null,null,null,null,0,null,null,null,null,null,null,0]
[null,null,null,null,null,null,null,null,null,null,null,null,0,null,null,null,null,null,null,0]
[null,null,null,null,null,null,null,null,null,null,null,null,0,null,null,null,null,null,null,0]
[null,null,null,null,null,null,null,null,null,null,null,null,0,null,null,null,null,null,null,0]
[null,null,null,null,null,null,null,null,null,null,null,null,0,null,null,null,null,null,null,0]
[null,null,null,null,null,null,null,null,null,null,null,null,0,null,null,null,null,null,null,0]
[null,null,null,null,null,null,null,null,null,null,null,null,0,null,null,null,null,null,null,0]
[null,null,null,null,null,null,null,null,null,null,null,null,0,null,null,null,null,null,null,0]
[null,null,null,null,null,null,null,null,null,null,null,null,0,null,null,null,null,null,null,0]
[null,null,null,null,null,null,null,null,null,null,null,null,0,null,null,null,null,null,null,0]
[null,null,null,null,null,null,null,null,null,null,null,null,0,null,null,null,null,null,null,0]
[null,null,null,null,null,null,null,null,null,null,null,null,0,null,null,null,null,null,null,0]
[null,null,null,null,null,null,null,null,null,null,null,null,0,null,null,null,null,null,null,0]
[null,null,null,null,null,null,null,null,null,null,null,null,0,null,null,null,null,null,null,0]
[null,null,null,null,null,null,null,null,null,null,null,null,0,null,null,null,null,null,null,0]
[null,null,null,null,null,null,null,null,null,null,null,null,0,null,null,null,null,null,null,0]
[null,null,null,null,null,null,null,null,null,null,null,null,0,null,null,null,null,null,null,0]
[null,null,null,null,null,null,null,null,null,null,null,null,0,null,null,null,null,null,null,0]
[null,null,null,null,null,null,null,null,null,null,null,null,0,null,null,null,null,null,null,0]
[null,null,null,null,null,null,null,null,null,null,null,null,0,null,null,null,null,null,null,0]
[null,null,null,null,null,null,null,null,null,null,null,null,0,null,null,null,null,null,null,0]
[null,null,null,null,null,null,null,null,null,null,null,null,0,null,null,null,null,null,null,0]
[null,null,null,null,null,null,null,null,null,null,null,null,0,null,null,null,null,null,null,0]
[null,null,null,null,null,null,null,null,null,null,null,null,0,null,null,null,null,null,null,0]
[null,null,null,null,null,null,null,null,null,null,null,null,0,null,null,null,null,null,null,0]
[null,null,null,null,null,null,null,null,null,null,null,null,0,null,null,null,null,null,null,0]
[null,null,null,null,null,null,null,null,null,null,null,null,0,null,null,null,null,null,null,0]
[null,null,null,null,null,null,null,null,null,null,null,null,0,null,null,null,null,null,null,0]
[null,null,null,null,null,null,null,null,null,null,null,null,0,null,null,null,null,null,null,0]
[null,null,null,null,null,null,null,null,null,null,null,null,0,null,null,null,null,null,null,0]
[null,null,null,null,null,null,null,null,null,null,null,null,0,null,null,null,null,null,null,0]
[null,null,null,null,null,null,null,null,null,null,null,null,0,null,null,null,null,null,null,0]
[null,null,null,null,null,null,null,null,null,null,null,null,0,null,null,null,null,null,null,0]
[null,null,null,null,null,null,null,null,null,null,null,null,0,null,null,null,null,null,null,0]
[null,null,null,null,null,null,null,null,null,null,null,null,0,null,null,null,null,null,null,0]
[null,null,null,null,null,null,null,null,null,null,null,null,0,null,null,null,null,null,null,0]
[null,null,null,null,null,null,null,null,null,null,null,null,0,null,null,null,null,null,null,0]
[null,null,null,null,null,null,null,null,null,null,null,null,0,null,null,null,null,null,null,0]
[null,null,null,null,null,null,null,null,null,null,null,null,0,null,null,null,null,null,null,0]
[null,null,null,null,null,null,null,null,null,null,null,null,0,null,null,null,null,null,null,0]
[null,null,null,null,null,null,null,null,null,null,null,null,0,null,null,null,null,null,null,0]
[null,null,null,null,null,null,null,null,null,null,null,null,0,null,null,null,null,null,null,0]
[null,null,null,null,null,null,null,null,null,null,null,null,0,null,null,null,null,null,null,0]
[null,null,null,null,null,null,null,null,null,null,null,null,0,null,null,null,null,null,null,0]
[null,null,null,null,null,null,null,null,null,null,null,null,0,null,null,null,null,null,null,0]
[null,null,null,null,null,null,null,null,null,null,null,null,0,null,null,null,null,null,null,0]
[null,null,null,null,null,null,null,null,null,null,null,null,0,null,null,null,null,null,null,0]
[null,null,null,null,null,null,null,null,null,null,null,null,0,null,null,null,null,null,null,0]
[null,null,null,null,null,null,null,null,null,null,null,null,0,null,null,null,null,null,null,0]
[null,null,null,null,null,null,null,null,null,null,null,null,0,null,null,null,null,null,null,0]
[null,null,null,null,null,null,null,null,null,null,null,null,0,null,null,null,null,null,null,0]
[null,null,null,null,null,null,null,null,null,null,null,null,0,null,null,null,null,null,null,0]
[null,null,null,null,null,null,null,null,null,null,null,null,{"$f":"L394-K394","v":0},null,null,null,null,null,null,{"$f":"SUM(P394:S394)","v":0}]
[null,null,null,null,null,null,null,null,null,null,null,null,0,null,null,null,null,null,null,0]
[null,null,null,null,null,null,null,null,null,null,null,null,0,null,null,null,null,null,null,0]
[null,null,null,null,null,null,null,null,null,null,null,null,0,null,null,null,null,null,null,0]
[null,null,null,null,null,null,null,null,null,null,null,null,0,null,null,null,null,null,null,0]
[null,null,null,null,null,null,null,null,null,null,null,null,0,null,null,null,null,null,null,0]
[null,null,null,null,null,null,null,null,null,null,null,null,0,null,null,null,null,null,null,0]
[null,null,null,null,null,null,null,null,null,null,null,null,0,null,null,null,null,null,null,0]
[null,null,null,null,null,null,null,null,null,null,null,null,0,null,null,null,null,null,null,0]
[null,null,null,null,null,null,null,null,null,null,null,null,0,null,null,null,null,null,null,0]
[null,null,null,null,null,null,null,null,null,null,null,null,0,null,null,null,null,null,null,0]
[null,null,null,null,null,null,null,null,null,null,null,null,0,null,null,null,null,null,null,0]
[null,null,null,null,null,null,null,null,null,null,null,null,0,null,null,null,null,null,null,0]
[null,null,null,null,null,null,null,null,null,null,null,null,0,null,null,null,null,null,null,0]
[null,null,null,null,null,null,null,null,null,null,null,null,0,null,null,null,null,null,null,0]
[null,null,null,null,null,null,null,null,null,null,null,null,0,null,null,null,null,null,null,0]
[null,null,null,null,null,null,null,null,null,null,null,null,0,null,null,null,null,null,null,0]
[null,null,null,null,null,null,null,null,null,null,null,null,0,null,null,null,null,null,null,0]
[null,null,null,null,null,null,null,null,null,null,null,null,0,null,null,null,null,null,null,0]
[null,null,null,null,null,null,null,null,null,null,null,null,0,null,null,null,null,null,null,0]
[null,null,null,null,null,null,null,null,null,null,null,null,0,null,null,null,null,null,null,0]
[null,null,null,null,null,null,null,null,null,null,null,null,0,null,null,null,null,null,null,0]
[null,null,null,null,null,null,null,null,null,null,null,null,0,null,null,null,null,null,null,0]
[null,null,null,null,null,null,null,null,null,null,null,null,0,null,null,null,null,null,null,0]
[null,null,null,null,null,null,null,null,null,null,null,null,0,null,null,null,null,null,null,0]
[null,null,null,null,null,null,null,null,null,null,null,null,0,null,null,null,null,null,null,0]
[null,null,null,null,null,null,null,null,null,null,null,null,0,null,null,null,null,null,null,0]
[null,null,null,null,null,null,null,null,null,null,null,null,0,null,null,null,null,null,null,0]
[null,null,null,null,null,null,null,null,null,null,null,null,0,null,null,null,null,null,null,0]
[null,null,null,null,null,null,null,null,null,null,null,null,0,null,null,null,null,null,null,0]
[null,null,null,null,null,null,null,null,null,null,null,null,0,null,null,null,null,null,null,0]
[null,null,null,null,null,null,null,null,null,null,null,null,0,null,null,null,null,null,null,0]
[null,null,null,null,null,null,null,null,null,null,null,null,0,null,null,null,null,null,null,0]
[null,null,null,null,null,null,null,null,null,null,null,null,0,null,null,null,null,null,null,0]
[null,null,null,null,null,null,null,null,null,null,null,null,0,null,null,null,null,null,null,0]
[null,null,null,null,null,null,null,null,null,null,null,null,0,null,null,null,null,null,null,0]
[null,null,null,null,null,null,null,null,null,null,null,null,0,null,null,null,null,null,null,0]
[null,null,null,null,null,null,null,null,null,null,null,null,0,null,null,null,null,null,null,0]
[null,null,null,null,null,null,null,null,null,null,null,null,0,null,null,null,null,null,null,0]
[null,null,null,null,null,null,null,null,null,null,null,null,0,null,null,null,null,null,null,0]
[null,null,null,null,null,null,null,null,null,null,null,null,0,null,null,null,null,null,null,0]
[null,null,null,null,null,null,null,null,null,null,null,null,0,null,null,null,null,null,null,0]
[null,null,null,null,null,null,null,null,null,null,null,null,0,null,null,null,null,null,null,0]
[null,null,null,null,null,null,null,null,null,null,null,null,0,null,null,null,null,null,null,0]
[null,null,null,null,null,null,null,null,null,null,null,null,0,null,null,null,null,null,null,0]
[null,null,null,null,null,null,null,null,null,null,null,null,0,null,null,null,null,null,null,0]
[null,null,null,null,null,null,null,null,null,null,null,null,0,null,null,null,null,null,null,0]
[null,null,null,null,null,null,null,null,null,null,null,null,0,null,null,null,null,null,null,0]
[null,null,null,null,null,null,null,null,null,null,null,null,0,null,null,null,null,null,null,0]
[null,null,null,null,null,null,null,null,null,null,null,null,0,null,null,null,null,null,null,0]
[null,null,null,null,null,null,null,null,null,null,null,null,0,null,null,null,null,null,null,0]
[null,null,null,null,null,null,null,null,null,null,null,null,0,null,null,null,null,null,null,0]
[null,null,null,null,null,null,null,null,null,null,null,null,0,null,null,null,null,null,null,0]
[null,null,null,null,null,null,null,null,null,null,null,null,0,null,null,null,null,null,null,0]
[null,null,null,null,null,null,null,null,null,null,null,null,0,null,null,null,null,null,null,0]
[null,null,null,null,null,null,null,null,null,null,null,null,0,null,null,null,null,null,null,0]
[null,null,null,null,null,null,null,null,null,null,null,null,0,null,null,null,null,null,null,0]
[null,null,null,null,null,null,null,null,null,null,null,null,0,null,null,null,null,null,null,0]
[null,null,null,null,null,null,null,null,null,null,null,null,0,null,null,null,null,null,null,0]
[null,null,null,null,null,null,null,null,null,null,null,null,0,null,null,null,null,null,null,0]
[null,null,null,null,null,null,null,null,null,null,null,null,0,null,null,null,null,null,null,0]
[null,null,null,null,null,null,null,null,null,null,null,null,0,null,null,null,null,null,null,0]
[null,null,null,null,null,null,null,null,null,null,null,null,0,null,null,null,null,null,null,0]
[null,null,null,null,null,null,null,null,null,null,null,null,0,null,null,null,null,null,null,0]
[null,null,null,null,null,null,null,null,null,null,null,null,{"$f":"L458-K458","v":0},null,null,null,null,null,null,{"$f":"SUM(P458:S458)","v":0}]
[null,null,null,null,null,null,null,null,null,null,null,null,0,null,null,null,null,null,null,0]
[null,null,null,null,null,null,null,null,null,null,null,null,0,null,null,null,null,null,null,0]
[null,null,null,null,null,null,null,null,null,null,null,null,0,null,null,null,null,null,null,0]
[null,null,null,null,null,null,null,null,null,null,null,null,0,null,null,null,null,null,null,0]
[null,null,null,null,null,null,null,null,null,null,null,null,0,null,null,null,null,null,null,0]
[null,null,null,null,null,null,null,null,null,null,null,null,0,null,null,null,null,null,null,0]
[null,null,null,null,null,null,null,null,null,null,null,null,0,null,null,null,null,null,null,0]
[null,null,null,null,null,null,null,null,null,null,null,null,0,null,null,null,null,null,null,0]
[null,null,null,null,null,null,null,null,null,null,null,null,0,null,null,null,null,null,null,0]
[null,null,null,null,null,null,null,null,null,null,null,null,0,null,null,null,null,null,null,0]
[null,null,null,null,null,null,null,null,null,null,null,null,0,null,null,null,null,null,null,0]
[null,null,null,null,null,null,null,null,null,null,null,null,0,null,null,null,null,null,null,0]
[null,null,null,null,null,null,null,null,null,null,null,null,0,null,null,null,null,null,null,0]
[null,null,null,null,null,null,null,null,null,null,null,null,0,null,null,null,null,null,null,0]
[null,null,null,null,null,null,null,null,null,null,null,null,0,null,null,null,null,null,null,0]
[null,null,null,null,null,null,null,null,null,null,null,null,0,null,null,null,null,null,null,0]
[null,null,null,null,null,null,null,null,null,null,null,null,0,null,null,null,null,null,null,0]
[null,null,null,null,null,null,null,null,null,null,null,null,0,null,null,null,null,null,null,0]
[null,null,null,null,null,null,null,null,null,null,null,null,0,null,null,null,null,null,null,0]
[null,null,null,null,null,null,null,null,null,null,null,null,0,null,null,null,null,null,null,0]
[null,null,null,null,null,null,null,null,null,null,null,null,0,null,null,null,null,null,null,0]
[null,null,null,null,null,null,null,null,null,null,null,null,0,null,null,null,null,null,null,0]
[null,null,null,null,null,null,null,null,null,null,null,null,0,null,null,null,null,null,null,0]
[null,null,null,null,null,null,null,null,null,null,null,null,0,null,null,null,null,null,null,0]
[null,null,null,null,null,null,null,null,null,null,null,null,0,null,null,null,null,null,null,0]
[null,null,null,null,null,null,null,null,null,null,null,null,0,null,null,null,null,null,null,0]
[null,null,null,null,null,null,null,null,null,null,null,null,0,null,null,null,null,null,null,0]
[null,null,null,null,null,null,null,null,null,null,null,null,0,null,null,null,null,null,null,0]
[null,null,null,null,null,null,null,null,null,null,null,null,0,null,null,null,null,null,null,0]
[null,null,null,null,null,null,null,null,null,null,null,null,0,null,null,null,null,null,null,0]
[null,null,null,null,null,null,null,null,null,null,null,null,0,null,null,null,null,null,null,0]
[null,null,null,null,null,null,null,null,null,null,null,null,0,null,null,null,null,null,null,0]
[null,null,null,null,null,null,null,null,null,null,null,null,0,null,null,null,null,null,null,0]
[null,null,null,null,null,null,null,null,null,null,null,null,0,null,null,null,null,null,null,0]
[null,null,null,null,null,null,null,null,null,null,null,null,0,null,null,null,null,null,null,0]
[null,null,null,null,null,null,null,null,null,null,null,null,0,null,null,null,null,null,null,0]
[null,null,null,null,null,null,null,null,null,null,null,null,0,null,null,null,null,null,null,0]
[null,null,null,null,null,null,null,null,null,null,null,null,0,null,null,null,null,null,null,0]
[null,null,null,null,null,null,null,null,null,null,null,null,0,null,null,null,null,null,null,0]
[null,null,null,null,null,null,null,null,null,null,null,null,0,null,null,null,null,null,null,0]
[null,null,null,null,null,null,null,null,null,null,null,null,0,null,null,null,null,null,null,0]
[null,null,null,null,null,null,null,null,null,null,null,null,0,null,null,null,null,null,null,0]

{"sheet":"F1","index":16,"n_rows":120,"n_cols":66,"rows_kept":120,"cut":false,"hidden":false,"merged":[[88,1,88,30],[89,1,89,30],[90,1,90,30],[91,1,91,30],[92,1,92,30],[93,1,93,30],[94,1,94,30],[95,1,95,30],[96,1,96,30],[105,34,105,63],[106,34,106,63],[116,51,116,63],[117,48,118,64],[119,48,121,64],[97,1,97,30],[98,1,98,30],[99,1,99,30],[100,1,100,30],[116,18,116,30],[117,16,118,31],[119,16,121,31],[101,1,101,30],[106,1,106,30],[102,1,102,30],[103,1,103,30],[104,1,104,30],[105,1,105,30],[95,34,95,63],[96,34,96,63],[97,34,97,63],[98,34,98,63],[99,34,99,63],[100,34,100,63],[101,34,101,63],[102,34,102,63],[104,50,104,63],[75,34,75,63],[41,34,41,63],[88,34,88,63],[89,34,89,63],[90,34,90,63],[91,34,91,63],[92,34,92,63],[93,34,93,63],[94,34,94,63],[71,34,71,63],[70,34,70,63],[55,34,55,63],[69,34,69,63],[56,34,56,63],[67,34,67,63],[66,34,66,63],[57,34,57,63],[58,34,58,63],[33,34,33,63],[34,34,34,63],[35,34,35,63],[36,34,36,63],[37,34,37,63],[38,34,38,63],[39,34,39,63],[85,34,85,63],[86,34,86,63],[53,34,53,63],[84,34,84,63],[77,34,77,63],[83,34,83,63],[82,34,82,63],[81,34,81,63],[80,34,80,63],[79,34,79,63],[78,34,78,63],[76,34,76,63],[73,34,73,63],[74,34,74,63],[59,34,59,63],[72,34,72,63],[54,34,54,63],[65,34,65,63],[87,34,87,63],[68,34,68,63],[40,34,40,63],[13,34,13,63],[14,34,14,63],[15,34,15,63],[16,34,16,63],[17,34,17,63],[18,34,18,63],[19,34,19,63],[20,34,20,63],[21,34,21,63],[22,34,22,63],[23,34,23,63],[24,34,24,63],[25,34,25,63],[26,34,26,63],[27,34,27,63],[28,34,28,63],[29,34,29,63],[30,34,30,63],[31,34,31,63],[32,34,32,63],[80,1,80,30],[81,1,81,30],[82,1,82,30],[83,1,83,30],[84,1,84,30],[85,1,85,30],[86,1,86,30],[87,1,87,30],[42,34,42,63],[43,34,43,63],[44,34,44,63],[45,34,45,63],[46,34,46,63],[47,34,47,63],[48,34,48,63],[49,34,49,63],[50,34,50,63],[51,34,51,63],[52,34,52,63],[60,34,60,63],[61,34,61,63],[62,34,62,63],[63,34,63,63],[64,34,64,63],[71,1,71,30],[72,1,72,30],[73,1,73,30],[74,1,74,30],[75,1,75,30],[76,1,76,30],[77,1,77,30],[78,1,78,30],[79,1,79,30],[62,1,62,30],[63,1,63,30],[64,1,64,30],[65,1,65,30],[66,1,66,30],[67,1,67,30],[68,1,68,30],[69,1,69,30],[70,1,70,30],[53,1,53,30],[54,1,54,30],[55,1,55,30],[56,1,56,30],[57,1,57,30],[58,1,58,30],[59,1,59,30],[60,1,60,30],[61,1,61,30],[44,1,44,30],[45,1,45,30],[46,1,46,30],[47,1,47,30],[48,1,48,30],[49,1,49,30],[50,1,50,30],[51,1,51,30],[52,1,52,30],[35,1,35,30],[36,1,36,30],[37,1,37,30],[38,1,38,30],[39,1,39,30],[40,1,40,30],[41,1,41,30],[42,1,42,30],[43,1,43,30],[26,1,26,30],[27,1,27,30],[28,1,28,30],[29,1,29,30],[30,1,30,30],[31,1,31,30],[32,1,32,30],[33,1,33,30],[34,1,34,30],[24,1,24,30],[25,1,25,30],[6,1,6,30],[6,34,6,63],[12,34,12,63],[12,1,12,30],[7,34,7,63],[7,1,7,30],[8,34,8,63],[8,1,8,30],[9,34,9,63],[9,1,9,30],[10,34,10,63],[10,1,10,30],[11,34,11,63],[11,1,11,30],[15,1,15,30],[16,1,16,30],[17,1,17,30],[18,1,18,30],[19,1,19,30],[20,1,20,30],[21,1,21,30],[22,1,22,30],[23,1,23,30],[0,1,0,65],[1,1,1,65],[2,1,2,65],[4,1,4,30],[4,34,4,63],[5,34,5,63],[5,1,5,30],[13,1,13,30],[14,1,14,30]]}
[null,{"$f":"Validacion!A2","v":"Ayutla"}]
[null,"ESTADO ANALÍTICO DE SITUACIÓN FINANCIERA"]
[null,{"$f":"\"Al \"&INDEX(Validacion!D185:D196,MATCH(Validacion!A11,Validacion!C185:C196,0))","v":"Al 30 de Septiembre de 2023"}]
[]
["CTA.","CONCEPTO",null,null,null,null,null,null,null,null,null,null,null,null,null,null,null,null,null,null,null,null,null,null,null,null,null,null,null,null,null,2023,2022,"CTA","CONCEPTO",null,null,null,null,null,null,null,null,null,null,null,null,null,null,null,null,null,null,null,null,null,null,null,null,null,null,null,null,null,2023,2022]
[10000,"ACTIVO",null,null,null,null,null,null,null,null,null,null,null,null,null,null,null,null,null,null,null,null,null,null,null,null,null,null,null,null,null,null,null,"20000","PASIVO"]
[11000,"  ACTIVO CIRCULANTE",null,null,null,null,null,null,null,null,null,null,null,null,null,null,null,null,null,null,null,null,null,null,null,null,null,null,null,null,null,null,null,"21000","  PASIVO CIRCULANTE"]
[11100,"    EFECTIVO Y EQUIVALENTES",null,null,null,null,null,null,null,null,null,null,null,null,null,null,null,null,null,null,null,null,null,null,null,null,null,null,null,null,null,{"$f":"SUM(AF9:AF15)","v":7450262.5300000003},{"$f":"SUM(AG9:AG15)","v":6811307.4900000002},"21100","    CUENTAS POR PAGAR A CORTO PLAZO",null,null,null,null,null,null,null,null,null,null,null,null,null,null,null,null,null,null,null,null,null,null,null,null,null,null,null,null,null,{"$f":"SUM(BM9:BM17)","v":3795420.8},{"$f":"SUM(BN9:BN17)","v":4423775.72}]
[11110,"      Efectivo",null,null,null,null,null,null,null,null,null,null,null,null,null,null,null,null,null,null,null,null,null,null,null,null,null,null,null,null,null,{"$f":"Balanza!G6","v":127717.12},{"$f":"Balanza!C6","v":35587},"21110","      Servicios personales por pagar a corto plazo",null,null,null,null,null,null,null,null,null,null,null,null,null,null,null,null,null,null,null,null,null,null,null,null,null,null,null,null,null,{"$f":"Balanza!H104","v":0},{"$f":"Balanza!D104","v":3050}]
[11120,"      Bancos/Tesorería",null,null,null,null,null,null,null,null,null,null,null,null,null,null,null,null,null,null,null,null,null,null,null,null,null,null,null,null,null,{"$f":"Balanza!G7","v":6197553.6100000003},{"$f":"Balanza!C7","v":5722997.1100000003},"21120","      Proveedores por pagar a corto plazo",null,null,null,null,null,null,null,null,null,null,null,null,null,null,null,null,null,null,null,null,null,null,null,null,null,null,null,null,null,{"$f":"Balanza!H105","v":1552865.16},{"$f":"Balanza!D105","v":2430205.2999999998}]
[11130,"      Bancos/Dependencias y otros",null,null,null,null,null,null,null,null,null,null,null,null,null,null,null,null,null,null,null,null,null,null,null,null,null,null,null,null,null,{"$f":"Balanza!G8","v":0},{"$f":"Balanza!C8","v":0},"21130","      Contratistas por obras públicas por pagar a corto plazo",null,null,null,null,null,null,null,null,null,null,null,null,null,null,null,null,null,null,null,null,null,null,null,null,null,null,null,null,null,{"$f":"Balanza!H106","v":0},{"$f":"Balanza!D106","v":220221.37}]
[11140,"      Inversiones temporales (hasta 3 meses)",null,null,null,null,null,null,null,null,null,null,null,null,null,null,null,null,null,null,null,null,null,null,null,null,null,null,null,null,null,{"$f":"Balanza!G9","v":0},{"$f":"Balanza!C9","v":0},"21140","      Participaciones y aportaciones por pagar a corto plazo",null,null,null,null,null,null,null,null,null,null,null,null,null,null,null,null,null,null,null,null,null,null,null,null,null,null,null,null,null,{"$f":"Balanza!H107","v":0},{"$f":"Balanza!D107","v":0}]
[11150,"      Fondos con afectación específica",null,null,null,null,null,null,null,null,null,null,null,null,null,null,null,null,null,null,null,null,null,null,null,null,null,null,null,null,null,{"$f":"Balanza!G10","v":0},{"$f":"Balanza!C10","v":0},"21150","      Transferencias otorgadas por pagar a corto plazo",null,null,null,null,null,null,null,null,null,null,null,null,null,null,null,null,null,null,null,null,null,null,null,null,null,null,null,null,null,{"$f":"Balanza!H108","v":0},{"$f":"Balanza!D108","v":0}]
[11160,"      Depósitos de fondos de terceros en garantía y/o administración",null,null,null,null,null,null,null,null,null,null,null,null,null,null,null,null,null,null,null,null,null,null,null,null,null,null,null,null,null,{"$f":"Balanza!G11","v":0},{"$f":"Balanza!C11","v":0},"21160","      Intereses, comisiones y otros gastos de la deuda pública por pagar a corto plazo",null,null,null,null,null,null,null,null,null,null,null,null,null,null,null,null,null,null,null,null,null,null,null,null,null,null,null,null,null,{"$f":"Balanza!H109","v":0},{"$f":"Balanza!D109","v":0}]
[11190,"      Otros efectivos y equivalentes",null,null,null,null,null,null,null,null,null,null,null,null,null,null,null,null,null,null,null,null,null,null,null,null,null,null,null,null,null,{"$f":"Balanza!G12","v":1124991.8},{"$f":"Balanza!C12","v":1052723.3799999999},"21170","      Retenciones y contribuciones por pagar a corto plazo",null,null,null,null,null,null,null,null,null,null,null,null,null,null,null,null,null,null,null,null,null,null,null,null,null,null,null,null,null,{"$f":"Balanza!H110","v":2242555.64},{"$f":"Balanza!D110","v":1770299.05}]
[11200,"    DERECHOS A RECIBIR EFECTIVO O EQUIVALENTES",null,null,null,null,null,null,null,null,null,null,null,null,null,null,null,null,null,null,null,null,null,null,null,null,null,null,null,null,null,{"$f":"SUM(AF17:AF23)","v":2363576.64},{"$f":"SUM(AG17:AG23)","v":194880.84},"21180","      Devoluciones de la ley de ingresos por pagar a corto plazo",null,null,null,null,null,null,null,null,null,null,null,null,null,null,null,null,null,null,null,null,null,null,null,null,null,null,null,null,null,{"$f":"Balanza!H111","v":0},{"$f":"Balanza!D111","v":0}]
[11210,"      Inversiones financieras de corto plazo",null,null,null,null,null,null,null,null,null,null,null,null,null,null,null,null,null,null,null,null,null,null,null,null,null,null,null,null,null,{"$f":"Balanza!G14","v":2200000},{"$f":"Balanza!C14","v":0},"21190","      Otras cuentas por pagar a corto plazo",null,null,null,null,null,null,null,null,null,null,null,null,null,null,null,null,null,null,null,null,null,null,null,null,null,null,null,null,null,{"$f":"Balanza!H112","v":0},{"$f":"Balanza!D112","v":0}]
[11220,"      Cuentas por cobrar a corto plazo",null,null,null,null,null,null,null,null,null,null,null,null,null,null,null,null,null,null,null,null,null,null,null,null,null,null,null,null,null,{"$f":"Balanza!G15","v":153076.64000000001},{"$f":"Balanza!C15","v":194880.84},"21200","    DOCUMENTOS POR PAGAR A CORTO PLAZO",null,null,null,null,null,null,null,null,null,null,null,null,null,null,null,null,null,null,null,null,null,null,null,null,null,null,null,null,null,{"$f":"SUM(BM19:BM21)","v":0},{"$f":"SUM(BN19:BN21)","v":0}]
["11230","      Deudores diversos por cobrar a corto plazo",null,null,null,null,null,null,null,null,null,null,null,null,null,null,null,null,null,null,null,null,null,null,null,null,null,null,null,null,null,{"$f":"Balanza!G16","v":0},{"$f":"Balanza!C16","v":0},"21210","      Documentos  comerciales por pagar a corto plazo",null,null,null,null,null,null,null,null,null,null,null,null,null,null,null,null,null,null,null,null,null,null,null,null,null,null,null,null,null,{"$f":"Balanza!H114","v":0},{"$f":"Balanza!D114","v":0}]
["11240","      Ingresos por recuperar a corto plazo",null,null,null,null,null,null,null,null,null,null,null,null,null,null,null,null,null,null,null,null,null,null,null,null,null,null,null,null,null,{"$f":"Balanza!G17","v":7500},{"$f":"Balanza!C17","v":0},"21220","      Documentos con contratistas por obras públicas por pagar a corto plazo",null,null,null,null,null,null,null,null,null,null,null,null,null,null,null,null,null,null,null,null,null,null,null,null,null,null,null,null,null,{"$f":"Balanza!H115","v":0},{"$f":"Balanza!D115","v":0}]
["11250","      Deudores por anticipos de la tesorería a corto plazo",null,null,null,null,null,null,null,null,null,null,null,null,null,null,null,null,null,null,null,null,null,null,null,null,null,null,null,null,null,{"$f":"Balanza!G18","v":0},{"$f":"Balanza!C18","v":0},"21290","      Otros documentos por pagar a corto plazo",null,null,null,null,null,null,null,null,null,null,null,null,null,null,null,null,null,null,null,null,null,null,null,null,null,null,null,null,null,{"$f":"Balanza!H116","v":0},{"$f":"Balanza!D116","v":0}]
["11260","      Préstamos otorgados a corto plazo",null,null,null,null,null,null,null,null,null,null,null,null,null,null,null,null,null,null,null,null,null,null,null,null,null,null,null,null,null,{"$f":"Balanza!G19","v":3000},{"$f":"Balanza!C19","v":0},"21300","    PORCIÓN A CORTO PLAZO DE LA DEUDA PÚBLICA A LARGO PLAZO",null,null,null,null,null,null,null,null,null,null,null,null,null,null,null,null,null,null,null,null,null,null,null,null,null,null,null,null,null,{"$f":"SUM(BM23:BM25)","v":0},{"$f":"SUM(BN23:BN25)","v":0}]
["11290","      Otros derechos a recibir efectivo o equivalentes a corto plazo",null,null,null,null,null,null,null,null,null,null,null,null,null,null,null,null,null,null,null,null,null,null,null,null,null,null,null,null,null,{"$f":"Balanza!G20","v":0},{"$f":"Balanza!C20","v":0},"21310","      Porción a corto plazo de la deuda pública interna",null,null,null,null,null,null,null,null,null,null,null,null,null,null,null,null,null,null,null,null,null,null,null,null,null,null,null,null,null,{"$f":"Balanza!H118","v":0},{"$f":"Balanza!D118","v":0}]
["11300","    DERECHOS A RECIBIR BIENES O SERVICIOS",null,null,null,null,null,null,null,null,null,null,null,null,null,null,null,null,null,null,null,null,null,null,null,null,null,null,null,null,null,{"$f":"SUM(AF25:AF29)","v":0},{"$f":"SUM(AG25:AG29)","v":0},"21320","      Porción a corto plazo de la deuda pública externa",null,null,null,null,null,null,null,null,null,null,null,null,null,null,null,null,null,null,null,null,null,null,null,null,null,null,null,null,null,{"$f":"Balanza!H119","v":0},{"$f":"Balanza!D119","v":0}]
["11310","      Anticipo a proveedores por adquisición de bienes y prestación de servicios a corto plazo",null,null,null,null,null,null,null,null,null,null,null,null,null,null,null,null,null,null,null,null,null,null,null,null,null,null,null,null,null,{"$f":"Balanza!G22","v":0},{"$f":"Balanza!C22","v":0},"21330","      Porción a corto plazo de arrendamiento financiero",null,null,null,null,null,null,null,null,null,null,null,null,null,null,null,null,null,null,null,null,null,null,null,null,null,null,null,null,null,{"$f":"Balanza!H120","v":0},{"$f":"Balanza!D120","v":0}]
["11320","      Anticipo a proveedores por adquisición de bienes inmuebles y muebles a corto plazo",null,null,null,null,null,null,null,null,null,null,null,null,null,null,null,null,null,null,null,null,null,null,null,null,null,null,null,null,null,{"$f":"Balanza!G23","v":0},{"$f":"Balanza!C23","v":0},"21400","    TÍTULOS Y VALORES A CORTO PLAZO",null,null,null,null,null,null,null,null,null,null,null,null,null,null,null,null,null,null,null,null,null,null,null,null,null,null,null,null,null,{"$f":"SUM(BM27:BM28)","v":0},{"$f":"SUM(BN27:BN28)","v":0}]
["11330","      Anticipo a proveedores por adquisición de bienes intangibles a corto plazo",null,null,null,null,null,null,null,null,null,null,null,null,null,null,null,null,null,null,null,null,null,null,null,null,null,null,null,null,null,{"$f":"Balanza!G24","v":0},{"$f":"Balanza!C24","v":0},"21410","      Títulos y valores de la deuda pública interna a corto plazo",null,null,null,null,null,null,null,null,null,null,null,null,null,null,null,null,null,null,null,null,null,null,null,null,null,null,null,null,null,{"$f":"Balanza!H122","v":0},{"$f":"Balanza!D122","v":0}]
["11340","      Anticipo a contratistas por obras públicas a corto plazo",null,null,null,null,null,null,null,null,null,null,null,null,null,null,null,null,null,null,null,null,null,null,null,null,null,null,null,null,null,{"$f":"Balanza!G25","v":0},{"$f":"Balanza!C25","v":0},"21420","      Títulos y valores de la deuda pública externa a corto plazo",null,null,null,null,null,null,null,null,null,null,null,null,null,null,null,null,null,null,null,null,null,null,null,null,null,null,null,null,null,{"$f":"Balanza!H123","v":0},{"$f":"Balanza!D123","v":0}]
["11390","      Otros derechos a recibir bienes o servicios a corto plazo",null,null,null,null,null,null,null,null,null,null,null,null,null,null,null,null,null,null,null,null,null,null,null,null,null,null,null,null,null,{"$f":"Balanza!G26","v":0},{"$f":"Balanza!C26","v":0},"21500","    PASIVOS DIFERIDOS A CORTO PLAZO",null,null,null,null,null,null,null,null,null,null,null,null,null,null,null,null,null,null,null,null,null,null,null,null,null,null,null,null,null,{"$f":"SUM(BM30:BM32)","v":0},{"$f":"SUM(BN30:BN32)","v":0}]
["11400","    INVENTARIOS",null,null,null,null,null,null,null,null,null,null,null,null,null,null,null,null,null,null,null,null,null,null,null,null,null,null,null,null,null,{"$f":"SUM(AF31:AF35)","v":0},{"$f":"SUM(AG31:AG35)","v":0},"21510","      Ingresos cobrados por adelantado a corto plazo",null,null,null,null,null,null,null,null,null,null,null,null,null,null,null,null,null,null,null,null,null,null,null,null,null,null,null,null,null,{"$f":"Balanza!H125","v":0},{"$f":"Balanza!D125","v":0}]
["11410","      Inventario de mercancías para venta",null,null,null,null,null,null,null,null,null,null,null,null,null,null,null,null,null,null,null,null,null,null,null,null,null,null,null,null,null,{"$f":"Balanza!G28","v":0},{"$f":"Balanza!C28","v":0},"21520","      Intereses cobrados por adelantado a corto plazo",null,null,null,null,null,null,null,null,null,null,null,null,null,null,null,null,null,null,null,null,null,null,null,null,null,null,null,null,null,{"$f":"Balanza!H126","v":0},{"$f":"Balanza!D126","v":0}]
["11420","      Inventario de mercancías terminadas",null,null,null,null,null,null,null,null,null,null,null,null,null,null,null,null,null,null,null,null,null,null,null,null,null,null,null,null,null,{"$f":"Balanza!G29","v":0},{"$f":"Balanza!C29","v":0},"21590","      Otros pasivos diferidos a corto plazo",null,null,null,null,null,null,null,null,null,null,null,null,null,null,null,null,null,null,null,null,null,null,null,null,null,null,null,null,null,{"$f":"Balanza!H127","v":0},{"$f":"Balanza!D127","v":0}]
["11430","      Inventario de mercancías en proceso de elaboración",null,null,null,null,null,null,null,null,null,null,null,null,null,null,null,null,null,null,null,null,null,null,null,null,null,null,null,null,null,{"$f":"Balanza!G30","v":0},{"$f":"Balanza!C30","v":0},"21600","    FONDOS Y BIENES DE TERCEROS EN GARANTÍA Y/O ADMINISTRACIÓN A CORTO PLAZO",null,null,null,null,null,null,null,null,null,null,null,null,null,null,null,null,null,null,null,null,null,null,null,null,null,null,null,null,null,{"$f":"SUM(BM34:BM39)","v":0},{"$f":"SUM(BN34:BN39)","v":0}]
["11440","      Inventario de materias primas, materiales y suministros para producción",null,null,null,null,null,null,null,null,null,null,null,null,null,null,null,null,null,null,null,null,null,null,null,null,null,null,null,null,null,{"$f":"Balanza!G31","v":0},{"$f":"Balanza!C31","v":0},"21610","      Fondos en garantía a corto plazo",null,null,null,null,null,null,null,null,null,null,null,null,null,null,null,null,null,null,null,null,null,null,null,null,null,null,null,null,null,{"$f":"Balanza!H129","v":0},{"$f":"Balanza!D129","v":0}]
["11450","      Bienes en tránsito",null,null,null,null,null,null,null,null,null,null,null,null,null,null,null,null,null,null,null,null,null,null,null,null,null,null,null,null,null,{"$f":"Balanza!G32","v":0},{"$f":"Balanza!C32","v":0},"21620","      Fondos en administración a corto plazo",null,null,null,null,null,null,null,null,null,null,null,null,null,null,null,null,null,null,null,null,null,null,null,null,null,null,null,null,null,{"$f":"Balanza!H130","v":0},{"$f":"Balanza!D130","v":0}]
["11500","    ALMACENES",null,null,null,null,null,null,null,null,null,null,null,null,null,null,null,null,null,null,null,null,null,null,null,null,null,null,null,null,null,{"$f":"AF37","v":0},{"$f":"AG37","v":0},"21630","      Fondos contingentes a corto plazo",null,null,null,null,null,null,null,null,null,null,null,null,null,null,null,null,null,null,null,null,null,null,null,null,null,null,null,null,null,{"$f":"Balanza!H131","v":0},{"$f":"Balanza!D131","v":0}]
["11510","      Almacén de materiales y suministro para el consumo",null,null,null,null,null,null,null,null,null,null,null,null,null,null,null,null,null,null,null,null,null,null,null,null,null,null,null,null,null,{"$f":"Balanza!G34","v":0},{"$f":"Balanza!C34","v":0},"21640","      Fondos de fideicomisos, mandatos y contratos análogos a corto plazo",null,null,null,null,null,null,null,null,null,null,null,null,null,null,null,null,null,null,null,null,null,null,null,null,null,null,null,null,null,{"$f":"Balanza!H132","v":0},{"$f":"Balanza!D132","v":0}]
["11600","    ESTIMACIÓN POR PÉRDIDA O DETERIORO DE ACTIVOS CIRCULANTES",null,null,null,null,null,null,null,null,null,null,null,null,null,null,null,null,null,null,null,null,null,null,null,null,null,null,null,null,null,{"$f":"SUM(AF39:AF40)","v":0},{"$f":"SUM(AG39:AG40)","v":0},"21650","      Otros fondos de terceros en garantía y/o administración a corto plazo",null,null,null,null,null,null,null,null,null,null,null,null,null,null,null,null,null,null,null,null,null,null,null,null,null,null,null,null,null,{"$f":"Balanza!H133","v":0},{"$f":"Balanza!D133","v":0}]
["11610","      Estimaciones para cuentas incobrables por derechos a recibir efectivo o equivalentes",null,null,null,null,null,null,null,null,null,null,null,null,null,null,null,null,null,null,null,null,null,null,null,null,null,null,null,null,null,{"$f":"Balanza!G36","v":0},{"$f":"Balanza!C36","v":0},"21660","      Valores y bienes en garantía a corto plazo",null,null,null,null,null,null,null,null,null,null,null,null,null,null,null,null,null,null,null,null,null,null,null,null,null,null,null,null,null,{"$f":"Balanza!H134","v":0},{"$f":"Balanza!D134","v":0}]
["11620","      Estimación por deterioro de inventarios",null,null,null,null,null,null,null,null,null,null,null,null,null,null,null,null,null,null,null,null,null,null,null,null,null,null,null,null,null,{"$f":"Balanza!G37","v":0},{"$f":"Balanza!C37","v":0},"21700","    PROVISIONES A CORTO PLAZO",null,null,null,null,null,null,null,null,null,null,null,null,null,null,null,null,null,null,null,null,null,null,null,null,null,null,null,null,null,{"$f":"SUM(BM41:BM43)","v":0},{"$f":"SUM(BN41:BN43)","v":0}]
["11900","    OTROS ACTIVOS CIRCULANTES",null,null,null,null,null,null,null,null,null,null,null,null,null,null,null,null,null,null,null,null,null,null,null,null,null,null,null,null,null,{"$f":"SUM(AF42:AF45)","v":0},{"$f":"SUM(AG42:AG45)","v":0},"21710","      Provisión para demandas y juicios a corto plazo",null,null,null,null,null,null,null,null,null,null,null,null,null,null,null,null,null,null,null,null,null,null,null,null,null,null,null,null,null,{"$f":"Balanza!H136","v":0},{"$f":"Balanza!D136","v":0}]
["11910","      Valores en garantía",null,null,null,null,null,null,null,null,null,null,null,null,null,null,null,null,null,null,null,null,null,null,null,null,null,null,null,null,null,{"$f":"Balanza!G39","v":0},{"$f":"Balanza!C39","v":0},"21720","      Provisión para contingencias a corto plazo",null,null,null,null,null,null,null,null,null,null,null,null,null,null,null,null,null,null,null,null,null,null,null,null,null,null,null,null,null,{"$f":"Balanza!H137","v":0},{"$f":"Balanza!D137","v":0}]
["11920","      Bienes en garantía (excluye depósitos de fondos)",null,null,null,null,null,null,null,null,null,null,null,null,null,null,null,null,null,null,null,null,null,null,null,null,null,null,null,null,null,{"$f":"Balanza!G40","v":0},{"$f":"Balanza!C40","v":0},"21790","      Otras provisiones a corto plazo",null,null,null,null,null,null,null,null,null,null,null,null,null,null,null,null,null,null,null,null,null,null,null,null,null,null,null,null,null,{"$f":"Balanza!H138","v":0},{"$f":"Balanza!D138","v":0}]
["11930","      Bienes derivados de embargos,  decomisos, aseguramientos y dación en pago",null,null,null,null,null,null,null,null,null,null,null,null,null,null,null,null,null,null,null,null,null,null,null,null,null,null,null,null,null,{"$f":"Balanza!G41","v":0},{"$f":"Balanza!C41","v":0},"21900","    OTROS PASIVOS A CORTO PLAZO",null,null,null,null,null,null,null,null,null,null,null,null,null,null,null,null,null,null,null,null,null,null,null,null,null,null,null,null,null,{"$f":"SUM(BM45:BM47)","v":0},{"$f":"SUM(BN45:BN47)","v":0}]
["11940","      Adquisición con fondos de terceros",null,null,null,null,null,null,null,null,null,null,null,null,null,null,null,null,null,null,null,null,null,null,null,null,null,null,null,null,null,{"$f":"Balanza!G42","v":0},{"$f":"Balanza!C42","v":0},"21910","      Ingresos por clasificar",null,null,null,null,null,null,null,null,null,null,null,null,null,null,null,null,null,null,null,null,null,null,null,null,null,null,null,null,null,{"$f":"Balanza!H140","v":0},{"$f":"Balanza!D140","v":0}]
[null,"ACTIVOS CIRCULANTES",null,null,null,null,null,null,null,null,null,null,null,null,null,null,null,null,null,null,null,null,null,null,null,null,null,null,null,null,null,{"$f":"AF8+AF16+AF24+AF30+AF36+AF38+AF41","v":9813839.1699999999},{"$f":"AG8+AG16+AG24+AG30+AG36+AG38+AG41","v":7006188.3300000001},"21920","      Recaudación por participar",null,null,null,null,null,null,null,null,null,null,null,null,null,null,null,null,null,null,null,null,null,null,null,null,null,null,null,null,null,{"$f":"Balanza!H141","v":0},{"$f":"Balanza!D141","v":0}]
["12000","  ACTIVO NO CIRCULANTE",null,null,null,null,null,null,null,null,null,null,null,null,null,null,null,null,null,null,null,null,null,null,null,null,null,null,null,null,null,null,null,"21990","      Otros pasivos circulantes",null,null,null,null,null,null,null,null,null,null,null,null,null,null,null,null,null,null,null,null,null,null,null,null,null,null,null,null,null,{"$f":"Balanza!H142","v":0},{"$f":"Balanza!D142","v":0}]
["12100","    INVERSIONES FINANCIERAS A LARGO PLAZO",null,null,null,null,null,null,null,null,null,null,null,null,null,null,null,null,null,null,null,null,null,null,null,null,null,null,null,null,null,{"$f":"SUM(AF49:AF52)","v":5000},{"$f":"SUM(AG49:AG52)","v":5000},null,"PASIVOS CIRCULANTES",null,null,null,null,null,null,null,null,null,null,null,null,null,null,null,null,null,null,null,null,null,null,null,null,null,null,null,null,null,{"$f":"BM8+BM18+BM22+BM26+BM29+BM33+BM40+BM44","v":3795420.8},{"$f":"BN8+BN18+BN22+BN26+BN29+BN33+BN40+BN44","v":4423775.72}]
["12110","      Inversiones a largo plazo",null,null,null,null,null,null,null,null,null,null,null,null,null,null,null,null,null,null,null,null,null,null,null,null,null,null,null,null,null,{"$f":"Balanza!G45","v":0},{"$f":"Balanza!C45","v":0},"22000","  PASIVO NO CIRCULANTE"]
["12120","      Títulos y valores a largo plazo",null,null,null,null,null,null,null,null,null,null,null,null,null,null,null,null,null,null,null,null,null,null,null,null,null,null,null,null,null,{"$f":"Balanza!G46","v":0},{"$f":"Balanza!C46","v":0},"22100","    CUENTAS POR PAGAR A LARGO PLAZO",null,null,null,null,null,null,null,null,null,null,null,null,null,null,null,null,null,null,null,null,null,null,null,null,null,null,null,null,null,{"$f":"SUM(BM51:BM52)","v":5087559.78},{"$f":"SUM(BN51:BN52)","v":6431703.4100000001}]
["12130","      Fideicomisos, mandatos y contratos análogos",null,null,null,null,null,null,null,null,null,null,null,null,null,null,null,null,null,null,null,null,null,null,null,null,null,null,null,null,null,{"$f":"Balanza!G47","v":5000},{"$f":"Balanza!C47","v":5000},"22110","      Proveedores por pagar a largo plazo",null,null,null,null,null,null,null,null,null,null,null,null,null,null,null,null,null,null,null,null,null,null,null,null,null,null,null,null,null,{"$f":"Balanza!H145","v":0},{"$f":"Balanza!D145","v":0}]
["12140","      Participaciones y aportaciones de capital",null,null,null,null,null,null,null,null,null,null,null,null,null,null,null,null,null,null,null,null,null,null,null,null,null,null,null,null,null,{"$f":"Balanza!G48","v":0},{"$f":"Balanza!C48","v":0},"22120","      Contratistas por obras públicas por pagar a largo plazo",null,null,null,null,null,null,null,null,null,null,null,null,null,null,null,null,null,null,null,null,null,null,null,null,null,null,null,null,null,{"$f":"Balanza!H146","v":5087559.78},{"$f":"Balanza!D146","v":6431703.4100000001}]
["12200","    DERECHOS A RECIBIR EFECTIVO O EQUIVALENTES A LARGO PLAZO",null,null,null,null,null,null,null,null,null,null,null,null,null,null,null,null,null,null,null,null,null,null,null,null,null,null,null,null,null,{"$f":"SUM(AF54:AF58)","v":0},{"$f":"SUM(AG54:AG58)","v":0},"22200","    DOCUMENTOS POR PAGAR A LARGO PLAZO",null,null,null,null,null,null,null,null,null,null,null,null,null,null,null,null,null,null,null,null,null,null,null,null,null,null,null,null,null,{"$f":"SUM(BM54:BM56)","v":0},{"$f":"SUM(BN54:BN56)","v":0}]
["12210","      Documentos por cobrar a largo plazo",null,null,null,null,null,null,null,null,null,null,null,null,null,null,null,null,null,null,null,null,null,null,null,null,null,null,null,null,null,{"$f":"Balanza!G50","v":0},{"$f":"Balanza!C50","v":0},"22210","      Documentos comerciales por pagar a largo plazo",null,null,null,null,null,null,null,null,null,null,null,null,null,null,null,null,null,null,null,null,null,null,null,null,null,null,null,null,null,{"$f":"Balanza!H148","v":0},{"$f":"Balanza!D148","v":0}]
["12220","      Deudores diversos a largo plazo",null,null,null,null,null,null,null,null,null,null,null,null,null,null,null,null,null,null,null,null,null,null,null,null,null,null,null,null,null,{"$f":"Balanza!G51","v":0},{"$f":"Balanza!C51","v":0},"22220","      Documentos con contratistas por obras públicas por pagar a largo plazo",null,null,null,null,null,null,null,null,null,null,null,null,null,null,null,null,null,null,null,null,null,null,null,null,null,null,null,null,null,{"$f":"Balanza!H149","v":0},{"$f":"Balanza!D149","v":0}]
["12230","      Ingresos por recuperar a largo plazo",null,null,null,null,null,null,null,null,null,null,null,null,null,null,null,null,null,null,null,null,null,null,null,null,null,null,null,null,null,{"$f":"Balanza!G52","v":0},{"$f":"Balanza!C52","v":0},"22290","      Otros documentos por pagar a largo plazo",null,null,null,null,null,null,null,null,null,null,null,null,null,null,null,null,null,null,null,null,null,null,null,null,null,null,null,null,null,{"$f":"Balanza!H150","v":0},{"$f":"Balanza!D150","v":0}]
["12240","      Préstamos otorgados a largo plazo",null,null,null,null,null,null,null,null,null,null,null,null,null,null,null,null,null,null,null,null,null,null,null,null,null,null,null,null,null,{"$f":"Balanza!G53","v":0},{"$f":"Balanza!C53","v":0},"22300","    DEUDA PÚBLICA A LARGO PLAZO",null,null,null,null,null,null,null,null,null,null,null,null,null,null,null,null,null,null,null,null,null,null,null,null,null,null,null,null,null,{"$f":"SUM(BM58:BM62)","v":0},{"$f":"SUM(BN58:BN62)","v":0}]
["12290","      Otros derechos a recibir efectivo o equivalentes a largo plazo",null,null,null,null,null,null,null,null,null,null,null,null,null,null,null,null,null,null,null,null,null,null,null,null,null,null,null,null,null,{"$f":"Balanza!G54","v":0},{"$f":"Balanza!C54","v":0},"22310","      Títulos y valores de la deuda pública interna a largo plazo",null,null,null,null,null,null,null,null,null,null,null,null,null,null,null,null,null,null,null,null,null,null,null,null,null,null,null,null,null,{"$f":"Balanza!H152","v":0},{"$f":"Balanza!D152","v":0}]
["12300","    BIENES INMUEBLES, INFRAESTRUCTURA Y CONSTRUCCIONES EN PROCESO",null,null,null,null,null,null,null,null,null,null,null,null,null,null,null,null,null,null,null,null,null,null,null,null,null,null,null,null,null,{"$f":"SUM(AF60:AF66)","v":405125396.81999999},{"$f":"SUM(AG60:AG66)","v":394674462.90000004},"22320","      Títulos y valores de la deuda pública externa a largo plazo",null,null,null,null,null,null,null,null,null,null,null,null,null,null,null,null,null,null,null,null,null,null,null,null,null,null,null,null,null,{"$f":"Balanza!H153","v":0},{"$f":"Balanza!D153","v":0}]
["12310","      Terrenos",null,null,null,null,null,null,null,null,null,null,null,null,null,null,null,null,null,null,null,null,null,null,null,null,null,null,null,null,null,{"$f":"Balanza!G56","v":20637321.66},{"$f":"Balanza!C56","v":20022321.66},"22330","      Préstamos de la deuda pública interna por pagar a largo plazo",null,null,null,null,null,null,null,null,null,null,null,null,null,null,null,null,null,null,null,null,null,null,null,null,null,null,null,null,null,{"$f":"Balanza!H154","v":0},{"$f":"Balanza!D154","v":0}]
["12320","      Viviendas",null,null,null,null,null,null,null,null,null,null,null,null,null,null,null,null,null,null,null,null,null,null,null,null,null,null,null,null,null,{"$f":"Balanza!G57","v":0},{"$f":"Balanza!C57","v":0},"22340","      Préstamos de la deuda pública externa por pagar a largo plazo",null,null,null,null,null,null,null,null,null,null,null,null,null,null,null,null,null,null,null,null,null,null,null,null,null,null,null,null,null,{"$f":"Balanza!H155","v":0},{"$f":"Balanza!D155","v":0}]
["12330","      Edificios no habitacionales",null,null,null,null,null,null,null,null,null,null,null,null,null,null,null,null,null,null,null,null,null,null,null,null,null,null,null,null,null,{"$f":"Balanza!G58","v":374983667.39999998},{"$f":"Balanza!C58","v":374652141.24000001},"22350","      Arrendamiento financiero por pagar a largo plazo",null,null,null,null,null,null,null,null,null,null,null,null,null,null,null,null,null,null,null,null,null,null,null,null,null,null,null,null,null,{"$f":"Balanza!H156","v":0},{"$f":"Balanza!D156","v":0}]
["12340","      Infraestructura",null,null,null,null,null,null,null,null,null,null,null,null,null,null,null,null,null,null,null,null,null,null,null,null,null,null,null,null,null,{"$f":"Balanza!G59","v":0},{"$f":"Balanza!C59","v":0},"22400","    PASIVOS DIFERIDOS A LARGO PLAZO",null,null,null,null,null,null,null,null,null,null,null,null,null,null,null,null,null,null,null,null,null,null,null,null,null,null,null,null,null,{"$f":"SUM(BM64:BM66)","v":0},{"$f":"SUM(BN64:BN66)","v":0}]
["12350","      Construcciones en proceso en bienes de dominio público",null,null,null,null,null,null,null,null,null,null,null,null,null,null,null,null,null,null,null,null,null,null,null,null,null,null,null,null,null,{"$f":"Balanza!G60","v":9504407.7599999998},{"$f":"Balanza!C60","v":0},"22410","      Créditos diferidos a largo plazo",null,null,null,null,null,null,null,null,null,null,null,null,null,null,null,null,null,null,null,null,null,null,null,null,null,null,null,null,null,{"$f":"Balanza!H158","v":0},{"$f":"Balanza!D158","v":0}]
["12360","      Construcciones en proceso en bienes propios",null,null,null,null,null,null,null,null,null,null,null,null,null,null,null,null,null,null,null,null,null,null,null,null,null,null,null,null,null,{"$f":"Balanza!G61","v":0},{"$f":"Balanza!C61","v":0},"22420","      Intereses cobrados por adelantado a largo plazo",null,null,null,null,null,null,null,null,null,null,null,null,null,null,null,null,null,null,null,null,null,null,null,null,null,null,null,null,null,{"$f":"Balanza!H159","v":0},{"$f":"Balanza!D159","v":0}]
["12390","      Otros bienes inmuebles",null,null,null,null,null,null,null,null,null,null,null,null,null,null,null,null,null,null,null,null,null,null,null,null,null,null,null,null,null,{"$f":"Balanza!G62","v":0},{"$f":"Balanza!C62","v":0},"22490","      Otros pasivos diferidos a largo plazo",null,null,null,null,null,null,null,null,null,null,null,null,null,null,null,null,null,null,null,null,null,null,null,null,null,null,null,null,null,{"$f":"Balanza!H160","v":0},{"$f":"Balanza!D160","v":0}]
["12400","    BIENES MUEBLES",null,null,null,null,null,null,null,null,null,null,null,null,null,null,null,null,null,null,null,null,null,null,null,null,null,null,null,null,null,{"$f":"SUM(AF68:AF75)","v":10856576.17},{"$f":"SUM(AG68:AG75)","v":10509827.43},"22500","    FONDOS Y BIENES DE TERCEROS EN GARANTÍA Y/O ADMINISTRACIÓN A LARGO PLAZO",null,null,null,null,null,null,null,null,null,null,null,null,null,null,null,null,null,null,null,null,null,null,null,null,null,null,null,null,null,{"$f":"SUM(BM68:BM73)","v":0},{"$f":"SUM(BN68:BN73)","v":0}]
["12410","      Mobiliario y equipo de administración",null,null,null,null,null,null,null,null,null,null,null,null,null,null,null,null,null,null,null,null,null,null,null,null,null,null,null,null,null,{"$f":"Balanza!G64","v":1448312.61},{"$f":"Balanza!C64","v":1408530.84},"22510","      Fondos en garantía a largo plazo",null,null,null,null,null,null,null,null,null,null,null,null,null,null,null,null,null,null,null,null,null,null,null,null,null,null,null,null,null,{"$f":"Balanza!H162","v":0},{"$f":"Balanza!D162","v":0}]
["12420","      Mobiliario y equipo educacional y recreativo",null,null,null,null,null,null,null,null,null,null,null,null,null,null,null,null,null,null,null,null,null,null,null,null,null,null,null,null,null,{"$f":"Balanza!G65","v":120647.76},{"$f":"Balanza!C65","v":2239},"22520","      Fondos en administración a largo plazo",null,null,null,null,null,null,null,null,null,null,null,null,null,null,null,null,null,null,null,null,null,null,null,null,null,null,null,null,null,{"$f":"Balanza!H163","v":0},{"$f":"Balanza!D163","v":0}]
["12430","      Equipo e instrumental médico y de laboratorio",null,null,null,null,null,null,null,null,null,null,null,null,null,null,null,null,null,null,null,null,null,null,null,null,null,null,null,null,null,{"$f":"Balanza!G66","v":166020},{"$f":"Balanza!C66","v":82500},"22530","      Fondos contingentes a largo plazo",null,null,null,null,null,null,null,null,null,null,null,null,null,null,null,null,null,null,null,null,null,null,null,null,null,null,null,null,null,{"$f":"Balanza!H164","v":0},{"$f":"Balanza!D164","v":0}]
["12440","      Vehículos y equipo de transporte",null,null,null,null,null,null,null,null,null,null,null,null,null,null,null,null,null,null,null,null,null,null,null,null,null,null,null,null,null,{"$f":"Balanza!G67","v":2705860},{"$f":"Balanza!C67","v":2705860},"22540","      Fondos de fideicomisos, mandatos y contratos análogos a largo plazo",null,null,null,null,null,null,null,null,null,null,null,null,null,null,null,null,null,null,null,null,null,null,null,null,null,null,null,null,null,{"$f":"Balanza!H165","v":0},{"$f":"Balanza!D165","v":0}]
["12450","      Equipo de defensa y seguridad",null,null,null,null,null,null,null,null,null,null,null,null,null,null,null,null,null,null,null,null,null,null,null,null,null,null,null,null,null,{"$f":"Balanza!G68","v":173090.5},{"$f":"Balanza!C68","v":173090.5},"22550","      Otros fondos de terceros en garantía y/o administración a largo plazo",null,null,null,null,null,null,null,null,null,null,null,null,null,null,null,null,null,null,null,null,null,null,null,null,null,null,null,null,null,{"$f":"Balanza!H166","v":0},{"$f":"Balanza!D166","v":0}]
["12460","      Maquinaria, otros equipos y herramientas",null,null,null,null,null,null,null,null,null,null,null,null,null,null,null,null,null,null,null,null,null,null,null,null,null,null,null,null,null,{"$f":"Balanza!G69","v":6242645.2999999998},{"$f":"Balanza!C69","v":6137607.0899999999},"22560","      Valores y bienes en garantía a largo plazo",null,null,null,null,null,null,null,null,null,null,null,null,null,null,null,null,null,null,null,null,null,null,null,null,null,null,null,null,null,{"$f":"Balanza!H167","v":0},{"$f":"Balanza!D167","v":0}]
["12470","      Colecciones, obras de arte y objetos valiosos",null,null,null,null,null,null,null,null,null,null,null,null,null,null,null,null,null,null,null,null,null,null,null,null,null,null,null,null,null,{"$f":"Balanza!G70","v":0},{"$f":"Balanza!C70","v":0},"22600","    PROVISIONES A LARGO PLAZO",null,null,null,null,null,null,null,null,null,null,null,null,null,null,null,null,null,null,null,null,null,null,null,null,null,null,null,null,null,{"$f":"SUM(BM75:BM78)","v":0},{"$f":"SUM(BN75:BN78)","v":0}]
["12480","      Activos biológicos",null,null,null,null,null,null,null,null,null,null,null,null,null,null,null,null,null,null,null,null,null,null,null,null,null,null,null,null,null,{"$f":"Balanza!G71","v":0},{"$f":"Balanza!C71","v":0},"22610","      Provisión para demandas y juicios a largo plazo",null,null,null,null,null,null,null,null,null,null,null,null,null,null,null,null,null,null,null,null,null,null,null,null,null,null,null,null,null,{"$f":"Balanza!H169","v":0},{"$f":"Balanza!D169","v":0}]
["12500","    ACTIVOS INTANGIBLES",null,null,null,null,null,null,null,null,null,null,null,null,null,null,null,null,null,null,null,null,null,null,null,null,null,null,null,null,null,{"$f":"SUM(AF77:AF81)","v":235805.26},{"$f":"SUM(AG77:AG81)","v":235805.26},"22620","      Provisión para pensiones a largo plazo",null,null,null,null,null,null,null,null,null,null,null,null,null,null,null,null,null,null,null,null,null,null,null,null,null,null,null,null,null,{"$f":"Balanza!H170","v":0},{"$f":"Balanza!D170","v":0}]
["12510","      Software",null,null,null,null,null,null,null,null,null,null,null,null,null,null,null,null,null,null,null,null,null,null,null,null,null,null,null,null,null,{"$f":"Balanza!G73","v":178485.26},{"$f":"Balanza!C73","v":178485.26},"22630","      Provisión para contingencias a largo plazo",null,null,null,null,null,null,null,null,null,null,null,null,null,null,null,null,null,null,null,null,null,null,null,null,null,null,null,null,null,{"$f":"Balanza!H171","v":0},{"$f":"Balanza!D171","v":0}]
["12520","      Patentes, marcas y derechos",null,null,null,null,null,null,null,null,null,null,null,null,null,null,null,null,null,null,null,null,null,null,null,null,null,null,null,null,null,{"$f":"Balanza!G74","v":0},{"$f":"Balanza!C74","v":0},"22690","      Otras provisiones a largo plazo",null,null,null,null,null,null,null,null,null,null,null,null,null,null,null,null,null,null,null,null,null,null,null,null,null,null,null,null,null,{"$f":"Balanza!H172","v":0},{"$f":"Balanza!D172","v":0}]
["12530","      Concesiones y franquicias",null,null,null,null,null,null,null,null,null,null,null,null,null,null,null,null,null,null,null,null,null,null,null,null,null,null,null,null,null,{"$f":"Balanza!G75","v":0},{"$f":"Balanza!C75","v":0},null,"PASIVOS NO CIRCULANTES",null,null,null,null,null,null,null,null,null,null,null,null,null,null,null,null,null,null,null,null,null,null,null,null,null,null,null,null,null,{"$f":"BM50+BM53+BM57+BM63+BM67+BM74","v":5087559.78},{"$f":"BN50+BN53+BN57+BN63+BN67+BN74","v":6431703.4100000001}]
["12540","      Licencias",null,null,null,null,null,null,null,null,null,null,null,null,null,null,null,null,null,null,null,null,null,null,null,null,null,null,null,null,null,{"$f":"Balanza!G76","v":0},{"$f":"Balanza!C76","v":0},null,"TOTAL DE PASIVOS",null,null,null,null,null,null,null,null,null,null,null,null,null,null,null,null,null,null,null,null,null,null,null,null,null,null,null,null,null,{"$f":"BM48+BM79","v":8882980.5800000001},{"$f":"BN48+BN79","v":10855479.129999999}]
["12590","      Otros activos intangibles",null,null,null,null,null,null,null,null,null,null,null,null,null,null,null,null,null,null,null,null,null,null,null,null,null,null,null,null,null,{"$f":"Balanza!G77","v":57320},{"$f":"Balanza!C77","v":57320},"30000","HACIENDA PÚBLICA/ PATRIMONIO"]
["12600","    DEPRECIACIÓN, DETERIORO Y AMORTIZACIÓN ACUMULADA DE BIENES",null,null,null,null,null,null,null,null,null,null,null,null,null,null,null,null,null,null,null,null,null,null,null,null,null,null,null,null,null,{"$f":"SUM(AF83:AF87)","v":-8070930.9799999995},{"$f":"SUM(AG83:AG87)","v":-8070930.9799999995},"31000","  HACIENDA PÚBLICA/ PATRIMONIO CONTRIBUIDO",null,null,null,null,null,null,null,null,null,null,null,null,null,null,null,null,null,null,null,null,null,null,null,null,null,null,null,null,null,{"$f":"SUM(BM83:BM85)","v":0},{"$f":"SUM(BN83:BN85)","v":0}]
["12610","      Depreciación acumulada de bienes inmuebles",null,null,null,null,null,null,null,null,null,null,null,null,null,null,null,null,null,null,null,null,null,null,null,null,null,null,null,null,null,{"$f":"(Balanza!H79)*-1","v":-6166845.7599999998},{"$f":"(Balanza!D79)*-1","v":-6166845.7599999998},"31100","    Aportaciones",null,null,null,null,null,null,null,null,null,null,null,null,null,null,null,null,null,null,null,null,null,null,null,null,null,null,null,null,null,{"$f":"Balanza!H175","v":0},{"$f":"Balanza!D175","v":0}]
["12620","      Depreciación acumulada de infraestructura",null,null,null,null,null,null,null,null,null,null,null,null,null,null,null,null,null,null,null,null,null,null,null,null,null,null,null,null,null,{"$f":"(Balanza!H80)*-1","v":-1904085.22},{"$f":"(Balanza!D80)*-1","v":-1904085.22},"31200","    Donaciones de capítal",null,null,null,null,null,null,null,null,null,null,null,null,null,null,null,null,null,null,null,null,null,null,null,null,null,null,null,null,null,{"$f":"Balanza!H176","v":0},{"$f":"Balanza!D176","v":0}]
["12630","      Depreciación acumulada de bienes muebles",null,null,null,null,null,null,null,null,null,null,null,null,null,null,null,null,null,null,null,null,null,null,null,null,null,null,null,null,null,{"$f":"(Balanza!H81)*-1","v":0},{"$f":"(Balanza!D81)*-1","v":0},"31300","    Actualización de la hacienda pública/patrimonio",null,null,null,null,null,null,null,null,null,null,null,null,null,null,null,null,null,null,null,null,null,null,null,null,null,null,null,null,null,{"$f":"Balanza!H177","v":0},{"$f":"Balanza!D177","v":0}]
["12640","      Deterioro acumulado de bienes",null,null,null,null,null,null,null,null,null,null,null,null,null,null,null,null,null,null,null,null,null,null,null,null,null,null,null,null,null,{"$f":"(Balanza!H82)*-1","v":0},{"$f":"(Balanza!D82)*-1","v":0},"32000","  HACIENDA PÚBLICA/PATRIMONIO GENERADO",null,null,null,null,null,null,null,null,null,null,null,null,null,null,null,null,null,null,null,null,null,null,null,null,null,null,null,null,null,{"$f":"BM87+BM88+BM89+BM94+BM98","v":409082705.86000001},{"$f":"BN87+BN88+BN89+BN94+BN98","v":393504873.81}]
["12650","      Amortización acumulada de activos intangibles",null,null,null,null,null,null,null,null,null,null,null,null,null,null,null,null,null,null,null,null,null,null,null,null,null,null,null,null,null,{"$f":"(Balanza!H83)*-1","v":0},{"$f":"(Balanza!D83)*-1","v":0},"32100","    Resultado del ejercicio  (ahorro/desahorro)",null,null,null,null,null,null,null,null,null,null,null,null,null,null,null,null,null,null,null,null,null,null,null,null,null,null,null,null,null,{"$f":"Balanza!H179","v":15577832.050000001},{"$f":"Balanza!D179","v":22631177.000000007}]
["12700","    ACTIVOS DIFERIDOS",null,null,null,null,null,null,null,null,null,null,null,null,null,null,null,null,null,null,null,null,null,null,null,null,null,null,null,null,null,{"$f":"SUM(AF89:AF94)","v":0},{"$f":"SUM(AG89:AG94)","v":0},"32200","    Resultado de ejercicios anteriores",null,null,null,null,null,null,null,null,null,null,null,null,null,null,null,null,null,null,null,null,null,null,null,null,null,null,null,null,null,{"$f":"Balanza!H180","v":315444602.75},{"$f":"Balanza!D180","v":292813425.75}]
["12710","      Estudios, formulación y evaluación de proyectos",null,null,null,null,null,null,null,null,null,null,null,null,null,null,null,null,null,null,null,null,null,null,null,null,null,null,null,null,null,{"$f":"Balanza!G85","v":0},{"$f":"Balanza!C85","v":0},"32300","  REVALÚOS",null,null,null,null,null,null,null,null,null,null,null,null,null,null,null,null,null,null,null,null,null,null,null,null,null,null,null,null,null,{"$f":"SUM(BM90:BM93)","v":77719390},{"$f":"SUM(BN90:BN93)","v":77719390}]
["12720","      Derechos sobre bienes en régimen de arrendamiento financiero",null,null,null,null,null,null,null,null,null,null,null,null,null,null,null,null,null,null,null,null,null,null,null,null,null,null,null,null,null,{"$f":"Balanza!G86","v":0},{"$f":"Balanza!C86","v":0},"32310","    Revalúo de bienes inmuebles",null,null,null,null,null,null,null,null,null,null,null,null,null,null,null,null,null,null,null,null,null,null,null,null,null,null,null,null,null,{"$f":"Balanza!H182","v":71385689},{"$f":"Balanza!D182","v":71385689}]
["12730","      Gastos pagados por adelantado a largo plazo",null,null,null,null,null,null,null,null,null,null,null,null,null,null,null,null,null,null,null,null,null,null,null,null,null,null,null,null,null,{"$f":"Balanza!G87","v":0},{"$f":"Balanza!C87","v":0},"32320","    Revalúo de bienes muebles",null,null,null,null,null,null,null,null,null,null,null,null,null,null,null,null,null,null,null,null,null,null,null,null,null,null,null,null,null,{"$f":"Balanza!H183","v":6333701},{"$f":"Balanza!D183","v":6333701}]
["12740","      Anticipos a largo plazo",null,null,null,null,null,null,null,null,null,null,null,null,null,null,null,null,null,null,null,null,null,null,null,null,null,null,null,null,null,{"$f":"Balanza!G88","v":0},{"$f":"Balanza!C88","v":0},"32330","    Revalúo de bienes intangibles",null,null,null,null,null,null,null,null,null,null,null,null,null,null,null,null,null,null,null,null,null,null,null,null,null,null,null,null,null,{"$f":"Balanza!H184","v":0},{"$f":"Balanza!D184","v":0}]
["12750","      Beneficios al retiro de empleados pagados por adelantado",null,null,null,null,null,null,null,null,null,null,null,null,null,null,null,null,null,null,null,null,null,null,null,null,null,null,null,null,null,{"$f":"Balanza!G89","v":0},{"$f":"Balanza!C89","v":0},"32390","    Otros revalúos",null,null,null,null,null,null,null,null,null,null,null,null,null,null,null,null,null,null,null,null,null,null,null,null,null,null,null,null,null,{"$f":"Balanza!H185","v":0},{"$f":"Balanza!D185","v":0}]
["12790","      Otros activos diferidos",null,null,null,null,null,null,null,null,null,null,null,null,null,null,null,null,null,null,null,null,null,null,null,null,null,null,null,null,null,{"$f":"Balanza!G90","v":0},{"$f":"Balanza!C90","v":0},"32400","  RESERVAS",null,null,null,null,null,null,null,null,null,null,null,null,null,null,null,null,null,null,null,null,null,null,null,null,null,null,null,null,null,{"$f":"SUM(BM95:BM97)","v":0},{"$f":"SUM(BN95:BN97)","v":0}]
["12800","    ESTIMACIÓN POR PÉRDIDA O DETERIORO DE ACTIVOS NO CIRCULANTES",null,null,null,null,null,null,null,null,null,null,null,null,null,null,null,null,null,null,null,null,null,null,null,null,null,null,null,null,null,{"$f":"SUM(AF96:AF100)","v":0},{"$f":"SUM(AG96:AG100)","v":0},"32410","    Reservas de patrimonio",null,null,null,null,null,null,null,null,null,null,null,null,null,null,null,null,null,null,null,null,null,null,null,null,null,null,null,null,null,{"$f":"Balanza!H187","v":0},{"$f":"Balanza!D187","v":0}]
["12810","      Estimaciones por pérdida de cuentas incobrables de documentos por cobrar a largo plazo",null,null,null,null,null,null,null,null,null,null,null,null,null,null,null,null,null,null,null,null,null,null,null,null,null,null,null,null,null,{"$f":"(Balanza!H92)*-1","v":0},{"$f":"(Balanza!D92)*-1","v":0},"32420","    Reservas territoriales",null,null,null,null,null,null,null,null,null,null,null,null,null,null,null,null,null,null,null,null,null,null,null,null,null,null,null,null,null,{"$f":"Balanza!H188","v":0},{"$f":"Balanza!D188","v":0}]
["12820","      Estimaciones por pérdida de cuentas incobrables de deudores diversos por cobrar a largo plazo",null,null,null,null,null,null,null,null,null,null,null,null,null,null,null,null,null,null,null,null,null,null,null,null,null,null,null,null,null,{"$f":"(Balanza!H93)*-1","v":0},{"$f":"(Balanza!D93)*-1","v":0},"32430","    Reservas por contingencias",null,null,null,null,null,null,null,null,null,null,null,null,null,null,null,null,null,null,null,null,null,null,null,null,null,null,null,null,null,{"$f":"Balanza!H189","v":0},{"$f":"Balanza!D189","v":0}]
["12830","      Estimaciones por pérdida de cuentas incobrables de ingresos por cobrar a largo plazo",null,null,null,null,null,null,null,null,null,null,null,null,null,null,null,null,null,null,null,null,null,null,null,null,null,null,null,null,null,{"$f":"(Balanza!H94)*-1","v":0},{"$f":"(Balanza!D94)*-1","v":0},"32500","  RECTIFICACIONES DE RESULTADOS DE EJERCICIOS ANTERIORES",null,null,null,null,null,null,null,null,null,null,null,null,null,null,null,null,null,null,null,null,null,null,null,null,null,null,null,null,null,{"$f":"SUM(BM99:BM100)","v":340881.06},{"$f":"SUM(BN99:BN100)","v":340881.06}]
["12840","      Estimaciones por pérdida de cuentas incobrables de préstamos otorgados a largo plazo",null,null,null,null,null,null,null,null,null,null,null,null,null,null,null,null,null,null,null,null,null,null,null,null,null,null,null,null,null,{"$f":"(Balanza!H95)*-1","v":0},{"$f":"(Balanza!D95)*-1","v":0},"32510","    Cambios en políticas contables",null,null,null,null,null,null,null,null,null,null,null,null,null,null,null,null,null,null,null,null,null,null,null,null,null,null,null,null,null,{"$f":"Balanza!H191","v":0},{"$f":"Balanza!D191","v":0}]
["12890","      Estimaciones por pérdida de otras cuentas incobrables a largo plazo",null,null,null,null,null,null,null,null,null,null,null,null,null,null,null,null,null,null,null,null,null,null,null,null,null,null,null,null,null,{"$f":"(Balanza!H96)*-1","v":0},{"$f":"(Balanza!D96)*-1","v":0},"32520","    Cambios por errores contables",null,null,null,null,null,null,null,null,null,null,null,null,null,null,null,null,null,null,null,null,null,null,null,null,null,null,null,null,null,{"$f":"Balanza!H192","v":340881.06},{"$f":"Balanza!D192","v":340881.06}]
["12900","    OTROS ACTIVOS NO CIRCULANTES",null,null,null,null,null,null,null,null,null,null,null,null,null,null,null,null,null,null,null,null,null,null,null,null,null,null,null,null,null,{"$f":"SUM(AF102:AF104)","v":0},{"$f":"SUM(AG102:AG104)","v":0},"33000","  EXCESO O INSUFICIENCIA EN LA ACTUALIZACIÓN DE LA HACIENDA PÚBLICA / PATRIMONIO",null,null,null,null,null,null,null,null,null,null,null,null,null,null,null,null,null,null,null,null,null,null,null,null,null,null,null,null,null,{"$f":"SUM(BM102:BM103)","v":0},{"$f":"SUM(BN102:BN103)","v":0}]
["12910","      Bienes en concesión",null,null,null,null,null,null,null,null,null,null,null,null,null,null,null,null,null,null,null,null,null,null,null,null,null,null,null,null,null,{"$f":"Balanza!G98","v":0},{"$f":"Balanza!C98","v":0},"33100","    Resultado por posición monetaria",null,null,null,null,null,null,null,null,null,null,null,null,null,null,null,null,null,null,null,null,null,null,null,null,null,null,null,null,null,{"$f":"Balanza!H194","v":0},{"$f":"Balanza!D194","v":0}]
["12920","      Bienes en arrendamiento financiero",null,null,null,null,null,null,null,null,null,null,null,null,null,null,null,null,null,null,null,null,null,null,null,null,null,null,null,null,null,{"$f":"Balanza!G99","v":0},{"$f":"Balanza!C99","v":0},"33200","    Resultado por tenencia de activos no monetarios",null,null,null,null,null,null,null,null,null,null,null,null,null,null,null,null,null,null,null,null,null,null,null,null,null,null,null,null,null,{"$f":"Balanza!H195","v":0},{"$f":"Balanza!D195","v":0}]
["12930","      Bienes en comodato",null,null,null,null,null,null,null,null,null,null,null,null,null,null,null,null,null,null,null,null,null,null,null,null,null,null,null,null,null,{"$f":"Balanza!G100","v":0},{"$f":"Balanza!C100","v":0},null,null,null,null,null,null,null,null,null,null,null,null,null,null,null,null,null,null,null,null,null,null,null,null,null,null,null,null,null,null,"TOTAL HACIENDA PUBLICA / PATRIMONIO",{"$f":"BM82+BM86+BM101","v":409082705.86000001},{"$f":"BN82+BN86+BN101","v":393504873.81}]
[null,"ACTIVOS NO CIRCULANTES",null,null,null,null,null,null,null,null,null,null,null,null,null,null,null,null,null,null,null,null,null,null,null,null,null,null,null,null,null,{"$f":"AF48+AF53+AF59+AF67+AF76+AF82+AF88+AF95+AF101","v":408151847.26999998},{"$f":"AG48+AG53+AG59+AG67+AG76+AG82+AG88+AG95+AG101","v":397354164.61000001}]
[null,"TOTAL DEL ACTIVO",null,null,null,null,null,null,null,null,null,null,null,null,null,null,null,null,null,null,null,null,null,null,null,null,null,null,null,null,null,{"$f":"AF46+AF105","v":417965686.44},{"$f":"AG46+AG105","v":404360352.94},null,"SUMA DE PASIVO Y PATRIMONIO / HACIENDA PÚBLICA",null,null,null,null,null,null,null,null,null,null,null,null,null,null,null,null,null,null,null,null,null,null,null,null,null,null,null,null,null,{"$f":"BM80+BM104","v":417965686.44},{"$f":"BN80+BN104","v":404360352.94}]
[]
[]
[null,"Bajo protesta de decir verdad declaramos que los estados financieros y sus notas, son razonablemente correctos y son responsabilidad del emisor."]
[]
[]
[]
[]
[]
[]
[]
[]
[null,null,null,null,null,null,null,null,null,null,null,null,null,null,null,null,{"$f":"Validacion!A7","v":"C. José Ángel Prudencio Vargas"},null,null,null,null,null,null,null,null,null,null,null,null,null,null,null,null,null,null,null,null,null,null,null,null,null,null,null,null,null,null,null,{"$f":"Validacion!A9","v":"L.C.P. Regina Itzel Bedoya Cruz"}]
[]
[null,null,null,null,null,null,null,null,null,null,null,null,null,null,null,null,"Presidente Municipal o Títular del ente público",null,null,null,null,null,null,null,null,null,null,null,null,null,null,null,null,null,null,null,null,null,null,null,null,null,null,null,null,null,null,null,"Encargado de la Hacienda Pública Municipal o Responsable de las finanzas del ente público"]

{"sheet":"F1A","index":17,"n_rows":50,"n_cols":66,"rows_kept":50,"cut":false,"hidden":true,"merged":[[8,1,8,30],[9,1,9,30],[9,34,9,63],[10,34,10,63],[10,1,10,30],[21,1,21,30],[21,34,21,63],[2,1,2,65],[4,34,4,63],[4,1,4,30],[5,34,5,63],[5,1,5,30],[6,1,6,30],[6,34,6,63],[7,34,7,63],[7,1,7,30],[11,34,11,63],[11,1,11,30],[12,1,12,30],[12,34,12,63],[8,34,8,63],[18,34,18,63],[18,1,18,30],[19,1,19,30],[19,34,19,63],[20,1,20,30],[20,34,20,63],[47,48,48,64],[47,16,48,31],[49,16,51,31],[49,48,51,64],[0,1,0,65],[1,1,1,65],[13,1,13,30],[13,34,13,63],[14,1,14,30],[14,34,14,63],[15,34,15,63],[15,1,15,30],[16,1,16,30],[16,34,16,63],[17,1,17,30],[17,34,17,63],[38,34,38,63],[40,34,40,63],[41,1,41,30],[41,34,41,63],[46,18,46,30],[46,51,46,63],[33,34,33,63],[34,34,34,63],[35,34,35,63],[36,34,36,63],[37,34,37,63],[28,34,28,63],[29,34,29,63],[30,34,30,63],[31,34,31,63],[32,34,32,63],[25,34,25,63],[25,1,25,30],[26,34,26,63],[26,1,26,30],[27,34,27,63],[22,34,22,63],[22,1,22,30],[23,1,23,30],[23,34,23,63],[24,1,24,30],[24,34,24,63]]}
[null,{"$f":"Validacion!A2","v":"Ayutla"}]
[null,"ESTADO DE SITUACIÓN FINANCIERA"]
[null,{"$f":"\"Al \"&INDEX(Validacion!D185:D196,MATCH(Validacion!A11,Validacion!C185:C196,0))","v":"Al 30 de Septiembre de 2023"}]
[]
["CTA.","CONCEPTO",null,null,null,null,null,null,null,null,null,null,null,null,null,null,null,null,null,null,null,null,null,null,null,null,null,null,null,null,null,2023,2022,"CTA","CONCEPTO",null,null,null,null,null,null,null,null,null,null,null,null,null,null,null,null,null,null,null,null,null,null,null,null,null,null,null,null,null,2023,2022]
[null,"ACTIVO",null,null,null,null,null,null,null,null,null,null,null,null,null,null,null,null,null,null,null,null,null,null,null,null,null,null,null,null,null,null,null,null,"PASIVO"]
[null,"  ACTIVO CIRCULANTE",null,null,null,null,null,null,null,null,null,null,null,null,null,null,null,null,null,null,null,null,null,null,null,null,null,null,null,null,null,null,null,null,"  PASIVO CIRCULANTE"]
[null,"    Efectivo y equivalentes",null,null,null,null,null,null,null,null,null,null,null,null,null,null,null,null,null,null,null,null,null,null,null,null,null,null,null,null,null,{"$f":"Balanza!G5","v":7450262.5300000003},{"$f":"Balanza!C5","v":6811307.4900000002},null,"    Cuentas por pagar a corto plazo",null,null,null,null,null,null,null,null,null,null,null,null,null,null,null,null,null,null,null,null,null,null,null,null,null,null,null,null,null,{"$f":"Balanza!H103","v":3795420.8},{"$f":"Balanza!D103","v":4423775.72}]
[null,"    Derechos a recibir efectivo o equivalentes",null,null,null,null,null,null,null,null,null,null,null,null,null,null,null,null,null,null,null,null,null,null,null,null,null,null,null,null,null,{"$f":"Balanza!G13","v":2363576.64},{"$f":"Balanza!C13","v":194880.84},null,"    Documentos por pagar a corto plazo",null,null,null,null,null,null,null,null,null,null,null,null,null,null,null,null,null,null,null,null,null,null,null,null,null,null,null,null,null,{"$f":"Balanza!H113","v":0},{"$f":"Balanza!D113","v":0}]
[null,"    Derechos a recibir bienes o servicios",null,null,null,null,null,null,null,null,null,null,null,null,null,null,null,null,null,null,null,null,null,null,null,null,null,null,null,null,null,{"$f":"Balanza!G21","v":0},{"$f":"Balanza!C21","v":0},null,"    Porción a corto plazo de la deuda públicaa largo plazo",null,null,null,null,null,null,null,null,null,null,null,null,null,null,null,null,null,null,null,null,null,null,null,null,null,null,null,null,null,{"$f":"Balanza!H117","v":0},{"$f":"Balanza!D117","v":0}]
[null,"    Inventarios",null,null,null,null,null,null,null,null,null,null,null,null,null,null,null,null,null,null,null,null,null,null,null,null,null,null,null,null,null,{"$f":"Balanza!G27","v":0},{"$f":"Balanza!C27","v":0},null,"    Títulos y valores a corto plazo",null,null,null,null,null,null,null,null,null,null,null,null,null,null,null,null,null,null,null,null,null,null,null,null,null,null,null,null,null,{"$f":"Balanza!H121","v":0},{"$f":"Balanza!D121","v":0}]
[null,"    Almacenes",null,null,null,null,null,null,null,null,null,null,null,null,null,null,null,null,null,null,null,null,null,null,null,null,null,null,null,null,null,{"$f":"Balanza!G33","v":0},{"$f":"Balanza!C33","v":0},null,"    Pasivos diferidos a corto plazo",null,null,null,null,null,null,null,null,null,null,null,null,null,null,null,null,null,null,null,null,null,null,null,null,null,null,null,null,null,{"$f":"Balanza!H124","v":0},{"$f":"Balanza!D124","v":0}]
[null,"    Estimación por pérdida o deterioro de activos circulantes",null,null,null,null,null,null,null,null,null,null,null,null,null,null,null,null,null,null,null,null,null,null,null,null,null,null,null,null,null,{"$f":"Balanza!G35","v":0},{"$f":"Balanza!C35","v":0},null,"    Fondos y bienes de terceros en garantía y/o administración a corto plazo",null,null,null,null,null,null,null,null,null,null,null,null,null,null,null,null,null,null,null,null,null,null,null,null,null,null,null,null,null,{"$f":"Balanza!H128","v":0},{"$f":"Balanza!D128","v":0}]
[null,"    Otros activos circulantes",null,null,null,null,null,null,null,null,null,null,null,null,null,null,null,null,null,null,null,null,null,null,null,null,null,null,null,null,null,{"$f":"Balanza!G38","v":0},{"$f":"Balanza!C38","v":0},null,"    Provisiones a corto plazo",null,null,null,null,null,null,null,null,null,null,null,null,null,null,null,null,null,null,null,null,null,null,null,null,null,null,null,null,null,{"$f":"Balanza!H135","v":0},{"$f":"Balanza!D135","v":0}]
[null,"TOTAL DE ACTIVOS CIRCULANTES",null,null,null,null,null,null,null,null,null,null,null,null,null,null,null,null,null,null,null,null,null,null,null,null,null,null,null,null,null,{"$f":"AF8+AF9+AF10+AF11+AF12+AF13+AF14","v":9813839.1699999999},{"$f":"AG8+AG9+AG10+AG11+AG12+AG13+AG14","v":7006188.3300000001},null,"    Otros pasivos a corto plazo",null,null,null,null,null,null,null,null,null,null,null,null,null,null,null,null,null,null,null,null,null,null,null,null,null,null,null,null,null,{"$f":"Balanza!H139","v":0},{"$f":"Balanza!D139","v":0}]
[null,"  ACTIVO NO CIRCULANTE",null,null,null,null,null,null,null,null,null,null,null,null,null,null,null,null,null,null,null,null,null,null,null,null,null,null,null,null,null,null,null,null,"TOTAL DE PASIVOS CIRCULANTES",null,null,null,null,null,null,null,null,null,null,null,null,null,null,null,null,null,null,null,null,null,null,null,null,null,null,null,null,null,{"$f":"BM8+BM9+BM10+BM11+BM12+BM13+BM14+BM15","v":3795420.8},{"$f":"BN8+BN9+BN10+BN11+BN12+BN13+BN14+BN15","v":4423775.72}]
[null,"    Inversiones financieras a largo plazo",null,null,null,null,null,null,null,null,null,null,null,null,null,null,null,null,null,null,null,null,null,null,null,null,null,null,null,null,null,{"$f":"Balanza!G44","v":5000},{"$f":"Balanza!C44","v":5000},null,"  PASIVO NO CIRCULANTE"]
[null,"    Derechos a recibir efectivo o equivalentes a largo plazo",null,null,null,null,null,null,null,null,null,null,null,null,null,null,null,null,null,null,null,null,null,null,null,null,null,null,null,null,null,{"$f":"Balanza!G49","v":0},{"$f":"Balanza!C49","v":0},null,"    Cuentas por pagar a largo plazo",null,null,null,null,null,null,null,null,null,null,null,null,null,null,null,null,null,null,null,null,null,null,null,null,null,null,null,null,null,{"$f":"Balanza!H144","v":5087559.78},{"$f":"Balanza!D144","v":6431703.4100000001}]
[null,"    Bienes inmuebles, infraestructura y construcciones en proceso",null,null,null,null,null,null,null,null,null,null,null,null,null,null,null,null,null,null,null,null,null,null,null,null,null,null,null,null,null,{"$f":"Balanza!G55","v":405125396.81999999},{"$f":"Balanza!C55","v":394674462.90000004},null,"    Documentos por pagar a largo plazo",null,null,null,null,null,null,null,null,null,null,null,null,null,null,null,null,null,null,null,null,null,null,null,null,null,null,null,null,null,{"$f":"Balanza!H147","v":0},{"$f":"Balanza!D147","v":0}]
[null,"    Bienes muebles",null,null,null,null,null,null,null,null,null,null,null,null,null,null,null,null,null,null,null,null,null,null,null,null,null,null,null,null,null,{"$f":"Balanza!G63","v":10856576.17},{"$f":"Balanza!C63","v":10509827.43},null,"    Deuda pública a largo plazo",null,null,null,null,null,null,null,null,null,null,null,null,null,null,null,null,null,null,null,null,null,null,null,null,null,null,null,null,null,{"$f":"Balanza!H151","v":0},{"$f":"Balanza!D151","v":0}]
[null,"    Activos intengibles",null,null,null,null,null,null,null,null,null,null,null,null,null,null,null,null,null,null,null,null,null,null,null,null,null,null,null,null,null,{"$f":"Balanza!G72","v":235805.26},{"$f":"Balanza!C72","v":235805.26},null,"    Pasivos diferidos a largo plazo",null,null,null,null,null,null,null,null,null,null,null,null,null,null,null,null,null,null,null,null,null,null,null,null,null,null,null,null,null,{"$f":"Balanza!H157","v":0},{"$f":"Balanza!D157","v":0}]
[null,"    Depreciación, deterioro y amortización acumulada de bienes",null,null,null,null,null,null,null,null,null,null,null,null,null,null,null,null,null,null,null,null,null,null,null,null,null,null,null,null,null,{"$f":"(Balanza!H78)*-1","v":-8070930.9799999995},{"$f":"(Balanza!D78)*-1","v":-8070930.9799999995},null,"    Fondos y bienes de terceros en garantía y/o administración a largo plazo",null,null,null,null,null,null,null,null,null,null,null,null,null,null,null,null,null,null,null,null,null,null,null,null,null,null,null,null,null,{"$f":"Balanza!H161","v":0},{"$f":"Balanza!D161","v":0}]
[null,"    Activos diferidos",null,null,null,null,null,null,null,null,null,null,null,null,null,null,null,null,null,null,null,null,null,null,null,null,null,null,null,null,null,{"$f":"Balanza!G84","v":0},{"$f":"Balanza!C84","v":0},null,"    Provisiones a largo plazo",null,null,null,null,null,null,null,null,null,null,null,null,null,null,null,null,null,null,null,null,null,null,null,null,null,null,null,null,null,{"$f":"Balanza!H168","v":0},{"$f":"Balanza!D168","v":0}]
[null,"    Estimación por pérdida o deterioro de activos no circulantes",null,null,null,null,null,null,null,null,null,null,null,null,null,null,null,null,null,null,null,null,null,null,null,null,null,null,null,null,null,{"$f":"(Balanza!H91)*-1","v":0},{"$f":"(Balanza!D91)*-1","v":0},null,"TOTAL DE PASIVOS NO CIRCULANTES",null,null,null,null,null,null,null,null,null,null,null,null,null,null,null,null,null,null,null,null,null,null,null,null,null,null,null,null,null,{"$f":"BM18+BM19+BM20+BM21+BM22+BM23","v":5087559.78},{"$f":"BN18+BN19+BN20+BN21+BN22+BN23","v":6431703.4100000001}]
[null,"    Otros activos circulantes",null,null,null,null,null,null,null,null,null,null,null,null,null,null,null,null,null,null,null,null,null,null,null,null,null,null,null,null,null,{"$f":"Balanza!G97","v":0},{"$f":"Balanza!C97","v":0},null,"TOTAL DE PASIVOS",null,null,null,null,null,null,null,null,null,null,null,null,null,null,null,null,null,null,null,null,null,null,null,null,null,null,null,null,null,{"$f":"BM16+BM24","v":8882980.5800000001},{"$f":"BN16+BN24","v":10855479.129999999}]
[null,"TOTAL DE ACTIVOS NO CIRCULANTES",null,null,null,null,null,null,null,null,null,null,null,null,null,null,null,null,null,null,null,null,null,null,null,null,null,null,null,null,null,{"$f":"AF17+AF18+AF19+AF20+AF21+AF22+AF23+AF24+AF25","v":408151847.26999998},{"$f":"AG17+AG18+AG19+AG20+AG21+AG22+AG23+AG24+AG25","v":397354164.61000001},null,"HACIENDA PÚBLICA/ PATRIMONIO"]
[null,"TOTAL DEL ACTIVO",null,null,null,null,null,null,null,null,null,null,null,null,null,null,null,null,null,null,null,null,null,null,null,null,null,null,null,null,null,{"$f":"AF15+AF26","v":417965686.44},{"$f":"AG15+AG26","v":404360352.94},null,"  HACIENDA PÚBLICA/ PATRIMONIO CONTRIBUIDO",null,null,null,null,null,null,null,null,null,null,null,null,null,null,null,null,null,null,null,null,null,null,null,null,null,null,null,null,null,{"$f":"SUM(BM28:BM30)","v":0},{"$f":"SUM(BN28:BN30)","v":0}]
[null,null,null,null,null,null,null,null,null,null,null,null,null,null,null,null,null,null,null,null,null,null,null,null,null,null,null,null,null,null,null,null,null,null,"    Aportaciones",null,null,null,null,null,null,null,null,null,null,null,null,null,null,null,null,null,null,null,null,null,null,null,null,null,null,null,null,null,{"$f":"Balanza!H175","v":0},{"$f":"Balanza!D175","v":0}]
[null,null,null,null,null,null,null,null,null,null,null,null,null,null,null,null,null,null,null,null,null,null,null,null,null,null,null,null,null,null,null,null,null,null,"    Donaciones de capítal",null,null,null,null,null,null,null,null,null,null,null,null,null,null,null,null,null,null,null,null,null,null,null,null,null,null,null,null,null,{"$f":"Balanza!H176","v":0},{"$f":"Balanza!D176","v":0}]
[null,null,null,null,null,null,null,null,null,null,null,null,null,null,null,null,null,null,null,null,null,null,null,null,null,null,null,null,null,null,null,null,null,null,"    Actualización de la hacienda pública/patrimonio",null,null,null,null,null,null,null,null,null,null,null,null,null,null,null,null,null,null,null,null,null,null,null,null,null,null,null,null,null,{"$f":"Balanza!H177","v":0},{"$f":"Balanza!D177","v":0}]
[null,null,null,null,null,null,null,null,null,null,null,null,null,null,null,null,null,null,null,null,null,null,null,null,null,null,null,null,null,null,null,null,null,null,"  HACIENDA PÚBLICA/PATRIMONIO GENERADO",null,null,null,null,null,null,null,null,null,null,null,null,null,null,null,null,null,null,null,null,null,null,null,null,null,null,null,null,null,{"$f":"BM32+BM33+BM34+BM35+BM36","v":409082705.86000001},{"$f":"BN32+BN33+BN34+BN35+BN36","v":393504873.81}]
[null,null,null,null,null,null,null,null,null,null,null,null,null,null,null,null,null,null,null,null,null,null,null,null,null,null,null,null,null,null,null,null,null,null,"    Resultado del ejercicio  (ahorro/desahorro)",null,null,null,null,null,null,null,null,null,null,null,null,null,null,null,null,null,null,null,null,null,null,null,null,null,null,null,null,null,{"$f":"Balanza!H179","v":15577832.050000001},{"$f":"Balanza!D179","v":22631177.000000007}]
[null,null,null,null,null,null,null,null,null,null,null,null,null,null,null,null,null,null,null,null,null,null,null,null,null,null,null,null,null,null,null,null,null,null,"    Resultado de ejercicios anteriores",null,null,null,null,null,null,null,null,null,null,null,null,null,null,null,null,null,null,null,null,null,null,null,null,null,null,null,null,null,{"$f":"Balanza!H180","v":315444602.75},{"$f":"Balanza!D180","v":292813425.75}]
[null,null,null,null,null,null,null,null,null,null,null,null,null,null,null,null,null,null,null,null,null,null,null,null,null,null,null,null,null,null,null,null,null,null,"   Revalúos",null,null,null,null,null,null,null,null,null,null,null,null,null,null,null,null,null,null,null,null,null,null,null,null,null,null,null,null,null,{"$f":"Balanza!H181","v":77719390},{"$f":"Balanza!D181","v":77719390}]
[null,null,null,null,null,null,null,null,null,null,null,null,null,null,null,null,null,null,null,null,null,null,null,null,null,null,null,null,null,null,null,null,null,null,"   Reservas",null,null,null,null,null,null,null,null,null,null,null,null,null,null,null,null,null,null,null,null,null,null,null,null,null,null,null,null,null,{"$f":"Balanza!H186","v":0},{"$f":"Balanza!D186","v":0}]
[null,null,null,null,null,null,null,null,null,null,null,null,null,null,null,null,null,null,null,null,null,null,null,null,null,null,null,null,null,null,null,null,null,null,"   Rectificaciones de resultados de ejercicios anteriores",null,null,null,null,null,null,null,null,null,null,null,null,null,null,null,null,null,null,null,null,null,null,null,null,null,null,null,null,null,{"$f":"Balanza!H190","v":340881.06},{"$f":"Balanza!D190","v":340881.06}]
[null,null,null,null,null,null,null,null,null,null,null,null,null,null,null,null,null,null,null,null,null,null,null,null,null,null,null,null,null,null,null,null,null,null,"  EXCESO O INSUFICIENCIA EN LA ACTUALIZACIÓN DE LA HACIENDA PÚBLICA / PATRIMONIO",null,null,null,null,null,null,null,null,null,null,null,null,null,null,null,null,null,null,null,null,null,null,null,null,null,null,null,null,null,{"$f":"SUM(BM38:BM39)","v":0},{"$f":"SUM(BN38:BN39)","v":0}]
[null,null,null,null,null,null,null,null,null,null,null,null,null,null,null,null,null,null,null,null,null,null,null,null,null,null,null,null,null,null,null,null,null,null,"    Resultado por posición monetaria",null,null,null,null,null,null,null,null,null,null,null,null,null,null,null,null,null,null,null,null,null,null,null,null,null,null,null,null,null,{"$f":"Balanza!H194","v":0},{"$f":"Balanza!D194","v":0}]
[null,null,null,null,null,null,null,null,null,null,null,null,null,null,null,null,null,null,null,null,null,null,null,null,null,null,null,null,null,null,null,null,null,null,"    Resultado por tenencia de activos no monetarios",null,null,null,null,null,null,null,null,null,null,null,null,null,null,null,null,null,null,null,null,null,null,null,null,null,null,null,null,null,{"$f":"Balanza!H195","v":0},{"$f":"Balanza!D195","v":0}]
[null,null,null,null,null,null,null,null,null,null,null,null,null,null,null,null,null,null,null,null,null,null,null,null,null,null,null,null,null,null,null,null,null,null,null,null,null,null,null,null,null,null,null,null,null,null,null,null,null,null,null,null,null,null,null,null,null,null,null,null,null,null,null,"TOTAL HACIENDA PUBLICA / PATRIMONIO",{"$f":"BM27+BM31+BM37","v":409082705.86000001},{"$f":"BN27+BN31+BN37","v":393504873.81}]
[null,null,null,null,null,null,null,null,null,null,null,null,null,null,null,null,null,null,null,null,null,null,null,null,null,null,null,null,null,null,null,null,null,null,"SUMA DE PASIVO Y PATRIMONIO / HACIENDA PÚBLICA",null,null,null,null,null,null,null,null,null,null,null,null,null,null,null,null,null,null,null,null,null,null,null,null,null,null,null,null,null,{"$f":"BM25+BM40","v":417965686.44},{"$f":"BN25+BN40","v":404360352.94}]
[]
[]
[null,"Bajo protesta de decir verdad declaramos que los estados financieros y sus notas, son razonablemente correctos y son responsabilidad del emisor."]
[]
[]
[]
[null,null,null,null,null,null,null,null,null,null,null,null,null,null,null,null,{"$f":"Validacion!A7","v":"C. José Ángel Prudencio Vargas"},null,null,null,null,null,null,null,null,null,null,null,null,null,null,null,null,null,null,null,null,null,null,null,null,null,null,null,null,null,null,null,{"$f":"Validacion!A9","v":"L.C.P. Regina Itzel Bedoya Cruz"}]
[]
[null,null,null,null,null,null,null,null,null,null,null,null,null,null,null,null,"Presidente Municipal o Títular del ente público",null,null,null,null,null,null,null,null,null,null,null,null,null,null,null,null,null,null,null,null,null,null,null,null,null,null,null,null,null,null,null,"Encargado de la Hacienda Pública Municipal o Responsable de las finanzas del ente público"]

{"sheet":"F1LDF","index":18,"n_rows":78,"n_cols":66,"rows_kept":78,"cut":false,"hidden":true,"merged":[[62,34,62,63],[47,34,47,63],[41,34,41,63],[63,34,63,63],[53,34,53,63],[77,48,79,64],[64,34,64,63],[65,34,65,63],[66,34,66,63],[67,34,67,63],[69,34,69,63],[70,34,70,63],[74,51,74,63],[75,48,76,64],[46,34,46,63],[48,34,48,63],[34,34,34,63],[35,34,35,63],[36,34,36,63],[37,34,37,63],[38,34,38,63],[39,34,39,63],[49,34,49,63],[40,34,40,63],[42,34,42,63],[43,34,43,63],[44,34,44,63],[45,34,45,63],[50,34,50,63],[51,34,51,63],[61,34,61,63],[60,34,60,63],[59,34,59,63],[58,34,58,63],[54,34,54,63],[57,34,57,63],[56,34,56,63],[52,34,52,63],[55,34,55,63],[31,1,31,30],[32,1,32,30],[33,1,33,30],[33,34,33,63],[25,34,25,63],[30,34,30,63],[26,34,26,63],[29,34,29,63],[27,34,27,63],[31,34,31,63],[28,34,28,63],[32,34,32,63],[23,1,23,30],[24,1,24,30],[24,34,24,63],[25,1,25,30],[26,1,26,30],[27,1,27,30],[28,1,28,30],[29,1,29,30],[30,1,30,30],[23,34,23,63],[17,1,17,30],[17,34,17,63],[18,34,18,63],[18,1,18,30],[19,34,19,63],[19,1,19,30],[20,1,20,30],[21,1,21,30],[22,1,22,30],[20,34,20,63],[22,34,22,63],[21,34,21,63],[12,34,12,63],[12,1,12,30],[13,34,13,63],[13,1,13,30],[14,34,14,63],[14,1,14,30],[15,34,15,63],[15,1,15,30],[16,1,16,30],[16,34,16,63],[7,34,7,63],[7,1,7,30],[8,1,8,30],[8,34,8,63],[9,1,9,30],[9,34,9,63],[10,34,10,63],[10,1,10,30],[11,34,11,63],[11,1,11,30],[0,1,0,65],[1,1,1,65],[2,1,2,65],[4,1,4,30],[4,34,4,63],[5,1,5,30],[5,34,5,63],[6,1,6,30],[6,34,6,63],[57,1,57,30],[37,1,37,30],[35,1,35,30],[56,1,56,30],[36,1,36,30],[52,1,52,30],[53,1,53,30],[77,16,79,31],[74,18,74,30],[75,16,76,31],[34,1,34,30],[48,1,48,30],[47,1,47,30],[51,1,51,30],[46,1,46,30],[45,1,45,30],[54,1,54,30],[44,1,44,30],[55,1,55,30],[43,1,43,30],[42,1,42,30],[49,1,49,30],[41,1,41,30],[50,1,50,30],[40,1,40,30],[39,1,39,30],[38,1,38,30]]}
[null,{"$f":"Validacion!A2","v":"Ayutla"}]
[null,"ESTADO DE SITUACIÓN FINANCIERA DETALLADO - LDF"]
[null,{"$f":"\"Al \"&INDEX(Validacion!D185:D196,MATCH(Validacion!A11,Validacion!C185:C196,0))","v":"Al 30 de Septiembre de 2023"}]
[]
["CTA.","CONCEPTO",null,null,null,null,null,null,null,null,null,null,null,null,null,null,null,null,null,null,null,null,null,null,null,null,null,null,null,null,null,2023,"31 DE DICIEMBRE\nDE 2022","CTA","CONCEPTO",null,null,null,null,null,null,null,null,null,null,null,null,null,null,null,null,null,null,null,null,null,null,null,null,null,null,null,null,null,2023,"31 DE DICIEMBRE\nDE 2022"]
[null,"ACTIVO",null,null,null,null,null,null,null,null,null,null,null,null,null,null,null,null,null,null,null,null,null,null,null,null,null,null,null,null,null,null,null,null,"PASIVO"]
[null,"  ACTIVO CIRCULANTE",null,null,null,null,null,null,null,null,null,null,null,null,null,null,null,null,null,null,null,null,null,null,null,null,null,null,null,null,null,null,null,null,"  PASIVO CIRCULANTE"]
[null,"    EFECTIVO Y EQUIVALENTES",null,null,null,null,null,null,null,null,null,null,null,null,null,null,null,null,null,null,null,null,null,null,null,null,null,null,null,null,null,{"$f":"SUM(AF9:AF15)","v":7450262.5300000003},{"$f":"SUM(AG9:AG15)","v":6811307.4900000002},null,"    CUENTAS POR PAGAR A CORTO PLAZO",null,null,null,null,null,null,null,null,null,null,null,null,null,null,null,null,null,null,null,null,null,null,null,null,null,null,null,null,null,{"$f":"SUM(BM9:BM17)","v":3795420.8},{"$f":"SUM(BN9:BN17)","v":4423775.72}]
[null,"      Efectivo",null,null,null,null,null,null,null,null,null,null,null,null,null,null,null,null,null,null,null,null,null,null,null,null,null,null,null,null,null,{"$f":"Balanza!G6","v":127717.12},{"$f":"Balanza!C6","v":35587},null,"      Servicios personales por pagar a corto plazo",null,null,null,null,null,null,null,null,null,null,null,null,null,null,null,null,null,null,null,null,null,null,null,null,null,null,null,null,null,{"$f":"Balanza!H104","v":0},{"$f":"Balanza!D104","v":3050}]
[null,"      Bancos/Tesorería",null,null,null,null,null,null,null,null,null,null,null,null,null,null,null,null,null,null,null,null,null,null,null,null,null,null,null,null,null,{"$f":"Balanza!G7","v":6197553.6100000003},{"$f":"Balanza!C7","v":5722997.1100000003},null,"      Proveedores por pagar a corto plazo",null,null,null,null,null,null,null,null,null,null,null,null,null,null,null,null,null,null,null,null,null,null,null,null,null,null,null,null,null,{"$f":"Balanza!H105","v":1552865.16},{"$f":"Balanza!D105","v":2430205.2999999998}]
[null,"      Bancos/Dependencias y otros",null,null,null,null,null,null,null,null,null,null,null,null,null,null,null,null,null,null,null,null,null,null,null,null,null,null,null,null,null,{"$f":"Balanza!G8","v":0},{"$f":"Balanza!C8","v":0},null,"      Contratistas por obras públicas por pagar a corto plazo",null,null,null,null,null,null,null,null,null,null,null,null,null,null,null,null,null,null,null,null,null,null,null,null,null,null,null,null,null,{"$f":"Balanza!H106","v":0},{"$f":"Balanza!D106","v":220221.37}]
[null,"      Inversiones temporales (hasta 3 meses)",null,null,null,null,null,null,null,null,null,null,null,null,null,null,null,null,null,null,null,null,null,null,null,null,null,null,null,null,null,{"$f":"Balanza!G9","v":0},{"$f":"Balanza!C9","v":0},null,"      Participaciones y aportaciones por pagar a corto plazo",null,null,null,null,null,null,null,null,null,null,null,null,null,null,null,null,null,null,null,null,null,null,null,null,null,null,null,null,null,{"$f":"Balanza!H107","v":0},{"$f":"Balanza!D107","v":0}]
[null,"      Fondos con afectación específica",null,null,null,null,null,null,null,null,null,null,null,null,null,null,null,null,null,null,null,null,null,null,null,null,null,null,null,null,null,{"$f":"Balanza!G10","v":0},{"$f":"Balanza!C10","v":0},null,"      Transferencias otorgadas por pagar a corto plazo",null,null,null,null,null,null,null,null,null,null,null,null,null,null,null,null,null,null,null,null,null,null,null,null,null,null,null,null,null,{"$f":"Balanza!H108","v":0},{"$f":"Balanza!D108","v":0}]
[null,"      Depósitos de fondos de terceros en garantía y/o administración",null,null,null,null,null,null,null,null,null,null,null,null,null,null,null,null,null,null,null,null,null,null,null,null,null,null,null,null,null,{"$f":"Balanza!G11","v":0},{"$f":"Balanza!C11","v":0},null,"      Intereses, comisiones y otros gastos de la deuda pública por pagar a corto plazo",null,null,null,null,null,null,null,null,null,null,null,null,null,null,null,null,null,null,null,null,null,null,null,null,null,null,null,null,null,{"$f":"Balanza!H109","v":0},{"$f":"Balanza!D109","v":0}]
[null,"      Otros efectivos y equivalentes",null,null,null,null,null,null,null,null,null,null,null,null,null,null,null,null,null,null,null,null,null,null,null,null,null,null,null,null,null,{"$f":"Balanza!G12","v":1124991.8},{"$f":"Balanza!C12","v":1052723.3799999999},null,"      Retenciones y contribuciones por pagar a corto plazo",null,null,null,null,null,null,null,null,null,null,null,null,null,null,null,null,null,null,null,null,null,null,null,null,null,null,null,null,null,{"$f":"Balanza!H110","v":2242555.64},{"$f":"Balanza!D110","v":1770299.05}]
[null,"    DERECHOS A RECIBIR EFECTIVO O EQUIVALENTES",null,null,null,null,null,null,null,null,null,null,null,null,null,null,null,null,null,null,null,null,null,null,null,null,null,null,null,null,null,{"$f":"SUM(AF17:AF23)","v":2363576.64},{"$f":"SUM(AG17:AG23)","v":194880.84},null,"      Devoluciones de la ley de ingresos por pagar a corto plazo",null,null,null,null,null,null,null,null,null,null,null,null,null,null,null,null,null,null,null,null,null,null,null,null,null,null,null,null,null,{"$f":"Balanza!H111","v":0},{"$f":"Balanza!D111","v":0}]
[null,"      Inversiones financieras de corto plazo",null,null,null,null,null,null,null,null,null,null,null,null,null,null,null,null,null,null,null,null,null,null,null,null,null,null,null,null,null,{"$f":"Balanza!G14","v":2200000},{"$f":"Balanza!C14","v":0},null,"      Otras cuentas por pagar a corto plazo",null,null,null,null,null,null,null,null,null,null,null,null,null,null,null,null,null,null,null,null,null,null,null,null,null,null,null,null,null,{"$f":"Balanza!H112","v":0},{"$f":"Balanza!D112","v":0}]
[null,"      Cuentas por cobrar a corto plazo",null,null,null,null,null,null,null,null,null,null,null,null,null,null,null,null,null,null,null,null,null,null,null,null,null,null,null,null,null,{"$f":"Balanza!G15","v":153076.64000000001},{"$f":"Balanza!C15","v":194880.84},null,"    DOCUMENTOS POR PAGAR A CORTO PLAZO",null,null,null,null,null,null,null,null,null,null,null,null,null,null,null,null,null,null,null,null,null,null,null,null,null,null,null,null,null,{"$f":"SUM(BM19:BM21)","v":0},{"$f":"SUM(BN19:BN21)","v":0}]
[null,"      Deudores diversos por cobrar a corto plazo",null,null,null,null,null,null,null,null,null,null,null,null,null,null,null,null,null,null,null,null,null,null,null,null,null,null,null,null,null,{"$f":"Balanza!G16","v":0},{"$f":"Balanza!C16","v":0},null,"      Documentos  comerciales por pagar a corto plazo",null,null,null,null,null,null,null,null,null,null,null,null,null,null,null,null,null,null,null,null,null,null,null,null,null,null,null,null,null,{"$f":"Balanza!H114","v":0},{"$f":"Balanza!D114","v":0}]
[null,"      Ingresos por recuperar a corto plazo",null,null,null,null,null,null,null,null,null,null,null,null,null,null,null,null,null,null,null,null,null,null,null,null,null,null,null,null,null,{"$f":"Balanza!G17","v":7500},{"$f":"Balanza!C17","v":0},null,"      Documentos con contratistas por obras públicas por pagar a corto plazo",null,null,null,null,null,null,null,null,null,null,null,null,null,null,null,null,null,null,null,null,null,null,null,null,null,null,null,null,null,{"$f":"Balanza!H115","v":0},{"$f":"Balanza!D115","v":0}]
[null,"      Deudores por anticipos de la tesorería a corto plazo",null,null,null,null,null,null,null,null,null,null,null,null,null,null,null,null,null,null,null,null,null,null,null,null,null,null,null,null,null,{"$f":"Balanza!G18","v":0},{"$f":"Balanza!C18","v":0},null,"      Otros documentos por pagar a corto plazo",null,null,null,null,null,null,null,null,null,null,null,null,null,null,null,null,null,null,null,null,null,null,null,null,null,null,null,null,null,{"$f":"Balanza!H116","v":0},{"$f":"Balanza!D116","v":0}]
[null,"      Préstamos otorgados a corto plazo",null,null,null,null,null,null,null,null,null,null,null,null,null,null,null,null,null,null,null,null,null,null,null,null,null,null,null,null,null,{"$f":"Balanza!G19","v":3000},{"$f":"Balanza!C19","v":0},null,"    PORCIÓN A CORTO PLAZO DE LA DEUDA PÚBLICA A LARGO PLAZO",null,null,null,null,null,null,null,null,null,null,null,null,null,null,null,null,null,null,null,null,null,null,null,null,null,null,null,null,null,{"$f":"SUM(BM23:BM24)","v":0},{"$f":"SUM(BN23:BN24)","v":0}]
[null,"      Otros derechos a recibir efectivo o equivalentes a corto plazo",null,null,null,null,null,null,null,null,null,null,null,null,null,null,null,null,null,null,null,null,null,null,null,null,null,null,null,null,null,{"$f":"Balanza!G20","v":0},{"$f":"Balanza!C20","v":0},null,"      Porción a corto plazo de la deuda pública interna",null,null,null,null,null,null,null,null,null,null,null,null,null,null,null,null,null,null,null,null,null,null,null,null,null,null,null,null,null,{"$f":"Balanza!H118","v":0},{"$f":"Balanza!D118","v":0}]
[null,"    DERECHOS A RECIBIR BIENES O SERVICIOS",null,null,null,null,null,null,null,null,null,null,null,null,null,null,null,null,null,null,null,null,null,null,null,null,null,null,null,null,null,{"$f":"SUM(AF25:AF29)","v":0},{"$f":"SUM(AG25:AG29)","v":0},null,"      Porción a corto plazo de arrendamiento financiero",null,null,null,null,null,null,null,null,null,null,null,null,null,null,null,null,null,null,null,null,null,null,null,null,null,null,null,null,null,{"$f":"Balanza!H120","v":0},{"$f":"Balanza!D120","v":0}]
[null,"      Anticipo a proveedores por adquisición de bienes y prestación de servicios a corto plazo",null,null,null,null,null,null,null,null,null,null,null,null,null,null,null,null,null,null,null,null,null,null,null,null,null,null,null,null,null,{"$f":"Balanza!G22","v":0},{"$f":"Balanza!C22","v":0},null,"    TÍTULOS Y VALORES A CORTO PLAZO",null,null,null,null,null,null,null,null,null,null,null,null,null,null,null,null,null,null,null,null,null,null,null,null,null,null,null,null,null,{"$f":"Balanza!H121","v":0},{"$f":"Balanza!D121","v":0}]
[null,"      Anticipo a proveedores por adquisición de bienes inmuebles y muebles a corto plazo",null,null,null,null,null,null,null,null,null,null,null,null,null,null,null,null,null,null,null,null,null,null,null,null,null,null,null,null,null,{"$f":"Balanza!G23","v":0},{"$f":"Balanza!C23","v":0},null,"    PASIVOS DIFERIDOS A CORTO PLAZO",null,null,null,null,null,null,null,null,null,null,null,null,null,null,null,null,null,null,null,null,null,null,null,null,null,null,null,null,null,{"$f":"SUM(BM27:BM29)","v":0},{"$f":"SUM(BN27:BN29)","v":0}]
[null,"      Anticipo a proveedores por adquisición de bienes intangibles a corto plazo",null,null,null,null,null,null,null,null,null,null,null,null,null,null,null,null,null,null,null,null,null,null,null,null,null,null,null,null,null,{"$f":"Balanza!G24","v":0},{"$f":"Balanza!C24","v":0},null,"      Ingresos cobrados por adelantado a corto plazo",null,null,null,null,null,null,null,null,null,null,null,null,null,null,null,null,null,null,null,null,null,null,null,null,null,null,null,null,null,{"$f":"Balanza!H125","v":0},{"$f":"Balanza!D125","v":0}]
[null,"      Anticipo a contratistas por obras públicas a corto plazo",null,null,null,null,null,null,null,null,null,null,null,null,null,null,null,null,null,null,null,null,null,null,null,null,null,null,null,null,null,{"$f":"Balanza!G25","v":0},{"$f":"Balanza!C25","v":0},null,"      Intereses cobrados por adelantado a corto plazo",null,null,null,null,null,null,null,null,null,null,null,null,null,null,null,null,null,null,null,null,null,null,null,null,null,null,null,null,null,{"$f":"Balanza!H126","v":0},{"$f":"Balanza!D126","v":0}]
[null,"      Otros derechos a recibir bienes o servicios a corto plazo",null,null,null,null,null,null,null,null,null,null,null,null,null,null,null,null,null,null,null,null,null,null,null,null,null,null,null,null,null,{"$f":"Balanza!G26","v":0},{"$f":"Balanza!C26","v":0},null,"      Otros pasivos diferidos a corto plazo",null,null,null,null,null,null,null,null,null,null,null,null,null,null,null,null,null,null,null,null,null,null,null,null,null,null,null,null,null,{"$f":"Balanza!H127","v":0},{"$f":"Balanza!D127","v":0}]
[null,"    INVENTARIOS",null,null,null,null,null,null,null,null,null,null,null,null,null,null,null,null,null,null,null,null,null,null,null,null,null,null,null,null,null,{"$f":"SUM(AF31:AF35)","v":0},{"$f":"SUM(AG31:AG35)","v":0},null,"    FONDOS Y BIENES DE TERCEROS EN GARANTÍA Y/O ADMINISTRACIÓN A CORTO PLAZO",null,null,null,null,null,null,null,null,null,null,null,null,null,null,null,null,null,null,null,null,null,null,null,null,null,null,null,null,null,{"$f":"SUM(BM31:BM36)","v":0},{"$f":"SUM(BN31:BN36)","v":0}]
[null,"      Inventario de mercancías para venta",null,null,null,null,null,null,null,null,null,null,null,null,null,null,null,null,null,null,null,null,null,null,null,null,null,null,null,null,null,{"$f":"Balanza!G28","v":0},{"$f":"Balanza!C28","v":0},null,"      Fondos en garantía a corto plazo",null,null,null,null,null,null,null,null,null,null,null,null,null,null,null,null,null,null,null,null,null,null,null,null,null,null,null,null,null,{"$f":"Balanza!H129","v":0},{"$f":"Balanza!D129","v":0}]
[null,"      Inventario de mercancías terminadas",null,null,null,null,null,null,null,null,null,null,null,null,null,null,null,null,null,null,null,null,null,null,null,null,null,null,null,null,null,{"$f":"Balanza!G29","v":0},{"$f":"Balanza!C29","v":0},null,"      Fondos en administración a corto plazo",null,null,null,null,null,null,null,null,null,null,null,null,null,null,null,null,null,null,null,null,null,null,null,null,null,null,null,null,null,{"$f":"Balanza!H130","v":0},{"$f":"Balanza!D130","v":0}]
[null,"      Inventario de mercancías en proceso de elaboración",null,null,null,null,null,null,null,null,null,null,null,null,null,null,null,null,null,null,null,null,null,null,null,null,null,null,null,null,null,{"$f":"Balanza!G30","v":0},{"$f":"Balanza!C30","v":0},null,"      Fondos contingentes a corto plazo",null,null,null,null,null,null,null,null,null,null,null,null,null,null,null,null,null,null,null,null,null,null,null,null,null,null,null,null,null,{"$f":"Balanza!H131","v":0},{"$f":"Balanza!D131","v":0}]
[null,"      Inventario de materias primas, materiales y suministros para producción",null,null,null,null,null,null,null,null,null,null,null,null,null,null,null,null,null,null,null,null,null,null,null,null,null,null,null,null,null,{"$f":"Balanza!G31","v":0},{"$f":"Balanza!C31","v":0},null,"      Fondos de fideicomisos, mandatos y contratos análogos a corto plazo",null,null,null,null,null,null,null,null,null,null,null,null,null,null,null,null,null,null,null,null,null,null,null,null,null,null,null,null,null,{"$f":"Balanza!H132","v":0},{"$f":"Balanza!D132","v":0}]
[null,"      Bienes en tránsito",null,null,null,null,null,null,null,null,null,null,null,null,null,null,null,null,null,null,null,null,null,null,null,null,null,null,null,null,null,{"$f":"Balanza!G32","v":0},{"$f":"Balanza!C32","v":0},null,"      Otros fondos de terceros en garantía y/o administración a corto plazo",null,null,null,null,null,null,null,null,null,null,null,null,null,null,null,null,null,null,null,null,null,null,null,null,null,null,null,null,null,{"$f":"Balanza!H133","v":0},{"$f":"Balanza!D133","v":0}]
[null,"    ALMACENES",null,null,null,null,null,null,null,null,null,null,null,null,null,null,null,null,null,null,null,null,null,null,null,null,null,null,null,null,null,{"$f":"Balanza!G34","v":0},{"$f":"Balanza!C34","v":0},null,"      Valores y bienes en garantía a corto plazo",null,null,null,null,null,null,null,null,null,null,null,null,null,null,null,null,null,null,null,null,null,null,null,null,null,null,null,null,null,{"$f":"Balanza!H134","v":0},{"$f":"Balanza!D134","v":0}]
[null,"    ESTIMACIÓN POR PÉRDIDA O DETERIORO DE ACTIVOS CIRCULANTES",null,null,null,null,null,null,null,null,null,null,null,null,null,null,null,null,null,null,null,null,null,null,null,null,null,null,null,null,null,{"$f":"SUM(AF38:AF39)","v":0},{"$f":"SUM(AG38:AG39)","v":0},null,"    PROVISIONES A CORTO PLAZO",null,null,null,null,null,null,null,null,null,null,null,null,null,null,null,null,null,null,null,null,null,null,null,null,null,null,null,null,null,{"$f":"SUM(BM38:BM40)","v":0},{"$f":"SUM(BN38:BN40)","v":0}]
[null,"      Estimaciones para cuentas incobrables por derechos a recibir efectivo o equivalentes",null,null,null,null,null,null,null,null,null,null,null,null,null,null,null,null,null,null,null,null,null,null,null,null,null,null,null,null,null,{"$f":"Balanza!G36","v":0},{"$f":"Balanza!C36","v":0},null,"      Provisión para demandas y juicios a corto plazo",null,null,null,null,null,null,null,null,null,null,null,null,null,null,null,null,null,null,null,null,null,null,null,null,null,null,null,null,null,{"$f":"Balanza!H136","v":0},{"$f":"Balanza!D136","v":0}]
[null,"      Estimación por deterioro de inventarios",null,null,null,null,null,null,null,null,null,null,null,null,null,null,null,null,null,null,null,null,null,null,null,null,null,null,null,null,null,{"$f":"Balanza!G37","v":0},{"$f":"Balanza!C37","v":0},null,"      Provisión para contingencias a corto plazo",null,null,null,null,null,null,null,null,null,null,null,null,null,null,null,null,null,null,null,null,null,null,null,null,null,null,null,null,null,{"$f":"Balanza!H137","v":0},{"$f":"Balanza!D137","v":0}]
[null,"    OTROS ACTIVOS CIRCULANTES",null,null,null,null,null,null,null,null,null,null,null,null,null,null,null,null,null,null,null,null,null,null,null,null,null,null,null,null,null,{"$f":"SUM(AF41:AF44)","v":0},{"$f":"SUM(AG41:AG44)","v":0},null,"      Otras provisiones a corto plazo",null,null,null,null,null,null,null,null,null,null,null,null,null,null,null,null,null,null,null,null,null,null,null,null,null,null,null,null,null,{"$f":"Balanza!H138","v":0},{"$f":"Balanza!D138","v":0}]
[null,"      Valores en garantía",null,null,null,null,null,null,null,null,null,null,null,null,null,null,null,null,null,null,null,null,null,null,null,null,null,null,null,null,null,{"$f":"Balanza!G39","v":0},{"$f":"Balanza!C39","v":0},null,"    OTROS PASIVOS A CORTO PLAZO",null,null,null,null,null,null,null,null,null,null,null,null,null,null,null,null,null,null,null,null,null,null,null,null,null,null,null,null,null,{"$f":"SUM(BM42:BM44)","v":0},{"$f":"SUM(BN42:BN44)","v":0}]
[null,"      Bienes en garantía (excluye depósitos de fondos)",null,null,null,null,null,null,null,null,null,null,null,null,null,null,null,null,null,null,null,null,null,null,null,null,null,null,null,null,null,{"$f":"Balanza!G40","v":0},{"$f":"Balanza!C40","v":0},null,"      Ingresos por clasificar",null,null,null,null,null,null,null,null,null,null,null,null,null,null,null,null,null,null,null,null,null,null,null,null,null,null,null,null,null,{"$f":"Balanza!H140","v":0},{"$f":"Balanza!D140","v":0}]
[null,"      Bienes derivados de embargos,  decomisos, aseguramientos y dación en pago",null,null,null,null,null,null,null,null,null,null,null,null,null,null,null,null,null,null,null,null,null,null,null,null,null,null,null,null,null,{"$f":"Balanza!G41","v":0},{"$f":"Balanza!C41","v":0},null,"      Recaudación por participar",null,null,null,null,null,null,null,null,null,null,null,null,null,null,null,null,null,null,null,null,null,null,null,null,null,null,null,null,null,{"$f":"Balanza!H141","v":0},{"$f":"Balanza!D141","v":0}]
[null,"      Adquisición con fondos de terceros",null,null,null,null,null,null,null,null,null,null,null,null,null,null,null,null,null,null,null,null,null,null,null,null,null,null,null,null,null,{"$f":"Balanza!G42","v":0},{"$f":"Balanza!C42","v":0},null,"      Otros pasivos circulantes",null,null,null,null,null,null,null,null,null,null,null,null,null,null,null,null,null,null,null,null,null,null,null,null,null,null,null,null,null,{"$f":"Balanza!H142","v":0},{"$f":"Balanza!D142","v":0}]
[null,"TOTAL DE ACTIVOS CIRCULANTES",null,null,null,null,null,null,null,null,null,null,null,null,null,null,null,null,null,null,null,null,null,null,null,null,null,null,null,null,null,{"$f":"AF8+AF16+AF24+AF30+AF36+AF37+AF40","v":9813839.1699999999},{"$f":"AG8+AG16+AG24+AG30+AG36+AG37+AG40","v":7006188.3300000001},null,"TOTAL DE PASIVOS CIRCULANTES",null,null,null,null,null,null,null,null,null,null,null,null,null,null,null,null,null,null,null,null,null,null,null,null,null,null,null,null,null,{"$f":"BM8+BM18+BM22+BM25+BM26+BM30+BM37+BM41","v":3795420.8},{"$f":"BN8+BN18+BN22+BN25+BN26+BN30+BN37+BN41","v":4423775.72}]
[null,"  ACTIVO NO CIRCULANTE",null,null,null,null,null,null,null,null,null,null,null,null,null,null,null,null,null,null,null,null,null,null,null,null,null,null,null,null,null,null,null,null,"  PASIVO NO CIRCULANTE"]
[null,"    Inversiones financieras a largo plazo",null,null,null,null,null,null,null,null,null,null,null,null,null,null,null,null,null,null,null,null,null,null,null,null,null,null,null,null,null,{"$f":"Balanza!G44","v":5000},{"$f":"Balanza!C44","v":5000},null,"    Cuentas por pagar a largo plazo",null,null,null,null,null,null,null,null,null,null,null,null,null,null,null,null,null,null,null,null,null,null,null,null,null,null,null,null,null,{"$f":"Balanza!H144","v":5087559.78},{"$f":"Balanza!D144","v":6431703.4100000001}]
[null,"    Derechos a recibir efectivo o equivalentes a largo plazo",null,null,null,null,null,null,null,null,null,null,null,null,null,null,null,null,null,null,null,null,null,null,null,null,null,null,null,null,null,{"$f":"Balanza!G49","v":0},{"$f":"Balanza!C49","v":0},null,"    Documentos por pagar a largo plazo",null,null,null,null,null,null,null,null,null,null,null,null,null,null,null,null,null,null,null,null,null,null,null,null,null,null,null,null,null,{"$f":"Balanza!H147","v":0},{"$f":"Balanza!D147","v":0}]
[null,"    Bienes inmuebles, infraestructura y construcciones en proceso",null,null,null,null,null,null,null,null,null,null,null,null,null,null,null,null,null,null,null,null,null,null,null,null,null,null,null,null,null,{"$f":"Balanza!G55","v":405125396.81999999},{"$f":"Balanza!C55","v":394674462.90000004},null,"    Deuda pública a largo plazo",null,null,null,null,null,null,null,null,null,null,null,null,null,null,null,null,null,null,null,null,null,null,null,null,null,null,null,null,null,{"$f":"Balanza!H151","v":0},{"$f":"Balanza!D151","v":0}]
[null,"    Bienes muebles",null,null,null,null,null,null,null,null,null,null,null,null,null,null,null,null,null,null,null,null,null,null,null,null,null,null,null,null,null,{"$f":"Balanza!G63","v":10856576.17},{"$f":"Balanza!C63","v":10509827.43},null,"    Pasivos diferidos a largo plazo",null,null,null,null,null,null,null,null,null,null,null,null,null,null,null,null,null,null,null,null,null,null,null,null,null,null,null,null,null,{"$f":"Balanza!H157","v":0},{"$f":"Balanza!D157","v":0}]
[null,"    Activos intangibles",null,null,null,null,null,null,null,null,null,null,null,null,null,null,null,null,null,null,null,null,null,null,null,null,null,null,null,null,null,{"$f":"Balanza!G72","v":235805.26},{"$f":"Balanza!C72","v":235805.26},null,"    Fondos y bienes de terceros en garantía y/o administración a largo plazo",null,null,null,null,null,null,null,null,null,null,null,null,null,null,null,null,null,null,null,null,null,null,null,null,null,null,null,null,null,{"$f":"Balanza!H161","v":0},{"$f":"Balanza!D161","v":0}]
[null,"    Depreciación, deterioro y amortización acumulada de bienes",null,null,null,null,null,null,null,null,null,null,null,null,null,null,null,null,null,null,null,null,null,null,null,null,null,null,null,null,null,{"$f":"(Balanza!H78)*-1","v":-8070930.9799999995},{"$f":"(Balanza!D78)*-1","v":-8070930.9799999995},null,"    Provisiones a largo plazo",null,null,null,null,null,null,null,null,null,null,null,null,null,null,null,null,null,null,null,null,null,null,null,null,null,null,null,null,null,{"$f":"Balanza!H168","v":0},{"$f":"Balanza!D168","v":0}]
[null,"    Activos diferidos",null,null,null,null,null,null,null,null,null,null,null,null,null,null,null,null,null,null,null,null,null,null,null,null,null,null,null,null,null,{"$f":"Balanza!G84","v":0},{"$f":"Balanza!C84","v":0},null,"TOTAL DE PASIVOS NO CIRCULANTES",null,null,null,null,null,null,null,null,null,null,null,null,null,null,null,null,null,null,null,null,null,null,null,null,null,null,null,null,null,{"$f":"BM47+BM48+BM49+BM50+BM51+BM52","v":5087559.78},{"$f":"BN47+BN48+BN49+BN50+BN51+BN52","v":6431703.4100000001}]
[null,"    Estimación por pérdida o deterioro de activos no circulantes",null,null,null,null,null,null,null,null,null,null,null,null,null,null,null,null,null,null,null,null,null,null,null,null,null,null,null,null,null,{"$f":"(Balanza!H91)*-1","v":0},{"$f":"(Balanza!D91)*-1","v":0},null,"TOTAL DE PASIVOS",null,null,null,null,null,null,null,null,null,null,null,null,null,null,null,null,null,null,null,null,null,null,null,null,null,null,null,null,null,{"$f":"BM45+BM53","v":8882980.5800000001},{"$f":"BN45+BN53","v":10855479.129999999}]
[null,"    Otros activos no circulantes",null,null,null,null,null,null,null,null,null,null,null,null,null,null,null,null,null,null,null,null,null,null,null,null,null,null,null,null,null,{"$f":"Balanza!G97","v":0},{"$f":"Balanza!C97","v":0},null,"HACIENDA PÚBLICA/ PATRIMONIO"]
[null,"TOTAL DE ACTIVOS NO CIRCULANTES",null,null,null,null,null,null,null,null,null,null,null,null,null,null,null,null,null,null,null,null,null,null,null,null,null,null,null,null,null,{"$f":"AF47+AF48+AF49+AF50+AF51+AF52+AF53+AF54+AF55","v":408151847.26999998},{"$f":"AG47+AG48+AG49+AG50+AG51+AG52+AG53+AG54+AG55","v":397354164.61000001},null,"  HACIENDA PÚBLICA/ PATRIMONIO CONTRIBUIDO",null,null,null,null,null,null,null,null,null,null,null,null,null,null,null,null,null,null,null,null,null,null,null,null,null,null,null,null,null,{"$f":"SUM(BM57:BM59)","v":0},{"$f":"SUM(BN57:BN59)","v":0}]
[null,"TOTAL DEL ACTIVO",null,null,null,null,null,null,null,null,null,null,null,null,null,null,null,null,null,null,null,null,null,null,null,null,null,null,null,null,null,{"$f":"AF45+AF56","v":417965686.44},{"$f":"AG45+AG56","v":404360352.94},null,"    Aportaciones",null,null,null,null,null,null,null,null,null,null,null,null,null,null,null,null,null,null,null,null,null,null,null,null,null,null,null,null,null,{"$f":"Balanza!H175","v":0},{"$f":"Balanza!D175","v":0}]
[null,null,null,null,null,null,null,null,null,null,null,null,null,null,null,null,null,null,null,null,null,null,null,null,null,null,null,null,null,null,null,null,null,null,"    Donaciones de capítal",null,null,null,null,null,null,null,null,null,null,null,null,null,null,null,null,null,null,null,null,null,null,null,null,null,null,null,null,null,{"$f":"Balanza!H176","v":0},{"$f":"Balanza!D176","v":0}]
[null,null,null,null,null,null,null,null,null,null,null,null,null,null,null,null,null,null,null,null,null,null,null,null,null,null,null,null,null,null,null,null,null,null,"    Actualización de la hacienda pública/patrimonio",null,null,null,null,null,null,null,null,null,null,null,null,null,null,null,null,null,null,null,null,null,null,null,null,null,null,null,null,null,{"$f":"Balanza!H177","v":0},{"$f":"Balanza!D177","v":0}]
[null,null,null,null,null,null,null,null,null,null,null,null,null,null,null,null,null,null,null,null,null,null,null,null,null,null,null,null,null,null,null,null,null,null,"  HACIENDA PÚBLICA/PATRIMONIO GENERADO",null,null,null,null,null,null,null,null,null,null,null,null,null,null,null,null,null,null,null,null,null,null,null,null,null,null,null,null,null,{"$f":"BM61+BM62+BM63+BM64+BM65","v":409082705.86000001},{"$f":"BN61+BN62+BN63+BN64+BN65","v":393504873.81}]
[null,null,null,null,null,null,null,null,null,null,null,null,null,null,null,null,null,null,null,null,null,null,null,null,null,null,null,null,null,null,null,null,null,null,"    Resultado del ejercicio  (ahorro/desahorro)",null,null,null,null,null,null,null,null,null,null,null,null,null,null,null,null,null,null,null,null,null,null,null,null,null,null,null,null,null,{"$f":"Balanza!H179","v":15577832.050000001},{"$f":"Balanza!D179","v":22631177.000000007}]
[null,null,null,null,null,null,null,null,null,null,null,null,null,null,null,null,null,null,null,null,null,null,null,null,null,null,null,null,null,null,null,null,null,null,"    Resultado de ejercicios anteriores",null,null,null,null,null,null,null,null,null,null,null,null,null,null,null,null,null,null,null,null,null,null,null,null,null,null,null,null,null,{"$f":"Balanza!H180","v":315444602.75},{"$f":"Balanza!D180","v":292813425.75}]
[null,null,null,null,null,null,null,null,null,null,null,null,null,null,null,null,null,null,null,null,null,null,null,null,null,null,null,null,null,null,null,null,null,null,"   Revalúos",null,null,null,null,null,null,null,null,null,null,null,null,null,null,null,null,null,null,null,null,null,null,null,null,null,null,null,null,null,{"$f":"Balanza!H181","v":77719390},{"$f":"Balanza!D181","v":77719390}]
[null,null,null,null,null,null,null,null,null,null,null,null,null,null,null,null,null,null,null,null,null,null,null,null,null,null,null,null,null,null,null,null,null,null,"   Reservas",null,null,null,null,null,null,null,null,null,null,null,null,null,null,null,null,null,null,null,null,null,null,null,null,null,null,null,null,null,{"$f":"Balanza!H186","v":0},{"$f":"Balanza!D186","v":0}]
[null,null,null,null,null,null,null,null,null,null,null,null,null,null,null,null,null,null,null,null,null,null,null,null,null,null,null,null,null,null,null,null,null,null,"   Rectrificacines de resultados anteriores",null,null,null,null,null,null,null,null,null,null,null,null,null,null,null,null,null,null,null,null,null,null,null,null,null,null,null,null,null,{"$f":"Balanza!H190","v":340881.06},{"$f":"Balanza!D190","v":340881.06}]
[null,null,null,null,null,null,null,null,null,null,null,null,null,null,null,null,null,null,null,null,null,null,null,null,null,null,null,null,null,null,null,null,null,null,"  EXCESO O INSUFICIENCIA EN LA ACTUALIZACIÓN DE LA HACIENDA PÚBLICA / PATRIMONIO",null,null,null,null,null,null,null,null,null,null,null,null,null,null,null,null,null,null,null,null,null,null,null,null,null,null,null,null,null,{"$f":"SUM(BM67:BM68)","v":0},{"$f":"SUM(BN67:BN68)","v":0}]
[null,null,null,null,null,null,null,null,null,null,null,null,null,null,null,null,null,null,null,null,null,null,null,null,null,null,null,null,null,null,null,null,null,null,"    Resultado por posición monetaria",null,null,null,null,null,null,null,null,null,null,null,null,null,null,null,null,null,null,null,null,null,null,null,null,null,null,null,null,null,{"$f":"Balanza!H194","v":0},{"$f":"Balanza!D194","v":0}]
[null,null,null,null,null,null,null,null,null,null,null,null,null,null,null,null,null,null,null,null,null,null,null,null,null,null,null,null,null,null,null,null,null,null,"    Resultado por tenencia de activos no monetarios",null,null,null,null,null,null,null,null,null,null,null,null,null,null,null,null,null,null,null,null,null,null,null,null,null,null,null,null,null,{"$f":"Balanza!H195","v":0},{"$f":"Balanza!D195","v":0}]
[null,null,null,null,null,null,null,null,null,null,null,null,null,null,null,null,null,null,null,null,null,null,null,null,null,null,null,null,null,null,null,null,null,null,null,null,null,null,null,null,null,null,null,null,null,null,null,null,null,null,null,null,null,null,null,null,null,null,null,null,null,null,null,"TOTAL HACIENDA PUBLICA / PATRIMONIO",{"$f":"BM56+BM60+BM66","v":409082705.86000001},{"$f":"BN56+BN60+BN66","v":393504873.81}]
[null,null,null,null,null,null,null,null,null,null,null,null,null,null,null,null,null,null,null,null,null,null,null,null,null,null,null,null,null,null,null,null,null,null,"SUMA DE PASIVO Y PATRIMONIO / HACIENDA PÚBLICA",null,null,null,null,null,null,null,null,null,null,null,null,null,null,null,null,null,null,null,null,null,null,null,null,null,null,null,null,null,{"$f":"BM54+BM69","v":417965686.44},{"$f":"BN54+BN69","v":404360352.94}]
[]
[null,"Bajo protesta de decir verdad declaramos que los estados financieros y sus notas, son razonablemente correctos y son responsabilidad del emisor."]
[]
[]
[]
[null,null,null,null,null,null,null,null,null,null,null,null,null,null,null,null,{"$f":"Validacion!A7","v":"C. José Ángel Prudencio Vargas"},null,null,null,null,null,null,null,null,null,null,null,null,null,null,null,null,null,null,null,null,null,null,null,null,null,null,null,null,null,null,null,{"$f":"Validacion!A9","v":"L.C.P. Regina Itzel Bedoya Cruz"}]
[]
[null,null,null,null,null,null,null,null,null,null,null,null,null,null,null,null,"Presidente Municipal o Títular del ente público",null,null,null,null,null,null,null,null,null,null,null,null,null,null,null,null,null,null,null,null,null,null,null,null,null,null,null,null,null,null,null,"Encargado de la Hacienda Pública Municipal o Responsable de las finanzas del ente público"]

{"sheet":"F6","index":19,"n_rows":550,"n_cols":52,"rows_kept":550,"cut":false,"hidden":false,"merged":[[539,1,539,48],[549,15,550,31],[546,15,546,31],[549,47,550,50],[546,47,546,50],[547,15,548,31],[547,47,548,50],[0,0,0,50],[538,1,538,48],[4,1,4,48],[183,1,183,48],[2,0,2,50],[1,0,1,50]]}
[{"$f":"Validacion!A2","v":"Ayutla"}]
["ESTADO ANALÍTICO DE ACTIVIDADES"]
[{"$f":"'F9-EDP'!A3","v":"Del 1° de Enero al 30 de Septiembre de 2023"}]
[]
["CTA.","CONCEPTO",null,null,null,null,null,null,null,null,null,null,null,null,null,null,null,null,null,null,null,null,null,null,null,null,null,null,null,null,null,null,null,null,null,null,null,null,null,null,null,null,null,null,null,null,null,null,null,"2023","2022"]
["40000","INGRESOS Y OTROS BENEFICIOS"]
["41000","INGRESOS DE GESTIÓN",null,null,null,null,null,null,null,null,null,null,null,null,null,null,null,null,null,null,null,null,null,null,null,null,null,null,null,null,null,null,null,null,null,null,null,null,null,null,null,null,null,null,null,null,null,null,null,{"$f":"AX8+AX29+AX35+AX40+AX72+AX81+AX102","v":8169035.5200000005},{"$f":"AY8+AY29+AY35+AY40+AY72+AY81+AY102","v":10162303.850000001}]
["41100","IMPUESTOS",null,null,null,null,null,null,null,null,null,null,null,null,null,null,null,null,null,null,null,null,null,null,null,null,null,null,null,null,null,null,null,null,null,null,null,null,null,null,null,null,null,null,null,null,null,null,null,{"$f":"AX9+AX11+AX15+AX16+AX17+AX18+AX19+AX25+AX27","v":2967353.3},{"$f":"AY9+AY11+AY15+AY16+AY17+AY18+AY19+AY25+AY27","v":3775730.5}]
[41110,"Impuestos sobre los ingresos",null,null,null,null,null,null,null,null,null,null,null,null,null,null,null,null,null,null,null,null,null,null,null,null,null,null,null,null,null,null,null,null,null,null,null,null,null,null,null,null,null,null,null,null,null,null,null,{"$f":"SUM(AX10)","v":0},{"$f":"SUM(AY10)","v":0}]
["41110-1","  Impuestos sobre espectáculos públicos",null,null,null,null,null,null,null,null,null,null,null,null,null,null,null,null,null,null,null,null,null,null,null,null,null,null,null,null,null,null,null,null,null,null,null,null,null,null,null,null,null,null,null,null,null,null,null,{"$f":"Balanza!H200","v":0},{"$f":"Balanza!D200","v":0}]
[41120,"Impuestos sobre el patrimonio",null,null,null,null,null,null,null,null,null,null,null,null,null,null,null,null,null,null,null,null,null,null,null,null,null,null,null,null,null,null,null,null,null,null,null,null,null,null,null,null,null,null,null,null,null,null,null,{"$f":"SUM(AX12:AX14)","v":2884685.67},{"$f":"SUM(AY12:AY14)","v":3763123.5}]
["41120-1","  Impuesto predial ",null,null,null,null,null,null,null,null,null,null,null,null,null,null,null,null,null,null,null,null,null,null,null,null,null,null,null,null,null,null,null,null,null,null,null,null,null,null,null,null,null,null,null,null,null,null,null,{"$f":"Balanza!H202","v":2233728.81},{"$f":"Balanza!D202","v":2353448.1800000002}]
["41120-2","  Impuestos sobre transmisiones patrimoniales",null,null,null,null,null,null,null,null,null,null,null,null,null,null,null,null,null,null,null,null,null,null,null,null,null,null,null,null,null,null,null,null,null,null,null,null,null,null,null,null,null,null,null,null,null,null,null,{"$f":"Balanza!H203","v":650956.86},{"$f":"Balanza!D203","v":1409675.32}]
["41120-3","  Impuestos sobre negocios jurídicos",null,null,null,null,null,null,null,null,null,null,null,null,null,null,null,null,null,null,null,null,null,null,null,null,null,null,null,null,null,null,null,null,null,null,null,null,null,null,null,null,null,null,null,null,null,null,null,{"$f":"Balanza!H204","v":0},{"$f":"Balanza!D204","v":0}]
["41130","Impuestos sobre la producción, el consumo y las transacciones",null,null,null,null,null,null,null,null,null,null,null,null,null,null,null,null,null,null,null,null,null,null,null,null,null,null,null,null,null,null,null,null,null,null,null,null,null,null,null,null,null,null,null,null,null,null,null,0,0]
["41140","Impuestos al comercio exterior",null,null,null,null,null,null,null,null,null,null,null,null,null,null,null,null,null,null,null,null,null,null,null,null,null,null,null,null,null,null,null,null,null,null,null,null,null,null,null,null,null,null,null,null,null,null,null,0,0]
["41150","Impuestos sobre nóminas y asimilables",null,null,null,null,null,null,null,null,null,null,null,null,null,null,null,null,null,null,null,null,null,null,null,null,null,null,null,null,null,null,null,null,null,null,null,null,null,null,null,null,null,null,null,null,null,null,null,0,0]
["41160","Impuestos ecológicos",null,null,null,null,null,null,null,null,null,null,null,null,null,null,null,null,null,null,null,null,null,null,null,null,null,null,null,null,null,null,null,null,null,null,null,null,null,null,null,null,null,null,null,null,null,null,null,0,0]
["41170","Accesorios de impuestos",null,null,null,null,null,null,null,null,null,null,null,null,null,null,null,null,null,null,null,null,null,null,null,null,null,null,null,null,null,null,null,null,null,null,null,null,null,null,null,null,null,null,null,null,null,null,null,{"$f":"SUM(AX20:AX24)","v":221.31},{"$f":"SUM(AY20:AY24)","v":12607}]
["41170-1","  Recargos",null,null,null,null,null,null,null,null,null,null,null,null,null,null,null,null,null,null,null,null,null,null,null,null,null,null,null,null,null,null,null,null,null,null,null,null,null,null,null,null,null,null,null,null,null,null,null,{"$f":"Balanza!H210","v":0},{"$f":"Balanza!D210","v":12607}]
["41170-2","  Actualizaciones",null,null,null,null,null,null,null,null,null,null,null,null,null,null,null,null,null,null,null,null,null,null,null,null,null,null,null,null,null,null,null,null,null,null,null,null,null,null,null,null,null,null,null,null,null,null,null,{"$f":"Balanza!H211","v":0},{"$f":"Balanza!D211","v":0}]
["41170-3","  Multas",null,null,null,null,null,null,null,null,null,null,null,null,null,null,null,null,null,null,null,null,null,null,null,null,null,null,null,null,null,null,null,null,null,null,null,null,null,null,null,null,null,null,null,null,null,null,null,{"$f":"Balanza!H212","v":0},{"$f":"Balanza!D212","v":0}]
["41170-4","  Gastos de ejecución",null,null,null,null,null,null,null,null,null,null,null,null,null,null,null,null,null,null,null,null,null,null,null,null,null,null,null,null,null,null,null,null,null,null,null,null,null,null,null,null,null,null,null,null,null,null,null,{"$f":"Balanza!H213","v":221.31},{"$f":"Balanza!D213","v":0}]
["41170-5","  Otros no especificados",null,null,null,null,null,null,null,null,null,null,null,null,null,null,null,null,null,null,null,null,null,null,null,null,null,null,null,null,null,null,null,null,null,null,null,null,null,null,null,null,null,null,null,null,null,null,null,{"$f":"Balanza!H214","v":0},{"$f":"Balanza!D214","v":0}]
["41180","Impuestos no comprendidos en la ley de ingresos vigente, causados en ejercicio fiscales anteriores pendientes de liquidar o pago",null,null,null,null,null,null,null,null,null,null,null,null,null,null,null,null,null,null,null,null,null,null,null,null,null,null,null,null,null,null,null,null,null,null,null,null,null,null,null,null,null,null,null,null,null,null,null,{"$f":"SUM(AX26)","v":0},{"$f":"SUM(AY26)","v":0}]
["41180-1","Impuestos no comprendidos en la ley de ingresos vigente, causados en ejercicio fiscales anteriores pendientes de liquidar o pago",null,null,null,null,null,null,null,null,null,null,null,null,null,null,null,null,null,null,null,null,null,null,null,null,null,null,null,null,null,null,null,null,null,null,null,null,null,null,null,null,null,null,null,null,null,null,null,{"$f":"Balanza!H216","v":0},{"$f":"Balanza!D216","v":0}]
["41190","Otros Impuestos",null,null,null,null,null,null,null,null,null,null,null,null,null,null,null,null,null,null,null,null,null,null,null,null,null,null,null,null,null,null,null,null,null,null,null,null,null,null,null,null,null,null,null,null,null,null,null,{"$f":"SUM(AX28)","v":82446.320000000007},{"$f":"SUM(AY28)","v":0}]
["41190-1","  Otros impuestos",null,null,null,null,null,null,null,null,null,null,null,null,null,null,null,null,null,null,null,null,null,null,null,null,null,null,null,null,null,null,null,null,null,null,null,null,null,null,null,null,null,null,null,null,null,null,null,{"$f":"Balanza!H218","v":82446.320000000007},{"$f":"Balanza!D218","v":0}]
["41200","CUOTAS Y APORTACIONES DE SEGURIDAD SOCIAL",null,null,null,null,null,null,null,null,null,null,null,null,null,null,null,null,null,null,null,null,null,null,null,null,null,null,null,null,null,null,null,null,null,null,null,null,null,null,null,null,null,null,null,null,null,null,null,{"$f":"SUM(AX30:AX34)","v":0},{"$f":"SUM(AY30:AY34)","v":0}]
["41210","Aportaciones para fondos de vivienda",null,null,null,null,null,null,null,null,null,null,null,null,null,null,null,null,null,null,null,null,null,null,null,null,null,null,null,null,null,null,null,null,null,null,null,null,null,null,null,null,null,null,null,null,null,null,null,0,0]
["41220","Cuotas para la seguridad social",null,null,null,null,null,null,null,null,null,null,null,null,null,null,null,null,null,null,null,null,null,null,null,null,null,null,null,null,null,null,null,null,null,null,null,null,null,null,null,null,null,null,null,null,null,null,null,0,0]
["41230","Cuotas de ahorro para el retiro",null,null,null,null,null,null,null,null,null,null,null,null,null,null,null,null,null,null,null,null,null,null,null,null,null,null,null,null,null,null,null,null,null,null,null,null,null,null,null,null,null,null,null,null,null,null,null,0,0]
["41240","Accesorios de cuotas y aportaciones de seguridad social",null,null,null,null,null,null,null,null,null,null,null,null,null,null,null,null,null,null,null,null,null,null,null,null,null,null,null,null,null,null,null,null,null,null,null,null,null,null,null,null,null,null,null,null,null,null,null,0,0]
["41290","Otras cuotas y aportaciones para la seguridad social",null,null,null,null,null,null,null,null,null,null,null,null,null,null,null,null,null,null,null,null,null,null,null,null,null,null,null,null,null,null,null,null,null,null,null,null,null,null,null,null,null,null,null,null,null,null,null,0,0]
["41300","CONTRIBUCIONES DE MEJORAS",null,null,null,null,null,null,null,null,null,null,null,null,null,null,null,null,null,null,null,null,null,null,null,null,null,null,null,null,null,null,null,null,null,null,null,null,null,null,null,null,null,null,null,null,null,null,null,{"$f":"AX36+AX38","v":20229},{"$f":"AY36+AY38","v":78355.199999999997}]
["41310","Contribuciones de mejoras por obras públicas",null,null,null,null,null,null,null,null,null,null,null,null,null,null,null,null,null,null,null,null,null,null,null,null,null,null,null,null,null,null,null,null,null,null,null,null,null,null,null,null,null,null,null,null,null,null,null,{"$f":"SUM(AX37)","v":20229},{"$f":"SUM(AY37)","v":78355.199999999997}]
["41310-1","  Contribuciones de mejoras por obras públicas",null,null,null,null,null,null,null,null,null,null,null,null,null,null,null,null,null,null,null,null,null,null,null,null,null,null,null,null,null,null,null,null,null,null,null,null,null,null,null,null,null,null,null,null,null,null,null,{"$f":"Balanza!H227","v":20229},{"$f":"Balanza!D227","v":78355.199999999997}]
["41320","Contribuciones de mejoras no comprendidas en la ley de ing. vigente, causadas en ejercicios fiscales anteriores pendientes de liq. o pago",null,null,null,null,null,null,null,null,null,null,null,null,null,null,null,null,null,null,null,null,null,null,null,null,null,null,null,null,null,null,null,null,null,null,null,null,null,null,null,null,null,null,null,null,null,null,null,{"$f":"SUM(AX39)","v":0},{"$f":"SUM(AY39)","v":0}]
["41320-1","  Contribuciones de mejoras no comprendidas en la ley de ing. vigente, causadas en ejercicios fiscales anteriores pendientes de liq. o pago",null,null,null,null,null,null,null,null,null,null,null,null,null,null,null,null,null,null,null,null,null,null,null,null,null,null,null,null,null,null,null,null,null,null,null,null,null,null,null,null,null,null,null,null,null,null,null,{"$f":"Balanza!H229","v":0},{"$f":"Balanza!D229","v":0}]
["41400","DERECHOS",null,null,null,null,null,null,null,null,null,null,null,null,null,null,null,null,null,null,null,null,null,null,null,null,null,null,null,null,null,null,null,null,null,null,null,null,null,null,null,null,null,null,null,null,null,null,null,{"$f":"AX41+AX46+AX47+AX62+AX68+AX70","v":4710921.1000000006},{"$f":"AY41+AY46+AY47+AY62+AY68+AY70","v":5364009.6899999995}]
["41410","Derechos por el uso, goce, aprovechamiento o explotación de bienes de dominio público",null,null,null,null,null,null,null,null,null,null,null,null,null,null,null,null,null,null,null,null,null,null,null,null,null,null,null,null,null,null,null,null,null,null,null,null,null,null,null,null,null,null,null,null,null,null,null,{"$f":"SUM(AX42:AX45)","v":7959.25},{"$f":"SUM(AY42:AY45)","v":12920}]
["41410-1","  Derechos por el uso del piso",null,null,null,null,null,null,null,null,null,null,null,null,null,null,null,null,null,null,null,null,null,null,null,null,null,null,null,null,null,null,null,null,null,null,null,null,null,null,null,null,null,null,null,null,null,null,null,{"$f":"Balanza!H232","v":0},{"$f":"Balanza!D232","v":0}]
["41410-2","  Derechos por el uso de los estacionamientos",null,null,null,null,null,null,null,null,null,null,null,null,null,null,null,null,null,null,null,null,null,null,null,null,null,null,null,null,null,null,null,null,null,null,null,null,null,null,null,null,null,null,null,null,null,null,null,{"$f":"Balanza!H233","v":0},{"$f":"Balanza!D233","v":0}]
["41410-3","  Derechos de uso de cementerios y panteones municipales",null,null,null,null,null,null,null,null,null,null,null,null,null,null,null,null,null,null,null,null,null,null,null,null,null,null,null,null,null,null,null,null,null,null,null,null,null,null,null,null,null,null,null,null,null,null,null,{"$f":"Balanza!H234","v":3247},{"$f":"Balanza!D234","v":2610}]
["41410-4","  Derechos de concesiones y demás inmuebles de propiedad municipal",null,null,null,null,null,null,null,null,null,null,null,null,null,null,null,null,null,null,null,null,null,null,null,null,null,null,null,null,null,null,null,null,null,null,null,null,null,null,null,null,null,null,null,null,null,null,null,{"$f":"Balanza!H235","v":4712.25},{"$f":"Balanza!D235","v":10310}]
["41420","Derechos a los hidrocarburos (derogada)",null,null,null,null,null,null,null,null,null,null,null,null,null,null,null,null,null,null,null,null,null,null,null,null,null,null,null,null,null,null,null,null,null,null,null,null,null,null,null,null,null,null,null,null,null,null,null,0,0]
["41430","Derechos por prestación de servicios",null,null,null,null,null,null,null,null,null,null,null,null,null,null,null,null,null,null,null,null,null,null,null,null,null,null,null,null,null,null,null,null,null,null,null,null,null,null,null,null,null,null,null,null,null,null,null,{"$f":"SUM(AX48:AX61)","v":4439654.8500000006},{"$f":"SUM(AY48:AY61)","v":5080131.22}]
["41430-1","  Derechos de licencias y permisos de giros",null,null,null,null,null,null,null,null,null,null,null,null,null,null,null,null,null,null,null,null,null,null,null,null,null,null,null,null,null,null,null,null,null,null,null,null,null,null,null,null,null,null,null,null,null,null,null,{"$f":"Balanza!H238","v":324391.81},{"$f":"Balanza!D238","v":309184.34000000003}]
["41430-2","  Derechos de licencias y permisos de anuncios",null,null,null,null,null,null,null,null,null,null,null,null,null,null,null,null,null,null,null,null,null,null,null,null,null,null,null,null,null,null,null,null,null,null,null,null,null,null,null,null,null,null,null,null,null,null,null,{"$f":"Balanza!H239","v":17138},{"$f":"Balanza!D239","v":24193.18}]
["41430-3","  Derechos de licencias de construcción, reconstrucción, reparación o demolición de obras",null,null,null,null,null,null,null,null,null,null,null,null,null,null,null,null,null,null,null,null,null,null,null,null,null,null,null,null,null,null,null,null,null,null,null,null,null,null,null,null,null,null,null,null,null,null,null,{"$f":"Balanza!H240","v":34644.230000000003},{"$f":"Balanza!D240","v":84154.21}]
["41430-4","  Derechos de regularizaciones de los registros de obra",null,null,null,null,null,null,null,null,null,null,null,null,null,null,null,null,null,null,null,null,null,null,null,null,null,null,null,null,null,null,null,null,null,null,null,null,null,null,null,null,null,null,null,null,null,null,null,{"$f":"Balanza!H241","v":0},{"$f":"Balanza!D241","v":0}]
["41430-5","  Derechos de alineamiento, designación de número oficial e inspección",null,null,null,null,null,null,null,null,null,null,null,null,null,null,null,null,null,null,null,null,null,null,null,null,null,null,null,null,null,null,null,null,null,null,null,null,null,null,null,null,null,null,null,null,null,null,null,{"$f":"Balanza!H242","v":17411},{"$f":"Balanza!D242","v":9175.9}]
["41430-6","  Derechos de licencias de cambio de régimen de propiedad y urbanización",null,null,null,null,null,null,null,null,null,null,null,null,null,null,null,null,null,null,null,null,null,null,null,null,null,null,null,null,null,null,null,null,null,null,null,null,null,null,null,null,null,null,null,null,null,null,null,{"$f":"Balanza!H243","v":15860},{"$f":"Balanza!D243","v":129490.98}]
["41430-7","  Derechos de servicios de obra",null,null,null,null,null,null,null,null,null,null,null,null,null,null,null,null,null,null,null,null,null,null,null,null,null,null,null,null,null,null,null,null,null,null,null,null,null,null,null,null,null,null,null,null,null,null,null,{"$f":"Balanza!H244","v":0},{"$f":"Balanza!D244","v":12949.21}]
["41430-8","  Derechos de servicios de sanidad",null,null,null,null,null,null,null,null,null,null,null,null,null,null,null,null,null,null,null,null,null,null,null,null,null,null,null,null,null,null,null,null,null,null,null,null,null,null,null,null,null,null,null,null,null,null,null,{"$f":"Balanza!H245","v":9598},{"$f":"Balanza!D245","v":20751}]
["41430-9","  Derechos de servicio de limpieza, recolección, traslado, tratamiento y disposición final de residuos",null,null,null,null,null,null,null,null,null,null,null,null,null,null,null,null,null,null,null,null,null,null,null,null,null,null,null,null,null,null,null,null,null,null,null,null,null,null,null,null,null,null,null,null,null,null,null,{"$f":"Balanza!H246","v":0},{"$f":"Balanza!D246","v":0}]
["41430-10","  Derechos de agua potable, drenaje, alcantarillado, tratamiento y disposición final de aguas residuales",null,null,null,null,null,null,null,null,null,null,null,null,null,null,null,null,null,null,null,null,null,null,null,null,null,null,null,null,null,null,null,null,null,null,null,null,null,null,null,null,null,null,null,null,null,null,null,{"$f":"Balanza!H247","v":3324697.01},{"$f":"Balanza!D247","v":2880051.76}]
["41430-11","  Derechos del rastro",null,null,null,null,null,null,null,null,null,null,null,null,null,null,null,null,null,null,null,null,null,null,null,null,null,null,null,null,null,null,null,null,null,null,null,null,null,null,null,null,null,null,null,null,null,null,null,{"$f":"Balanza!H248","v":173368.02},{"$f":"Balanza!D248","v":493540}]
["41430-12","  Derechos del registro civil",null,null,null,null,null,null,null,null,null,null,null,null,null,null,null,null,null,null,null,null,null,null,null,null,null,null,null,null,null,null,null,null,null,null,null,null,null,null,null,null,null,null,null,null,null,null,null,{"$f":"Balanza!H249","v":260447},{"$f":"Balanza!D249","v":543826}]
["41430-13","  Derechos de las certificaciones",null,null,null,null,null,null,null,null,null,null,null,null,null,null,null,null,null,null,null,null,null,null,null,null,null,null,null,null,null,null,null,null,null,null,null,null,null,null,null,null,null,null,null,null,null,null,null,{"$f":"Balanza!H250","v":80266.55},{"$f":"Balanza!D250","v":46769}]
["41430-14","  Derechos de los servicios de catastro",null,null,null,null,null,null,null,null,null,null,null,null,null,null,null,null,null,null,null,null,null,null,null,null,null,null,null,null,null,null,null,null,null,null,null,null,null,null,null,null,null,null,null,null,null,null,null,{"$f":"Balanza!H251","v":181833.23},{"$f":"Balanza!D251","v":526045.64}]
["41440","Accesorios de derecho",null,null,null,null,null,null,null,null,null,null,null,null,null,null,null,null,null,null,null,null,null,null,null,null,null,null,null,null,null,null,null,null,null,null,null,null,null,null,null,null,null,null,null,null,null,null,null,{"$f":"SUM(AX63:AX67)","v":263307},{"$f":"SUM(AY63:AY67)","v":52700.97}]
["41440-1","  Recargos",null,null,null,null,null,null,null,null,null,null,null,null,null,null,null,null,null,null,null,null,null,null,null,null,null,null,null,null,null,null,null,null,null,null,null,null,null,null,null,null,null,null,null,null,null,null,null,{"$f":"Balanza!H253","v":15351},{"$f":"Balanza!D253","v":52700.97}]
["41440-2","  Actualizaciones",null,null,null,null,null,null,null,null,null,null,null,null,null,null,null,null,null,null,null,null,null,null,null,null,null,null,null,null,null,null,null,null,null,null,null,null,null,null,null,null,null,null,null,null,null,null,null,{"$f":"Balanza!H254","v":0},{"$f":"Balanza!D254","v":0}]
["41440-3","  Multas",null,null,null,null,null,null,null,null,null,null,null,null,null,null,null,null,null,null,null,null,null,null,null,null,null,null,null,null,null,null,null,null,null,null,null,null,null,null,null,null,null,null,null,null,null,null,null,{"$f":"Balanza!H255","v":0},{"$f":"Balanza!D255","v":0}]
["41440-4","  Gastos de ejecución",null,null,null,null,null,null,null,null,null,null,null,null,null,null,null,null,null,null,null,null,null,null,null,null,null,null,null,null,null,null,null,null,null,null,null,null,null,null,null,null,null,null,null,null,null,null,null,{"$f":"Balanza!H256","v":0},{"$f":"Balanza!D256","v":0}]
["41440-5","  Otros no especificados",null,null,null,null,null,null,null,null,null,null,null,null,null,null,null,null,null,null,null,null,null,null,null,null,null,null,null,null,null,null,null,null,null,null,null,null,null,null,null,null,null,null,null,null,null,null,null,{"$f":"Balanza!H257","v":247956},{"$f":"Balanza!D257","v":0}]
["41450","Derechos no comprendidos en la ley de ingresos vigente, causados en ejercicios fiscales anteriores pendientes de liquidación o pago",null,null,null,null,null,null,null,null,null,null,null,null,null,null,null,null,null,null,null,null,null,null,null,null,null,null,null,null,null,null,null,null,null,null,null,null,null,null,null,null,null,null,null,null,null,null,null,{"$f":"SUM(AX69)","v":0},{"$f":"SUM(AY69)","v":0}]
["41450-1","  Derechos no comprendidos en la ley de ingresos vigente, causados en ejercicios fiscales anteriores pendientes de liquidación o pago",null,null,null,null,null,null,null,null,null,null,null,null,null,null,null,null,null,null,null,null,null,null,null,null,null,null,null,null,null,null,null,null,null,null,null,null,null,null,null,null,null,null,null,null,null,null,null,{"$f":"Balanza!H259","v":0},{"$f":"Balanza!D259","v":0}]
["41490","Otros derechos",null,null,null,null,null,null,null,null,null,null,null,null,null,null,null,null,null,null,null,null,null,null,null,null,null,null,null,null,null,null,null,null,null,null,null,null,null,null,null,null,null,null,null,null,null,null,null,{"$f":"SUM(AX71)","v":0},{"$f":"SUM(AY71)","v":218257.5}]
["41490-1","  Otros derechos",null,null,null,null,null,null,null,null,null,null,null,null,null,null,null,null,null,null,null,null,null,null,null,null,null,null,null,null,null,null,null,null,null,null,null,null,null,null,null,null,null,null,null,null,null,null,null,{"$f":"Balanza!H261","v":0},{"$f":"Balanza!D261","v":218257.5}]
["41500","PRODUCTOS",null,null,null,null,null,null,null,null,null,null,null,null,null,null,null,null,null,null,null,null,null,null,null,null,null,null,null,null,null,null,null,null,null,null,null,null,null,null,null,null,null,null,null,null,null,null,null,{"$f":"AX73+AX76+AX77+AX78+AX80","v":236390},{"$f":"AY73+AY76+AY77+AY78+AY80","v":380275.05}]
["41510","Productos ",null,null,null,null,null,null,null,null,null,null,null,null,null,null,null,null,null,null,null,null,null,null,null,null,null,null,null,null,null,null,null,null,null,null,null,null,null,null,null,null,null,null,null,null,null,null,null,{"$f":"SUM(AX74:AX75)","v":236390},{"$f":"SUM(AY74:AY75)","v":380275.05}]
["41510-1","  Uso, goce, aprovechamiento o explotación de bienes de dominio privado",null,null,null,null,null,null,null,null,null,null,null,null,null,null,null,null,null,null,null,null,null,null,null,null,null,null,null,null,null,null,null,null,null,null,null,null,null,null,null,null,null,null,null,null,null,null,null,{"$f":"Balanza!H264","v":0},{"$f":"Balanza!D264","v":380275.05}]
["41510-2","  Productos diversos",null,null,null,null,null,null,null,null,null,null,null,null,null,null,null,null,null,null,null,null,null,null,null,null,null,null,null,null,null,null,null,null,null,null,null,null,null,null,null,null,null,null,null,null,null,null,null,{"$f":"Balanza!H265","v":236390},{"$f":"Balanza!D265","v":0}]
["41520","Enajenación de bienes muebles no sujetos a ser inventariados (derogada)",null,null,null,null,null,null,null,null,null,null,null,null,null,null,null,null,null,null,null,null,null,null,null,null,null,null,null,null,null,null,null,null,null,null,null,null,null,null,null,null,null,null,null,null,null,null,null,0,0]
["41530","Accesorios de productos (derogada)",null,null,null,null,null,null,null,null,null,null,null,null,null,null,null,null,null,null,null,null,null,null,null,null,null,null,null,null,null,null,null,null,null,null,null,null,null,null,null,null,null,null,null,null,null,null,null,0,0]
["41540","Productos no comprendidos en la ley de ingresos vigente, causados en ejercicios fiscales anteriores pendientes de liquidación o pago",null,null,null,null,null,null,null,null,null,null,null,null,null,null,null,null,null,null,null,null,null,null,null,null,null,null,null,null,null,null,null,null,null,null,null,null,null,null,null,null,null,null,null,null,null,null,null,{"$f":"SUM(AX79)","v":0},{"$f":"SUM(AY79)","v":0}]
["41540-1","  Productos no comprendidos en la ley de ingresos vigente, causadas en ejercicios fiscales anteriores pendientes de liquidación o pago",null,null,null,null,null,null,null,null,null,null,null,null,null,null,null,null,null,null,null,null,null,null,null,null,null,null,null,null,null,null,null,null,null,null,null,null,null,null,null,null,null,null,null,null,null,null,null,{"$f":"Balanza!H269","v":0},{"$f":"Balanza!D269","v":0}]
["41590","Otros productos que generan ingresos corrientes (derogada)",null,null,null,null,null,null,null,null,null,null,null,null,null,null,null,null,null,null,null,null,null,null,null,null,null,null,null,null,null,null,null,null,null,null,null,null,null,null,null,null,null,null,null,null,null,null,null,0,0]
["41600","APROVECHAMIENTOS",null,null,null,null,null,null,null,null,null,null,null,null,null,null,null,null,null,null,null,null,null,null,null,null,null,null,null,null,null,null,null,null,null,null,null,null,null,null,null,null,null,null,null,null,null,null,null,{"$f":"AX82+AX83+AX85+AX87+AX89+AX91+AX93+AX94+AX100","v":234142.12},{"$f":"AY82+AY83+AY85+AY87+AY89+AY91+AY93+AY94+AY100","v":563933.41}]
["41610","Incentivos derivados de la colaboración fiscal (derogada)",null,null,null,null,null,null,null,null,null,null,null,null,null,null,null,null,null,null,null,null,null,null,null,null,null,null,null,null,null,null,null,null,null,null,null,null,null,null,null,null,null,null,null,null,null,null,null,0,0]
["41620","Multas",null,null,null,null,null,null,null,null,null,null,null,null,null,null,null,null,null,null,null,null,null,null,null,null,null,null,null,null,null,null,null,null,null,null,null,null,null,null,null,null,null,null,null,null,null,null,null,{"$f":"SUM(AX84)","v":0},{"$f":"SUM(AY84)","v":337123.4}]
["41620-1","  Multas",null,null,null,null,null,null,null,null,null,null,null,null,null,null,null,null,null,null,null,null,null,null,null,null,null,null,null,null,null,null,null,null,null,null,null,null,null,null,null,null,null,null,null,null,null,null,null,{"$f":"Balanza!H274","v":0},{"$f":"Balanza!D274","v":337123.4}]
["41630","Indemnizaciones",null,null,null,null,null,null,null,null,null,null,null,null,null,null,null,null,null,null,null,null,null,null,null,null,null,null,null,null,null,null,null,null,null,null,null,null,null,null,null,null,null,null,null,null,null,null,null,{"$f":"SUM(AX86)","v":0},{"$f":"SUM(AY86)","v":0}]
["41630-1","  Indemnizaciones",null,null,null,null,null,null,null,null,null,null,null,null,null,null,null,null,null,null,null,null,null,null,null,null,null,null,null,null,null,null,null,null,null,null,null,null,null,null,null,null,null,null,null,null,null,null,null,{"$f":"Balanza!H276","v":0},{"$f":"Balanza!D276","v":0}]
["41640","Reintegros",null,null,null,null,null,null,null,null,null,null,null,null,null,null,null,null,null,null,null,null,null,null,null,null,null,null,null,null,null,null,null,null,null,null,null,null,null,null,null,null,null,null,null,null,null,null,null,{"$f":"SUM(AX88)","v":0},{"$f":"SUM(AY88)","v":0}]
["41640-1","  Reintegros",null,null,null,null,null,null,null,null,null,null,null,null,null,null,null,null,null,null,null,null,null,null,null,null,null,null,null,null,null,null,null,null,null,null,null,null,null,null,null,null,null,null,null,null,null,null,null,{"$f":"Balanza!H278","v":0},{"$f":"Balanza!D278","v":0}]
["41650","Aprovechamientos provenientes de obras públicas",null,null,null,null,null,null,null,null,null,null,null,null,null,null,null,null,null,null,null,null,null,null,null,null,null,null,null,null,null,null,null,null,null,null,null,null,null,null,null,null,null,null,null,null,null,null,null,{"$f":"SUM(AX90)","v":0},{"$f":"SUM(AY90)","v":0}]
["41640-1","  Aprovechamientos provenientes de obras públicas",null,null,null,null,null,null,null,null,null,null,null,null,null,null,null,null,null,null,null,null,null,null,null,null,null,null,null,null,null,null,null,null,null,null,null,null,null,null,null,null,null,null,null,null,null,null,null,{"$f":"Balanza!H280","v":0},{"$f":"Balanza!D280","v":0}]
["41660","Aprovechamientos no comprendidos en la ley de ing. vigente, causados en ejercicios fiscales anteriores pendientes de liquidación o pago",null,null,null,null,null,null,null,null,null,null,null,null,null,null,null,null,null,null,null,null,null,null,null,null,null,null,null,null,null,null,null,null,null,null,null,null,null,null,null,null,null,null,null,null,null,null,null,{"$f":"SUM(AX92)","v":0},{"$f":"SUM(AY92)","v":0}]
["41640-1","  Aprovechamientos no comprendidos en la ley de ing. vigente, causados en ejercicios fiscales anteriores pendientes de liquidación o pago",null,null,null,null,null,null,null,null,null,null,null,null,null,null,null,null,null,null,null,null,null,null,null,null,null,null,null,null,null,null,null,null,null,null,null,null,null,null,null,null,null,null,null,null,null,null,null,{"$f":"Balanza!H282","v":0},{"$f":"Balanza!D282","v":0}]
["41670","Aprovechamientos por aportaciones y cooperaciones (derogada)",null,null,null,null,null,null,null,null,null,null,null,null,null,null,null,null,null,null,null,null,null,null,null,null,null,null,null,null,null,null,null,null,null,null,null,null,null,null,null,null,null,null,null,null,null,null,null,0,0]
["41680","Accesorios de aprovechamiento",null,null,null,null,null,null,null,null,null,null,null,null,null,null,null,null,null,null,null,null,null,null,null,null,null,null,null,null,null,null,null,null,null,null,null,null,null,null,null,null,null,null,null,null,null,null,null,{"$f":"SUM(AX95:AX99)","v":0},{"$f":"SUM(AY95:AY99)","v":0}]
["41680-1","  Recargos",null,null,null,null,null,null,null,null,null,null,null,null,null,null,null,null,null,null,null,null,null,null,null,null,null,null,null,null,null,null,null,null,null,null,null,null,null,null,null,null,null,null,null,null,null,null,null,{"$f":"Balanza!H285","v":0},{"$f":"Balanza!D285","v":0}]
["41680-2","  Actualizaciones",null,null,null,null,null,null,null,null,null,null,null,null,null,null,null,null,null,null,null,null,null,null,null,null,null,null,null,null,null,null,null,null,null,null,null,null,null,null,null,null,null,null,null,null,null,null,null,{"$f":"Balanza!H286","v":0},{"$f":"Balanza!D286","v":0}]
["41680-3","  Multas",null,null,null,null,null,null,null,null,null,null,null,null,null,null,null,null,null,null,null,null,null,null,null,null,null,null,null,null,null,null,null,null,null,null,null,null,null,null,null,null,null,null,null,null,null,null,null,{"$f":"Balanza!H287","v":0},{"$f":"Balanza!D287","v":0}]
["41680-4","  Gastos de ejecución",null,null,null,null,null,null,null,null,null,null,null,null,null,null,null,null,null,null,null,null,null,null,null,null,null,null,null,null,null,null,null,null,null,null,null,null,null,null,null,null,null,null,null,null,null,null,null,{"$f":"Balanza!H288","v":0},{"$f":"Balanza!D288","v":0}]
["41680-5","  Otros no especificados",null,null,null,null,null,null,null,null,null,null,null,null,null,null,null,null,null,null,null,null,null,null,null,null,null,null,null,null,null,null,null,null,null,null,null,null,null,null,null,null,null,null,null,null,null,null,null,{"$f":"Balanza!H289","v":0},{"$f":"Balanza!D289","v":0}]
["41690","Otros aprovechamientos",null,null,null,null,null,null,null,null,null,null,null,null,null,null,null,null,null,null,null,null,null,null,null,null,null,null,null,null,null,null,null,null,null,null,null,null,null,null,null,null,null,null,null,null,null,null,null,{"$f":"SUM(AX101)","v":234142.12},{"$f":"SUM(AY101)","v":226810.01}]
["41690-1","  Otros aprovechamientos",null,null,null,null,null,null,null,null,null,null,null,null,null,null,null,null,null,null,null,null,null,null,null,null,null,null,null,null,null,null,null,null,null,null,null,null,null,null,null,null,null,null,null,null,null,null,null,{"$f":"Balanza!H291","v":234142.12},{"$f":"Balanza!D291","v":226810.01}]
["41700","INGRESOS POR VENTAS DE BIENES Y PRESTACIÓN DE SERVICIOS",null,null,null,null,null,null,null,null,null,null,null,null,null,null,null,null,null,null,null,null,null,null,null,null,null,null,null,null,null,null,null,null,null,null,null,null,null,null,null,null,null,null,null,null,null,null,null,{"$f":"AX103+AX105+AX106+AX108+AX109+AX110+AX111+AX113","v":0},{"$f":"AY103+AY105+AY106+AY108+AY109+AY110+AY111+AY113","v":0}]
["41710","Ingresos por venta de bienes y prestación de servicios de instituciones públicas de seguridad social",null,null,null,null,null,null,null,null,null,null,null,null,null,null,null,null,null,null,null,null,null,null,null,null,null,null,null,null,null,null,null,null,null,null,null,null,null,null,null,null,null,null,null,null,null,null,null,{"$f":"SUM(AX104)","v":0},{"$f":"SUM(AY104)","v":0}]
["41710-1","  Ingresos por venta de bienes y prestación de servicios de instituciones públicas de seguridad social",null,null,null,null,null,null,null,null,null,null,null,null,null,null,null,null,null,null,null,null,null,null,null,null,null,null,null,null,null,null,null,null,null,null,null,null,null,null,null,null,null,null,null,null,null,null,null,{"$f":"Balanza!H294","v":0},{"$f":"Balanza!D294","v":0}]
["41720","Ingresos por venta de bienes y prestación de servicios de empresas productivas del estado",null,null,null,null,null,null,null,null,null,null,null,null,null,null,null,null,null,null,null,null,null,null,null,null,null,null,null,null,null,null,null,null,null,null,null,null,null,null,null,null,null,null,null,null,null,null,null,0,0]
["41730","Ingresos por venta de bienes y prestación de servicios de entidades paraestatales y fideicomisos no empresariales y no financieros",null,null,null,null,null,null,null,null,null,null,null,null,null,null,null,null,null,null,null,null,null,null,null,null,null,null,null,null,null,null,null,null,null,null,null,null,null,null,null,null,null,null,null,null,null,null,null,{"$f":"SUM(AX107)","v":0},{"$f":"SUM(AY107)","v":0}]
["41730-1","  Ingresos por venta de bienes y prestación de servicios de entidades paraestatales y fideicomisos no empresariales y no financieros",null,null,null,null,null,null,null,null,null,null,null,null,null,null,null,null,null,null,null,null,null,null,null,null,null,null,null,null,null,null,null,null,null,null,null,null,null,null,null,null,null,null,null,null,null,null,null,{"$f":"Balanza!H297","v":0},{"$f":"Balanza!D297","v":0}]
["41740","Ingresos por venta de bienes y prestación de servicios de entidades paraestatales empresariales no financieras con participación estatal mayoritaria",null,null,null,null,null,null,null,null,null,null,null,null,null,null,null,null,null,null,null,null,null,null,null,null,null,null,null,null,null,null,null,null,null,null,null,null,null,null,null,null,null,null,null,null,null,null,null,0,0]
["41750","Ing. por vta. de bienes y prestación de servicios de entidades paraestatales empresariales financieras monetarias con participación estatal mayoritaria",null,null,null,null,null,null,null,null,null,null,null,null,null,null,null,null,null,null,null,null,null,null,null,null,null,null,null,null,null,null,null,null,null,null,null,null,null,null,null,null,null,null,null,null,null,null,null,0,0]
["41760","Ing. por vta. de bienes y prestación de servicios de entidades paraestatales empresariales financ. no monetarias con participación estatal mayoritaria",null,null,null,null,null,null,null,null,null,null,null,null,null,null,null,null,null,null,null,null,null,null,null,null,null,null,null,null,null,null,null,null,null,null,null,null,null,null,null,null,null,null,null,null,null,null,null,0,0]
["41770","Ingresos por venta de bienes y prestación de servicios de fideicomisos financieros públicos con participación estatal mayoritaria",null,null,null,null,null,null,null,null,null,null,null,null,null,null,null,null,null,null,null,null,null,null,null,null,null,null,null,null,null,null,null,null,null,null,null,null,null,null,null,null,null,null,null,null,null,null,null,{"$f":"SUM(AX112)","v":0},{"$f":"SUM(AY112)","v":0}]
["41770-1","  Ingresos por venta de bienes y prestación de servicios de fideicomisos financieros públicos con participación estatal mayoritaria",null,null,null,null,null,null,null,null,null,null,null,null,null,null,null,null,null,null,null,null,null,null,null,null,null,null,null,null,null,null,null,null,null,null,null,null,null,null,null,null,null,null,null,null,null,null,null,{"$f":"Balanza!H302","v":0},{"$f":"Balanza!D302","v":0}]
["41780","Ingresos por venta de bienes y prestación de servicios de los poderes legislativo y judicial, y de los órganos autónomos",null,null,null,null,null,null,null,null,null,null,null,null,null,null,null,null,null,null,null,null,null,null,null,null,null,null,null,null,null,null,null,null,null,null,null,null,null,null,null,null,null,null,null,null,null,null,null,0,0]
[41900,"ING. NO COMPRENDIDOS EN LAS FRACC. DE LA LEY DE ING. CAUSADAS EN EJERCICIOS FISCALES ANTERIORES PENDIENTES DE LIQUIDACIÓN O PAGO (DEROGADA)",null,null,null,null,null,null,null,null,null,null,null,null,null,null,null,null,null,null,null,null,null,null,null,null,null,null,null,null,null,null,null,null,null,null,null,null,null,null,null,null,null,null,null,null,null,null,null,{"$f":"AX115+AX116","v":0},{"$f":"AY115+AY116","v":0},{"$f":"AZ115+AZ117+AZ118+AZ120+AZ121+AZ122+AZ123+AZ125","v":0}]
[41910,"Ingresos no comprendidos en las fracciones de la ley de ingresos causadas en ejercicios fiscales anteriores pendientes de liquidación o pago (Derogada)",null,null,null,null,null,null,null,null,null,null,null,null,null,null,null,null,null,null,null,null,null,null,null,null,null,null,null,null,null,null,null,null,null,null,null,null,null,null,null,null,null,null,null,null,null,null,null,0,0]
[41920,"Cont. de mejoras, derechos, productos, y aprovechamientos no compren. en las fracc. de la ley de ing. caus. en ejer. fisc. ant. pen. de liqui. o pago (Derogada)",null,null,null,null,null,null,null,null,null,null,null,null,null,null,null,null,null,null,null,null,null,null,null,null,null,null,null,null,null,null,null,null,null,null,null,null,null,null,null,null,null,null,null,null,null,null,null,0,0]
["42000"," PART, APORT, CONV, INCEN. DERIV. DE LA COLAB. FISC, FONDOS DISTINTOS DE APORT, TRANSF, ASIG, SUB Y SUBVE, Y PENS. Y JUB.",null,null,null,null,null,null,null,null,null,null,null,null,null,null,null,null,null,null,null,null,null,null,null,null,null,null,null,null,null,null,null,null,null,null,null,null,null,null,null,null,null,null,null,null,null,null,null,{"$f":"AX118+AX149","v":32998285.32},{"$f":"AY118+AY149","v":75194109.769999996}]
["42100","PARTIC. APORT. CONVENIOS, INCENTIVOS DERIVADOS DE LA COLABORACIÓN FISCAL Y FONDOS DISTINTOS DE APORTACIONES.",null,null,null,null,null,null,null,null,null,null,null,null,null,null,null,null,null,null,null,null,null,null,null,null,null,null,null,null,null,null,null,null,null,null,null,null,null,null,null,null,null,null,null,null,null,null,null,{"$f":"AX119+AX132+AX135+AX140+AX146","v":32998285.32},{"$f":"AY119+AY132+AY135+AY140+AY146","v":75194109.769999996}]
["42110","Participaciones",null,null,null,null,null,null,null,null,null,null,null,null,null,null,null,null,null,null,null,null,null,null,null,null,null,null,null,null,null,null,null,null,null,null,null,null,null,null,null,null,null,null,null,null,null,null,null,{"$f":"SUM(AX120:AX131)","v":21011174.580000002},{"$f":"SUM(AY120:AY131)","v":42738133.469999999}]
["42110-1","  Fondo general de participaciones (federal)",null,null,null,null,null,null,null,null,null,null,null,null,null,null,null,null,null,null,null,null,null,null,null,null,null,null,null,null,null,null,null,null,null,null,null,null,null,null,null,null,null,null,null,null,null,null,null,{"$f":"Balanza!H310","v":14603299.289999999},{"$f":"Balanza!D310","v":32432847.539999999}]
["42110-2","  Fondo de fomento municipal (federal)",null,null,null,null,null,null,null,null,null,null,null,null,null,null,null,null,null,null,null,null,null,null,null,null,null,null,null,null,null,null,null,null,null,null,null,null,null,null,null,null,null,null,null,null,null,null,null,{"$f":"Balanza!H311","v":4437061.3},{"$f":"Balanza!D311","v":5792788.2400000002}]
["42110-3","  Fondo de fiscalización y recaudación (federal)",null,null,null,null,null,null,null,null,null,null,null,null,null,null,null,null,null,null,null,null,null,null,null,null,null,null,null,null,null,null,null,null,null,null,null,null,null,null,null,null,null,null,null,null,null,null,null,{"$f":"Balanza!H312","v":436104.37},{"$f":"Balanza!D312","v":1024670.79}]
["42110-4","  Fondo de compensación (federal)",null,null,null,null,null,null,null,null,null,null,null,null,null,null,null,null,null,null,null,null,null,null,null,null,null,null,null,null,null,null,null,null,null,null,null,null,null,null,null,null,null,null,null,null,null,null,null,{"$f":"Balanza!H313","v":1.68},{"$f":"Balanza!D313","v":22538.44}]
["42110-5","  Fondo de extracción de hidrocarburos (federal)",null,null,null,null,null,null,null,null,null,null,null,null,null,null,null,null,null,null,null,null,null,null,null,null,null,null,null,null,null,null,null,null,null,null,null,null,null,null,null,null,null,null,null,null,null,null,null,{"$f":"Balanza!H314","v":0},{"$f":"Balanza!D314","v":0}]
["42110-6","  Impuesto especial sobre producción y servicios (federal)",null,null,null,null,null,null,null,null,null,null,null,null,null,null,null,null,null,null,null,null,null,null,null,null,null,null,null,null,null,null,null,null,null,null,null,null,null,null,null,null,null,null,null,null,null,null,null,{"$f":"Balanza!H315","v":459814.68},{"$f":"Balanza!D315","v":1042466.86}]
["42110-7","  0.136% de la recaudación federal participable (federal)",null,null,null,null,null,null,null,null,null,null,null,null,null,null,null,null,null,null,null,null,null,null,null,null,null,null,null,null,null,null,null,null,null,null,null,null,null,null,null,null,null,null,null,null,null,null,null,{"$f":"Balanza!H316","v":0},{"$f":"Balanza!D316","v":0}]
["42110-8","  3.17% sobre extracción de petróleo (federal)",null,null,null,null,null,null,null,null,null,null,null,null,null,null,null,null,null,null,null,null,null,null,null,null,null,null,null,null,null,null,null,null,null,null,null,null,null,null,null,null,null,null,null,null,null,null,null,{"$f":"Balanza!H317","v":0},{"$f":"Balanza!D317","v":0}]
["42110-9","  Gasolinas y diésel (federal)",null,null,null,null,null,null,null,null,null,null,null,null,null,null,null,null,null,null,null,null,null,null,null,null,null,null,null,null,null,null,null,null,null,null,null,null,null,null,null,null,null,null,null,null,null,null,null,{"$f":"Balanza!H318","v":405954.14},{"$f":"Balanza!D318","v":676852.81}]
["42110-10","  Fondo del impuesto sobre la renta (federal)",null,null,null,null,null,null,null,null,null,null,null,null,null,null,null,null,null,null,null,null,null,null,null,null,null,null,null,null,null,null,null,null,null,null,null,null,null,null,null,null,null,null,null,null,null,null,null,{"$f":"Balanza!H319","v":589400.46},{"$f":"Balanza!D319","v":1573677.44}]
["42110-11","  Fondo de estabilización de los ingresos de las entidades federativas (federal)",null,null,null,null,null,null,null,null,null,null,null,null,null,null,null,null,null,null,null,null,null,null,null,null,null,null,null,null,null,null,null,null,null,null,null,null,null,null,null,null,null,null,null,null,null,null,null,{"$f":"Balanza!H320","v":0},{"$f":"Balanza!D320","v":0}]
["42110-12","  Participaciones del estado",null,null,null,null,null,null,null,null,null,null,null,null,null,null,null,null,null,null,null,null,null,null,null,null,null,null,null,null,null,null,null,null,null,null,null,null,null,null,null,null,null,null,null,null,null,null,null,{"$f":"Balanza!H321","v":79538.66},{"$f":"Balanza!D321","v":172291.35}]
["42120"," Aportaciones",null,null,null,null,null,null,null,null,null,null,null,null,null,null,null,null,null,null,null,null,null,null,null,null,null,null,null,null,null,null,null,null,null,null,null,null,null,null,null,null,null,null,null,null,null,null,null,{"$f":"SUM(AX133:AX134)","v":11503752.1},{"$f":"SUM(AY133:AY134)","v":21607210.420000002}]
["42120-1","  Fondo de aportaciones para la infraestructura social municipal",null,null,null,null,null,null,null,null,null,null,null,null,null,null,null,null,null,null,null,null,null,null,null,null,null,null,null,null,null,null,null,null,null,null,null,null,null,null,null,null,null,null,null,null,null,null,null,{"$f":"Balanza!H323","v":6716090.5},{"$f":"Balanza!D323","v":11995567.970000001}]
["42120-2","  Fondo de aportaciones para el fortalecimiento municipal",null,null,null,null,null,null,null,null,null,null,null,null,null,null,null,null,null,null,null,null,null,null,null,null,null,null,null,null,null,null,null,null,null,null,null,null,null,null,null,null,null,null,null,null,null,null,null,{"$f":"Balanza!H324","v":4787661.5999999996},{"$f":"Balanza!D324","v":9611642.4499999993}]
["42130","Convenios",null,null,null,null,null,null,null,null,null,null,null,null,null,null,null,null,null,null,null,null,null,null,null,null,null,null,null,null,null,null,null,null,null,null,null,null,null,null,null,null,null,null,null,null,null,null,null,{"$f":"SUM(AX136:AX139)","v":57442.5},{"$f":"SUM(AY136:AY139)","v":9825000}]
["42130-1","  Convenios de protección social en salud",null,null,null,null,null,null,null,null,null,null,null,null,null,null,null,null,null,null,null,null,null,null,null,null,null,null,null,null,null,null,null,null,null,null,null,null,null,null,null,null,null,null,null,null,null,null,null,{"$f":"Balanza!H326","v":0},{"$f":"Balanza!D326","v":0}]
["42130-2","  Convenios de descentralizados",null,null,null,null,null,null,null,null,null,null,null,null,null,null,null,null,null,null,null,null,null,null,null,null,null,null,null,null,null,null,null,null,null,null,null,null,null,null,null,null,null,null,null,null,null,null,null,{"$f":"Balanza!H327","v":0},{"$f":"Balanza!D327","v":0}]
["42130-3","  Convenio de reasignación",null,null,null,null,null,null,null,null,null,null,null,null,null,null,null,null,null,null,null,null,null,null,null,null,null,null,null,null,null,null,null,null,null,null,null,null,null,null,null,null,null,null,null,null,null,null,null,{"$f":"Balanza!H328","v":0},{"$f":"Balanza!D328","v":0}]
["42130-456","  Otros convenios y subsidios",null,null,null,null,null,null,null,null,null,null,null,null,null,null,null,null,null,null,null,null,null,null,null,null,null,null,null,null,null,null,null,null,null,null,null,null,null,null,null,null,null,null,null,null,null,null,null,{"$f":"Balanza!H329+Balanza!H330+Balanza!H331","v":57442.5},{"$f":"Balanza!D329+Balanza!D330+Balanza!D331","v":9825000}]
["42140","Incentivos derivados de la colaboración fiscal",null,null,null,null,null,null,null,null,null,null,null,null,null,null,null,null,null,null,null,null,null,null,null,null,null,null,null,null,null,null,null,null,null,null,null,null,null,null,null,null,null,null,null,null,null,null,null,{"$f":"SUM(AX141:AX145)","v":425916.14},{"$f":"SUM(AY141:AY145)","v":1023765.88}]
["42140-1","  Tenencia o uso de vehículos",null,null,null,null,null,null,null,null,null,null,null,null,null,null,null,null,null,null,null,null,null,null,null,null,null,null,null,null,null,null,null,null,null,null,null,null,null,null,null,null,null,null,null,null,null,null,null,{"$f":"Balanza!H333","v":6.57},{"$f":"Balanza!D333","v":10.36}]
["42140-2","  Fondo de compensación ISAN",null,null,null,null,null,null,null,null,null,null,null,null,null,null,null,null,null,null,null,null,null,null,null,null,null,null,null,null,null,null,null,null,null,null,null,null,null,null,null,null,null,null,null,null,null,null,null,{"$f":"Balanza!H334","v":60894.3},{"$f":"Balanza!D334","v":188703.78}]
["42140-3","  Impuesto sobre automóviles nuevos",null,null,null,null,null,null,null,null,null,null,null,null,null,null,null,null,null,null,null,null,null,null,null,null,null,null,null,null,null,null,null,null,null,null,null,null,null,null,null,null,null,null,null,null,null,null,null,{"$f":"Balanza!H335","v":365015.27},{"$f":"Balanza!D335","v":733346.6}]
["42140-4","  Fondo de compensación de repecos-intermedios",null,null,null,null,null,null,null,null,null,null,null,null,null,null,null,null,null,null,null,null,null,null,null,null,null,null,null,null,null,null,null,null,null,null,null,null,null,null,null,null,null,null,null,null,null,null,null,{"$f":"Balanza!H336","v":0},{"$f":"Balanza!D336","v":0}]
["42140-5","  Otros incentivos económicos",null,null,null,null,null,null,null,null,null,null,null,null,null,null,null,null,null,null,null,null,null,null,null,null,null,null,null,null,null,null,null,null,null,null,null,null,null,null,null,null,null,null,null,null,null,null,null,{"$f":"Balanza!H337","v":0},{"$f":"Balanza!D337","v":101705.14}]
["42150","Fondos distintos de aportaciones",null,null,null,null,null,null,null,null,null,null,null,null,null,null,null,null,null,null,null,null,null,null,null,null,null,null,null,null,null,null,null,null,null,null,null,null,null,null,null,null,null,null,null,null,null,null,null,{"$f":"SUM(AX147:AX148)","v":0},{"$f":"SUM(AY147:AY148)","v":0}]
["42150-1","  Fondo para entidades federativas y municipios productores de hidrocarburos",null,null,null,null,null,null,null,null,null,null,null,null,null,null,null,null,null,null,null,null,null,null,null,null,null,null,null,null,null,null,null,null,null,null,null,null,null,null,null,null,null,null,null,null,null,null,null,{"$f":"Balanza!H339","v":0},{"$f":"Balanza!D339","v":0}]
["42150-2","  Fondo minero",null,null,null,null,null,null,null,null,null,null,null,null,null,null,null,null,null,null,null,null,null,null,null,null,null,null,null,null,null,null,null,null,null,null,null,null,null,null,null,null,null,null,null,null,null,null,null,{"$f":"Balanza!H340","v":0},{"$f":"Balanza!D340","v":0}]
["42200","TRANSFERENCIAS, ASIGNACIONES, SUBSIDIOS Y  SUBVENCIONES, PENSIONES Y JUBILACIONES",null,null,null,null,null,null,null,null,null,null,null,null,null,null,null,null,null,null,null,null,null,null,null,null,null,null,null,null,null,null,null,null,null,null,null,null,null,null,null,null,null,null,null,null,null,null,null,{"$f":"AX150+AX152+AX153+AX155+AX156+AX158+AX159","v":0},{"$f":"AY150+AY152+AY153+AY155+AY156+AY158+AY159","v":0}]
["42210","Transferencias y asignaciones",null,null,null,null,null,null,null,null,null,null,null,null,null,null,null,null,null,null,null,null,null,null,null,null,null,null,null,null,null,null,null,null,null,null,null,null,null,null,null,null,null,null,null,null,null,null,null,{"$f":"SUM(AX151)","v":0},{"$f":"SUM(AY151)","v":0}]
["42210-12","  Transferencias y asignaciones",null,null,null,null,null,null,null,null,null,null,null,null,null,null,null,null,null,null,null,null,null,null,null,null,null,null,null,null,null,null,null,null,null,null,null,null,null,null,null,null,null,null,null,null,null,null,null,{"$f":"Balanza!H343+Balanza!H344","v":0},{"$f":"Balanza!D343+Balanza!D344","v":0}]
["42220","Transferencias del sector público (derogada)",null,null,null,null,null,null,null,null,null,null,null,null,null,null,null,null,null,null,null,null,null,null,null,null,null,null,null,null,null,null,null,null,null,null,null,null,null,null,null,null,null,null,null,null,null,null,null,0,0]
["42230","Subsidios y subvenciones",null,null,null,null,null,null,null,null,null,null,null,null,null,null,null,null,null,null,null,null,null,null,null,null,null,null,null,null,null,null,null,null,null,null,null,null,null,null,null,null,null,null,null,null,null,null,null,{"$f":"SUM(AX154)","v":0},{"$f":"SUM(AY154)","v":0}]
["42230-12","  Subsidios y subvenciones",null,null,null,null,null,null,null,null,null,null,null,null,null,null,null,null,null,null,null,null,null,null,null,null,null,null,null,null,null,null,null,null,null,null,null,null,null,null,null,null,null,null,null,null,null,null,null,{"$f":"Balanza!H347+Balanza!H348","v":0},{"$f":"Balanza!D347+Balanza!D348","v":0}]
["42240","Ayudas sociales (derogada)",null,null,null,null,null,null,null,null,null,null,null,null,null,null,null,null,null,null,null,null,null,null,null,null,null,null,null,null,null,null,null,null,null,null,null,null,null,null,null,null,null,null,null,null,null,null,null,0,0]
["42250","Pensiones y jubilaciones",null,null,null,null,null,null,null,null,null,null,null,null,null,null,null,null,null,null,null,null,null,null,null,null,null,null,null,null,null,null,null,null,null,null,null,null,null,null,null,null,null,null,null,null,null,null,null,{"$f":"SUM(AX157)","v":0},{"$f":"SUM(AY157)","v":0}]
["42250-1","  Pensiones y jubilaciones",null,null,null,null,null,null,null,null,null,null,null,null,null,null,null,null,null,null,null,null,null,null,null,null,null,null,null,null,null,null,null,null,null,null,null,null,null,null,null,null,null,null,null,null,null,null,null,{"$f":"Balanza!H351","v":0},{"$f":"Balanza!D351","v":0}]
["42260","Transferencias del exterior (derogada)",null,null,null,null,null,null,null,null,null,null,null,null,null,null,null,null,null,null,null,null,null,null,null,null,null,null,null,null,null,null,null,null,null,null,null,null,null,null,null,null,null,null,null,null,null,null,null,0,0]
["42270","Transferencias del fondo mexicano del petróleo para la estabilización y el desarrollo",null,null,null,null,null,null,null,null,null,null,null,null,null,null,null,null,null,null,null,null,null,null,null,null,null,null,null,null,null,null,null,null,null,null,null,null,null,null,null,null,null,null,null,null,null,null,null,{"$f":"SUM(AX160)","v":0},{"$f":"SUM(AY160)","v":0}]
["42270-1","  Transferencias del fondo mexicano del petróleo para la estabilización y el desarrollo",null,null,null,null,null,null,null,null,null,null,null,null,null,null,null,null,null,null,null,null,null,null,null,null,null,null,null,null,null,null,null,null,null,null,null,null,null,null,null,null,null,null,null,null,null,null,null,{"$f":"Balanza!H354","v":0},{"$f":"Balanza!D354","v":0}]
["43000"," OTROS INGRESOS Y BENEFICIOS",null,null,null,null,null,null,null,null,null,null,null,null,null,null,null,null,null,null,null,null,null,null,null,null,null,null,null,null,null,null,null,null,null,null,null,null,null,null,null,null,null,null,null,null,null,null,null,{"$f":"AX162+AX165+AX171+AX173+AX175","v":0},{"$f":"AY162+AY165+AY171+AY173+AY175","v":0}]
["43100","INGRESOS FINANCIEROS",null,null,null,null,null,null,null,null,null,null,null,null,null,null,null,null,null,null,null,null,null,null,null,null,null,null,null,null,null,null,null,null,null,null,null,null,null,null,null,null,null,null,null,null,null,null,null,{"$f":"SUM(AX163:AX164)","v":0},{"$f":"SUM(AY163:AY164)","v":0}]
["43110","Intereses ganados de títulos, valores y demás instrumentos financieros",null,null,null,null,null,null,null,null,null,null,null,null,null,null,null,null,null,null,null,null,null,null,null,null,null,null,null,null,null,null,null,null,null,null,null,null,null,null,null,null,null,null,null,null,null,null,null,{"$f":"Balanza!H358","v":0},{"$f":"Balanza!D358","v":0}]
["43190","Otros ingresos financieros",null,null,null,null,null,null,null,null,null,null,null,null,null,null,null,null,null,null,null,null,null,null,null,null,null,null,null,null,null,null,null,null,null,null,null,null,null,null,null,null,null,null,null,null,null,null,null,{"$f":"Balanza!H360","v":0},{"$f":"Balanza!D360","v":0}]
["43200","INCREMENTO POR VARIACIÓN DE INVENTARIOS",null,null,null,null,null,null,null,null,null,null,null,null,null,null,null,null,null,null,null,null,null,null,null,null,null,null,null,null,null,null,null,null,null,null,null,null,null,null,null,null,null,null,null,null,null,null,null,{"$f":"SUM(AX166:AX170)","v":0},{"$f":"SUM(AY166:AY170)","v":0}]
["43210","Incremento por varación de inventarios de mercancías para venta",null,null,null,null,null,null,null,null,null,null,null,null,null,null,null,null,null,null,null,null,null,null,null,null,null,null,null,null,null,null,null,null,null,null,null,null,null,null,null,null,null,null,null,null,null,null,null,0,0]
["43220","Incremento por variación de inventarios de mercancías terminadas",null,null,null,null,null,null,null,null,null,null,null,null,null,null,null,null,null,null,null,null,null,null,null,null,null,null,null,null,null,null,null,null,null,null,null,null,null,null,null,null,null,null,null,null,null,null,null,0,0]
["43230","Incremento por variación de inventarios de mercancías en proceso de elaboración",null,null,null,null,null,null,null,null,null,null,null,null,null,null,null,null,null,null,null,null,null,null,null,null,null,null,null,null,null,null,null,null,null,null,null,null,null,null,null,null,null,null,null,null,null,null,null,0,0]
["43240","Incremento por variación de inventarios de materias primas, materiales y suministros para producción",null,null,null,null,null,null,null,null,null,null,null,null,null,null,null,null,null,null,null,null,null,null,null,null,null,null,null,null,null,null,null,null,null,null,null,null,null,null,null,null,null,null,null,null,null,null,null,0,0]
["43250","Incremento por variación de almacén de mercancías primas, materiales y suministros de consumo",null,null,null,null,null,null,null,null,null,null,null,null,null,null,null,null,null,null,null,null,null,null,null,null,null,null,null,null,null,null,null,null,null,null,null,null,null,null,null,null,null,null,null,null,null,null,null,0,0]
["43300","DISMINUCIÓN DEL EXCESO DE ESTIMACIONES POR PÉRDIDA O DETERIORO U OBSOLESCENCIA",null,null,null,null,null,null,null,null,null,null,null,null,null,null,null,null,null,null,null,null,null,null,null,null,null,null,null,null,null,null,null,null,null,null,null,null,null,null,null,null,null,null,null,null,null,null,null,{"$f":"SUM(AX172)","v":0},{"$f":"SUM(AY172)","v":0}]
["43310","Disminución del Exceso de Estimaciones por Pérdida o Deterioro u Obsolescencia",null,null,null,null,null,null,null,null,null,null,null,null,null,null,null,null,null,null,null,null,null,null,null,null,null,null,null,null,null,null,null,null,null,null,null,null,null,null,null,null,null,null,null,null,null,null,null,{"$f":"Balanza!H369","v":0},{"$f":"Balanza!D369","v":0}]
["43400","DISMINUCIÓN DEL EXCESO DE PROVISIONES",null,null,null,null,null,null,null,null,null,null,null,null,null,null,null,null,null,null,null,null,null,null,null,null,null,null,null,null,null,null,null,null,null,null,null,null,null,null,null,null,null,null,null,null,null,null,null,{"$f":"AX174","v":0},{"$f":"AY174","v":0}]
["43410","Disminución del exceso de provisiones",null,null,null,null,null,null,null,null,null,null,null,null,null,null,null,null,null,null,null,null,null,null,null,null,null,null,null,null,null,null,null,null,null,null,null,null,null,null,null,null,null,null,null,null,null,null,null,{"$f":"Balanza!H372","v":0},{"$f":"Balanza!D372","v":0}]
["43900","OTROS INGRESOS Y BENEFICIOS VARIOS",null,null,null,null,null,null,null,null,null,null,null,null,null,null,null,null,null,null,null,null,null,null,null,null,null,null,null,null,null,null,null,null,null,null,null,null,null,null,null,null,null,null,null,null,null,null,null,{"$f":"SUM(AX176:AX183)","v":0},{"$f":"SUM(AY176:AY183)","v":0}]
["43910","Otros ingresos de ejercicios anteriores (derogada)",null,null,null,null,null,null,null,null,null,null,null,null,null,null,null,null,null,null,null,null,null,null,null,null,null,null,null,null,null,null,null,null,null,null,null,null,null,null,null,null,null,null,null,null,null,null,null,0,0]
["43920","Bonificaciónes y descuentos obtenidos",null,null,null,null,null,null,null,null,null,null,null,null,null,null,null,null,null,null,null,null,null,null,null,null,null,null,null,null,null,null,null,null,null,null,null,null,null,null,null,null,null,null,null,null,null,null,null,{"$f":"Balanza!H376","v":0},{"$f":"Balanza!D376","v":0}]
["43930","Diferencias por tipo de cambio a favor",null,null,null,null,null,null,null,null,null,null,null,null,null,null,null,null,null,null,null,null,null,null,null,null,null,null,null,null,null,null,null,null,null,null,null,null,null,null,null,null,null,null,null,null,null,null,null,{"$f":"Balanza!H378","v":0},{"$f":"Balanza!D378","v":0}]
["43940","Diferencias de cotizaciones a favor en valores negociables",null,null,null,null,null,null,null,null,null,null,null,null,null,null,null,null,null,null,null,null,null,null,null,null,null,null,null,null,null,null,null,null,null,null,null,null,null,null,null,null,null,null,null,null,null,null,null,{"$f":"Balanza!H380","v":0},{"$f":"Balanza!D380","v":0}]
["43950","Resultado por posición monetaria",null,null,null,null,null,null,null,null,null,null,null,null,null,null,null,null,null,null,null,null,null,null,null,null,null,null,null,null,null,null,null,null,null,null,null,null,null,null,null,null,null,null,null,null,null,null,null,{"$f":"Balanza!H382","v":0},{"$f":"Balanza!D382","v":0}]
["43960","Utilidades por participación patrimonial",null,null,null,null,null,null,null,null,null,null,null,null,null,null,null,null,null,null,null,null,null,null,null,null,null,null,null,null,null,null,null,null,null,null,null,null,null,null,null,null,null,null,null,null,null,null,null,{"$f":"Balanza!H384","v":0},{"$f":"Balanza!D384","v":0}]
["43970","Diferencias por reestructuración de deuda pública a favor",null,null,null,null,null,null,null,null,null,null,null,null,null,null,null,null,null,null,null,null,null,null,null,null,null,null,null,null,null,null,null,null,null,null,null,null,null,null,null,null,null,null,null,null,null,null,null,{"$f":"Balanza!H386","v":0},{"$f":"Balanza!D386","v":0}]
["43990","Otros ingresos y beneficios varios",null,null,null,null,null,null,null,null,null,null,null,null,null,null,null,null,null,null,null,null,null,null,null,null,null,null,null,null,null,null,null,null,null,null,null,null,null,null,null,null,null,null,null,null,null,null,null,{"$f":"Balanza!H388","v":0},{"$f":"Balanza!D388","v":0}]
[null,"TOTAL DE INGRESOS",null,null,null,null,null,null,null,null,null,null,null,null,null,null,null,null,null,null,null,null,null,null,null,null,null,null,null,null,null,null,null,null,null,null,null,null,null,null,null,null,null,null,null,null,null,null,null,{"$f":"AX7+AX117+AX161","v":41167320.840000004},{"$f":"AY7+AY117+AY161","v":85356413.620000005}]
["50000","GASTOS Y OTRAS PÉRDIDAS"]
["51000"," GASTOS DE FUNCIONAMIENTO",null,null,null,null,null,null,null,null,null,null,null,null,null,null,null,null,null,null,null,null,null,null,null,null,null,null,null,null,null,null,null,null,null,null,null,null,null,null,null,null,null,null,null,null,null,null,null,{"$f":"AX187+AX222+AX287","v":22428273.689999998},{"$f":"AY187+AY222+AY287","v":55635757.649999999}]
["51100","SERVICIOS PERSONALES",null,null,null,null,null,null,null,null,null,null,null,null,null,null,null,null,null,null,null,null,null,null,null,null,null,null,null,null,null,null,null,null,null,null,null,null,null,null,null,null,null,null,null,null,null,null,null,{"$f":"AX188+AX193+AX198+AX207+AX212+AX219","v":11351335.800000001},{"$f":"AY188+AY193+AY198+AY207+AY212+AY219","v":28818625.819999997}]
["51110","Remuneraciones al personal de carácter permanente",null,null,null,null,null,null,null,null,null,null,null,null,null,null,null,null,null,null,null,null,null,null,null,null,null,null,null,null,null,null,null,null,null,null,null,null,null,null,null,null,null,null,null,null,null,null,null,{"$f":"SUM(AX189:AX192)","v":8457691.370000001},{"$f":"SUM(AY189:AY192)","v":19103484.25}]
["51110-1","  Dietas",null,null,null,null,null,null,null,null,null,null,null,null,null,null,null,null,null,null,null,null,null,null,null,null,null,null,null,null,null,null,null,null,null,null,null,null,null,null,null,null,null,null,null,null,null,null,null,{"$f":"Balanza!G393","v":716165},{"$f":"Balanza!C393","v":1305720}]
["51110-2","  Haberes",null,null,null,null,null,null,null,null,null,null,null,null,null,null,null,null,null,null,null,null,null,null,null,null,null,null,null,null,null,null,null,null,null,null,null,null,null,null,null,null,null,null,null,null,null,null,null,{"$f":"Balanza!G394","v":0},{"$f":"Balanza!C394","v":0}]
["51110-3","  Sueldos base al personal permanente",null,null,null,null,null,null,null,null,null,null,null,null,null,null,null,null,null,null,null,null,null,null,null,null,null,null,null,null,null,null,null,null,null,null,null,null,null,null,null,null,null,null,null,null,null,null,null,{"$f":"Balanza!G395","v":7741526.3700000001},{"$f":"Balanza!C395","v":17797764.25}]
["51110-4","  Remuneraciones por adscripción laboral en el extranjero",null,null,null,null,null,null,null,null,null,null,null,null,null,null,null,null,null,null,null,null,null,null,null,null,null,null,null,null,null,null,null,null,null,null,null,null,null,null,null,null,null,null,null,null,null,null,null,{"$f":"Balanza!G396","v":0},{"$f":"Balanza!C396","v":0}]
["51120","Remuneraciones al personal de carácter transitorio",null,null,null,null,null,null,null,null,null,null,null,null,null,null,null,null,null,null,null,null,null,null,null,null,null,null,null,null,null,null,null,null,null,null,null,null,null,null,null,null,null,null,null,null,null,null,null,{"$f":"SUM(AX194:AX197)","v":2568775.4300000002},{"$f":"SUM(AY194:AY197)","v":4638750.4000000004}]
["51120-1","  Honorarios asimilables a salarios",null,null,null,null,null,null,null,null,null,null,null,null,null,null,null,null,null,null,null,null,null,null,null,null,null,null,null,null,null,null,null,null,null,null,null,null,null,null,null,null,null,null,null,null,null,null,null,{"$f":"Balanza!G398","v":0},{"$f":"Balanza!C398","v":720}]
["51120-2","  Sueldos base al personal eventual",null,null,null,null,null,null,null,null,null,null,null,null,null,null,null,null,null,null,null,null,null,null,null,null,null,null,null,null,null,null,null,null,null,null,null,null,null,null,null,null,null,null,null,null,null,null,null,{"$f":"Balanza!G399","v":2568775.4300000002},{"$f":"Balanza!C399","v":4638030.4000000004}]
["51120-3","  Retribuciones por servicios de carácter social",null,null,null,null,null,null,null,null,null,null,null,null,null,null,null,null,null,null,null,null,null,null,null,null,null,null,null,null,null,null,null,null,null,null,null,null,null,null,null,null,null,null,null,null,null,null,null,{"$f":"Balanza!G400","v":0},{"$f":"Balanza!C400","v":0}]
["51120-4","  Retribución a los representantes de los trabajadores y de los patrones en la Junta de Conciliación y Arbitraje",null,null,null,null,null,null,null,null,null,null,null,null,null,null,null,null,null,null,null,null,null,null,null,null,null,null,null,null,null,null,null,null,null,null,null,null,null,null,null,null,null,null,null,null,null,null,null,{"$f":"Balanza!G401","v":0},{"$f":"Balanza!C401","v":0}]
["51130","Remuneraciones adicionales y especiales",null,null,null,null,null,null,null,null,null,null,null,null,null,null,null,null,null,null,null,null,null,null,null,null,null,null,null,null,null,null,null,null,null,null,null,null,null,null,null,null,null,null,null,null,null,null,null,{"$f":"SUM(AX199:AX206)","v":321744},{"$f":"SUM(AY199:AY206)","v":4710817.95}]
["51130-1","  Primas por años de servicios efectivos prestados",null,null,null,null,null,null,null,null,null,null,null,null,null,null,null,null,null,null,null,null,null,null,null,null,null,null,null,null,null,null,null,null,null,null,null,null,null,null,null,null,null,null,null,null,null,null,null,{"$f":"Balanza!G403","v":0},{"$f":"Balanza!C403","v":102207.87}]
["51130-2","  Primas de vacaciones, dominical y gratificación de fin de año",null,null,null,null,null,null,null,null,null,null,null,null,null,null,null,null,null,null,null,null,null,null,null,null,null,null,null,null,null,null,null,null,null,null,null,null,null,null,null,null,null,null,null,null,null,null,null,{"$f":"Balanza!G404","v":4847},{"$f":"Balanza!C404","v":3612843.28}]
["51130-3","  Horas extraordinarias",null,null,null,null,null,null,null,null,null,null,null,null,null,null,null,null,null,null,null,null,null,null,null,null,null,null,null,null,null,null,null,null,null,null,null,null,null,null,null,null,null,null,null,null,null,null,null,{"$f":"Balanza!G405","v":316897},{"$f":"Balanza!C405","v":995766.8}]
["51130-4","  Compensaciones",null,null,null,null,null,null,null,null,null,null,null,null,null,null,null,null,null,null,null,null,null,null,null,null,null,null,null,null,null,null,null,null,null,null,null,null,null,null,null,null,null,null,null,null,null,null,null,{"$f":"Balanza!G406","v":0},{"$f":"Balanza!C406","v":0}]
["51130-5","  Sobrehaberes",null,null,null,null,null,null,null,null,null,null,null,null,null,null,null,null,null,null,null,null,null,null,null,null,null,null,null,null,null,null,null,null,null,null,null,null,null,null,null,null,null,null,null,null,null,null,null,{"$f":"Balanza!G407","v":0},{"$f":"Balanza!C407","v":0}]
["51130-6","  Asignaciones de técnico, de mando, por comisión, de vuelo y de técnico especial",null,null,null,null,null,null,null,null,null,null,null,null,null,null,null,null,null,null,null,null,null,null,null,null,null,null,null,null,null,null,null,null,null,null,null,null,null,null,null,null,null,null,null,null,null,null,null,{"$f":"Balanza!G408","v":0},{"$f":"Balanza!C408","v":0}]
["51130-7","  Honorarios especiales",null,null,null,null,null,null,null,null,null,null,null,null,null,null,null,null,null,null,null,null,null,null,null,null,null,null,null,null,null,null,null,null,null,null,null,null,null,null,null,null,null,null,null,null,null,null,null,{"$f":"Balanza!G409","v":0},{"$f":"Balanza!C409","v":0}]
["51130-8","  Participaciones por vigilancia en el cumplimiento de la leyes y custodia de valores",null,null,null,null,null,null,null,null,null,null,null,null,null,null,null,null,null,null,null,null,null,null,null,null,null,null,null,null,null,null,null,null,null,null,null,null,null,null,null,null,null,null,null,null,null,null,null,{"$f":"Balanza!G410","v":0},{"$f":"Balanza!C410","v":0}]
["51140","Seguridad social",null,null,null,null,null,null,null,null,null,null,null,null,null,null,null,null,null,null,null,null,null,null,null,null,null,null,null,null,null,null,null,null,null,null,null,null,null,null,null,null,null,null,null,null,null,null,null,{"$f":"SUM(AX208:AX211)","v":0},{"$f":"SUM(AY208:AY211)","v":0}]
["51140-1","  Aportaciones de seguridad social",null,null,null,null,null,null,null,null,null,null,null,null,null,null,null,null,null,null,null,null,null,null,null,null,null,null,null,null,null,null,null,null,null,null,null,null,null,null,null,null,null,null,null,null,null,null,null,{"$f":"Balanza!G412","v":0},{"$f":"Balanza!C412","v":0}]
["51140-2","  Aportaciones a fondos de vivienda",null,null,null,null,null,null,null,null,null,null,null,null,null,null,null,null,null,null,null,null,null,null,null,null,null,null,null,null,null,null,null,null,null,null,null,null,null,null,null,null,null,null,null,null,null,null,null,{"$f":"Balanza!G413","v":0},{"$f":"Balanza!C413","v":0}]
["51140-3","  Aportaciones al sistema para el retiro",null,null,null,null,null,null,null,null,null,null,null,null,null,null,null,null,null,null,null,null,null,null,null,null,null,null,null,null,null,null,null,null,null,null,null,null,null,null,null,null,null,null,null,null,null,null,null,{"$f":"Balanza!G414","v":0},{"$f":"Balanza!C414","v":0}]
["51140-4","  Aportaciones para seguros",null,null,null,null,null,null,null,null,null,null,null,null,null,null,null,null,null,null,null,null,null,null,null,null,null,null,null,null,null,null,null,null,null,null,null,null,null,null,null,null,null,null,null,null,null,null,null,{"$f":"Balanza!G415","v":0},{"$f":"Balanza!C415","v":0}]
["51150","Otras prestaciones sociales y económicas",null,null,null,null,null,null,null,null,null,null,null,null,null,null,null,null,null,null,null,null,null,null,null,null,null,null,null,null,null,null,null,null,null,null,null,null,null,null,null,null,null,null,null,null,null,null,null,{"$f":"SUM(AX213:AX218)","v":3125},{"$f":"SUM(AY213:AY218)","v":365573.22}]
["51150-1","  Cuotas para el fondo de ahorro y fondo de trabajo",null,null,null,null,null,null,null,null,null,null,null,null,null,null,null,null,null,null,null,null,null,null,null,null,null,null,null,null,null,null,null,null,null,null,null,null,null,null,null,null,null,null,null,null,null,null,null,{"$f":"Balanza!G417","v":0},{"$f":"Balanza!C417","v":0}]
["51150-2","  Indemnizaciones",null,null,null,null,null,null,null,null,null,null,null,null,null,null,null,null,null,null,null,null,null,null,null,null,null,null,null,null,null,null,null,null,null,null,null,null,null,null,null,null,null,null,null,null,null,null,null,{"$f":"Balanza!G418","v":3125},{"$f":"Balanza!C418","v":250000}]
["51150-3","  Prestaciones y haberes de retiro",null,null,null,null,null,null,null,null,null,null,null,null,null,null,null,null,null,null,null,null,null,null,null,null,null,null,null,null,null,null,null,null,null,null,null,null,null,null,null,null,null,null,null,null,null,null,null,{"$f":"Balanza!G419","v":0},{"$f":"Balanza!C419","v":115573.22}]
["51150-4","  Prestaciones contractuales",null,null,null,null,null,null,null,null,null,null,null,null,null,null,null,null,null,null,null,null,null,null,null,null,null,null,null,null,null,null,null,null,null,null,null,null,null,null,null,null,null,null,null,null,null,null,null,{"$f":"Balanza!G420","v":0},{"$f":"Balanza!C420","v":0}]
["51150-5","  Apoyos a la capacitación de los servidores públicos",null,null,null,null,null,null,null,null,null,null,null,null,null,null,null,null,null,null,null,null,null,null,null,null,null,null,null,null,null,null,null,null,null,null,null,null,null,null,null,null,null,null,null,null,null,null,null,{"$f":"Balanza!G421","v":0},{"$f":"Balanza!C421","v":0}]
["51150-6","  Otras prestaciones sociales y económicas",null,null,null,null,null,null,null,null,null,null,null,null,null,null,null,null,null,null,null,null,null,null,null,null,null,null,null,null,null,null,null,null,null,null,null,null,null,null,null,null,null,null,null,null,null,null,null,{"$f":"Balanza!G422","v":0},{"$f":"Balanza!C422","v":0}]
["51160","Pago de estímulos a servidores públicos",null,null,null,null,null,null,null,null,null,null,null,null,null,null,null,null,null,null,null,null,null,null,null,null,null,null,null,null,null,null,null,null,null,null,null,null,null,null,null,null,null,null,null,null,null,null,null,{"$f":"SUM(AX220:AX221)","v":0},{"$f":"SUM(AY220:AY221)","v":0}]
["51160-1","  Estímulos",null,null,null,null,null,null,null,null,null,null,null,null,null,null,null,null,null,null,null,null,null,null,null,null,null,null,null,null,null,null,null,null,null,null,null,null,null,null,null,null,null,null,null,null,null,null,null,{"$f":"Balanza!G424","v":0},{"$f":"Balanza!C424","v":0}]
["51160-2","  Recompensas",null,null,null,null,null,null,null,null,null,null,null,null,null,null,null,null,null,null,null,null,null,null,null,null,null,null,null,null,null,null,null,null,null,null,null,null,null,null,null,null,null,null,null,null,null,null,null,{"$f":"Balanza!G425","v":0},{"$f":"Balanza!C425","v":0}]
["51200","MATERIALES Y SUMINISTROS",null,null,null,null,null,null,null,null,null,null,null,null,null,null,null,null,null,null,null,null,null,null,null,null,null,null,null,null,null,null,null,null,null,null,null,null,null,null,null,null,null,null,null,null,null,null,null,{"$f":"AX223+AX232+AX236+AX246+AX256+AX264+AX267+AX273+AX277","v":4885619.29},{"$f":"AY223+AY232+AY236+AY246+AY256+AY264+AY267+AY273+AY277","v":12834285.48}]
["51210","Materiales de administración, emisión de documentos y artículos oficiales",null,null,null,null,null,null,null,null,null,null,null,null,null,null,null,null,null,null,null,null,null,null,null,null,null,null,null,null,null,null,null,null,null,null,null,null,null,null,null,null,null,null,null,null,null,null,null,{"$f":"SUM(AX224:AX231)","v":305484.88},{"$f":"SUM(AY224:AY231)","v":995922.68}]
["51210-1","  Materiales, útiles y equipos menores de oficina",null,null,null,null,null,null,null,null,null,null,null,null,null,null,null,null,null,null,null,null,null,null,null,null,null,null,null,null,null,null,null,null,null,null,null,null,null,null,null,null,null,null,null,null,null,null,null,{"$f":"Balanza!G428","v":237457.11},{"$f":"Balanza!C428","v":673202.83}]
["51210-2","  Materiales y útiles de impresión y reproducción",null,null,null,null,null,null,null,null,null,null,null,null,null,null,null,null,null,null,null,null,null,null,null,null,null,null,null,null,null,null,null,null,null,null,null,null,null,null,null,null,null,null,null,null,null,null,null,{"$f":"Balanza!G429","v":3503},{"$f":"Balanza!C429","v":207506.87}]
["51210-3","  Material estadístico y geográfico",null,null,null,null,null,null,null,null,null,null,null,null,null,null,null,null,null,null,null,null,null,null,null,null,null,null,null,null,null,null,null,null,null,null,null,null,null,null,null,null,null,null,null,null,null,null,null,{"$f":"Balanza!G430","v":0},{"$f":"Balanza!C430","v":0}]
["51210-4","  Materiales, útiles y equipos menores de tecnologías de la información y comunicaciones",null,null,null,null,null,null,null,null,null,null,null,null,null,null,null,null,null,null,null,null,null,null,null,null,null,null,null,null,null,null,null,null,null,null,null,null,null,null,null,null,null,null,null,null,null,null,null,{"$f":"Balanza!G431","v":5856},{"$f":"Balanza!C431","v":942}]
["51210-5","  Material impreso e información digital",null,null,null,null,null,null,null,null,null,null,null,null,null,null,null,null,null,null,null,null,null,null,null,null,null,null,null,null,null,null,null,null,null,null,null,null,null,null,null,null,null,null,null,null,null,null,null,{"$f":"Balanza!G432","v":0},{"$f":"Balanza!C432","v":7887.31}]
["51210-6","  Material de limpieza",null,null,null,null,null,null,null,null,null,null,null,null,null,null,null,null,null,null,null,null,null,null,null,null,null,null,null,null,null,null,null,null,null,null,null,null,null,null,null,null,null,null,null,null,null,null,null,{"$f":"Balanza!G433","v":58668.77},{"$f":"Balanza!C433","v":105183.67}]
["51210-7","  Materiales y útiles de enseñanza",null,null,null,null,null,null,null,null,null,null,null,null,null,null,null,null,null,null,null,null,null,null,null,null,null,null,null,null,null,null,null,null,null,null,null,null,null,null,null,null,null,null,null,null,null,null,null,{"$f":"Balanza!G434","v":0},{"$f":"Balanza!C434","v":0}]
["51210-8","  Materiales para el registro e identificación de bienes y personas",null,null,null,null,null,null,null,null,null,null,null,null,null,null,null,null,null,null,null,null,null,null,null,null,null,null,null,null,null,null,null,null,null,null,null,null,null,null,null,null,null,null,null,null,null,null,null,{"$f":"Balanza!G435","v":0},{"$f":"Balanza!C435","v":1200}]
["51220","Alimentos y utensilios",null,null,null,null,null,null,null,null,null,null,null,null,null,null,null,null,null,null,null,null,null,null,null,null,null,null,null,null,null,null,null,null,null,null,null,null,null,null,null,null,null,null,null,null,null,null,null,{"$f":"SUM(AX233:AX235)","v":120865.38},{"$f":"SUM(AY233:AY235)","v":362437.79}]
["51220-1","  Productos alimenticios para personas",null,null,null,null,null,null,null,null,null,null,null,null,null,null,null,null,null,null,null,null,null,null,null,null,null,null,null,null,null,null,null,null,null,null,null,null,null,null,null,null,null,null,null,null,null,null,null,{"$f":"Balanza!G437","v":120865.38},{"$f":"Balanza!C437","v":362437.79}]
["51220-2","  Productos alimenticios para animales",null,null,null,null,null,null,null,null,null,null,null,null,null,null,null,null,null,null,null,null,null,null,null,null,null,null,null,null,null,null,null,null,null,null,null,null,null,null,null,null,null,null,null,null,null,null,null,{"$f":"Balanza!G438","v":0},{"$f":"Balanza!C438","v":0}]
["51220-3","  Utensilios para el servicio de alimentación",null,null,null,null,null,null,null,null,null,null,null,null,null,null,null,null,null,null,null,null,null,null,null,null,null,null,null,null,null,null,null,null,null,null,null,null,null,null,null,null,null,null,null,null,null,null,null,{"$f":"Balanza!G439","v":0},{"$f":"Balanza!C439","v":0}]
["51230","Materias primas y materiales de producción y comercialización",null,null,null,null,null,null,null,null,null,null,null,null,null,null,null,null,null,null,null,null,null,null,null,null,null,null,null,null,null,null,null,null,null,null,null,null,null,null,null,null,null,null,null,null,null,null,null,{"$f":"SUM(AX237:AX245)","v":0},{"$f":"SUM(AY237:AY245)","v":0}]
["51230-1","  Productos alimenticios, agropecuarios y forestales adquiridos como materia prima",null,null,null,null,null,null,null,null,null,null,null,null,null,null,null,null,null,null,null,null,null,null,null,null,null,null,null,null,null,null,null,null,null,null,null,null,null,null,null,null,null,null,null,null,null,null,null,{"$f":"Balanza!G441","v":0},{"$f":"Balanza!C441","v":0}]
["51230-2","  Insumos textiles adquiridos como materia prima",null,null,null,null,null,null,null,null,null,null,null,null,null,null,null,null,null,null,null,null,null,null,null,null,null,null,null,null,null,null,null,null,null,null,null,null,null,null,null,null,null,null,null,null,null,null,null,{"$f":"Balanza!G442","v":0},{"$f":"Balanza!C442","v":0}]
["51230-3","  Productos de papel, cartón e impresos adquiridos como materia prima",null,null,null,null,null,null,null,null,null,null,null,null,null,null,null,null,null,null,null,null,null,null,null,null,null,null,null,null,null,null,null,null,null,null,null,null,null,null,null,null,null,null,null,null,null,null,null,{"$f":"Balanza!G443","v":0},{"$f":"Balanza!C443","v":0}]
["51230-4","  Combustibles, lubricantes, aditivos, carbón y sus derivados adquiridos como materia prima",null,null,null,null,null,null,null,null,null,null,null,null,null,null,null,null,null,null,null,null,null,null,null,null,null,null,null,null,null,null,null,null,null,null,null,null,null,null,null,null,null,null,null,null,null,null,null,{"$f":"Balanza!G444","v":0},{"$f":"Balanza!C444","v":0}]
["51230-5","  Productos químicos, farmacéuticos y de laboratorio adquiridos como materia prima",null,null,null,null,null,null,null,null,null,null,null,null,null,null,null,null,null,null,null,null,null,null,null,null,null,null,null,null,null,null,null,null,null,null,null,null,null,null,null,null,null,null,null,null,null,null,null,{"$f":"Balanza!G445","v":0},{"$f":"Balanza!C445","v":0}]
["51230-6","  Productos metálicos y a base de minerales no metálicos adquiridos como materia prima",null,null,null,null,null,null,null,null,null,null,null,null,null,null,null,null,null,null,null,null,null,null,null,null,null,null,null,null,null,null,null,null,null,null,null,null,null,null,null,null,null,null,null,null,null,null,null,{"$f":"Balanza!G446","v":0},{"$f":"Balanza!C446","v":0}]
["51230-7","  Productos de cuero, piel, plástico y hule adquiridos como materia prima",null,null,null,null,null,null,null,null,null,null,null,null,null,null,null,null,null,null,null,null,null,null,null,null,null,null,null,null,null,null,null,null,null,null,null,null,null,null,null,null,null,null,null,null,null,null,null,{"$f":"Balanza!G447","v":0},{"$f":"Balanza!C447","v":0}]
["51230-8","  Mercancías adquiridas para su comercialización",null,null,null,null,null,null,null,null,null,null,null,null,null,null,null,null,null,null,null,null,null,null,null,null,null,null,null,null,null,null,null,null,null,null,null,null,null,null,null,null,null,null,null,null,null,null,null,{"$f":"Balanza!G448","v":0},{"$f":"Balanza!C448","v":0}]
["51230-9","  Otros productos adquiridos como materia prima",null,null,null,null,null,null,null,null,null,null,null,null,null,null,null,null,null,null,null,null,null,null,null,null,null,null,null,null,null,null,null,null,null,null,null,null,null,null,null,null,null,null,null,null,null,null,null,{"$f":"Balanza!G449","v":0},{"$f":"Balanza!C449","v":0}]
["51240","Materiales y artículos de construcción y de reparación",null,null,null,null,null,null,null,null,null,null,null,null,null,null,null,null,null,null,null,null,null,null,null,null,null,null,null,null,null,null,null,null,null,null,null,null,null,null,null,null,null,null,null,null,null,null,null,{"$f":"SUM(AX247:AX255)","v":0},{"$f":"SUM(AY247:AY255)","v":118168.65}]
["51240-1","  Productos minerales no metálicos",null,null,null,null,null,null,null,null,null,null,null,null,null,null,null,null,null,null,null,null,null,null,null,null,null,null,null,null,null,null,null,null,null,null,null,null,null,null,null,null,null,null,null,null,null,null,null,{"$f":"Balanza!G451","v":0},{"$f":"Balanza!C451","v":0}]
["51240-2","  Cemento y productos de concreto",null,null,null,null,null,null,null,null,null,null,null,null,null,null,null,null,null,null,null,null,null,null,null,null,null,null,null,null,null,null,null,null,null,null,null,null,null,null,null,null,null,null,null,null,null,null,null,{"$f":"Balanza!G452","v":0},{"$f":"Balanza!C452","v":0}]
["51240-3","  Cal, yeso y productos de yeso",null,null,null,null,null,null,null,null,null,null,null,null,null,null,null,null,null,null,null,null,null,null,null,null,null,null,null,null,null,null,null,null,null,null,null,null,null,null,null,null,null,null,null,null,null,null,null,{"$f":"Balanza!G453","v":0},{"$f":"Balanza!C453","v":0}]
["51240-4","  Madera y productos de madera",null,null,null,null,null,null,null,null,null,null,null,null,null,null,null,null,null,null,null,null,null,null,null,null,null,null,null,null,null,null,null,null,null,null,null,null,null,null,null,null,null,null,null,null,null,null,null,{"$f":"Balanza!G454","v":0},{"$f":"Balanza!C454","v":8358.7199999999993}]
["51240-5","  Vidrio y productos de vidrio",null,null,null,null,null,null,null,null,null,null,null,null,null,null,null,null,null,null,null,null,null,null,null,null,null,null,null,null,null,null,null,null,null,null,null,null,null,null,null,null,null,null,null,null,null,null,null,{"$f":"Balanza!G455","v":0},{"$f":"Balanza!C455","v":0}]
["51240-6","  Material eléctrico y electrónico",null,null,null,null,null,null,null,null,null,null,null,null,null,null,null,null,null,null,null,null,null,null,null,null,null,null,null,null,null,null,null,null,null,null,null,null,null,null,null,null,null,null,null,null,null,null,null,{"$f":"Balanza!G456","v":0},{"$f":"Balanza!C456","v":109809.93}]
["51240-7","  Artículos metálicos para la construcción",null,null,null,null,null,null,null,null,null,null,null,null,null,null,null,null,null,null,null,null,null,null,null,null,null,null,null,null,null,null,null,null,null,null,null,null,null,null,null,null,null,null,null,null,null,null,null,{"$f":"Balanza!G457","v":0},{"$f":"Balanza!C457","v":0}]
["51240-8","  Materiales complementarios",null,null,null,null,null,null,null,null,null,null,null,null,null,null,null,null,null,null,null,null,null,null,null,null,null,null,null,null,null,null,null,null,null,null,null,null,null,null,null,null,null,null,null,null,null,null,null,{"$f":"Balanza!G458","v":0},{"$f":"Balanza!C458","v":0}]
["51240-9","  Otros materiales y artículos de construcción y reparación",null,null,null,null,null,null,null,null,null,null,null,null,null,null,null,null,null,null,null,null,null,null,null,null,null,null,null,null,null,null,null,null,null,null,null,null,null,null,null,null,null,null,null,null,null,null,null,{"$f":"Balanza!G459","v":0},{"$f":"Balanza!C459","v":0}]
["51250","Productos químicos, farmacéuticos y de laboratorio",null,null,null,null,null,null,null,null,null,null,null,null,null,null,null,null,null,null,null,null,null,null,null,null,null,null,null,null,null,null,null,null,null,null,null,null,null,null,null,null,null,null,null,null,null,null,null,{"$f":"SUM(AX257:AX263)","v":460377.77},{"$f":"SUM(AY257:AY263)","v":1660759.9}]
["51250-1","  Productos químicos básicos",null,null,null,null,null,null,null,null,null,null,null,null,null,null,null,null,null,null,null,null,null,null,null,null,null,null,null,null,null,null,null,null,null,null,null,null,null,null,null,null,null,null,null,null,null,null,null,{"$f":"Balanza!G461","v":186252.44},{"$f":"Balanza!C461","v":1053014.51}]
["51250-2","  Fertilizantes, pesticidas y otros agroquímicos",null,null,null,null,null,null,null,null,null,null,null,null,null,null,null,null,null,null,null,null,null,null,null,null,null,null,null,null,null,null,null,null,null,null,null,null,null,null,null,null,null,null,null,null,null,null,null,{"$f":"Balanza!G462","v":8714.81},{"$f":"Balanza!C462","v":37558.550000000003}]
["51250-3","  Medicinas y productos farmacéuticos",null,null,null,null,null,null,null,null,null,null,null,null,null,null,null,null,null,null,null,null,null,null,null,null,null,null,null,null,null,null,null,null,null,null,null,null,null,null,null,null,null,null,null,null,null,null,null,{"$f":"Balanza!G463","v":265410.52},{"$f":"Balanza!C463","v":570186.84}]
["51250-4","  Materiales, accesorios y suministros médicos",null,null,null,null,null,null,null,null,null,null,null,null,null,null,null,null,null,null,null,null,null,null,null,null,null,null,null,null,null,null,null,null,null,null,null,null,null,null,null,null,null,null,null,null,null,null,null,{"$f":"Balanza!G464","v":0},{"$f":"Balanza!C464","v":0}]
["51250-5","  Materiales, accesorios y suministros de laboratorio",null,null,null,null,null,null,null,null,null,null,null,null,null,null,null,null,null,null,null,null,null,null,null,null,null,null,null,null,null,null,null,null,null,null,null,null,null,null,null,null,null,null,null,null,null,null,null,{"$f":"Balanza!G465","v":0},{"$f":"Balanza!C465","v":0}]
["51250-6","  Fibras sintéticas, hules plásticos y derivados",null,null,null,null,null,null,null,null,null,null,null,null,null,null,null,null,null,null,null,null,null,null,null,null,null,null,null,null,null,null,null,null,null,null,null,null,null,null,null,null,null,null,null,null,null,null,null,{"$f":"Balanza!G466","v":0},{"$f":"Balanza!C466","v":0}]
["51250-7","  Otros productos químicos",null,null,null,null,null,null,null,null,null,null,null,null,null,null,null,null,null,null,null,null,null,null,null,null,null,null,null,null,null,null,null,null,null,null,null,null,null,null,null,null,null,null,null,null,null,null,null,{"$f":"Balanza!G467","v":0},{"$f":"Balanza!C467","v":0}]
["51260","Combustibles, lubricantes y aditivos",null,null,null,null,null,null,null,null,null,null,null,null,null,null,null,null,null,null,null,null,null,null,null,null,null,null,null,null,null,null,null,null,null,null,null,null,null,null,null,null,null,null,null,null,null,null,null,{"$f":"SUM(AX265:AX266)","v":2428837.14},{"$f":"SUM(AY265:AY266)","v":7177629.5099999998}]
["51260-1","  Combustibles, lubricantes y aditivos",null,null,null,null,null,null,null,null,null,null,null,null,null,null,null,null,null,null,null,null,null,null,null,null,null,null,null,null,null,null,null,null,null,null,null,null,null,null,null,null,null,null,null,null,null,null,null,{"$f":"Balanza!G469","v":2428837.14},{"$f":"Balanza!C469","v":7177629.5099999998}]
["51260-2","  Carbón y sus derivados",null,null,null,null,null,null,null,null,null,null,null,null,null,null,null,null,null,null,null,null,null,null,null,null,null,null,null,null,null,null,null,null,null,null,null,null,null,null,null,null,null,null,null,null,null,null,null,{"$f":"Balanza!G470","v":0},{"$f":"Balanza!C470","v":0}]
["51270","Vestuario, blancos, prendas de protección y artículos deportivos",null,null,null,null,null,null,null,null,null,null,null,null,null,null,null,null,null,null,null,null,null,null,null,null,null,null,null,null,null,null,null,null,null,null,null,null,null,null,null,null,null,null,null,null,null,null,null,{"$f":"SUM(AX268:AX272)","v":50463.12},{"$f":"SUM(AY268:AY272)","v":139754.32999999999}]
["51270-1","  Vestuario y uniformes",null,null,null,null,null,null,null,null,null,null,null,null,null,null,null,null,null,null,null,null,null,null,null,null,null,null,null,null,null,null,null,null,null,null,null,null,null,null,null,null,null,null,null,null,null,null,null,{"$f":"Balanza!G472","v":27685.72},{"$f":"Balanza!C472","v":76391.48}]
["51270-2","  Prendas de seguridad y protección personal",null,null,null,null,null,null,null,null,null,null,null,null,null,null,null,null,null,null,null,null,null,null,null,null,null,null,null,null,null,null,null,null,null,null,null,null,null,null,null,null,null,null,null,null,null,null,null,{"$f":"Balanza!G473","v":0},{"$f":"Balanza!C473","v":28169.040000000001}]
["51270-3","  Artículos deportivos",null,null,null,null,null,null,null,null,null,null,null,null,null,null,null,null,null,null,null,null,null,null,null,null,null,null,null,null,null,null,null,null,null,null,null,null,null,null,null,null,null,null,null,null,null,null,null,{"$f":"Balanza!G474","v":22777.4},{"$f":"Balanza!C474","v":35193.81}]
["51270-4","  Productos textiles",null,null,null,null,null,null,null,null,null,null,null,null,null,null,null,null,null,null,null,null,null,null,null,null,null,null,null,null,null,null,null,null,null,null,null,null,null,null,null,null,null,null,null,null,null,null,null,{"$f":"Balanza!G475","v":0},{"$f":"Balanza!C475","v":0}]
["51270-5","  Blancos y otros productos textiles, excepto prendas de vestir",null,null,null,null,null,null,null,null,null,null,null,null,null,null,null,null,null,null,null,null,null,null,null,null,null,null,null,null,null,null,null,null,null,null,null,null,null,null,null,null,null,null,null,null,null,null,null,{"$f":"Balanza!G476","v":0},{"$f":"Balanza!C476","v":0}]
["51280","Materiales y suministros para seguridad",null,null,null,null,null,null,null,null,null,null,null,null,null,null,null,null,null,null,null,null,null,null,null,null,null,null,null,null,null,null,null,null,null,null,null,null,null,null,null,null,null,null,null,null,null,null,null,{"$f":"SUM(AX274:AX276)","v":198109.25},{"$f":"SUM(AY274:AY276)","v":0}]
["51280-1","  Sustancias y materiales explosivos",null,null,null,null,null,null,null,null,null,null,null,null,null,null,null,null,null,null,null,null,null,null,null,null,null,null,null,null,null,null,null,null,null,null,null,null,null,null,null,null,null,null,null,null,null,null,null,{"$f":"Balanza!G478","v":0},{"$f":"Balanza!C478","v":0}]
["51280-2","  Materiales de seguridad pública",null,null,null,null,null,null,null,null,null,null,null,null,null,null,null,null,null,null,null,null,null,null,null,null,null,null,null,null,null,null,null,null,null,null,null,null,null,null,null,null,null,null,null,null,null,null,null,{"$f":"Balanza!G479","v":198109.25},{"$f":"Balanza!C479","v":0}]
["51280-3","  Prendas de protección para seguridad pública y nacional",null,null,null,null,null,null,null,null,null,null,null,null,null,null,null,null,null,null,null,null,null,null,null,null,null,null,null,null,null,null,null,null,null,null,null,null,null,null,null,null,null,null,null,null,null,null,null,{"$f":"Balanza!G480","v":0},{"$f":"Balanza!C480","v":0}]
["51290","Herramientas, refacciones y accesorios menores",null,null,null,null,null,null,null,null,null,null,null,null,null,null,null,null,null,null,null,null,null,null,null,null,null,null,null,null,null,null,null,null,null,null,null,null,null,null,null,null,null,null,null,null,null,null,null,{"$f":"SUM(AX278:AX286)","v":1321481.75},{"$f":"SUM(AY278:AY286)","v":2379612.62}]
["51290-1","  Herramientas menores",null,null,null,null,null,null,null,null,null,null,null,null,null,null,null,null,null,null,null,null,null,null,null,null,null,null,null,null,null,null,null,null,null,null,null,null,null,null,null,null,null,null,null,null,null,null,null,{"$f":"Balanza!G482","v":118252.15},{"$f":"Balanza!C482","v":56303.25}]
["51290-2","  Refacciones y accesorios menores de edificios",null,null,null,null,null,null,null,null,null,null,null,null,null,null,null,null,null,null,null,null,null,null,null,null,null,null,null,null,null,null,null,null,null,null,null,null,null,null,null,null,null,null,null,null,null,null,null,{"$f":"Balanza!G483","v":0},{"$f":"Balanza!C483","v":0}]
["51290-3","  Refacciones y accesorios menores de mobiliario  y equipo de administración, educacional y recreativo",null,null,null,null,null,null,null,null,null,null,null,null,null,null,null,null,null,null,null,null,null,null,null,null,null,null,null,null,null,null,null,null,null,null,null,null,null,null,null,null,null,null,null,null,null,null,null,{"$f":"Balanza!G484","v":21381.99},{"$f":"Balanza!C484","v":0}]
["51290-4","  Refacciones y accesorios menores de equipo de cómputo y tecnologías de la información",null,null,null,null,null,null,null,null,null,null,null,null,null,null,null,null,null,null,null,null,null,null,null,null,null,null,null,null,null,null,null,null,null,null,null,null,null,null,null,null,null,null,null,null,null,null,null,{"$f":"Balanza!G485","v":0},{"$f":"Balanza!C485","v":0}]
["51290-5","  Refacciones y accesorios menores de equipo e instrumental médico y de laboratorio",null,null,null,null,null,null,null,null,null,null,null,null,null,null,null,null,null,null,null,null,null,null,null,null,null,null,null,null,null,null,null,null,null,null,null,null,null,null,null,null,null,null,null,null,null,null,null,{"$f":"Balanza!G486","v":0},{"$f":"Balanza!C486","v":0}]
["51290-6","  Refacciones y accesorios menores de equipo de transporte",null,null,null,null,null,null,null,null,null,null,null,null,null,null,null,null,null,null,null,null,null,null,null,null,null,null,null,null,null,null,null,null,null,null,null,null,null,null,null,null,null,null,null,null,null,null,null,{"$f":"Balanza!G487","v":493793.21},{"$f":"Balanza!C487","v":1556417.3}]
["51290-7","  Refacciones y accesorios menores de equipo de defensa y seguridad",null,null,null,null,null,null,null,null,null,null,null,null,null,null,null,null,null,null,null,null,null,null,null,null,null,null,null,null,null,null,null,null,null,null,null,null,null,null,null,null,null,null,null,null,null,null,null,{"$f":"Balanza!G488","v":0},{"$f":"Balanza!C488","v":0}]
["51290-8","  Refacciones y accesorios menores de maquinaria y otros equipos",null,null,null,null,null,null,null,null,null,null,null,null,null,null,null,null,null,null,null,null,null,null,null,null,null,null,null,null,null,null,null,null,null,null,null,null,null,null,null,null,null,null,null,null,null,null,null,{"$f":"Balanza!G489","v":688054.4},{"$f":"Balanza!C489","v":766892.07}]
["51290-9","  Refacciones y accesorios menores otros bienes muebles",null,null,null,null,null,null,null,null,null,null,null,null,null,null,null,null,null,null,null,null,null,null,null,null,null,null,null,null,null,null,null,null,null,null,null,null,null,null,null,null,null,null,null,null,null,null,null,{"$f":"Balanza!G490","v":0},{"$f":"Balanza!C490","v":0}]
["51300","SERVICIOS GENERALES",null,null,null,null,null,null,null,null,null,null,null,null,null,null,null,null,null,null,null,null,null,null,null,null,null,null,null,null,null,null,null,null,null,null,null,null,null,null,null,null,null,null,null,null,null,null,null,{"$f":"AX288+AX298+AX308+AX318+AX328+AX338+AX346+AX356+AX362","v":6191318.5999999996},{"$f":"AY288+AY298+AY308+AY318+AY328+AY338+AY346+AY356+AY362","v":13982846.35}]
["51310","Servicios básicos",null,null,null,null,null,null,null,null,null,null,null,null,null,null,null,null,null,null,null,null,null,null,null,null,null,null,null,null,null,null,null,null,null,null,null,null,null,null,null,null,null,null,null,null,null,null,null,{"$f":"SUM(AX289:AX297)","v":3665869.29},{"$f":"SUM(AY289:AY297)","v":8361797.540000001}]
["51310-1","  Energía eléctrica",null,null,null,null,null,null,null,null,null,null,null,null,null,null,null,null,null,null,null,null,null,null,null,null,null,null,null,null,null,null,null,null,null,null,null,null,null,null,null,null,null,null,null,null,null,null,null,{"$f":"Balanza!G493","v":3531888},{"$f":"Balanza!C493","v":8189034}]
["51310-2","  Gas ",null,null,null,null,null,null,null,null,null,null,null,null,null,null,null,null,null,null,null,null,null,null,null,null,null,null,null,null,null,null,null,null,null,null,null,null,null,null,null,null,null,null,null,null,null,null,null,{"$f":"Balanza!G494","v":2320.54},{"$f":"Balanza!C494","v":2885.91}]
["51310-3","  Agua",null,null,null,null,null,null,null,null,null,null,null,null,null,null,null,null,null,null,null,null,null,null,null,null,null,null,null,null,null,null,null,null,null,null,null,null,null,null,null,null,null,null,null,null,null,null,null,{"$f":"Balanza!G495","v":5976},{"$f":"Balanza!C495","v":25819.95}]
["51310-4","  Telefonía tradicional",null,null,null,null,null,null,null,null,null,null,null,null,null,null,null,null,null,null,null,null,null,null,null,null,null,null,null,null,null,null,null,null,null,null,null,null,null,null,null,null,null,null,null,null,null,null,null,{"$f":"Balanza!G496","v":56969},{"$f":"Balanza!C496","v":93703}]
["51310-5","  Telefonía celular",null,null,null,null,null,null,null,null,null,null,null,null,null,null,null,null,null,null,null,null,null,null,null,null,null,null,null,null,null,null,null,null,null,null,null,null,null,null,null,null,null,null,null,null,null,null,null,{"$f":"Balanza!G497","v":400},{"$f":"Balanza!C497","v":0}]
["51310-6","  Servicios de telecomunicaciones y satélites",null,null,null,null,null,null,null,null,null,null,null,null,null,null,null,null,null,null,null,null,null,null,null,null,null,null,null,null,null,null,null,null,null,null,null,null,null,null,null,null,null,null,null,null,null,null,null,{"$f":"Balanza!G498","v":0},{"$f":"Balanza!C498","v":0}]
["51310-7","  Servicios de acceso de Internet, redes y procesamiento de información",null,null,null,null,null,null,null,null,null,null,null,null,null,null,null,null,null,null,null,null,null,null,null,null,null,null,null,null,null,null,null,null,null,null,null,null,null,null,null,null,null,null,null,null,null,null,null,{"$f":"Balanza!G499","v":66925.67},{"$f":"Balanza!C499","v":44247.32}]
["51310-8","  Servicios postales y telegráficos",null,null,null,null,null,null,null,null,null,null,null,null,null,null,null,null,null,null,null,null,null,null,null,null,null,null,null,null,null,null,null,null,null,null,null,null,null,null,null,null,null,null,null,null,null,null,null,{"$f":"Balanza!G500","v":1390.08},{"$f":"Balanza!C500","v":6107.36}]
["51310-9","  Servicios integrales y otros servicios",null,null,null,null,null,null,null,null,null,null,null,null,null,null,null,null,null,null,null,null,null,null,null,null,null,null,null,null,null,null,null,null,null,null,null,null,null,null,null,null,null,null,null,null,null,null,null,{"$f":"Balanza!G501","v":0},{"$f":"Balanza!C501","v":0}]
["51320","Servicios de arrendamiento",null,null,null,null,null,null,null,null,null,null,null,null,null,null,null,null,null,null,null,null,null,null,null,null,null,null,null,null,null,null,null,null,null,null,null,null,null,null,null,null,null,null,null,null,null,null,null,{"$f":"SUM(AX299:AX307)","v":275136},{"$f":"SUM(AY299:AY307)","v":652522}]
["51320-1","  Arrendamiento de terrenos",null,null,null,null,null,null,null,null,null,null,null,null,null,null,null,null,null,null,null,null,null,null,null,null,null,null,null,null,null,null,null,null,null,null,null,null,null,null,null,null,null,null,null,null,null,null,null,{"$f":"Balanza!G503","v":0},{"$f":"Balanza!C503","v":0}]
["51320-2","  Arrendamiento de edificios",null,null,null,null,null,null,null,null,null,null,null,null,null,null,null,null,null,null,null,null,null,null,null,null,null,null,null,null,null,null,null,null,null,null,null,null,null,null,null,null,null,null,null,null,null,null,null,{"$f":"Balanza!G504","v":49700},{"$f":"Balanza!C504","v":72600}]
["51320-3","  Arrendamiento de mobiliario y equipo de administración, educacional y recreativo",null,null,null,null,null,null,null,null,null,null,null,null,null,null,null,null,null,null,null,null,null,null,null,null,null,null,null,null,null,null,null,null,null,null,null,null,null,null,null,null,null,null,null,null,null,null,null,{"$f":"Balanza!G505","v":5568},{"$f":"Balanza!C505","v":131814}]
["51320-4","  Arrendamiento de equipo e instrumental médico y de laboratorio",null,null,null,null,null,null,null,null,null,null,null,null,null,null,null,null,null,null,null,null,null,null,null,null,null,null,null,null,null,null,null,null,null,null,null,null,null,null,null,null,null,null,null,null,null,null,null,{"$f":"Balanza!G506","v":0},{"$f":"Balanza!C506","v":0}]
["51320-5","  Arrendamiento de equipo de transporte",null,null,null,null,null,null,null,null,null,null,null,null,null,null,null,null,null,null,null,null,null,null,null,null,null,null,null,null,null,null,null,null,null,null,null,null,null,null,null,null,null,null,null,null,null,null,null,{"$f":"Balanza!G507","v":6380},{"$f":"Balanza!C507","v":35380}]
["51320-6","  Arrendamiento de maquinaria, otros equipos y herramientas",null,null,null,null,null,null,null,null,null,null,null,null,null,null,null,null,null,null,null,null,null,null,null,null,null,null,null,null,null,null,null,null,null,null,null,null,null,null,null,null,null,null,null,null,null,null,null,{"$f":"Balanza!G508","v":213488},{"$f":"Balanza!C508","v":412728}]
["51320-7","  Arrendamiento de activos intangibles",null,null,null,null,null,null,null,null,null,null,null,null,null,null,null,null,null,null,null,null,null,null,null,null,null,null,null,null,null,null,null,null,null,null,null,null,null,null,null,null,null,null,null,null,null,null,null,{"$f":"Balanza!G509","v":0},{"$f":"Balanza!C509","v":0}]
["51320-8","  Arrendamiento financiero",null,null,null,null,null,null,null,null,null,null,null,null,null,null,null,null,null,null,null,null,null,null,null,null,null,null,null,null,null,null,null,null,null,null,null,null,null,null,null,null,null,null,null,null,null,null,null,{"$f":"Balanza!G510","v":0},{"$f":"Balanza!C510","v":0}]
["51320-9","  Otros arrendamientos",null,null,null,null,null,null,null,null,null,null,null,null,null,null,null,null,null,null,null,null,null,null,null,null,null,null,null,null,null,null,null,null,null,null,null,null,null,null,null,null,null,null,null,null,null,null,null,{"$f":"Balanza!G511","v":0},{"$f":"Balanza!C511","v":0}]
["51330","Servicios profesionales, científicos, técnicos y otros servicios",null,null,null,null,null,null,null,null,null,null,null,null,null,null,null,null,null,null,null,null,null,null,null,null,null,null,null,null,null,null,null,null,null,null,null,null,null,null,null,null,null,null,null,null,null,null,null,{"$f":"SUM(AX309:AX317)","v":104052},{"$f":"SUM(AY309:AY317)","v":85552.98000000001}]
["51330-1","  Servicios legales, de contabilidad, auditoría y relacionados",null,null,null,null,null,null,null,null,null,null,null,null,null,null,null,null,null,null,null,null,null,null,null,null,null,null,null,null,null,null,null,null,null,null,null,null,null,null,null,null,null,null,null,null,null,null,null,{"$f":"Balanza!G513","v":0},{"$f":"Balanza!C513","v":29999.99}]
["51330-2","  Servicios de diseño, arquitectura, ingeniería y actividades relacionadas",null,null,null,null,null,null,null,null,null,null,null,null,null,null,null,null,null,null,null,null,null,null,null,null,null,null,null,null,null,null,null,null,null,null,null,null,null,null,null,null,null,null,null,null,null,null,null,{"$f":"Balanza!G514","v":28768},{"$f":"Balanza!C514","v":0}]
["51330-3","  Servicios de consultoría administrativa, procesos, técnica y en tecnologías de la información",null,null,null,null,null,null,null,null,null,null,null,null,null,null,null,null,null,null,null,null,null,null,null,null,null,null,null,null,null,null,null,null,null,null,null,null,null,null,null,null,null,null,null,null,null,null,null,{"$f":"Balanza!G515","v":0},{"$f":"Balanza!C515","v":0}]
["51330-4","  Servicios de capacitación",null,null,null,null,null,null,null,null,null,null,null,null,null,null,null,null,null,null,null,null,null,null,null,null,null,null,null,null,null,null,null,null,null,null,null,null,null,null,null,null,null,null,null,null,null,null,null,{"$f":"Balanza!G516","v":0},{"$f":"Balanza!C516","v":0}]
["51330-5","  Servicios de investigación científica y desarrollo",null,null,null,null,null,null,null,null,null,null,null,null,null,null,null,null,null,null,null,null,null,null,null,null,null,null,null,null,null,null,null,null,null,null,null,null,null,null,null,null,null,null,null,null,null,null,null,{"$f":"Balanza!G517","v":0},{"$f":"Balanza!C517","v":16617}]
["51330-6","  Servicios de apoyo administrativo, traducción, fotocopiado e impresión",null,null,null,null,null,null,null,null,null,null,null,null,null,null,null,null,null,null,null,null,null,null,null,null,null,null,null,null,null,null,null,null,null,null,null,null,null,null,null,null,null,null,null,null,null,null,null,{"$f":"Balanza!G518","v":0},{"$f":"Balanza!C518","v":0}]
["51330-7","  Servicios de protección y seguridad",null,null,null,null,null,null,null,null,null,null,null,null,null,null,null,null,null,null,null,null,null,null,null,null,null,null,null,null,null,null,null,null,null,null,null,null,null,null,null,null,null,null,null,null,null,null,null,{"$f":"Balanza!G519","v":0},{"$f":"Balanza!C519","v":0}]
["51330-8","  Servicios de vigilancia",null,null,null,null,null,null,null,null,null,null,null,null,null,null,null,null,null,null,null,null,null,null,null,null,null,null,null,null,null,null,null,null,null,null,null,null,null,null,null,null,null,null,null,null,null,null,null,{"$f":"Balanza!G520","v":0},{"$f":"Balanza!C520","v":0}]
["51330-9","  Servicios profesionales, científicos y técnicos integrales",null,null,null,null,null,null,null,null,null,null,null,null,null,null,null,null,null,null,null,null,null,null,null,null,null,null,null,null,null,null,null,null,null,null,null,null,null,null,null,null,null,null,null,null,null,null,null,{"$f":"Balanza!G521","v":75284},{"$f":"Balanza!C521","v":38935.99}]
["51340","Servicios financieros, bancarios y comerciales",null,null,null,null,null,null,null,null,null,null,null,null,null,null,null,null,null,null,null,null,null,null,null,null,null,null,null,null,null,null,null,null,null,null,null,null,null,null,null,null,null,null,null,null,null,null,null,{"$f":"SUM(AX319:AX327)","v":47530.039999999994},{"$f":"SUM(AY319:AY327)","v":413140.04}]
["51340-1","  Servicios financieros y bancarios",null,null,null,null,null,null,null,null,null,null,null,null,null,null,null,null,null,null,null,null,null,null,null,null,null,null,null,null,null,null,null,null,null,null,null,null,null,null,null,null,null,null,null,null,null,null,null,{"$f":"Balanza!G523","v":4150.9399999999996},{"$f":"Balanza!C523","v":17520.2}]
["51340-2","  Servicios de cobranza, investigación crediticia y similar",null,null,null,null,null,null,null,null,null,null,null,null,null,null,null,null,null,null,null,null,null,null,null,null,null,null,null,null,null,null,null,null,null,null,null,null,null,null,null,null,null,null,null,null,null,null,null,{"$f":"Balanza!G524","v":0},{"$f":"Balanza!C524","v":0}]
["51340-3","  Servicios de recaudación, traslado y custodia de valores",null,null,null,null,null,null,null,null,null,null,null,null,null,null,null,null,null,null,null,null,null,null,null,null,null,null,null,null,null,null,null,null,null,null,null,null,null,null,null,null,null,null,null,null,null,null,null,{"$f":"Balanza!G525","v":0},{"$f":"Balanza!C525","v":0}]
["51340-4","  Seguros de responsabilidad patrimonial y fianzas",null,null,null,null,null,null,null,null,null,null,null,null,null,null,null,null,null,null,null,null,null,null,null,null,null,null,null,null,null,null,null,null,null,null,null,null,null,null,null,null,null,null,null,null,null,null,null,{"$f":"Balanza!G526","v":23516.1},{"$f":"Balanza!C526","v":22994.1}]
["51340-5","  Seguro de bienes patrimoniales",null,null,null,null,null,null,null,null,null,null,null,null,null,null,null,null,null,null,null,null,null,null,null,null,null,null,null,null,null,null,null,null,null,null,null,null,null,null,null,null,null,null,null,null,null,null,null,{"$f":"Balanza!G527","v":11743},{"$f":"Balanza!C527","v":316312.87}]
["51340-6","  Almacenaje, envase y embalaje",null,null,null,null,null,null,null,null,null,null,null,null,null,null,null,null,null,null,null,null,null,null,null,null,null,null,null,null,null,null,null,null,null,null,null,null,null,null,null,null,null,null,null,null,null,null,null,{"$f":"Balanza!G528","v":0},{"$f":"Balanza!C528","v":0}]
["51340-7","  Fletes y maniobras",null,null,null,null,null,null,null,null,null,null,null,null,null,null,null,null,null,null,null,null,null,null,null,null,null,null,null,null,null,null,null,null,null,null,null,null,null,null,null,null,null,null,null,null,null,null,null,{"$f":"Balanza!G529","v":8120},{"$f":"Balanza!C529","v":56312.87}]
["51340-8","  Comisiones por ventas",null,null,null,null,null,null,null,null,null,null,null,null,null,null,null,null,null,null,null,null,null,null,null,null,null,null,null,null,null,null,null,null,null,null,null,null,null,null,null,null,null,null,null,null,null,null,null,{"$f":"Balanza!G530","v":0},{"$f":"Balanza!C530","v":0}]
["51340-9","  Servicios financieros, bancarios y comerciales integrales",null,null,null,null,null,null,null,null,null,null,null,null,null,null,null,null,null,null,null,null,null,null,null,null,null,null,null,null,null,null,null,null,null,null,null,null,null,null,null,null,null,null,null,null,null,null,null,{"$f":"Balanza!G531","v":0},{"$f":"Balanza!C531","v":0}]
["51350","Servicios de instalación, reparación, mantenimiento y conservación",null,null,null,null,null,null,null,null,null,null,null,null,null,null,null,null,null,null,null,null,null,null,null,null,null,null,null,null,null,null,null,null,null,null,null,null,null,null,null,null,null,null,null,null,null,null,null,{"$f":"SUM(AX329:AX337)","v":878866.75},{"$f":"SUM(AY329:AY337)","v":2556551.85}]
["51350-1","  Conservación y mantenimiento menor de inmuebles",null,null,null,null,null,null,null,null,null,null,null,null,null,null,null,null,null,null,null,null,null,null,null,null,null,null,null,null,null,null,null,null,null,null,null,null,null,null,null,null,null,null,null,null,null,null,null,{"$f":"Balanza!G533","v":522764.2},{"$f":"Balanza!C533","v":1706241.06}]
["51350-2","  Instalación, reparación y mantenimiento de mobiliario y equipo de administración, educacional y recreativo",null,null,null,null,null,null,null,null,null,null,null,null,null,null,null,null,null,null,null,null,null,null,null,null,null,null,null,null,null,null,null,null,null,null,null,null,null,null,null,null,null,null,null,null,null,null,null,{"$f":"Balanza!G534","v":21460},{"$f":"Balanza!C534","v":0}]
["51350-3","  Instalación, reparación y mantenimiento de equipo de cómputo y tecnología de la información",null,null,null,null,null,null,null,null,null,null,null,null,null,null,null,null,null,null,null,null,null,null,null,null,null,null,null,null,null,null,null,null,null,null,null,null,null,null,null,null,null,null,null,null,null,null,null,{"$f":"Balanza!G535","v":2088},{"$f":"Balanza!C535","v":55132.480000000003}]
["51350-4","  Instalación, reparación y mantenimiento de equipo e instrumental médico y de laboratorio",null,null,null,null,null,null,null,null,null,null,null,null,null,null,null,null,null,null,null,null,null,null,null,null,null,null,null,null,null,null,null,null,null,null,null,null,null,null,null,null,null,null,null,null,null,null,null,{"$f":"Balanza!G536","v":0},{"$f":"Balanza!C536","v":0}]
["51350-5","  Reparación y mantenimiento de equipo de transporte",null,null,null,null,null,null,null,null,null,null,null,null,null,null,null,null,null,null,null,null,null,null,null,null,null,null,null,null,null,null,null,null,null,null,null,null,null,null,null,null,null,null,null,null,null,null,null,{"$f":"Balanza!G537","v":49983.98},{"$f":"Balanza!C537","v":312775.78000000003}]
["51350-6","  Reparación y mantenimiento de equipo de defensa y seguridad",null,null,null,null,null,null,null,null,null,null,null,null,null,null,null,null,null,null,null,null,null,null,null,null,null,null,null,null,null,null,null,null,null,null,null,null,null,null,null,null,null,null,null,null,null,null,null,{"$f":"Balanza!G538","v":0},{"$f":"Balanza!C538","v":0}]
["51350-7","  Instalación, reparación y mantenimiento de maquinaria, otros equipos y herramienta",null,null,null,null,null,null,null,null,null,null,null,null,null,null,null,null,null,null,null,null,null,null,null,null,null,null,null,null,null,null,null,null,null,null,null,null,null,null,null,null,null,null,null,null,null,null,null,{"$f":"Balanza!G539","v":282570.57},{"$f":"Balanza!C539","v":482402.53}]
["51350-8","  Servicios de limpieza y manejo de desechos",null,null,null,null,null,null,null,null,null,null,null,null,null,null,null,null,null,null,null,null,null,null,null,null,null,null,null,null,null,null,null,null,null,null,null,null,null,null,null,null,null,null,null,null,null,null,null,{"$f":"Balanza!G540","v":0},{"$f":"Balanza!C540","v":0}]
["51350-9","  Servicios de jardinería y fumigación",null,null,null,null,null,null,null,null,null,null,null,null,null,null,null,null,null,null,null,null,null,null,null,null,null,null,null,null,null,null,null,null,null,null,null,null,null,null,null,null,null,null,null,null,null,null,null,{"$f":"Balanza!G541","v":0},{"$f":"Balanza!C541","v":0}]
["51360","Servicios de comunicación social y publicidad",null,null,null,null,null,null,null,null,null,null,null,null,null,null,null,null,null,null,null,null,null,null,null,null,null,null,null,null,null,null,null,null,null,null,null,null,null,null,null,null,null,null,null,null,null,null,null,{"$f":"SUM(AX339:AX345)","v":0},{"$f":"SUM(AY339:AY345)","v":0}]
["51360-1","  Difusión por radio, televisión y otros medios de mensajes sobre programas y actividades gubernamentales",null,null,null,null,null,null,null,null,null,null,null,null,null,null,null,null,null,null,null,null,null,null,null,null,null,null,null,null,null,null,null,null,null,null,null,null,null,null,null,null,null,null,null,null,null,null,null,{"$f":"Balanza!G543","v":0},{"$f":"Balanza!C543","v":0}]
["51360-2","  Difusión por radio, televisión y otros medios de mensajes comerciales para promover la venta de bienes o servicios",null,null,null,null,null,null,null,null,null,null,null,null,null,null,null,null,null,null,null,null,null,null,null,null,null,null,null,null,null,null,null,null,null,null,null,null,null,null,null,null,null,null,null,null,null,null,null,{"$f":"Balanza!G544","v":0},{"$f":"Balanza!C544","v":0}]
["51360-3","  Servicios de creatividad, preproducción y producción de publicidad, excepto Internet",null,null,null,null,null,null,null,null,null,null,null,null,null,null,null,null,null,null,null,null,null,null,null,null,null,null,null,null,null,null,null,null,null,null,null,null,null,null,null,null,null,null,null,null,null,null,null,{"$f":"Balanza!G545","v":0},{"$f":"Balanza!C545","v":0}]
["51360-4","  Servicios de revelado de  fotografías",null,null,null,null,null,null,null,null,null,null,null,null,null,null,null,null,null,null,null,null,null,null,null,null,null,null,null,null,null,null,null,null,null,null,null,null,null,null,null,null,null,null,null,null,null,null,null,{"$f":"Balanza!G546","v":0},{"$f":"Balanza!C546","v":0}]
["51360-5","  Servicios de la industria fílmica, del sonido y del video",null,null,null,null,null,null,null,null,null,null,null,null,null,null,null,null,null,null,null,null,null,null,null,null,null,null,null,null,null,null,null,null,null,null,null,null,null,null,null,null,null,null,null,null,null,null,null,{"$f":"Balanza!G547","v":0},{"$f":"Balanza!C547","v":0}]
["51360-6","  Servicio de creación y difusión de contenido exclusivamente a través de Internet",null,null,null,null,null,null,null,null,null,null,null,null,null,null,null,null,null,null,null,null,null,null,null,null,null,null,null,null,null,null,null,null,null,null,null,null,null,null,null,null,null,null,null,null,null,null,null,{"$f":"Balanza!G548","v":0},{"$f":"Balanza!C548","v":0}]
["51360-7","  Otros servicios de información",null,null,null,null,null,null,null,null,null,null,null,null,null,null,null,null,null,null,null,null,null,null,null,null,null,null,null,null,null,null,null,null,null,null,null,null,null,null,null,null,null,null,null,null,null,null,null,{"$f":"Balanza!G549","v":0},{"$f":"Balanza!C549","v":0}]
["51370","Servicios de traslado y viáticos",null,null,null,null,null,null,null,null,null,null,null,null,null,null,null,null,null,null,null,null,null,null,null,null,null,null,null,null,null,null,null,null,null,null,null,null,null,null,null,null,null,null,null,null,null,null,null,{"$f":"SUM(AX347:AX355)","v":120755.97},{"$f":"SUM(AY347:AY355)","v":224463.34999999998}]
["51370-1","  Pasajes aéreos",null,null,null,null,null,null,null,null,null,null,null,null,null,null,null,null,null,null,null,null,null,null,null,null,null,null,null,null,null,null,null,null,null,null,null,null,null,null,null,null,null,null,null,null,null,null,null,{"$f":"Balanza!G551","v":16009},{"$f":"Balanza!C551","v":0}]
["51370-2","  Pasajes terrestres",null,null,null,null,null,null,null,null,null,null,null,null,null,null,null,null,null,null,null,null,null,null,null,null,null,null,null,null,null,null,null,null,null,null,null,null,null,null,null,null,null,null,null,null,null,null,null,{"$f":"Balanza!G552","v":0},{"$f":"Balanza!C552","v":0}]
["51370-3","  Pasajes marítimos, lacustres y fluviales",null,null,null,null,null,null,null,null,null,null,null,null,null,null,null,null,null,null,null,null,null,null,null,null,null,null,null,null,null,null,null,null,null,null,null,null,null,null,null,null,null,null,null,null,null,null,null,{"$f":"Balanza!G553","v":0},{"$f":"Balanza!C553","v":0}]
["51370-4","  Autotransporte",null,null,null,null,null,null,null,null,null,null,null,null,null,null,null,null,null,null,null,null,null,null,null,null,null,null,null,null,null,null,null,null,null,null,null,null,null,null,null,null,null,null,null,null,null,null,null,{"$f":"Balanza!G554","v":0},{"$f":"Balanza!C554","v":0}]
["51370-5","  Viáticos en el país",null,null,null,null,null,null,null,null,null,null,null,null,null,null,null,null,null,null,null,null,null,null,null,null,null,null,null,null,null,null,null,null,null,null,null,null,null,null,null,null,null,null,null,null,null,null,null,{"$f":"Balanza!G555","v":94746.97},{"$f":"Balanza!C555","v":174309}]
["51370-6","  Viáticos en el extranjero ",null,null,null,null,null,null,null,null,null,null,null,null,null,null,null,null,null,null,null,null,null,null,null,null,null,null,null,null,null,null,null,null,null,null,null,null,null,null,null,null,null,null,null,null,null,null,null,{"$f":"Balanza!G556","v":0},{"$f":"Balanza!C556","v":0}]
["51370-7","  Gastos de instalación y traslado de menaje",null,null,null,null,null,null,null,null,null,null,null,null,null,null,null,null,null,null,null,null,null,null,null,null,null,null,null,null,null,null,null,null,null,null,null,null,null,null,null,null,null,null,null,null,null,null,null,{"$f":"Balanza!G557","v":0},{"$f":"Balanza!C557","v":0}]
["51370-8","  Servicios integrales de traslado y viáticos",null,null,null,null,null,null,null,null,null,null,null,null,null,null,null,null,null,null,null,null,null,null,null,null,null,null,null,null,null,null,null,null,null,null,null,null,null,null,null,null,null,null,null,null,null,null,null,{"$f":"Balanza!G558","v":0},{"$f":"Balanza!C558","v":6600.08}]
["51370-9","  Otros servicios de traslado y hospedaje",null,null,null,null,null,null,null,null,null,null,null,null,null,null,null,null,null,null,null,null,null,null,null,null,null,null,null,null,null,null,null,null,null,null,null,null,null,null,null,null,null,null,null,null,null,null,null,{"$f":"Balanza!G559","v":10000},{"$f":"Balanza!C559","v":43554.27}]
["51380","Servicios oficiales",null,null,null,null,null,null,null,null,null,null,null,null,null,null,null,null,null,null,null,null,null,null,null,null,null,null,null,null,null,null,null,null,null,null,null,null,null,null,null,null,null,null,null,null,null,null,null,{"$f":"SUM(AX357:AX361)","v":518520.32000000001},{"$f":"SUM(AY357:AY361)","v":1357096.75}]
["51380-1","  Gastos de ceremonial",null,null,null,null,null,null,null,null,null,null,null,null,null,null,null,null,null,null,null,null,null,null,null,null,null,null,null,null,null,null,null,null,null,null,null,null,null,null,null,null,null,null,null,null,null,null,null,{"$f":"Balanza!G561","v":0},{"$f":"Balanza!C561","v":0}]
["51380-2","  Gastos de orden  social y cultural",null,null,null,null,null,null,null,null,null,null,null,null,null,null,null,null,null,null,null,null,null,null,null,null,null,null,null,null,null,null,null,null,null,null,null,null,null,null,null,null,null,null,null,null,null,null,null,{"$f":"Balanza!G562","v":518520.32000000001},{"$f":"Balanza!C562","v":1357096.75}]
["51380-3","  Congresos y convenciones",null,null,null,null,null,null,null,null,null,null,null,null,null,null,null,null,null,null,null,null,null,null,null,null,null,null,null,null,null,null,null,null,null,null,null,null,null,null,null,null,null,null,null,null,null,null,null,{"$f":"Balanza!G563","v":0},{"$f":"Balanza!C563","v":0}]
["51380-4","  Exposiciones",null,null,null,null,null,null,null,null,null,null,null,null,null,null,null,null,null,null,null,null,null,null,null,null,null,null,null,null,null,null,null,null,null,null,null,null,null,null,null,null,null,null,null,null,null,null,null,{"$f":"Balanza!G564","v":0},{"$f":"Balanza!C564","v":0}]
["51380-5","  Gastos de representación",null,null,null,null,null,null,null,null,null,null,null,null,null,null,null,null,null,null,null,null,null,null,null,null,null,null,null,null,null,null,null,null,null,null,null,null,null,null,null,null,null,null,null,null,null,null,null,{"$f":"Balanza!G565","v":0},{"$f":"Balanza!C565","v":0}]
["51390","Otros servicios generales",null,null,null,null,null,null,null,null,null,null,null,null,null,null,null,null,null,null,null,null,null,null,null,null,null,null,null,null,null,null,null,null,null,null,null,null,null,null,null,null,null,null,null,null,null,null,null,{"$f":"SUM(AX363:AX371)","v":580588.23},{"$f":"SUM(AY363:AY371)","v":331721.84000000003}]
["51390-1","  Servicios funerarios y de cementerios",null,null,null,null,null,null,null,null,null,null,null,null,null,null,null,null,null,null,null,null,null,null,null,null,null,null,null,null,null,null,null,null,null,null,null,null,null,null,null,null,null,null,null,null,null,null,null,{"$f":"Balanza!G567","v":0},{"$f":"Balanza!C567","v":0}]
["51390-2","  Impuestos y derechos",null,null,null,null,null,null,null,null,null,null,null,null,null,null,null,null,null,null,null,null,null,null,null,null,null,null,null,null,null,null,null,null,null,null,null,null,null,null,null,null,null,null,null,null,null,null,null,{"$f":"Balanza!G568","v":580575.41},{"$f":"Balanza!C568","v":331721.84000000003}]
["51390-3","  Impuestos y derechos de importación",null,null,null,null,null,null,null,null,null,null,null,null,null,null,null,null,null,null,null,null,null,null,null,null,null,null,null,null,null,null,null,null,null,null,null,null,null,null,null,null,null,null,null,null,null,null,null,{"$f":"Balanza!G569","v":0},{"$f":"Balanza!C569","v":0}]
["51390-4","  Sentencias y resoluciones por autoridad competente",null,null,null,null,null,null,null,null,null,null,null,null,null,null,null,null,null,null,null,null,null,null,null,null,null,null,null,null,null,null,null,null,null,null,null,null,null,null,null,null,null,null,null,null,null,null,null,{"$f":"Balanza!G570","v":12.82},{"$f":"Balanza!C570","v":0}]
["51390-5","  Penas, multas, accesorios y actualizaciones",null,null,null,null,null,null,null,null,null,null,null,null,null,null,null,null,null,null,null,null,null,null,null,null,null,null,null,null,null,null,null,null,null,null,null,null,null,null,null,null,null,null,null,null,null,null,null,{"$f":"Balanza!G571","v":0},{"$f":"Balanza!C571","v":0}]
["51390-6","  Otros gastos por responsabilidades",null,null,null,null,null,null,null,null,null,null,null,null,null,null,null,null,null,null,null,null,null,null,null,null,null,null,null,null,null,null,null,null,null,null,null,null,null,null,null,null,null,null,null,null,null,null,null,{"$f":"Balanza!G572","v":0},{"$f":"Balanza!C572","v":0}]
["51390-7","  Utilidades",null,null,null,null,null,null,null,null,null,null,null,null,null,null,null,null,null,null,null,null,null,null,null,null,null,null,null,null,null,null,null,null,null,null,null,null,null,null,null,null,null,null,null,null,null,null,null,{"$f":"Balanza!G573","v":0},{"$f":"Balanza!C573","v":0}]
["51390-8","  Impuesto sobre nómina y otros que se deriven de una relación laboral",null,null,null,null,null,null,null,null,null,null,null,null,null,null,null,null,null,null,null,null,null,null,null,null,null,null,null,null,null,null,null,null,null,null,null,null,null,null,null,null,null,null,null,null,null,null,null,{"$f":"Balanza!G574","v":0},{"$f":"Balanza!C574","v":0}]
["51390-9","  Otros servicios generales",null,null,null,null,null,null,null,null,null,null,null,null,null,null,null,null,null,null,null,null,null,null,null,null,null,null,null,null,null,null,null,null,null,null,null,null,null,null,null,null,null,null,null,null,null,null,null,{"$f":"Balanza!G575","v":0},{"$f":"Balanza!C575","v":0}]
["52000"," TRANSFERENCIAS, ASIGNACIONES, SUBSIDIOS Y OTRAS  AYUDAS",null,null,null,null,null,null,null,null,null,null,null,null,null,null,null,null,null,null,null,null,null,null,null,null,null,null,null,null,null,null,null,null,null,null,null,null,null,null,null,null,null,null,null,null,null,null,null,{"$f":"AX373+AX385+AX391+AX403+AX416+AX423+AX433+AX436+AX447","v":3161215.0999999996},{"$f":"AY373+AY385+AY391+AY403+AY416+AY423+AY433+AY436+AY447","v":7089478.9699999997}]
["52100","TRANSFERENCIAS INTERNAS Y ASIGNACIONES AL SECTOR PÚBLICO",null,null,null,null,null,null,null,null,null,null,null,null,null,null,null,null,null,null,null,null,null,null,null,null,null,null,null,null,null,null,null,null,null,null,null,null,null,null,null,null,null,null,null,null,null,null,null,{"$f":"AX374+AX384","v":0},{"$f":"AY374+AY384","v":0}]
["52110","Asignaciones al sector público",null,null,null,null,null,null,null,null,null,null,null,null,null,null,null,null,null,null,null,null,null,null,null,null,null,null,null,null,null,null,null,null,null,null,null,null,null,null,null,null,null,null,null,null,null,null,null,{"$f":"SUM(AX375:AX383)","v":0},{"$f":"SUM(AY375:AY383)","v":0}]
["52110-1","  Asignaciones presupuestarias al Poder Ejecutivo",null,null,null,null,null,null,null,null,null,null,null,null,null,null,null,null,null,null,null,null,null,null,null,null,null,null,null,null,null,null,null,null,null,null,null,null,null,null,null,null,null,null,null,null,null,null,null,{"$f":"Balanza!G579","v":0},{"$f":"Balanza!C579","v":0}]
["52110-2","  Asignaciones presupuestarias al Poder Legislativo",null,null,null,null,null,null,null,null,null,null,null,null,null,null,null,null,null,null,null,null,null,null,null,null,null,null,null,null,null,null,null,null,null,null,null,null,null,null,null,null,null,null,null,null,null,null,null,{"$f":"Balanza!G580","v":0},{"$f":"Balanza!C580","v":0}]
["52110-3","  Asignaciones presupuestarias al Poder Judicial",null,null,null,null,null,null,null,null,null,null,null,null,null,null,null,null,null,null,null,null,null,null,null,null,null,null,null,null,null,null,null,null,null,null,null,null,null,null,null,null,null,null,null,null,null,null,null,{"$f":"Balanza!G581","v":0},{"$f":"Balanza!C581","v":0}]
["52110-4","  Asignaciones presupuestarias a Órganos Autónomos",null,null,null,null,null,null,null,null,null,null,null,null,null,null,null,null,null,null,null,null,null,null,null,null,null,null,null,null,null,null,null,null,null,null,null,null,null,null,null,null,null,null,null,null,null,null,null,{"$f":"Balanza!G582","v":0},{"$f":"Balanza!C582","v":0}]
["52110-5","  Transferencias internas otorgadas a entidades paraestatales no empresariales y no financieras",null,null,null,null,null,null,null,null,null,null,null,null,null,null,null,null,null,null,null,null,null,null,null,null,null,null,null,null,null,null,null,null,null,null,null,null,null,null,null,null,null,null,null,null,null,null,null,{"$f":"Balanza!G583","v":0},{"$f":"Balanza!C583","v":0}]
["52110-6","  Transferencias internas otorgadas a entidades paraestatales empresariales y no financieras",null,null,null,null,null,null,null,null,null,null,null,null,null,null,null,null,null,null,null,null,null,null,null,null,null,null,null,null,null,null,null,null,null,null,null,null,null,null,null,null,null,null,null,null,null,null,null,{"$f":"Balanza!G584","v":0},{"$f":"Balanza!C584","v":0}]
["52110-7","  Transferencias internas otorgadas a fideicomisos públicos empresariales y no financieros",null,null,null,null,null,null,null,null,null,null,null,null,null,null,null,null,null,null,null,null,null,null,null,null,null,null,null,null,null,null,null,null,null,null,null,null,null,null,null,null,null,null,null,null,null,null,null,{"$f":"Balanza!G585","v":0},{"$f":"Balanza!C585","v":0}]
["52110-8","  Transferencias internas otorgadas a instituciones paraestatales públicas financieras",null,null,null,null,null,null,null,null,null,null,null,null,null,null,null,null,null,null,null,null,null,null,null,null,null,null,null,null,null,null,null,null,null,null,null,null,null,null,null,null,null,null,null,null,null,null,null,{"$f":"Balanza!G586","v":0},{"$f":"Balanza!C586","v":0}]
["52110-9","  Transferencias internas otorgadas a fideicomisos públicos financieros",null,null,null,null,null,null,null,null,null,null,null,null,null,null,null,null,null,null,null,null,null,null,null,null,null,null,null,null,null,null,null,null,null,null,null,null,null,null,null,null,null,null,null,null,null,null,null,{"$f":"Balanza!G587","v":0},{"$f":"Balanza!C587","v":0}]
["52120","Transferencias internas al sector público",null,null,null,null,null,null,null,null,null,null,null,null,null,null,null,null,null,null,null,null,null,null,null,null,null,null,null,null,null,null,null,null,null,null,null,null,null,null,null,null,null,null,null,null,null,null,null,{"$f":"Balanza!G588","v":0},{"$f":"Balanza!C588","v":0}]
["52200","TRANSFERENCIAS  AL RESTO DEL SECTOR PÚBLICO",null,null,null,null,null,null,null,null,null,null,null,null,null,null,null,null,null,null,null,null,null,null,null,null,null,null,null,null,null,null,null,null,null,null,null,null,null,null,null,null,null,null,null,null,null,null,null,{"$f":"AX386+AX390","v":1026835},{"$f":"AY386+AY390","v":1856000}]
[52210,"Transferencias a entidades paraestatales",null,null,null,null,null,null,null,null,null,null,null,null,null,null,null,null,null,null,null,null,null,null,null,null,null,null,null,null,null,null,null,null,null,null,null,null,null,null,null,null,null,null,null,null,null,null,null,{"$f":"SUM(AX387:AX389)","v":1026835},{"$f":"SUM(AY387:AY389)","v":1856000}]
["52210-1","  Transferencias otorgadas a entidades paraestatales no empresariales y no financieras",null,null,null,null,null,null,null,null,null,null,null,null,null,null,null,null,null,null,null,null,null,null,null,null,null,null,null,null,null,null,null,null,null,null,null,null,null,null,null,null,null,null,null,null,null,null,null,{"$f":"Balanza!G591","v":1026835},{"$f":"Balanza!C591","v":1856000}]
["52210-2","  Transferencias otorgadas para entidades paraestatales empresariales y no financieras",null,null,null,null,null,null,null,null,null,null,null,null,null,null,null,null,null,null,null,null,null,null,null,null,null,null,null,null,null,null,null,null,null,null,null,null,null,null,null,null,null,null,null,null,null,null,null,{"$f":"Balanza!G592","v":0},{"$f":"Balanza!C592","v":0}]
["52210-3","  Transferencias otorgadas para instituciones paraestatales públicas financieras  ",null,null,null,null,null,null,null,null,null,null,null,null,null,null,null,null,null,null,null,null,null,null,null,null,null,null,null,null,null,null,null,null,null,null,null,null,null,null,null,null,null,null,null,null,null,null,null,{"$f":"Balanza!G593","v":0},{"$f":"Balanza!C593","v":0}]
["52220-12","Transferencias a entidades federativas y municipios",null,null,null,null,null,null,null,null,null,null,null,null,null,null,null,null,null,null,null,null,null,null,null,null,null,null,null,null,null,null,null,null,null,null,null,null,null,null,null,null,null,null,null,null,null,null,null,{"$f":"Balanza!G594","v":0},{"$f":"Balanza!C594","v":0}]
["52300","SUBSIDIOS Y SUBVENCIONES",null,null,null,null,null,null,null,null,null,null,null,null,null,null,null,null,null,null,null,null,null,null,null,null,null,null,null,null,null,null,null,null,null,null,null,null,null,null,null,null,null,null,null,null,null,null,null,{"$f":"AX392+AX401","v":0},{"$f":"AY392+AY401","v":0}]
["52310","Subsidios",null,null,null,null,null,null,null,null,null,null,null,null,null,null,null,null,null,null,null,null,null,null,null,null,null,null,null,null,null,null,null,null,null,null,null,null,null,null,null,null,null,null,null,null,null,null,null,{"$f":"SUM(AX393:AX400)","v":0},{"$f":"SUM(AY393:AY400)","v":0}]
["52310-1","  Subsidios a la producción",null,null,null,null,null,null,null,null,null,null,null,null,null,null,null,null,null,null,null,null,null,null,null,null,null,null,null,null,null,null,null,null,null,null,null,null,null,null,null,null,null,null,null,null,null,null,null,{"$f":"Balanza!G599","v":0},{"$f":"Balanza!C599","v":0}]
["52310-2","  Subsidios a la distribución",null,null,null,null,null,null,null,null,null,null,null,null,null,null,null,null,null,null,null,null,null,null,null,null,null,null,null,null,null,null,null,null,null,null,null,null,null,null,null,null,null,null,null,null,null,null,null,{"$f":"Balanza!G600","v":0},{"$f":"Balanza!C600","v":0}]
["52310-3","  Subsidios a la inversión",null,null,null,null,null,null,null,null,null,null,null,null,null,null,null,null,null,null,null,null,null,null,null,null,null,null,null,null,null,null,null,null,null,null,null,null,null,null,null,null,null,null,null,null,null,null,null,{"$f":"Balanza!G601","v":0},{"$f":"Balanza!C601","v":0}]
["52310-4","  Subsidios a la prestación de servicios públicos",null,null,null,null,null,null,null,null,null,null,null,null,null,null,null,null,null,null,null,null,null,null,null,null,null,null,null,null,null,null,null,null,null,null,null,null,null,null,null,null,null,null,null,null,null,null,null,{"$f":"Balanza!G602","v":0},{"$f":"Balanza!C602","v":0}]
["52310-5","  Subsidios para cubrir diferenciales de tasas de interés",null,null,null,null,null,null,null,null,null,null,null,null,null,null,null,null,null,null,null,null,null,null,null,null,null,null,null,null,null,null,null,null,null,null,null,null,null,null,null,null,null,null,null,null,null,null,null,{"$f":"Balanza!G603","v":0},{"$f":"Balanza!C603","v":0}]
["52310-6","  Subsidios a la vivienda ",null,null,null,null,null,null,null,null,null,null,null,null,null,null,null,null,null,null,null,null,null,null,null,null,null,null,null,null,null,null,null,null,null,null,null,null,null,null,null,null,null,null,null,null,null,null,null,{"$f":"Balanza!G604","v":0},{"$f":"Balanza!C604","v":0}]
["52310-7","  Subsidios a entidades federativas y municipios",null,null,null,null,null,null,null,null,null,null,null,null,null,null,null,null,null,null,null,null,null,null,null,null,null,null,null,null,null,null,null,null,null,null,null,null,null,null,null,null,null,null,null,null,null,null,null,{"$f":"Balanza!G605","v":0},{"$f":"Balanza!C605","v":0}]
["52310-8","  Otros subsidios",null,null,null,null,null,null,null,null,null,null,null,null,null,null,null,null,null,null,null,null,null,null,null,null,null,null,null,null,null,null,null,null,null,null,null,null,null,null,null,null,null,null,null,null,null,null,null,{"$f":"Balanza!G606","v":0},{"$f":"Balanza!C606","v":0}]
["52320","Subvenciones  ",null,null,null,null,null,null,null,null,null,null,null,null,null,null,null,null,null,null,null,null,null,null,null,null,null,null,null,null,null,null,null,null,null,null,null,null,null,null,null,null,null,null,null,null,null,null,null,{"$f":"SUM(AX402)","v":0},{"$f":"SUM(AY402)","v":0}]
["52320-1","  Subvenciones al consumo",null,null,null,null,null,null,null,null,null,null,null,null,null,null,null,null,null,null,null,null,null,null,null,null,null,null,null,null,null,null,null,null,null,null,null,null,null,null,null,null,null,null,null,null,null,null,null,{"$f":"Balanza!G608","v":0},{"$f":"Balanza!C608","v":0}]
["52400","AYUDAS SOCIALES",null,null,null,null,null,null,null,null,null,null,null,null,null,null,null,null,null,null,null,null,null,null,null,null,null,null,null,null,null,null,null,null,null,null,null,null,null,null,null,null,null,null,null,null,null,null,null,{"$f":"AX404+AX406+AX408+AX414","v":1297007.8399999999},{"$f":"AY404+AY406+AY408+AY414","v":3379409.85}]
["52410","Ayudas sociales a personas",null,null,null,null,null,null,null,null,null,null,null,null,null,null,null,null,null,null,null,null,null,null,null,null,null,null,null,null,null,null,null,null,null,null,null,null,null,null,null,null,null,null,null,null,null,null,null,{"$f":"SUM(AX405)","v":356255.63},{"$f":"SUM(AY405)","v":2693932.85}]
["52410-1","  Ayudas sociales a personas ",null,null,null,null,null,null,null,null,null,null,null,null,null,null,null,null,null,null,null,null,null,null,null,null,null,null,null,null,null,null,null,null,null,null,null,null,null,null,null,null,null,null,null,null,null,null,null,{"$f":"Balanza!G611","v":356255.63},{"$f":"Balanza!C611","v":2693932.85}]
["52420","Becas   ",null,null,null,null,null,null,null,null,null,null,null,null,null,null,null,null,null,null,null,null,null,null,null,null,null,null,null,null,null,null,null,null,null,null,null,null,null,null,null,null,null,null,null,null,null,null,null,{"$f":"SUM(AX407)","v":2000},{"$f":"SUM(AY407)","v":21500}]
["52420-1","Becas y otras ayudas para programas de capacitación",null,null,null,null,null,null,null,null,null,null,null,null,null,null,null,null,null,null,null,null,null,null,null,null,null,null,null,null,null,null,null,null,null,null,null,null,null,null,null,null,null,null,null,null,null,null,null,{"$f":"Balanza!G613","v":2000},{"$f":"Balanza!C613","v":21500}]
["52430","Ayudas sociales a instituciones",null,null,null,null,null,null,null,null,null,null,null,null,null,null,null,null,null,null,null,null,null,null,null,null,null,null,null,null,null,null,null,null,null,null,null,null,null,null,null,null,null,null,null,null,null,null,null,{"$f":"SUM(AX409:AX413)","v":938752.21},{"$f":"SUM(AY409:AY413)","v":663977}]
["52430-1","  Ayudas sociales a instituciones de enseñanza",null,null,null,null,null,null,null,null,null,null,null,null,null,null,null,null,null,null,null,null,null,null,null,null,null,null,null,null,null,null,null,null,null,null,null,null,null,null,null,null,null,null,null,null,null,null,null,{"$f":"Balanza!G615","v":831975.21},{"$f":"Balanza!C615","v":202516}]
["52430-2","  Ayudas sociales a actividades científicas o académicas",null,null,null,null,null,null,null,null,null,null,null,null,null,null,null,null,null,null,null,null,null,null,null,null,null,null,null,null,null,null,null,null,null,null,null,null,null,null,null,null,null,null,null,null,null,null,null,{"$f":"Balanza!G616","v":0},{"$f":"Balanza!C616","v":0}]
["52430-3","  Ayudas sociales a instituciones sin fines de lucro",null,null,null,null,null,null,null,null,null,null,null,null,null,null,null,null,null,null,null,null,null,null,null,null,null,null,null,null,null,null,null,null,null,null,null,null,null,null,null,null,null,null,null,null,null,null,null,{"$f":"Balanza!G617","v":106777},{"$f":"Balanza!C617","v":461461}]
["52430-4","  Ayudas sociales a cooperativas",null,null,null,null,null,null,null,null,null,null,null,null,null,null,null,null,null,null,null,null,null,null,null,null,null,null,null,null,null,null,null,null,null,null,null,null,null,null,null,null,null,null,null,null,null,null,null,{"$f":"Balanza!G618","v":0},{"$f":"Balanza!C618","v":0}]
["52430-5","  Ayudas sociales a entidades de interés público",null,null,null,null,null,null,null,null,null,null,null,null,null,null,null,null,null,null,null,null,null,null,null,null,null,null,null,null,null,null,null,null,null,null,null,null,null,null,null,null,null,null,null,null,null,null,null,{"$f":"Balanza!G619","v":0},{"$f":"Balanza!C619","v":0}]
["52440","Ayudas sociales por desastres naturales y otros siniestros",null,null,null,null,null,null,null,null,null,null,null,null,null,null,null,null,null,null,null,null,null,null,null,null,null,null,null,null,null,null,null,null,null,null,null,null,null,null,null,null,null,null,null,null,null,null,null,{"$f":"SUM(AX415)","v":0},{"$f":"SUM(AY415)","v":0}]
["52440-1","  Ayudas por desastres naturales y otros siniestros",null,null,null,null,null,null,null,null,null,null,null,null,null,null,null,null,null,null,null,null,null,null,null,null,null,null,null,null,null,null,null,null,null,null,null,null,null,null,null,null,null,null,null,null,null,null,null,{"$f":"Balanza!G621","v":0},{"$f":"Balanza!C621","v":0}]
["52500","PENSIONES Y JUBILACIONES",null,null,null,null,null,null,null,null,null,null,null,null,null,null,null,null,null,null,null,null,null,null,null,null,null,null,null,null,null,null,null,null,null,null,null,null,null,null,null,null,null,null,null,null,null,null,null,{"$f":"AX417+AX419+AX421","v":837372.26},{"$f":"AY417+AY419+AY421","v":1854069.12}]
["52510","Pensiones",null,null,null,null,null,null,null,null,null,null,null,null,null,null,null,null,null,null,null,null,null,null,null,null,null,null,null,null,null,null,null,null,null,null,null,null,null,null,null,null,null,null,null,null,null,null,null,{"$f":"SUM(AX418)","v":837372.26},{"$f":"SUM(AY418)","v":1854069.12}]
["52510-1","  Pensiones",null,null,null,null,null,null,null,null,null,null,null,null,null,null,null,null,null,null,null,null,null,null,null,null,null,null,null,null,null,null,null,null,null,null,null,null,null,null,null,null,null,null,null,null,null,null,null,{"$f":"Balanza!G624","v":837372.26},{"$f":"Balanza!C624","v":1854069.12}]
["52520","Jubilaciones",null,null,null,null,null,null,null,null,null,null,null,null,null,null,null,null,null,null,null,null,null,null,null,null,null,null,null,null,null,null,null,null,null,null,null,null,null,null,null,null,null,null,null,null,null,null,null,{"$f":"SUM(AX420)","v":0},{"$f":"SUM(AY420)","v":0}]
["52520-1","  Jubilaciones",null,null,null,null,null,null,null,null,null,null,null,null,null,null,null,null,null,null,null,null,null,null,null,null,null,null,null,null,null,null,null,null,null,null,null,null,null,null,null,null,null,null,null,null,null,null,null,{"$f":"Balanza!G626","v":0},{"$f":"Balanza!C626","v":0}]
["52590","Otras pensiones y jubilaciones",null,null,null,null,null,null,null,null,null,null,null,null,null,null,null,null,null,null,null,null,null,null,null,null,null,null,null,null,null,null,null,null,null,null,null,null,null,null,null,null,null,null,null,null,null,null,null,{"$f":"SUM(AX422)","v":0},{"$f":"SUM(AY422)","v":0}]
["52590-1","  Otras pensiones y jubilaciones",null,null,null,null,null,null,null,null,null,null,null,null,null,null,null,null,null,null,null,null,null,null,null,null,null,null,null,null,null,null,null,null,null,null,null,null,null,null,null,null,null,null,null,null,null,null,null,{"$f":"Balanza!G628","v":0},{"$f":"Balanza!C628","v":0}]
["52600","TRANSFERENCIAS A FIDEICOMISOS, MANDATOS Y CONTRATOS ANÁLOGOS",null,null,null,null,null,null,null,null,null,null,null,null,null,null,null,null,null,null,null,null,null,null,null,null,null,null,null,null,null,null,null,null,null,null,null,null,null,null,null,null,null,null,null,null,null,null,null,{"$f":"AX424+AX428","v":0},{"$f":"AY424+AY428","v":0}]
["52610","Transferencias a fideicomisos, mandatos y contratos análogos al gobierno",null,null,null,null,null,null,null,null,null,null,null,null,null,null,null,null,null,null,null,null,null,null,null,null,null,null,null,null,null,null,null,null,null,null,null,null,null,null,null,null,null,null,null,null,null,null,null,{"$f":"SUM(AX425:AX427)","v":0},{"$f":"SUM(AY425:AY427)","v":0}]
["52610-1","  Transferencias a fideicomisos del Poder Ejecutivo",null,null,null,null,null,null,null,null,null,null,null,null,null,null,null,null,null,null,null,null,null,null,null,null,null,null,null,null,null,null,null,null,null,null,null,null,null,null,null,null,null,null,null,null,null,null,null,{"$f":"Balanza!G631","v":0},{"$f":"Balanza!C631","v":0}]
["52610-2","  Transferencias a fideicomisos del Poder Legislativo",null,null,null,null,null,null,null,null,null,null,null,null,null,null,null,null,null,null,null,null,null,null,null,null,null,null,null,null,null,null,null,null,null,null,null,null,null,null,null,null,null,null,null,null,null,null,null,{"$f":"Balanza!G632","v":0},{"$f":"Balanza!C632","v":0}]
["52610-3","  Transferencias a fideicomisos del Poder Judicial",null,null,null,null,null,null,null,null,null,null,null,null,null,null,null,null,null,null,null,null,null,null,null,null,null,null,null,null,null,null,null,null,null,null,null,null,null,null,null,null,null,null,null,null,null,null,null,{"$f":"Balanza!G633","v":0},{"$f":"Balanza!C633","v":0}]
["52620","Transferencias a fideicomisos, mandatos y contratos análogos a entidades paraestatales",null,null,null,null,null,null,null,null,null,null,null,null,null,null,null,null,null,null,null,null,null,null,null,null,null,null,null,null,null,null,null,null,null,null,null,null,null,null,null,null,null,null,null,null,null,null,null,{"$f":"SUM(AX429:AX432)","v":0},{"$f":"SUM(AY429:AY432)","v":0}]
["52610-1","  Transferencias a fideicomisos públicos de entidades paraestatales no empresariales y no financieras",null,null,null,null,null,null,null,null,null,null,null,null,null,null,null,null,null,null,null,null,null,null,null,null,null,null,null,null,null,null,null,null,null,null,null,null,null,null,null,null,null,null,null,null,null,null,null,{"$f":"Balanza!G635","v":0},{"$f":"Balanza!C635","v":0}]
["52610-2","  Transferencias a fideicomisos públicos de entidades paraestatales empresariales y no financieras",null,null,null,null,null,null,null,null,null,null,null,null,null,null,null,null,null,null,null,null,null,null,null,null,null,null,null,null,null,null,null,null,null,null,null,null,null,null,null,null,null,null,null,null,null,null,null,{"$f":"Balanza!G636","v":0},{"$f":"Balanza!C636","v":0}]
["52610-3","  Transferencias a fideicomisos de instituciones públicas financieras",null,null,null,null,null,null,null,null,null,null,null,null,null,null,null,null,null,null,null,null,null,null,null,null,null,null,null,null,null,null,null,null,null,null,null,null,null,null,null,null,null,null,null,null,null,null,null,{"$f":"Balanza!G637","v":0},{"$f":"Balanza!C637","v":0}]
["52610-4","  Otras transferencias a fideicomisos   ",null,null,null,null,null,null,null,null,null,null,null,null,null,null,null,null,null,null,null,null,null,null,null,null,null,null,null,null,null,null,null,null,null,null,null,null,null,null,null,null,null,null,null,null,null,null,null,{"$f":"Balanza!G638","v":0},{"$f":"Balanza!C638","v":0}]
["52700","TRANSFERENCIAS A LA SEGURIDAD SOCIAL",null,null,null,null,null,null,null,null,null,null,null,null,null,null,null,null,null,null,null,null,null,null,null,null,null,null,null,null,null,null,null,null,null,null,null,null,null,null,null,null,null,null,null,null,null,null,null,{"$f":"SUM(AX434)","v":0},{"$f":"SUM(AY434)","v":0}]
["52710","Transferencias por obligaciones de ley",null,null,null,null,null,null,null,null,null,null,null,null,null,null,null,null,null,null,null,null,null,null,null,null,null,null,null,null,null,null,null,null,null,null,null,null,null,null,null,null,null,null,null,null,null,null,null,{"$f":"SUM(AX435)","v":0},{"$f":"SUM(AY435)","v":0}]
["52710-1","  Transferencias por obligación de ley",null,null,null,null,null,null,null,null,null,null,null,null,null,null,null,null,null,null,null,null,null,null,null,null,null,null,null,null,null,null,null,null,null,null,null,null,null,null,null,null,null,null,null,null,null,null,null,{"$f":"Balanza!G641","v":0},{"$f":"Balanza!C641","v":0}]
["52800","DONATIVOS",null,null,null,null,null,null,null,null,null,null,null,null,null,null,null,null,null,null,null,null,null,null,null,null,null,null,null,null,null,null,null,null,null,null,null,null,null,null,null,null,null,null,null,null,null,null,null,{"$f":"AX437+AX439+AX441+AX443+AX445","v":0},{"$f":"AY437+AY439+AY441+AY443+AY445","v":0}]
["52810","Donativos a instituciones sin fines de lucro",null,null,null,null,null,null,null,null,null,null,null,null,null,null,null,null,null,null,null,null,null,null,null,null,null,null,null,null,null,null,null,null,null,null,null,null,null,null,null,null,null,null,null,null,null,null,null,{"$f":"SUM(AX438)","v":0},{"$f":"SUM(AY438)","v":0}]
["52810-1","  Donativos a instituciones sin fines de lucro",null,null,null,null,null,null,null,null,null,null,null,null,null,null,null,null,null,null,null,null,null,null,null,null,null,null,null,null,null,null,null,null,null,null,null,null,null,null,null,null,null,null,null,null,null,null,null,{"$f":"Balanza!G644","v":0},{"$f":"Balanza!C644","v":0}]
["52820","Donativos a entidades federativas y municipios",null,null,null,null,null,null,null,null,null,null,null,null,null,null,null,null,null,null,null,null,null,null,null,null,null,null,null,null,null,null,null,null,null,null,null,null,null,null,null,null,null,null,null,null,null,null,null,{"$f":"SUM(AX440)","v":0},{"$f":"SUM(AY440)","v":0}]
["52820-1","  Donativos a entidades federativas ",null,null,null,null,null,null,null,null,null,null,null,null,null,null,null,null,null,null,null,null,null,null,null,null,null,null,null,null,null,null,null,null,null,null,null,null,null,null,null,null,null,null,null,null,null,null,null,{"$f":"Balanza!G646","v":0},{"$f":"Balanza!C646","v":0}]
["52830","Donativos a fideicomisos, mandatos y contratos análogos privados",null,null,null,null,null,null,null,null,null,null,null,null,null,null,null,null,null,null,null,null,null,null,null,null,null,null,null,null,null,null,null,null,null,null,null,null,null,null,null,null,null,null,null,null,null,null,null,{"$f":"SUM(AX442)","v":0},{"$f":"SUM(AY442)","v":0}]
["52830-1","  Donativos a fideicomisos privados",null,null,null,null,null,null,null,null,null,null,null,null,null,null,null,null,null,null,null,null,null,null,null,null,null,null,null,null,null,null,null,null,null,null,null,null,null,null,null,null,null,null,null,null,null,null,null,{"$f":"Balanza!G648","v":0},{"$f":"Balanza!C648","v":0}]
["52840","Donativos a fideicomisos, mandatos y contratos análogos estatales",null,null,null,null,null,null,null,null,null,null,null,null,null,null,null,null,null,null,null,null,null,null,null,null,null,null,null,null,null,null,null,null,null,null,null,null,null,null,null,null,null,null,null,null,null,null,null,{"$f":"SUM(AX444)","v":0},{"$f":"SUM(AY444)","v":0}]
["52840-1","  Donativos a fideicomisos estatales",null,null,null,null,null,null,null,null,null,null,null,null,null,null,null,null,null,null,null,null,null,null,null,null,null,null,null,null,null,null,null,null,null,null,null,null,null,null,null,null,null,null,null,null,null,null,null,{"$f":"Balanza!G650","v":0},{"$f":"Balanza!C650","v":0}]
["52850","Donativos internacional",null,null,null,null,null,null,null,null,null,null,null,null,null,null,null,null,null,null,null,null,null,null,null,null,null,null,null,null,null,null,null,null,null,null,null,null,null,null,null,null,null,null,null,null,null,null,null,{"$f":"SUM(AX446)","v":0},{"$f":"SUM(AY446)","v":0}]
["52850-1","  Donativos internacional",null,null,null,null,null,null,null,null,null,null,null,null,null,null,null,null,null,null,null,null,null,null,null,null,null,null,null,null,null,null,null,null,null,null,null,null,null,null,null,null,null,null,null,null,null,null,null,{"$f":"Balanza!G652","v":0},{"$f":"Balanza!C652","v":0}]
["52900","TRANSFERENCIAS AL EXTERIOR",null,null,null,null,null,null,null,null,null,null,null,null,null,null,null,null,null,null,null,null,null,null,null,null,null,null,null,null,null,null,null,null,null,null,null,null,null,null,null,null,null,null,null,null,null,null,null,{"$f":"AX448+AX451","v":0},{"$f":"AY448+AY451","v":0}]
["52910","Transferencias al exterior a gobiernos extranjeros y organismos internacionales",null,null,null,null,null,null,null,null,null,null,null,null,null,null,null,null,null,null,null,null,null,null,null,null,null,null,null,null,null,null,null,null,null,null,null,null,null,null,null,null,null,null,null,null,null,null,null,{"$f":"SUM(AX449:AX450)","v":0},{"$f":"SUM(AY449:AY450)","v":0}]
["52910-1","Transferencias para gobiernos extranjeros",null,null,null,null,null,null,null,null,null,null,null,null,null,null,null,null,null,null,null,null,null,null,null,null,null,null,null,null,null,null,null,null,null,null,null,null,null,null,null,null,null,null,null,null,null,null,null,{"$f":"Balanza!G655","v":0},{"$f":"Balanza!C655","v":0}]
["52910-2","Transferencias para organismos internacionales",null,null,null,null,null,null,null,null,null,null,null,null,null,null,null,null,null,null,null,null,null,null,null,null,null,null,null,null,null,null,null,null,null,null,null,null,null,null,null,null,null,null,null,null,null,null,null,{"$f":"Balanza!G656","v":0},{"$f":"Balanza!C656","v":0}]
["52920","Transferencias al sector privado externo",null,null,null,null,null,null,null,null,null,null,null,null,null,null,null,null,null,null,null,null,null,null,null,null,null,null,null,null,null,null,null,null,null,null,null,null,null,null,null,null,null,null,null,null,null,null,null,{"$f":"SUM(AX452)","v":0},{"$f":"SUM(AY452)","v":0}]
["52920-1","  Transferencias para el sector privado externo",null,null,null,null,null,null,null,null,null,null,null,null,null,null,null,null,null,null,null,null,null,null,null,null,null,null,null,null,null,null,null,null,null,null,null,null,null,null,null,null,null,null,null,null,null,null,null,{"$f":"Balanza!G658","v":0},{"$f":"Balanza!C658","v":0}]
["53000"," PARTICIPACIONES Y APORTACIONES",null,null,null,null,null,null,null,null,null,null,null,null,null,null,null,null,null,null,null,null,null,null,null,null,null,null,null,null,null,null,null,null,null,null,null,null,null,null,null,null,null,null,null,null,null,null,null,{"$f":"AX454+AX463+AX471","v":0},{"$f":"AY454+AY463+AY471","v":0}]
["53100","PARTICIPACIONES",null,null,null,null,null,null,null,null,null,null,null,null,null,null,null,null,null,null,null,null,null,null,null,null,null,null,null,null,null,null,null,null,null,null,null,null,null,null,null,null,null,null,null,null,null,null,null,{"$f":"AX455+AX459","v":0},{"$f":"AY455+AY459","v":0}]
["53110","Participaciones de la federación a entidades federativas y municipios",null,null,null,null,null,null,null,null,null,null,null,null,null,null,null,null,null,null,null,null,null,null,null,null,null,null,null,null,null,null,null,null,null,null,null,null,null,null,null,null,null,null,null,null,null,null,null,{"$f":"SUM(AX456:AX458)","v":0},{"$f":"SUM(AY456:AY458)","v":0}]
["53110-1","  Fondo general de participaciones",null,null,null,null,null,null,null,null,null,null,null,null,null,null,null,null,null,null,null,null,null,null,null,null,null,null,null,null,null,null,null,null,null,null,null,null,null,null,null,null,null,null,null,null,null,null,null,{"$f":"Balanza!G662","v":0},{"$f":"Balanza!C662","v":0}]
["53110-2","  Otros conceptos participables de la Federación a entidades federativas",null,null,null,null,null,null,null,null,null,null,null,null,null,null,null,null,null,null,null,null,null,null,null,null,null,null,null,null,null,null,null,null,null,null,null,null,null,null,null,null,null,null,null,null,null,null,null,{"$f":"Balanza!G663","v":0},{"$f":"Balanza!C663","v":0}]
["53110-3","  Fondo de fomento municipal",null,null,null,null,null,null,null,null,null,null,null,null,null,null,null,null,null,null,null,null,null,null,null,null,null,null,null,null,null,null,null,null,null,null,null,null,null,null,null,null,null,null,null,null,null,null,null,{"$f":"Balanza!G664","v":0},{"$f":"Balanza!C664","v":0}]
["53120","Participaciones de las entidades federativas a los municipios",null,null,null,null,null,null,null,null,null,null,null,null,null,null,null,null,null,null,null,null,null,null,null,null,null,null,null,null,null,null,null,null,null,null,null,null,null,null,null,null,null,null,null,null,null,null,null,{"$f":"SUM(AX460:AX462)","v":0},{"$f":"SUM(AY460:AY462)","v":0}]
["53120-1","  Participaciones de las entidades federativas a los municipios",null,null,null,null,null,null,null,null,null,null,null,null,null,null,null,null,null,null,null,null,null,null,null,null,null,null,null,null,null,null,null,null,null,null,null,null,null,null,null,null,null,null,null,null,null,null,null,{"$f":"Balanza!G666","v":0},{"$f":"Balanza!C666","v":0}]
["53120-2","  Otros conceptos participables de la Federación a municipios",null,null,null,null,null,null,null,null,null,null,null,null,null,null,null,null,null,null,null,null,null,null,null,null,null,null,null,null,null,null,null,null,null,null,null,null,null,null,null,null,null,null,null,null,null,null,null,{"$f":"Balanza!G667","v":0},{"$f":"Balanza!C667","v":0}]
["53120-3","  Convenios de colaboración administrativa",null,null,null,null,null,null,null,null,null,null,null,null,null,null,null,null,null,null,null,null,null,null,null,null,null,null,null,null,null,null,null,null,null,null,null,null,null,null,null,null,null,null,null,null,null,null,null,{"$f":"Balanza!G668","v":0},{"$f":"Balanza!C668","v":0}]
["53200","APORTACIONES",null,null,null,null,null,null,null,null,null,null,null,null,null,null,null,null,null,null,null,null,null,null,null,null,null,null,null,null,null,null,null,null,null,null,null,null,null,null,null,null,null,null,null,null,null,null,null,{"$f":"AX464+AX469","v":0},{"$f":"AY464+AY469","v":0}]
["53210","Aportaciones de la federación a entidades federativas y municipios",null,null,null,null,null,null,null,null,null,null,null,null,null,null,null,null,null,null,null,null,null,null,null,null,null,null,null,null,null,null,null,null,null,null,null,null,null,null,null,null,null,null,null,null,null,null,null,0,0]
["53210-1","  Aportaciones de la Federación a las entidades federativas",null,null,null,null,null,null,null,null,null,null,null,null,null,null,null,null,null,null,null,null,null,null,null,null,null,null,null,null,null,null,null,null,null,null,null,null,null,null,null,null,null,null,null,null,null,null,null,{"$f":"Balanza!G671","v":0},{"$f":"Balanza!C671","v":0}]
["53210-2","  Aportaciones de la Federación a municipios",null,null,null,null,null,null,null,null,null,null,null,null,null,null,null,null,null,null,null,null,null,null,null,null,null,null,null,null,null,null,null,null,null,null,null,null,null,null,null,null,null,null,null,null,null,null,null,{"$f":"Balanza!G672","v":0},{"$f":"Balanza!C672","v":0}]
["53210-3","  Aportaciones  previstas en leyes y decretos al sistema de protección social",null,null,null,null,null,null,null,null,null,null,null,null,null,null,null,null,null,null,null,null,null,null,null,null,null,null,null,null,null,null,null,null,null,null,null,null,null,null,null,null,null,null,null,null,null,null,null,{"$f":"Balanza!G673","v":0},{"$f":"Balanza!C673","v":0}]
["53210-4","  Aportaciones previstas en leyes y decretos compensatorias a entidades federativas y municipios",null,null,null,null,null,null,null,null,null,null,null,null,null,null,null,null,null,null,null,null,null,null,null,null,null,null,null,null,null,null,null,null,null,null,null,null,null,null,null,null,null,null,null,null,null,null,null,{"$f":"Balanza!G674","v":0},{"$f":"Balanza!C674","v":0}]
["53220","Aportaciones de las entidades federativas a los municipios",null,null,null,null,null,null,null,null,null,null,null,null,null,null,null,null,null,null,null,null,null,null,null,null,null,null,null,null,null,null,null,null,null,null,null,null,null,null,null,null,null,null,null,null,null,null,null,{"$f":"SUM(AX470)","v":0},{"$f":"SUM(AY470)","v":0}]
["53220-1","  Aportaciones de las entidades federativas a los municipios",null,null,null,null,null,null,null,null,null,null,null,null,null,null,null,null,null,null,null,null,null,null,null,null,null,null,null,null,null,null,null,null,null,null,null,null,null,null,null,null,null,null,null,null,null,null,null,{"$f":"Balanza!G676","v":0},{"$f":"Balanza!C676","v":0}]
["53300","CONVENIOS",null,null,null,null,null,null,null,null,null,null,null,null,null,null,null,null,null,null,null,null,null,null,null,null,null,null,null,null,null,null,null,null,null,null,null,null,null,null,null,null,null,null,null,null,null,null,null,{"$f":"AX472+AX474","v":0},{"$f":"AY472+AY474","v":0}]
["53310","Convenios de reasignación",null,null,null,null,null,null,null,null,null,null,null,null,null,null,null,null,null,null,null,null,null,null,null,null,null,null,null,null,null,null,null,null,null,null,null,null,null,null,null,null,null,null,null,null,null,null,null,{"$f":"SUM(AX473)","v":0},{"$f":"SUM(AY473)","v":0}]
["53310-1","  Convenios de reasignación",null,null,null,null,null,null,null,null,null,null,null,null,null,null,null,null,null,null,null,null,null,null,null,null,null,null,null,null,null,null,null,null,null,null,null,null,null,null,null,null,null,null,null,null,null,null,null,{"$f":"Balanza!G679","v":0},{"$f":"Balanza!C679","v":0}]
["53320","Convenios de descentralización y otros",null,null,null,null,null,null,null,null,null,null,null,null,null,null,null,null,null,null,null,null,null,null,null,null,null,null,null,null,null,null,null,null,null,null,null,null,null,null,null,null,null,null,null,null,null,null,null,{"$f":"SUM(AX475:AX476)","v":0},{"$f":"SUM(AY475:AY476)","v":0}]
["53320-1","  Convenios de descentralización",null,null,null,null,null,null,null,null,null,null,null,null,null,null,null,null,null,null,null,null,null,null,null,null,null,null,null,null,null,null,null,null,null,null,null,null,null,null,null,null,null,null,null,null,null,null,null,{"$f":"Balanza!G681","v":0},{"$f":"Balanza!C681","v":0}]
["53320-2","  Otros convenios",null,null,null,null,null,null,null,null,null,null,null,null,null,null,null,null,null,null,null,null,null,null,null,null,null,null,null,null,null,null,null,null,null,null,null,null,null,null,null,null,null,null,null,null,null,null,null,{"$f":"Balanza!G682","v":0},{"$f":"Balanza!C682","v":0}]
["54000"," INTERESES, COMISIONES Y OTROS GASTOS DE LA DEUDA PÚBLICA",null,null,null,null,null,null,null,null,null,null,null,null,null,null,null,null,null,null,null,null,null,null,null,null,null,null,null,null,null,null,null,null,null,null,null,null,null,null,null,null,null,null,null,null,null,null,null,{"$f":"AX478+AX489+AX494+AX499+AX502","v":0},{"$f":"AY478+AY489+AY494+AY499+AY502","v":0}]
["54100","INTERESES DE LA DEUDA PÚBLICA",null,null,null,null,null,null,null,null,null,null,null,null,null,null,null,null,null,null,null,null,null,null,null,null,null,null,null,null,null,null,null,null,null,null,null,null,null,null,null,null,null,null,null,null,null,null,null,{"$f":"AX479+AX483","v":0},{"$f":"AY479+AY483","v":0}]
["54110","Intereses de la deuda pública interna",null,null,null,null,null,null,null,null,null,null,null,null,null,null,null,null,null,null,null,null,null,null,null,null,null,null,null,null,null,null,null,null,null,null,null,null,null,null,null,null,null,null,null,null,null,null,null,{"$f":"SUM(AX480:AX482)","v":0},{"$f":"SUM(AY480:AY482)","v":0}]
["54110-1","  Intereses de la deuda interna con instituciones de crédito",null,null,null,null,null,null,null,null,null,null,null,null,null,null,null,null,null,null,null,null,null,null,null,null,null,null,null,null,null,null,null,null,null,null,null,null,null,null,null,null,null,null,null,null,null,null,null,{"$f":"Balanza!G686","v":0},{"$f":"Balanza!C686","v":0}]
["54110-2","  Intereses derivados de la colocación de títulos y valores",null,null,null,null,null,null,null,null,null,null,null,null,null,null,null,null,null,null,null,null,null,null,null,null,null,null,null,null,null,null,null,null,null,null,null,null,null,null,null,null,null,null,null,null,null,null,null,{"$f":"Balanza!G687","v":0},{"$f":"Balanza!C687","v":0}]
["54110-3","  Intereses por arrendamientos  financieros nacionales",null,null,null,null,null,null,null,null,null,null,null,null,null,null,null,null,null,null,null,null,null,null,null,null,null,null,null,null,null,null,null,null,null,null,null,null,null,null,null,null,null,null,null,null,null,null,null,{"$f":"Balanza!G688","v":0},{"$f":"Balanza!C688","v":0}]
["54120","Intereses de la deuda pública externa",null,null,null,null,null,null,null,null,null,null,null,null,null,null,null,null,null,null,null,null,null,null,null,null,null,null,null,null,null,null,null,null,null,null,null,null,null,null,null,null,null,null,null,null,null,null,null,{"$f":"SUM(AX484:AX488)","v":0},{"$f":"SUM(AY484:AY488)","v":0}]
["54120-1","  Intereses de la deuda externa con instituciones de crédito ",null,null,null,null,null,null,null,null,null,null,null,null,null,null,null,null,null,null,null,null,null,null,null,null,null,null,null,null,null,null,null,null,null,null,null,null,null,null,null,null,null,null,null,null,null,null,null,{"$f":"Balanza!G690","v":0},{"$f":"Balanza!C690","v":0}]
["54120-2","  Intereses de la deuda con organismos financieros internacionales",null,null,null,null,null,null,null,null,null,null,null,null,null,null,null,null,null,null,null,null,null,null,null,null,null,null,null,null,null,null,null,null,null,null,null,null,null,null,null,null,null,null,null,null,null,null,null,{"$f":"Balanza!G691","v":0},{"$f":"Balanza!C691","v":0}]
["54120-3","  Intereses de la deuda bilateral  ",null,null,null,null,null,null,null,null,null,null,null,null,null,null,null,null,null,null,null,null,null,null,null,null,null,null,null,null,null,null,null,null,null,null,null,null,null,null,null,null,null,null,null,null,null,null,null,{"$f":"Balanza!G692","v":0},{"$f":"Balanza!C692","v":0}]
["54120-4","  Intereses derivados de la colocación de títulos y valores en el exterior",null,null,null,null,null,null,null,null,null,null,null,null,null,null,null,null,null,null,null,null,null,null,null,null,null,null,null,null,null,null,null,null,null,null,null,null,null,null,null,null,null,null,null,null,null,null,null,{"$f":"Balanza!G693","v":0},{"$f":"Balanza!C693","v":0}]
["54120-5","  Intereses por arrendamientos financieros internacionales",null,null,null,null,null,null,null,null,null,null,null,null,null,null,null,null,null,null,null,null,null,null,null,null,null,null,null,null,null,null,null,null,null,null,null,null,null,null,null,null,null,null,null,null,null,null,null,{"$f":"Balanza!G694","v":0},{"$f":"Balanza!C694","v":0}]
["54200","COMISIONES DE LA DEUDA PÚBLICA",null,null,null,null,null,null,null,null,null,null,null,null,null,null,null,null,null,null,null,null,null,null,null,null,null,null,null,null,null,null,null,null,null,null,null,null,null,null,null,null,null,null,null,null,null,null,null,{"$f":"AX490+AX492","v":0},{"$f":"AY490+AY492","v":0}]
["54210","Comisiones de la deuda pública interna",null,null,null,null,null,null,null,null,null,null,null,null,null,null,null,null,null,null,null,null,null,null,null,null,null,null,null,null,null,null,null,null,null,null,null,null,null,null,null,null,null,null,null,null,null,null,null,{"$f":"SUM(AX491)","v":0},{"$f":"SUM(AY491)","v":0}]
["54210-1","  Comisiones de la deuda pública interna",null,null,null,null,null,null,null,null,null,null,null,null,null,null,null,null,null,null,null,null,null,null,null,null,null,null,null,null,null,null,null,null,null,null,null,null,null,null,null,null,null,null,null,null,null,null,null,{"$f":"Balanza!G697","v":0},{"$f":"Balanza!C697","v":0}]
["54220","Comisiones de la deuda pública externa",null,null,null,null,null,null,null,null,null,null,null,null,null,null,null,null,null,null,null,null,null,null,null,null,null,null,null,null,null,null,null,null,null,null,null,null,null,null,null,null,null,null,null,null,null,null,null,{"$f":"SUM(AX493)","v":0},{"$f":"SUM(AY493)","v":0}]
["54220-1","  Comisiones de la deuda pública externa",null,null,null,null,null,null,null,null,null,null,null,null,null,null,null,null,null,null,null,null,null,null,null,null,null,null,null,null,null,null,null,null,null,null,null,null,null,null,null,null,null,null,null,null,null,null,null,{"$f":"Balanza!G699","v":0},{"$f":"Balanza!C699","v":0}]
["54300","GASTOS DE LA DEUDA PÚBLICA",null,null,null,null,null,null,null,null,null,null,null,null,null,null,null,null,null,null,null,null,null,null,null,null,null,null,null,null,null,null,null,null,null,null,null,null,null,null,null,null,null,null,null,null,null,null,null,{"$f":"AX495+AX497","v":0},{"$f":"AY495+AY497","v":0}]
["54310","Gastos de la deuda pública interna",null,null,null,null,null,null,null,null,null,null,null,null,null,null,null,null,null,null,null,null,null,null,null,null,null,null,null,null,null,null,null,null,null,null,null,null,null,null,null,null,null,null,null,null,null,null,null,{"$f":"SUM(AX496)","v":0},{"$f":"SUM(AY496)","v":0}]
["54310-1","  Gastos de la deuda pública interna",null,null,null,null,null,null,null,null,null,null,null,null,null,null,null,null,null,null,null,null,null,null,null,null,null,null,null,null,null,null,null,null,null,null,null,null,null,null,null,null,null,null,null,null,null,null,null,{"$f":"Balanza!G702","v":0},{"$f":"Balanza!C702","v":0}]
["54320","Gastos de la deuda pública externa",null,null,null,null,null,null,null,null,null,null,null,null,null,null,null,null,null,null,null,null,null,null,null,null,null,null,null,null,null,null,null,null,null,null,null,null,null,null,null,null,null,null,null,null,null,null,null,{"$f":"SUM(AX498)","v":0},{"$f":"SUM(AY498)","v":0}]
["54320-1","  Gastos de la deuda pública externa",null,null,null,null,null,null,null,null,null,null,null,null,null,null,null,null,null,null,null,null,null,null,null,null,null,null,null,null,null,null,null,null,null,null,null,null,null,null,null,null,null,null,null,null,null,null,null,{"$f":"Balanza!G704","v":0},{"$f":"Balanza!C704","v":0}]
["54400","COSTO POR COBERTURAS",null,null,null,null,null,null,null,null,null,null,null,null,null,null,null,null,null,null,null,null,null,null,null,null,null,null,null,null,null,null,null,null,null,null,null,null,null,null,null,null,null,null,null,null,null,null,null,{"$f":"AX500","v":0},{"$f":"AY500","v":0}]
["54410","Costo por coberturas",null,null,null,null,null,null,null,null,null,null,null,null,null,null,null,null,null,null,null,null,null,null,null,null,null,null,null,null,null,null,null,null,null,null,null,null,null,null,null,null,null,null,null,null,null,null,null,{"$f":"SUM(AX501)","v":0},{"$f":"SUM(AY501)","v":0}]
["54410-1","  Costo por coberturas",null,null,null,null,null,null,null,null,null,null,null,null,null,null,null,null,null,null,null,null,null,null,null,null,null,null,null,null,null,null,null,null,null,null,null,null,null,null,null,null,null,null,null,null,null,null,null,{"$f":"Balanza!G707","v":0},{"$f":"Balanza!C707","v":0}]
["54500","APOYOS FINANCIEROS",null,null,null,null,null,null,null,null,null,null,null,null,null,null,null,null,null,null,null,null,null,null,null,null,null,null,null,null,null,null,null,null,null,null,null,null,null,null,null,null,null,null,null,null,null,null,null,{"$f":"AX503+AX505","v":0},{"$f":"AY503+AY505","v":0}]
["54510","Apoyos financieros a intermediarios",null,null,null,null,null,null,null,null,null,null,null,null,null,null,null,null,null,null,null,null,null,null,null,null,null,null,null,null,null,null,null,null,null,null,null,null,null,null,null,null,null,null,null,null,null,null,null,{"$f":"SUM(AX504)","v":0},{"$f":"SUM(AY504)","v":0}]
["54510-1","  Apoyos financieros a intermediarios",null,null,null,null,null,null,null,null,null,null,null,null,null,null,null,null,null,null,null,null,null,null,null,null,null,null,null,null,null,null,null,null,null,null,null,null,null,null,null,null,null,null,null,null,null,null,null,{"$f":"Balanza!G710","v":0},{"$f":"Balanza!C710","v":0}]
["54520","Apoyos financieros a ahorradores y deudores del sistema financiero nacional",null,null,null,null,null,null,null,null,null,null,null,null,null,null,null,null,null,null,null,null,null,null,null,null,null,null,null,null,null,null,null,null,null,null,null,null,null,null,null,null,null,null,null,null,null,null,null,{"$f":"SUM(AX506)","v":0},{"$f":"SUM(AY506)","v":0}]
["54520-1","  Apoyos financieros a ahorradores y deudores del sistema financiero nacional",null,null,null,null,null,null,null,null,null,null,null,null,null,null,null,null,null,null,null,null,null,null,null,null,null,null,null,null,null,null,null,null,null,null,null,null,null,null,null,null,null,null,null,null,null,null,null,{"$f":"Balanza!G712","v":0},{"$f":"Balanza!C712","v":0}]
["55000"," OTROS GASTOS Y PÉRDIDAS EXTRAORDINARIAS",null,null,null,null,null,null,null,null,null,null,null,null,null,null,null,null,null,null,null,null,null,null,null,null,null,null,null,null,null,null,null,null,null,null,null,null,null,null,null,null,null,null,null,null,null,null,null,{"$f":"AX508+AX517+AX520+AX526","v":0},{"$f":"AY508+AY517+AY520+AY526","v":0}]
["55100","ESTIMACIONES, DEPRECIACIONES, DETERIOROS, OBSOLESCENCIA Y AMORTIZACIONES",null,null,null,null,null,null,null,null,null,null,null,null,null,null,null,null,null,null,null,null,null,null,null,null,null,null,null,null,null,null,null,null,null,null,null,null,null,null,null,null,null,null,null,null,null,null,null,{"$f":"SUM(AX509:AX516)","v":0},{"$f":"SUM(AY509:AY516)","v":0}]
["55110","Estimaciones de pérdida por deterioro de activos circulantes",null,null,null,null,null,null,null,null,null,null,null,null,null,null,null,null,null,null,null,null,null,null,null,null,null,null,null,null,null,null,null,null,null,null,null,null,null,null,null,null,null,null,null,null,null,null,null,{"$f":"Balanza!G715","v":0},{"$f":"Balanza!C715","v":0}]
["55120","Estimaciones de pérdida por deterioro de activo no circulante",null,null,null,null,null,null,null,null,null,null,null,null,null,null,null,null,null,null,null,null,null,null,null,null,null,null,null,null,null,null,null,null,null,null,null,null,null,null,null,null,null,null,null,null,null,null,null,{"$f":"Balanza!G716","v":0},{"$f":"Balanza!C716","v":0}]
["55130","Depreciación de bienes inmuebles",null,null,null,null,null,null,null,null,null,null,null,null,null,null,null,null,null,null,null,null,null,null,null,null,null,null,null,null,null,null,null,null,null,null,null,null,null,null,null,null,null,null,null,null,null,null,null,{"$f":"Balanza!G717","v":0},{"$f":"Balanza!C717","v":0}]
["55140","Depreciación de infraestructura",null,null,null,null,null,null,null,null,null,null,null,null,null,null,null,null,null,null,null,null,null,null,null,null,null,null,null,null,null,null,null,null,null,null,null,null,null,null,null,null,null,null,null,null,null,null,null,{"$f":"Balanza!G718","v":0},{"$f":"Balanza!C718","v":0}]
["55150","Depreciación de bienes muebles",null,null,null,null,null,null,null,null,null,null,null,null,null,null,null,null,null,null,null,null,null,null,null,null,null,null,null,null,null,null,null,null,null,null,null,null,null,null,null,null,null,null,null,null,null,null,null,{"$f":"Balanza!G719","v":0},{"$f":"Balanza!C719","v":0}]
["55160","Deterioro de bienes",null,null,null,null,null,null,null,null,null,null,null,null,null,null,null,null,null,null,null,null,null,null,null,null,null,null,null,null,null,null,null,null,null,null,null,null,null,null,null,null,null,null,null,null,null,null,null,{"$f":"Balanza!G720","v":0},{"$f":"Balanza!C720","v":0}]
["55170","Amortización de activos intangibles",null,null,null,null,null,null,null,null,null,null,null,null,null,null,null,null,null,null,null,null,null,null,null,null,null,null,null,null,null,null,null,null,null,null,null,null,null,null,null,null,null,null,null,null,null,null,null,{"$f":"Balanza!G721","v":0},{"$f":"Balanza!C721","v":0}]
["55180","Disminución de bienes por pérdida u obsolescencia",null,null,null,null,null,null,null,null,null,null,null,null,null,null,null,null,null,null,null,null,null,null,null,null,null,null,null,null,null,null,null,null,null,null,null,null,null,null,null,null,null,null,null,null,null,null,null,{"$f":"Balanza!G722","v":0},{"$f":"Balanza!C722","v":0}]
["55200","PROVISIONES  ",null,null,null,null,null,null,null,null,null,null,null,null,null,null,null,null,null,null,null,null,null,null,null,null,null,null,null,null,null,null,null,null,null,null,null,null,null,null,null,null,null,null,null,null,null,null,null,{"$f":"SUM(AX518:AX519)","v":0},{"$f":"SUM(AY518:AY519)","v":0}]
["55210","Provisiones de pasivos a corto plazo",null,null,null,null,null,null,null,null,null,null,null,null,null,null,null,null,null,null,null,null,null,null,null,null,null,null,null,null,null,null,null,null,null,null,null,null,null,null,null,null,null,null,null,null,null,null,null,{"$f":"Balanza!G724","v":0},{"$f":"Balanza!C724","v":0}]
["55220","Provisiones de pasivos a largo plazo",null,null,null,null,null,null,null,null,null,null,null,null,null,null,null,null,null,null,null,null,null,null,null,null,null,null,null,null,null,null,null,null,null,null,null,null,null,null,null,null,null,null,null,null,null,null,null,{"$f":"Balanza!G725","v":0},{"$f":"Balanza!C725","v":0}]
["55300","DISMINUCIÓN DE INVENTARIOS",null,null,null,null,null,null,null,null,null,null,null,null,null,null,null,null,null,null,null,null,null,null,null,null,null,null,null,null,null,null,null,null,null,null,null,null,null,null,null,null,null,null,null,null,null,null,null,{"$f":"SUM(AX521:AX525)","v":0},{"$f":"SUM(AY521:AY525)","v":0}]
["55310","Disminución de inventarios de mercancías para venta",null,null,null,null,null,null,null,null,null,null,null,null,null,null,null,null,null,null,null,null,null,null,null,null,null,null,null,null,null,null,null,null,null,null,null,null,null,null,null,null,null,null,null,null,null,null,null,{"$f":"Balanza!G727","v":0},{"$f":"Balanza!C727","v":0}]
["55320","Disminución de inventarios de mercancías terminadas",null,null,null,null,null,null,null,null,null,null,null,null,null,null,null,null,null,null,null,null,null,null,null,null,null,null,null,null,null,null,null,null,null,null,null,null,null,null,null,null,null,null,null,null,null,null,null,{"$f":"Balanza!G728","v":0},{"$f":"Balanza!C728","v":0}]
["55330","Disminución de inventarios de mercancías en proceso de elaboración",null,null,null,null,null,null,null,null,null,null,null,null,null,null,null,null,null,null,null,null,null,null,null,null,null,null,null,null,null,null,null,null,null,null,null,null,null,null,null,null,null,null,null,null,null,null,null,{"$f":"Balanza!G729","v":0},{"$f":"Balanza!C729","v":0}]
["55340","Disminución de inventarios de materias primas, materiales y suministros para producción",null,null,null,null,null,null,null,null,null,null,null,null,null,null,null,null,null,null,null,null,null,null,null,null,null,null,null,null,null,null,null,null,null,null,null,null,null,null,null,null,null,null,null,null,null,null,null,{"$f":"Balanza!G730","v":0},{"$f":"Balanza!C730","v":0}]
["55350","Disminución de almacén de materiales y suministros de consumo",null,null,null,null,null,null,null,null,null,null,null,null,null,null,null,null,null,null,null,null,null,null,null,null,null,null,null,null,null,null,null,null,null,null,null,null,null,null,null,null,null,null,null,null,null,null,null,{"$f":"Balanza!G731","v":0},{"$f":"Balanza!C731","v":0}]
["55900","OTROS GASTOS",null,null,null,null,null,null,null,null,null,null,null,null,null,null,null,null,null,null,null,null,null,null,null,null,null,null,null,null,null,null,null,null,null,null,null,null,null,null,null,null,null,null,null,null,null,null,null,{"$f":"SUM(AX527:AX535)","v":0},{"$f":"SUM(AY527:AY535)","v":0}]
["55910","Gastos de ejercicios anteriores",null,null,null,null,null,null,null,null,null,null,null,null,null,null,null,null,null,null,null,null,null,null,null,null,null,null,null,null,null,null,null,null,null,null,null,null,null,null,null,null,null,null,null,null,null,null,null,{"$f":"Balanza!G737","v":0},{"$f":"Balanza!C737","v":0}]
["55920","Pérdidas por responsabilidades",null,null,null,null,null,null,null,null,null,null,null,null,null,null,null,null,null,null,null,null,null,null,null,null,null,null,null,null,null,null,null,null,null,null,null,null,null,null,null,null,null,null,null,null,null,null,null,{"$f":"Balanza!G738","v":0},{"$f":"Balanza!C738","v":0}]
["55930","Bonificaciones y descuentos otorgados",null,null,null,null,null,null,null,null,null,null,null,null,null,null,null,null,null,null,null,null,null,null,null,null,null,null,null,null,null,null,null,null,null,null,null,null,null,null,null,null,null,null,null,null,null,null,null,{"$f":"Balanza!G739","v":0},{"$f":"Balanza!C739","v":0}]
["55940","Diferencias por tipo de cambio negativas",null,null,null,null,null,null,null,null,null,null,null,null,null,null,null,null,null,null,null,null,null,null,null,null,null,null,null,null,null,null,null,null,null,null,null,null,null,null,null,null,null,null,null,null,null,null,null,{"$f":"Balanza!G740","v":0},{"$f":"Balanza!C740","v":0}]
["55950","Diferencias de cotizaciones negativas en valores negociables",null,null,null,null,null,null,null,null,null,null,null,null,null,null,null,null,null,null,null,null,null,null,null,null,null,null,null,null,null,null,null,null,null,null,null,null,null,null,null,null,null,null,null,null,null,null,null,{"$f":"Balanza!G741","v":0},{"$f":"Balanza!C741","v":0}]
["55960","Resultado por posición monetaria",null,null,null,null,null,null,null,null,null,null,null,null,null,null,null,null,null,null,null,null,null,null,null,null,null,null,null,null,null,null,null,null,null,null,null,null,null,null,null,null,null,null,null,null,null,null,null,{"$f":"Balanza!G742","v":0},{"$f":"Balanza!C742","v":0}]
["55970","Pérdidas por participación patrimonial",null,null,null,null,null,null,null,null,null,null,null,null,null,null,null,null,null,null,null,null,null,null,null,null,null,null,null,null,null,null,null,null,null,null,null,null,null,null,null,null,null,null,null,null,null,null,null,{"$f":"Balanza!G743","v":0},{"$f":"Balanza!C743","v":0}]
["55980","Diferencias por reestructuración de deuda pública negativas",null,null,null,null,null,null,null,null,null,null,null,null,null,null,null,null,null,null,null,null,null,null,null,null,null,null,null,null,null,null,null,null,null,null,null,null,null,null,null,null,null,null,null,null,null,null,null,{"$f":"Balanza!G744","v":0},{"$f":"Balanza!C744","v":0}]
["55990","Otros gastos varios",null,null,null,null,null,null,null,null,null,null,null,null,null,null,null,null,null,null,null,null,null,null,null,null,null,null,null,null,null,null,null,null,null,null,null,null,null,null,null,null,null,null,null,null,null,null,null,{"$f":"Balanza!G745","v":0},{"$f":"Balanza!C745","v":0}]
["56000"," INVERSIÓN PÚBLICA",null,null,null,null,null,null,null,null,null,null,null,null,null,null,null,null,null,null,null,null,null,null,null,null,null,null,null,null,null,null,null,null,null,null,null,null,null,null,null,null,null,null,null,null,null,null,null,{"$f":"AX537","v":0},{"$f":"AY537","v":0}]
["56100","INVERSIÓN PÚBLICA NO CAPITALIZABLE",null,null,null,null,null,null,null,null,null,null,null,null,null,null,null,null,null,null,null,null,null,null,null,null,null,null,null,null,null,null,null,null,null,null,null,null,null,null,null,null,null,null,null,null,null,null,null,{"$f":"SUM(AX538)","v":0},{"$f":"SUM(AY538)","v":0}]
["56110","Construcción en bienes no capitalizables",null,null,null,null,null,null,null,null,null,null,null,null,null,null,null,null,null,null,null,null,null,null,null,null,null,null,null,null,null,null,null,null,null,null,null,null,null,null,null,null,null,null,null,null,null,null,null,{"$f":"Balanza!G748","v":0},{"$f":"Balanza!C748","v":0}]
[null,"TOTAL DE GASTOS Y OTRAS PERDIDAS",null,null,null,null,null,null,null,null,null,null,null,null,null,null,null,null,null,null,null,null,null,null,null,null,null,null,null,null,null,null,null,null,null,null,null,null,null,null,null,null,null,null,null,null,null,null,null,{"$f":"AX186+AX372+AX453+AX477+AX507+AX536","v":25589488.789999999},{"$f":"AY186+AY372+AY453+AY477+AY507+AY536","v":62725236.619999997}]
[null,"RESULTADO DEL EJERCICIO (AHORRO/DESAHORRO)",null,null,null,null,null,null,null,null,null,null,null,null,null,null,null,null,null,null,null,null,null,null,null,null,null,null,null,null,null,null,null,null,null,null,null,null,null,null,null,null,null,null,null,null,null,null,null,{"$f":"AX184-AX539","v":15577832.050000004},{"$f":"AY184-AY539","v":22631177.000000007}]
[]
[null,"Bajo protesta de decir verdad declaramos que los estados financieros y sus notas, son razonablemente correctos y son responsabilidad del emisor."]
[]
[]
[]
[]
[null,null,null,null,null,null,null,null,null,null,null,null,null,null,null,null,null,null,null,null,null,null,null,null,null,null,null,null,null,null,null,null,null,null,null,null,null,null,null,null,null,null,null,null,null,null,null," "]
[null,null,null,null,null,null,null,null,null,null,null,null,null,null,null,{"$f":"Validacion!A7","v":"C. José Ángel Prudencio Vargas"},null,null,null,null,null,null,null,null,null,null,null,null,null,null,null,null,null,null,null,null,null,null,null,null,null,null,null,null,null,null,null,{"$f":"Validacion!A9","v":"L.C.P. Regina Itzel Bedoya Cruz"}]
[]
[null,null,null,null,null,null,null,null,null,null,null,null,null,null,null,"Presidente Municipal o Títular del ente público",null,null,null,null,null,null,null,null,null,null,null,null,null,null,null,null,null,null,null,null,null,null,null,null,null,null,null,null,null,null,null,"Encargado de la Hacienda Pública Municipal o\n Responsable de las finanzas del ente público"]

{"sheet":"F6A","index":20,"n_rows":67,"n_cols":51,"rows_kept":67,"cut":false,"hidden":true,"merged":[[66,15,67,31],[66,47,67,50],[0,0,0,50],[1,0,1,50],[2,0,2,50],[4,1,4,48],[23,1,23,48],[56,1,56,48],[57,1,57,48],[63,15,63,31],[63,47,63,50],[64,15,65,31],[64,47,65,50]]}
[{"$f":"Validacion!A2","v":"Ayutla"}]
["ESTADO DE ACTIVIDADES"]
[{"$f":"'F9-EDP'!A3","v":"Del 1° de Enero al 30 de Septiembre de 2023"}]
[]
[null,"CONCEPTO",null,null,null,null,null,null,null,null,null,null,null,null,null,null,null,null,null,null,null,null,null,null,null,null,null,null,null,null,null,null,null,null,null,null,null,null,null,null,null,null,null,null,null,null,null,null,null,"2023","2022"]
[null,"INGRESOS Y OTROS BENEFICIOS"]
[null,"    Ingresos de Gestión",null,null,null,null,null,null,null,null,null,null,null,null,null,null,null,null,null,null,null,null,null,null,null,null,null,null,null,null,null,null,null,null,null,null,null,null,null,null,null,null,null,null,null,null,null,null,null,{"$f":"AX8+AX9+AX10+AX11+AX12+AX13+AX14","v":8169035.5200000005},{"$f":"AY8+AY9+AY10+AY11+AY12+AY13+AY14","v":10162303.850000001}]
[null,"        Impuestos",null,null,null,null,null,null,null,null,null,null,null,null,null,null,null,null,null,null,null,null,null,null,null,null,null,null,null,null,null,null,null,null,null,null,null,null,null,null,null,null,null,null,null,null,null,null,null,{"$f":"Balanza!H198","v":2967353.3},{"$f":"Balanza!D198","v":3775730.5}]
[null,"        Cuotas y aportaciones de seguridad social",null,null,null,null,null,null,null,null,null,null,null,null,null,null,null,null,null,null,null,null,null,null,null,null,null,null,null,null,null,null,null,null,null,null,null,null,null,null,null,null,null,null,null,null,null,null,null,{"$f":"Balanza!H219","v":0},{"$f":"Balanza!D219","v":0}]
[null,"        Contribuciones de mejoras",null,null,null,null,null,null,null,null,null,null,null,null,null,null,null,null,null,null,null,null,null,null,null,null,null,null,null,null,null,null,null,null,null,null,null,null,null,null,null,null,null,null,null,null,null,null,null,{"$f":"Balanza!H225","v":20229},{"$f":"Balanza!D225","v":78355.199999999997}]
[null,"        Derechos",null,null,null,null,null,null,null,null,null,null,null,null,null,null,null,null,null,null,null,null,null,null,null,null,null,null,null,null,null,null,null,null,null,null,null,null,null,null,null,null,null,null,null,null,null,null,null,{"$f":"Balanza!H230","v":4710921.1000000006},{"$f":"Balanza!D230","v":5364009.6899999995}]
[null,"        Productos",null,null,null,null,null,null,null,null,null,null,null,null,null,null,null,null,null,null,null,null,null,null,null,null,null,null,null,null,null,null,null,null,null,null,null,null,null,null,null,null,null,null,null,null,null,null,null,{"$f":"Balanza!H262","v":236390},{"$f":"Balanza!D262","v":380275.05}]
[null,"        Aprovechamiento",null,null,null,null,null,null,null,null,null,null,null,null,null,null,null,null,null,null,null,null,null,null,null,null,null,null,null,null,null,null,null,null,null,null,null,null,null,null,null,null,null,null,null,null,null,null,null,{"$f":"Balanza!H271","v":234142.12},{"$f":"Balanza!D271","v":563933.41}]
[null,"        Ingresos por venta de bienes y prestación de servicios",null,null,null,null,null,null,null,null,null,null,null,null,null,null,null,null,null,null,null,null,null,null,null,null,null,null,null,null,null,null,null,null,null,null,null,null,null,null,null,null,null,null,null,null,null,null,null,{"$f":"Balanza!H292","v":0},{"$f":"Balanza!D292","v":0}]
[null,"    Participaciones, Aportaciones, Convenios, Incentiv. derivdos de la colab. fisc, Fondos distintos de aport, Transf, Asig, Sub y Subve, y Pens. y Jub.",null,null,null,null,null,null,null,null,null,null,null,null,null,null,null,null,null,null,null,null,null,null,null,null,null,null,null,null,null,null,null,null,null,null,null,null,null,null,null,null,null,null,null,null,null,null,null,{"$f":"AX16+AX17","v":32998285.32},{"$f":"AY16+AY17","v":75194109.769999996}]
[null,"    Participaciones, Aportaciones, Convenios, Incentivos derivados de la colaboración fiscal y Fondos distintos de aportaciones",null,null,null,null,null,null,null,null,null,null,null,null,null,null,null,null,null,null,null,null,null,null,null,null,null,null,null,null,null,null,null,null,null,null,null,null,null,null,null,null,null,null,null,null,null,null,null,{"$f":"Balanza!H308","v":32998285.32},{"$f":"Balanza!D308","v":75194109.769999996}]
[null,"    Transferencias, Asignaciones, Subsidios y Subvenciones, Pensiones y Jubiliaciones",null,null,null,null,null,null,null,null,null,null,null,null,null,null,null,null,null,null,null,null,null,null,null,null,null,null,null,null,null,null,null,null,null,null,null,null,null,null,null,null,null,null,null,null,null,null,null,{"$f":"Balanza!H341","v":0},{"$f":"Balanza!D341","v":0}]
[null,"    Otros ingresos y beneficios",null,null,null,null,null,null,null,null,null,null,null,null,null,null,null,null,null,null,null,null,null,null,null,null,null,null,null,null,null,null,null,null,null,null,null,null,null,null,null,null,null,null,null,null,null,null,null,{"$f":"AX19+AX20+AX21+AX22+AX23","v":0},{"$f":"AY19+AY20+AY21+AY22+AY23","v":0}]
[null,"    Ingresos financieros",null,null,null,null,null,null,null,null,null,null,null,null,null,null,null,null,null,null,null,null,null,null,null,null,null,null,null,null,null,null,null,null,null,null,null,null,null,null,null,null,null,null,null,null,null,null,null,{"$f":"Balanza!H356","v":0},{"$f":"Balanza!D356","v":0}]
[null,"    Incremento por varación de inventarios",null,null,null,null,null,null,null,null,null,null,null,null,null,null,null,null,null,null,null,null,null,null,null,null,null,null,null,null,null,null,null,null,null,null,null,null,null,null,null,null,null,null,null,null,null,null,null,{"$f":"Balanza!H361","v":0},{"$f":"Balanza!D361","v":0}]
[null,"    Disminución del exceso de estimaciones por pérdida o deterioro u obsolecencia",null,null,null,null,null,null,null,null,null,null,null,null,null,null,null,null,null,null,null,null,null,null,null,null,null,null,null,null,null,null,null,null,null,null,null,null,null,null,null,null,null,null,null,null,null,null,null,{"$f":"Balanza!H367","v":0},{"$f":"Balanza!D367","v":0}]
[null,"    Disminución del exceso de provisiones",null,null,null,null,null,null,null,null,null,null,null,null,null,null,null,null,null,null,null,null,null,null,null,null,null,null,null,null,null,null,null,null,null,null,null,null,null,null,null,null,null,null,null,null,null,null,null,{"$f":"Balanza!H370","v":0},{"$f":"Balanza!D370","v":0}]
[null,"    Otros ingresos y beneficios varios",null,null,null,null,null,null,null,null,null,null,null,null,null,null,null,null,null,null,null,null,null,null,null,null,null,null,null,null,null,null,null,null,null,null,null,null,null,null,null,null,null,null,null,null,null,null,null,{"$f":"Balanza!H373","v":0},{"$f":"Balanza!D373","v":0}]
[null,"TOTAL DE INGRESOS Y OTROS BENEFICIOS",null,null,null,null,null,null,null,null,null,null,null,null,null,null,null,null,null,null,null,null,null,null,null,null,null,null,null,null,null,null,null,null,null,null,null,null,null,null,null,null,null,null,null,null,null,null,null,{"$f":"AX7+AX15+AX18","v":41167320.840000004},{"$f":"AY7+AY15+AY18","v":85356413.620000005}]
[null,"GASTOS Y OTRAS PÉRDIDAS"]
[null,"   Gastos de funcionamiento",null,null,null,null,null,null,null,null,null,null,null,null,null,null,null,null,null,null,null,null,null,null,null,null,null,null,null,null,null,null,null,null,null,null,null,null,null,null,null,null,null,null,null,null,null,null,null,{"$f":"AX27+AX28+AX29","v":22428273.690000001},{"$f":"AY27+AY28+AY29","v":55635757.649999999}]
[null,"    Servicios personales",null,null,null,null,null,null,null,null,null,null,null,null,null,null,null,null,null,null,null,null,null,null,null,null,null,null,null,null,null,null,null,null,null,null,null,null,null,null,null,null,null,null,null,null,null,null,null,{"$f":"Balanza!G391","v":11351335.800000001},{"$f":"Balanza!C391","v":28818625.819999997}]
[null,"    Materiales y suministros",null,null,null,null,null,null,null,null,null,null,null,null,null,null,null,null,null,null,null,null,null,null,null,null,null,null,null,null,null,null,null,null,null,null,null,null,null,null,null,null,null,null,null,null,null,null,null,{"$f":"Balanza!G426","v":4885619.29},{"$f":"Balanza!C426","v":12834285.48}]
[null,"    Servicios geneales",null,null,null,null,null,null,null,null,null,null,null,null,null,null,null,null,null,null,null,null,null,null,null,null,null,null,null,null,null,null,null,null,null,null,null,null,null,null,null,null,null,null,null,null,null,null,null,{"$f":"Balanza!G491","v":6191318.6000000006},{"$f":"Balanza!C491","v":13982846.35}]
[null,"   Transferencias, Asignaciones, Subsidios y Otras ayudas",null,null,null,null,null,null,null,null,null,null,null,null,null,null,null,null,null,null,null,null,null,null,null,null,null,null,null,null,null,null,null,null,null,null,null,null,null,null,null,null,null,null,null,null,null,null,null,{"$f":"AX31+AX32+AX33+AX34+AX35+AX36+AX37+AX38+AX39","v":3161215.0999999996},{"$f":"AY31+AY32+AY33+AY34+AY35+AY36+AY37+AY38+AY39","v":7089478.9699999997}]
[null,"    Transferencias internas y asignaciones al sector público",null,null,null,null,null,null,null,null,null,null,null,null,null,null,null,null,null,null,null,null,null,null,null,null,null,null,null,null,null,null,null,null,null,null,null,null,null,null,null,null,null,null,null,null,null,null,null,{"$f":"Balanza!G577","v":0},{"$f":"Balanza!C577","v":0}]
[null,"    Transferencias al resto del sector público",null,null,null,null,null,null,null,null,null,null,null,null,null,null,null,null,null,null,null,null,null,null,null,null,null,null,null,null,null,null,null,null,null,null,null,null,null,null,null,null,null,null,null,null,null,null,null,{"$f":"Balanza!G589","v":1026835},{"$f":"Balanza!C589","v":1856000}]
[null,"    Subsidios y subvenciones",null,null,null,null,null,null,null,null,null,null,null,null,null,null,null,null,null,null,null,null,null,null,null,null,null,null,null,null,null,null,null,null,null,null,null,null,null,null,null,null,null,null,null,null,null,null,null,{"$f":"Balanza!G597","v":0},{"$f":"Balanza!C597","v":0}]
[null,"    Ayudas sociales",null,null,null,null,null,null,null,null,null,null,null,null,null,null,null,null,null,null,null,null,null,null,null,null,null,null,null,null,null,null,null,null,null,null,null,null,null,null,null,null,null,null,null,null,null,null,null,{"$f":"Balanza!G609","v":1297007.8399999999},{"$f":"Balanza!C609","v":3379409.85}]
[null,"    Pensiones y jubilaciones",null,null,null,null,null,null,null,null,null,null,null,null,null,null,null,null,null,null,null,null,null,null,null,null,null,null,null,null,null,null,null,null,null,null,null,null,null,null,null,null,null,null,null,null,null,null,null,{"$f":"Balanza!G622","v":837372.26},{"$f":"Balanza!C622","v":1854069.12}]
[null,"    Transferencias a fideicomisos, mandatos y contratos análogos",null,null,null,null,null,null,null,null,null,null,null,null,null,null,null,null,null,null,null,null,null,null,null,null,null,null,null,null,null,null,null,null,null,null,null,null,null,null,null,null,null,null,null,null,null,null,null,{"$f":"Balanza!G629","v":0},{"$f":"Balanza!C629","v":0}]
[null,"    Transferencias a la seguridad social",null,null,null,null,null,null,null,null,null,null,null,null,null,null,null,null,null,null,null,null,null,null,null,null,null,null,null,null,null,null,null,null,null,null,null,null,null,null,null,null,null,null,null,null,null,null,null,{"$f":"Balanza!G639","v":0},{"$f":"Balanza!C639","v":0}]
[null,"    Donativos",null,null,null,null,null,null,null,null,null,null,null,null,null,null,null,null,null,null,null,null,null,null,null,null,null,null,null,null,null,null,null,null,null,null,null,null,null,null,null,null,null,null,null,null,null,null,null,{"$f":"Balanza!G642","v":0},{"$f":"Balanza!C642","v":0}]
[null,"    Transferencias al exterior",null,null,null,null,null,null,null,null,null,null,null,null,null,null,null,null,null,null,null,null,null,null,null,null,null,null,null,null,null,null,null,null,null,null,null,null,null,null,null,null,null,null,null,null,null,null,null,{"$f":"Balanza!G653","v":0},{"$f":"Balanza!C653","v":0}]
[null,"  Participaciones y aportaciones",null,null,null,null,null,null,null,null,null,null,null,null,null,null,null,null,null,null,null,null,null,null,null,null,null,null,null,null,null,null,null,null,null,null,null,null,null,null,null,null,null,null,null,null,null,null,null,{"$f":"AX41+AX42+AX43","v":0},{"$f":"AY41+AY42+AY43","v":0}]
[null,"    Participaciones",null,null,null,null,null,null,null,null,null,null,null,null,null,null,null,null,null,null,null,null,null,null,null,null,null,null,null,null,null,null,null,null,null,null,null,null,null,null,null,null,null,null,null,null,null,null,null,{"$f":"Balanza!G660","v":0},{"$f":"Balanza!C660","v":0}]
[null,"    Aportaciones",null,null,null,null,null,null,null,null,null,null,null,null,null,null,null,null,null,null,null,null,null,null,null,null,null,null,null,null,null,null,null,null,null,null,null,null,null,null,null,null,null,null,null,null,null,null,null,{"$f":"Balanza!G669","v":0},{"$f":"Balanza!C669","v":0}]
[null,"    Convenios",null,null,null,null,null,null,null,null,null,null,null,null,null,null,null,null,null,null,null,null,null,null,null,null,null,null,null,null,null,null,null,null,null,null,null,null,null,null,null,null,null,null,null,null,null,null,null,{"$f":"Balanza!G677","v":0},{"$f":"Balanza!C677","v":0}]
[null,"  Intereses, Comisiones y Otros gastos de la deuda pública",null,null,null,null,null,null,null,null,null,null,null,null,null,null,null,null,null,null,null,null,null,null,null,null,null,null,null,null,null,null,null,null,null,null,null,null,null,null,null,null,null,null,null,null,null,null,null,{"$f":"AX45+AX46+AX47+AX48+AX49","v":0},{"$f":"AY45+AY46+AY47+AY48+AY49","v":0}]
[null,"    Intereses de la deuda pública",null,null,null,null,null,null,null,null,null,null,null,null,null,null,null,null,null,null,null,null,null,null,null,null,null,null,null,null,null,null,null,null,null,null,null,null,null,null,null,null,null,null,null,null,null,null,null,{"$f":"Balanza!G684","v":0},{"$f":"Balanza!C684","v":0}]
[null,"    Comisiones de la deuda pública",null,null,null,null,null,null,null,null,null,null,null,null,null,null,null,null,null,null,null,null,null,null,null,null,null,null,null,null,null,null,null,null,null,null,null,null,null,null,null,null,null,null,null,null,null,null,null,{"$f":"Balanza!G695","v":0},{"$f":"Balanza!C695","v":0}]
[null,"    Gastos de la deuda pública",null,null,null,null,null,null,null,null,null,null,null,null,null,null,null,null,null,null,null,null,null,null,null,null,null,null,null,null,null,null,null,null,null,null,null,null,null,null,null,null,null,null,null,null,null,null,null,{"$f":"Balanza!G700","v":0},{"$f":"Balanza!C700","v":0}]
[null,"    Costos de cobertura",null,null,null,null,null,null,null,null,null,null,null,null,null,null,null,null,null,null,null,null,null,null,null,null,null,null,null,null,null,null,null,null,null,null,null,null,null,null,null,null,null,null,null,null,null,null,null,{"$f":"Balanza!G705","v":0},{"$f":"Balanza!C705","v":0}]
[null,"    Apoyos financieros",null,null,null,null,null,null,null,null,null,null,null,null,null,null,null,null,null,null,null,null,null,null,null,null,null,null,null,null,null,null,null,null,null,null,null,null,null,null,null,null,null,null,null,null,null,null,null,{"$f":"Balanza!G708","v":0},{"$f":"Balanza!C708","v":0}]
[null,"  Otros gastos y pérdidas extraordinarias",null,null,null,null,null,null,null,null,null,null,null,null,null,null,null,null,null,null,null,null,null,null,null,null,null,null,null,null,null,null,null,null,null,null,null,null,null,null,null,null,null,null,null,null,null,null,null,{"$f":"AX51+AX52+AX53+AX54","v":0},{"$f":"AY51+AY52+AY53+AY54","v":0}]
[null,"    Estimaciones, Depreciaciones, Deterioros, Obsolescencia y Amortizaciones",null,null,null,null,null,null,null,null,null,null,null,null,null,null,null,null,null,null,null,null,null,null,null,null,null,null,null,null,null,null,null,null,null,null,null,null,null,null,null,null,null,null,null,null,null,null,null,{"$f":"Balanza!G714","v":0},{"$f":"Balanza!C714","v":0}]
[null,"    Provisiones",null,null,null,null,null,null,null,null,null,null,null,null,null,null,null,null,null,null,null,null,null,null,null,null,null,null,null,null,null,null,null,null,null,null,null,null,null,null,null,null,null,null,null,null,null,null,null,{"$f":"Balanza!G723","v":0},{"$f":"Balanza!C723","v":0}]
[null,"    Disminución de inventarios",null,null,null,null,null,null,null,null,null,null,null,null,null,null,null,null,null,null,null,null,null,null,null,null,null,null,null,null,null,null,null,null,null,null,null,null,null,null,null,null,null,null,null,null,null,null,null,{"$f":"Balanza!G726","v":0},{"$f":"Balanza!C726","v":0}]
[null,"    Otros gastos",null,null,null,null,null,null,null,null,null,null,null,null,null,null,null,null,null,null,null,null,null,null,null,null,null,null,null,null,null,null,null,null,null,null,null,null,null,null,null,null,null,null,null,null,null,null,null,{"$f":"Balanza!G736","v":0},{"$f":"Balanza!C736","v":0}]
[null,"  Inversión pública",null,null,null,null,null,null,null,null,null,null,null,null,null,null,null,null,null,null,null,null,null,null,null,null,null,null,null,null,null,null,null,null,null,null,null,null,null,null,null,null,null,null,null,null,null,null,null,{"$f":"AX56","v":0},{"$f":"AY56","v":0}]
[null,"    Inversión pública no capitalizable",null,null,null,null,null,null,null,null,null,null,null,null,null,null,null,null,null,null,null,null,null,null,null,null,null,null,null,null,null,null,null,null,null,null,null,null,null,null,null,null,null,null,null,null,null,null,null,{"$f":"Balanza!G747","v":0},{"$f":"Balanza!C747","v":0}]
[null,"TOTAL DE GASTOS Y OTRAS PERDIDAS",null,null,null,null,null,null,null,null,null,null,null,null,null,null,null,null,null,null,null,null,null,null,null,null,null,null,null,null,null,null,null,null,null,null,null,null,null,null,null,null,null,null,null,null,null,null,null,{"$f":"AX26+AX30+AX40+AX44+AX50+AX55","v":25589488.789999999},{"$f":"AY26+AY30+AY40+AY44+AY50+AY55","v":62725236.619999997}]
[null,"RESULTADO DEL EJERCICIO (AHORRO/DESAHORRO)",null,null,null,null,null,null,null,null,null,null,null,null,null,null,null,null,null,null,null,null,null,null,null,null,null,null,null,null,null,null,null,null,null,null,null,null,null,null,null,null,null,null,null,null,null,null,null,{"$f":"AX24-AX57","v":15577832.050000004},{"$f":"AY24-AY57","v":22631177.000000007}]
[]
[null,"Bajo protesta de decir verdad declaramos que los estados financieros y sus notas, son razonablemente correctos y son responsabilidad del emisor."]
[]
[]
[]
[null,null,null,null,null,null,null,null,null,null,null,null,null,null,null,null,null,null,null,null,null,null,null,null,null,null,null,null,null,null,null,null,null,null,null,null,null,null,null,null,null,null,null,null,null,null,null," "]
[null,null,null,null,null,null,null,null,null,null,null,null,null,null,null,{"$f":"Validacion!A7","v":"C. José Ángel Prudencio Vargas"},null,null,null,null,null,null,null,null,null,null,null,null,null,null,null,null,null,null,null,null,null,null,null,null,null,null,null,null,null,null,null,{"$f":"Validacion!A9","v":"L.C.P. Regina Itzel Bedoya Cruz"}]
[]
[null,null,null,null,null,null,null,null,null,null,null,null,null,null,null,"Presidente Municipal o Títular del ente público",null,null,null,null,null,null,null,null,null,null,null,null,null,null,null,null,null,null,null,null,null,null,null,null,null,null,null,null,null,null,null,"Encargado de la Hacienda Pública Municipal o\n Responsable de las finanzas del ente público"]

{"sheet":"F2","index":21,"n_rows":42,"n_cols":7,"rows_kept":42,"cut":false,"hidden":true,"merged":[[39,1,40,1],[39,3,40,6],[41,1,42,1],[41,3,42,6],[15,0,15,1],[18,0,18,1],[19,0,19,1],[23,0,23,1],[29,0,29,1],[32,0,32,1],[0,0,0,6],[1,0,1,6],[2,0,2,6],[5,0,5,1],[9,0,9,1]]}
[{"$f":"Validacion!A2","v":"Ayutla"}]
["ESTADO DE VARIACIÓN DE LA HACIENDA PÚBLICA"]
[{"$f":"'F6'!A3","v":"Del 1° de Enero al 30 de Septiembre de 2023"}]
[]
[null,"CONCEPTO","Hacienda pública/patrimonio contribuido","Hacienda pública/patrimonio generado de ejercicios anteriores","Hacienda pública/patrimonio generado del ejercicio","Exceso o insuficiencia en la actualización de la Hacienda pública/patrimonio","TOTAL"]
["Hacienda pública / patrimonio contribuido neto de 2022",null,{"$f":"SUM(C7:C9)","v":0},null,null,null,{"$f":"SUM(C6:F6)","v":0}]
[null,"Aportaciones",{"$f":"Balanza!D175","v":0},null,null,null,{"$f":"SUM(C7:F7)","v":0}]
[null,"Donaciones de capital",{"$f":"Balanza!D176","v":0},null,null,null,{"$f":"SUM(C8:F8)","v":0}]
[null,"Actualización de la hacienda pública/patrimonio",{"$f":"Balanza!D177","v":0},null,null,null,0]
["Hacienda pública / patrimonio generado neto de 2022",null,null,{"$f":"SUM(D12:D15)","v":370873696.81},{"$f":"SUM(E11)","v":22631177.000000007},null,393504873.81]
[null,"Resultados del ejercicio (ahorro/desahorro)",null,null,{"$f":"Balanza!D179","v":22631177.000000007},null,22631177.000000007]
[null,"Resultados de ejercicios anteriores",null,{"$f":"Balanza!D180","v":292813425.75},null,null,292813425.75]
[null,"Revalúos",null,{"$f":"Balanza!D181","v":77719390},null,null,77719390]
[null,"Reservas",null,{"$f":"Balanza!D186","v":0},null,null,0]
[null,"Rectificaciones de resultados de ejercicios anteriores",null,{"$f":"Balanza!D190","v":340881.06},null,null,340881.06]
["Exceso o insuficiencia en la actualización de la Hacienda pública/patrimonio neto 2022",null,null,null,null,{"$f":"SUM(F17:F18)","v":0},0]
[null,"Resultado por posición monetaria ",null,null,null,{"$f":"Balanza!D194","v":0},0]
[null,"Resultado por tenencia de activos no monetarios",null,null,null,{"$f":"Balanza!D195","v":0},0]
["Hacienda pública / patrimonio neto final de 2022",null,{"$f":"C6","v":0},{"$f":"D10","v":370873696.81},{"$f":"E10","v":22631177.000000007},{"$f":"F16","v":0},393504873.81]
["Cambios en la hacienda pública/patrimonio contribuido neto de 2023",null,{"$f":"SUM(C21:C23)","v":0},null,null,null,0]
[null,"Aportaciones",{"$f":"Balanza!F175-Balanza!E175","v":0},null,null,null,0]
[null,"Donaciones de capital",{"$f":"Balanza!F176-Balanza!E176","v":0},null,null,null,0]
[null,"Actualización de la hacienda pública/patrimonio",{"$f":"Balanza!F177-Balanza!E177","v":0},null,null,null,0]
["Variaciones de la hacienda pública/patrimonio generado neto de 2023",null,null,{"$f":"SUM(D26)","v":22631177},{"$f":"SUM(E25:E29)","v":-7053344.9500000067},null,15577832.049999993]
[null,"Resultados del ejercicio (ahorro/desahorro)",null,null,{"$f":"Balanza!H179","v":15577832.050000001},null,15577832.050000001]
[null,"Resultados de ejercicios anteriores",null,{"$f":"Balanza!H180-Balanza!D180","v":22631177},{"$f":"(Balanza!D179)*-1","v":-22631177.000000007},null,0]
[null,"Revalúos",null,null,{"$f":"Balanza!F181-Balanza!E181","v":0},null,0]
[null,"Reservas",null,null,{"$f":"Balanza!F186-Balanza!E186","v":0},null,0]
[null,"Rectificaciones de resultados de ejercicios anteriores",null,null,{"$f":"Balanza!F190-Balanza!E190","v":0},null,0]
["Cambios en el exceso o insuficiencia en la actualización de la hacienda pública/patrimonio neto de 2023",null,null,null,null,{"$f":"SUM(F31:F32)","v":0},0]
[null,"Resultados por posición monetaria ",null,null,null,{"$f":"Balanza!F194-Balanza!E194","v":0},0]
[null,"Resultados por terceros de activos no monetarios ",null,null,null,{"$f":"Balanza!F195-Balanza!E195","v":0},0]
[" Hacienda pública/patrimonio neto final de 2023",null,{"$f":"C19+C20","v":0},{"$f":"D19+D24","v":393504873.81},{"$f":"E19+E24","v":15577832.050000001},{"$f":"F19+F30","v":0},409082705.86000001]
[]
[null,"Bajo protesta de decir verdad declaramos que los estados financieros y sus notas, son razonablemente correctos y son responsabilidad del emisor."]
[]
[]
[]
[]
[null,{"$f":"Validacion!A7","v":"C. José Ángel Prudencio Vargas"},null,{"$f":"Validacion!A9","v":"L.C.P. Regina Itzel Bedoya Cruz"}]
[]
[null,"Presidente Municipal o titular del ente público",null,"Encargado de la Hacienda Municipal o Responsable\nde las finanzas del ente público"]

{"sheet":"F4A1","index":22,"n_rows":32,"n_cols":4,"rows_kept":32,"cut":false,"hidden":true,"merged":[[23,1,24,1],[25,1,26,1],[29,1,30,1],[31,1,32,1],[0,0,0,3],[1,0,1,3],[2,0,2,3],[19,0,20,3],[5,0,5,1],[4,0,4,1],[4,2,4,3]]}
[{"$f":"Validacion!A2","v":"Ayutla"}]
["CONCILIACIÓN ENTRE LOS INGRESOS PRESUPUESTARIOS Y CONTABLES"]
[{"$f":"'F6'!A3","v":"Del 1° de Enero al 30 de Septiembre de 2023"}]
[]
["CONCEPTO",null,"IMPORTE"]
["1. Total de ingresos presupuestarios",null,null,{"$f":"'F7'!F70","v":0}]
["2. Ingresos contables no presupuestarios",null,null,{"$f":"SUM(C8:C13)","v":0}]
[null,"2.1 Ingresos financieros",{"$f":"'F6'!AX162","v":0}]
[null,"2.2 Incremento por variaciones de inventarios",{"$f":"'F6'!AX165","v":0}]
[null,"2.3 Disminución del exceso de estimación por pérdida o deterioro u obsolescencia",{"$f":"'F6'!AX171","v":0}]
[null,"2.4 Disminución del exceso de provisiones",{"$f":"'F6'!AX173","v":0}]
[null,"2.5 Otros ingresos y beneficios varios",{"$f":"'F6'!AX175","v":0}]
[null,"2.6 Otros ingresos contables no presupuestarios",0]
["3. Ingresos presupuestarios no contables",null,null,{"$f":"SUM(C15:C17)","v":0}]
[null,"3.1 Aprovechamientos patrimoniales",{"$f":"'F7'!F39","v":0}]
[null,"3.2 Ingresos derivados de financiamientos",{"$f":"'F7'!F66","v":0}]
[null,"3.3 Otros ingresos presupuestarios no contables",0]
["4. Total de ingresos contables",null,null,{"$f":"D6+D7-D14","v":0}]
[]
["Bajo protesta de decir verdad declaramos que los estados financieros y sus notas, son razonablemente correctos y son responsabilidad del emisor."]
[]
[]
[]
[null,{"$f":"Validacion!A7","v":"C. José Ángel Prudencio Vargas"}]
[]
[null,"Presidente Municipal o titular del ente público"]
[]
[]
[]
[null,{"$f":"Validacion!A9","v":"L.C.P. Regina Itzel Bedoya Cruz"}]
[]
[null,"Encargado de la Hacienda Municipal\no Responsable de las finanzas del ente público"]

{"sheet":"F4A2","index":23,"n_rows":51,"n_cols":4,"rows_kept":51,"cut":false,"hidden":true,"merged":[[38,0,39,3],[42,1,43,1],[44,1,45,1],[48,1,49,1],[50,1,51,1],[5,0,5,1],[0,0,0,3],[1,0,1,3],[2,0,2,3],[4,0,4,1],[4,2,4,3]]}
[{"$f":"Validacion!A2","v":"Ayutla"}]
["CONCILIACIÓN ENTRE LOS EGRESOS PRESUPUESTARIOS Y LOS GASTOS CONTABLES"]
[{"$f":"'F6'!A3","v":"Del 1° de Enero al 30 de Septiembre de 2023"}]
[]
["CONCEPTO",null,"IMPORTE"]
["1. Total de egresos presupuestarios",null,null,{"$f":"'F8'!F80","v":0}]
["2. Egresos presupuestarios no contables",null,null,{"$f":"SUM(C8:C28)","v":0}]
[null,"2.1 Materias primas y materiales de producción y comercialización",0]
[null,"2.2 Materiales y suministros",0]
[null,"2.3 Mobiliario y equipo de administración",{"$f":"'F8'!F47","v":0}]
[null,"2.4 Mobiliario y equipo educacional y recreativo",{"$f":"'F8'!F48","v":0}]
[null,"2.5 Equipo e instrumental médico y de laboratorio",{"$f":"'F8'!F49","v":0}]
[null,"2.6 Vehículos y equipo de transporte",{"$f":"'F8'!F50","v":0}]
[null,"2.7 Equipo de defensa y seguridad",{"$f":"'F8'!F51","v":0}]
[null,"2.8 Maquinaria, otros equipos y herramientas",{"$f":"'F8'!F52","v":0}]
[null,"2.9 Activos biológicos",{"$f":"'F8'!F53","v":0}]
[null,"2.10 Bienes inmuebles",{"$f":"'F8'!F54","v":0}]
[null,"2.11 Activos intangibles",{"$f":"'F8'!F55","v":0}]
[null,"2.12 Obras públicas en bienes de dominio público",{"$f":"'F8'!F57","v":0}]
[null,"2.13 Obras públicas en bienes propios",{"$f":"'F8'!F58","v":0}]
[null,"2.14 Acciones y participaciones de capital",{"$f":"'F8'!F62","v":0}]
[null,"2.15 Compra de títulos y valores",{"$f":"'F8'!F63","v":0}]
[null,"2.16 Concesión de préstamos",{"$f":"'F8'!F64","v":0}]
[null,"2.17 Inversiones en fideicomisos, mandatos y otros análogos",{"$f":"'F8'!F65","v":0}]
[null,"2.18 Provisiones para contingencias y otras erogaciones especiales",{"$f":"'F8'!F67","v":0}]
[null,"2.19 Amortización de la deuda pública",{"$f":"'F8'!F73","v":0}]
[null,"2.20 Adeudos de ejercicios fiscales anteriores (ADEFAS)",{"$f":"'F8'!F79","v":0}]
[null,"2.21 Otros egresos presupuestales no contables",0]
["3. Gastos contables no presupuestales",null,null,{"$f":"SUM(C30:C36)","v":0}]
[null,"3.1 Estimaciones, depreciaciones, deterioros, obsolescencias y amortizaciones",{"$f":"'F6'!AX508","v":0}]
[null,"3.2 Previsiones",{"$f":"'F6'!AX517","v":0}]
[null,"3.3 Disminución de inventarios",{"$f":"'F6'!AX520","v":0}]
[null,"3.4 Aumento por insuficiencia de estimaciones por pérdida o deterioro u obsolescencias",0]
[null,"3.5 Aumento por insuficiencia de provisiones",0]
[null,"3.6 Otros gastos",{"$f":"'F6'!AX526","v":0}]
[null,"3.7 Otros gastos contables no presupuestales",0]
["4. Total de gastos contables",null,null,{"$f":"D6-D7+D29","v":0}]
[]
["Bajo protesta de decir verdad declaramos que los estados financieros y sus notas, son razonablemente correctos y son responsabilidad del emisor."]
[]
[]
[]
[null,{"$f":"Validacion!A7","v":"C. José Ángel Prudencio Vargas"}]
[]
[null,"Presidente Municipal o titular del ente público"]
[]
[]
[]
[null,{"$f":"Validacion!A9","v":"L.C.P. Regina Itzel Bedoya Cruz"}]
[]
[null,"Encargado de la Hacienda Municipal\no Responsable de las finanzas del ente público"]

{"sheet":"F5","index":24,"n_rows":34,"n_cols":9,"rows_kept":34,"cut":false,"hidden":true,"merged":[[0,0,0,8],[1,0,1,8],[2,0,2,8],[3,0,3,8],[4,0,4,3],[33,3,34,3],[33,5,34,7],[31,3,32,3],[31,5,32,7],[25,3,27,8]]}
[{"$f":"Validacion!A2","v":"Ayutla"}]
["ESTADO ANALÍTICO DEL ACTIVO"]
[{"$f":"'F6'!A3","v":"Del 1° de Enero al 30 de Septiembre de 2023"}]
[]
["CONCEPTO",null,null,null,"SALDO\nINICIAL","CARGO DEL PERIODO","ABONO DEL PERIODO","SALDO\nFINAL","VARIACIÓN DEL PERIODO"]
["Activo ",null,null,null,{"$f":"E7+E15","v":404360352.94},{"$f":"F7+F15","v":97897184.609999999},84291851.109999999,{"$f":"E6+F6-G6","v":417965686.44},{"$f":"ROUND(H6-E6,2)","v":13605333.5}]
[null,"Activo circulante",null,null,{"$f":"SUM(E8:E14)","v":7006188.3300000001},{"$f":"SUM(F8:F14)","v":87099501.950000003},84291851.109999999,{"$f":"E7+F7-G7","v":9813839.1700000018},{"$f":"H7-E7","v":2807650.8400000017}]
[null,null,"Efectivo y equivalentes",null,{"$f":"Balanza!C5","v":6811307.4900000002},{"$f":"Balanza!E5","v":42372388.300000004},{"$f":"Balanza!F5","v":41733433.259999998},7450262.5300000086,638955.04000000842]
[null,null,"Derechos a recibir efectivo o equivalentes",null,{"$f":"Balanza!C13","v":194880.84},{"$f":"Balanza!E13","v":44367290.789999999},{"$f":"Balanza!F13","v":42198594.990000002},2363576.6400000006,2168695.8000000007]
[null,null,"Derechos a recibir bienes o servicios",null,{"$f":"Balanza!C21","v":0},{"$f":"Balanza!E21","v":359822.86},{"$f":"Balanza!F21","v":359822.86},0,0]
[null,null,"Inventarios",null,{"$f":"Balanza!C27","v":0},{"$f":"Balanza!E27","v":0},{"$f":"Balanza!F27","v":0},0,0]
[null,null,"Almacenes",null,{"$f":"Balanza!C33","v":0},{"$f":"Balanza!E33","v":0},{"$f":"Balanza!F33","v":0},0,0]
[null,null,"Estimación por pérdida o deterioro de activos circulantes",null,{"$f":"Balanza!C35","v":0},{"$f":"Balanza!E35","v":0},{"$f":"Balanza!F35","v":0},0,0]
[null,null,"Otros activos circulantes",null,{"$f":"Balanza!C38","v":0},{"$f":"Balanza!E38","v":0},{"$f":"Balanza!F38","v":0},0,0]
[null,"Activo no circulante",null,null,{"$f":"SUM(E16:E24)","v":397354164.61000001},{"$f":"SUM(F16:F24)","v":10797682.66},0,408151847.27000004,10797682.660000026]
[null,null,"Inversiones financieras a largo plazo",null,{"$f":"Balanza!C44","v":5000},{"$f":"Balanza!E44","v":0},{"$f":"Balanza!F44","v":0},5000,0]
[null,null,"Derechos a recibir efectivo o equivalentes a largo plazo",null,{"$f":"Balanza!C49","v":0},{"$f":"Balanza!E49","v":0},{"$f":"Balanza!F49","v":0},0,0]
[null,null,"Bienes inmuebles, infraestructura y construcciones en proceso",null,{"$f":"Balanza!C55","v":394674462.90000004},{"$f":"Balanza!E55","v":10450933.92},{"$f":"Balanza!F55","v":0},405125396.82000005,10450933.920000017]
[null,null,"Bienes muebles",null,{"$f":"Balanza!C63","v":10509827.43},{"$f":"Balanza!E63","v":346748.74},{"$f":"Balanza!F63","v":0},10856576.17,346748.74000000022]
[null,null,"Activos intangibles",null,{"$f":"Balanza!C72","v":235805.26},{"$f":"Balanza!E72","v":0},{"$f":"Balanza!F72","v":0},{"$f":"E20+F20-G20","v":235805.26},{"$f":"H20-E20","v":0}]
[null,null,"Depreciación, deterioro y amortización acumulada de bienes",null,{"$f":"(Balanza!D78)*-1","v":-8070930.9799999995},{"$f":"Balanza!E78","v":0},{"$f":"Balanza!F78","v":0},-8070930.9799999995,0]
[null,null,"Activos diferidos",null,{"$f":"Balanza!C84","v":0},{"$f":"Balanza!E84","v":0},{"$f":"Balanza!F84","v":0},0,0]
[null,null,"Estimación por pérdida o deterioro de activos no circulantes",null,{"$f":"Balanza!C91","v":0},{"$f":"Balanza!E91","v":0},{"$f":"Balanza!F91","v":0},0,0]
[null,null,"Otros activos no circulantes",null,{"$f":"Balanza!C97","v":0},{"$f":"Balanza!E97","v":0},{"$f":"Balanza!F97","v":0},0,0]
[]
[null,null,null,"Bajo protesta de decir verdad declaramos que los estados financieros y sus notas, son razonablemente correctos y son resposabilidad del emisor."]
[]
[]
[]
[]
[]
[null,null,null,{"$f":"Validacion!A7","v":"C. José Ángel Prudencio Vargas"},null,{"$f":"Validacion!A9","v":"L.C.P. Regina Itzel Bedoya Cruz"}]
[]
[null,null,null,"Presidente Municipal o titular del ente público",null,"Encargado de la Hacienda Municipal o Responsable de las finanzas del ente público"]

{"sheet":"F7","index":25,"n_rows":78,"n_cols":8,"rows_kept":78,"cut":false,"hidden":true,"merged":[[69,7,70,7],[0,0,0,7],[1,0,1,7],[2,0,2,7],[4,0,5,1],[4,2,4,6],[4,7,5,7],[77,1,78,1],[77,3,78,6],[75,1,76,1],[75,3,76,6],[51,0,51,1]]}
[{"$f":"Validacion!A2","v":"Ayutla"}]
["ESTADO ANALÍTICO DE INGRESOS"]
[{"$f":"'F6'!A3","v":"Del 1° de Enero al 30 de Septiembre de 2023"}]
[]
["RUBRO DE INGRESOS",null,"INGRESO",null,null,null,null,"DIFERENCIA"]
[null,null,"ESTIMADO","AMPLIACIÓN Y REDUCCIÓN","MODIFICADO","DEVENGADO","RECAUDADO"]
["Impuestos",null,{"$f":"SUM(C8:C16)","v":0},{"$f":"SUM(D8:D16)","v":0},{"$f":"C7+D7","v":0},{"$f":"SUM(F8:F16)","v":0},{"$f":"SUM(G8:G16)","v":0},{"$f":"G7-C7","v":0}]
[null,"Impuestos sobre los ingresos",{"$f":"Balanza!G797","v":0},{"$f":"Balanza!G985","v":0},{"$f":"C8+D8","v":0},{"$f":"Balanza!F1079","v":0},{"$f":"Balanza!H1173","v":0},{"$f":"G8-C8","v":0}]
[null,"Impuestos sobre patrimonio",{"$f":"Balanza!G798","v":0},{"$f":"Balanza!G986","v":0},0,{"$f":"Balanza!F1080","v":0},{"$f":"Balanza!H1174","v":0},0]
[null,"Impuestos sobre la producción, el consumo y las transacciones",{"$f":"Balanza!G799","v":0},{"$f":"Balanza!G987","v":0},0,{"$f":"Balanza!F1081","v":0},{"$f":"Balanza!H1175","v":0},0]
[null,"Impuestos al comercio exterior",{"$f":"Balanza!G800","v":0},{"$f":"Balanza!G988","v":0},0,{"$f":"Balanza!F1082","v":0},{"$f":"Balanza!H1176","v":0},0]
[null,"Impuestos sobre nóminas y asimilables",{"$f":"Balanza!G801","v":0},{"$f":"Balanza!G989","v":0},0,{"$f":"Balanza!F1083","v":0},{"$f":"Balanza!H1177","v":0},0]
[null,"Impuestos ecológicos",{"$f":"Balanza!G802","v":0},{"$f":"Balanza!G990","v":0},0,{"$f":"Balanza!F1084","v":0},{"$f":"Balanza!H1178","v":0},0]
[null,"Accesorios",{"$f":"Balanza!G803","v":0},{"$f":"Balanza!G991","v":0},0,{"$f":"Balanza!F1085","v":0},{"$f":"Balanza!H1179","v":0},0]
[null,"Otros impuestos",{"$f":"Balanza!G804","v":0},{"$f":"Balanza!G992","v":0},0,{"$f":"Balanza!F1086","v":0},{"$f":"Balanza!H1180","v":0},0]
[null,"Impuestos no comprendidos en la ley de ingresos vigente, causados en ejercicios fiscales anteriores pendientes de liquidar o pago",{"$f":"Balanza!G805","v":0},{"$f":"Balanza!G993","v":0},0,{"$f":"Balanza!F1087","v":0},{"$f":"Balanza!H1181","v":0},0]
["Cuotas y aportaciones de seguridad social",null,{"$f":"SUM(C18:C22)","v":0},{"$f":"SUM(D18:D22)","v":0},0,{"$f":"SUM(F18:F22)","v":0},0,0]
[null,"Aportaciones para fondos de vivienda",{"$f":"Balanza!G807","v":0},{"$f":"Balanza!G995","v":0},0,{"$f":"Balanza!F1089","v":0},{"$f":"Balanza!H1183","v":0},0]
[null,"Cuotas para la seguridad social",{"$f":"Balanza!G808","v":0},{"$f":"Balanza!G996","v":0},0,{"$f":"Balanza!F1090","v":0},{"$f":"Balanza!H1184","v":0},0]
[null,"Cuotas de ahorro para el retiro",{"$f":"Balanza!G809","v":0},{"$f":"Balanza!G997","v":0},0,{"$f":"Balanza!F1091","v":0},{"$f":"Balanza!H1185","v":0},0]
[null,"Otras cuotas y aportaciones para la seguridad social",{"$f":"Balanza!G810","v":0},{"$f":"Balanza!G998","v":0},0,{"$f":"Balanza!F1092","v":0},{"$f":"Balanza!H1186","v":0},0]
[null,"Accesorios de cuotas y aportaciones de seguridad social",{"$f":"Balanza!G811","v":0},{"$f":"Balanza!G999","v":0},0,{"$f":"Balanza!F1093","v":0},{"$f":"Balanza!H1187","v":0},0]
["Contribuciones de mejora",null,{"$f":"SUM(C24:C25)","v":0},{"$f":"SUM(D24:D25)","v":0},0,{"$f":"SUM(F24:F25)","v":0},0,0]
[null,"Contribuciones de mejoras por obras públicas",{"$f":"Balanza!G813","v":0},{"$f":"Balanza!G1001","v":0},0,{"$f":"Balanza!F1095","v":0},{"$f":"Balanza!H1189","v":0},0]
[null,"Contribuciones de mejoras no comprendidas en la ley de ingresos vigente, causadas en ejercicios fiscales anteriores pendientes de liquidación o pago",{"$f":"Balanza!G814","v":0},{"$f":"Balanza!G1002","v":0},0,{"$f":"Balanza!F1096","v":0},{"$f":"Balanza!H1190","v":0},0]
["Derechos",null,{"$f":"SUM(C27:C32)","v":0},{"$f":"SUM(D27:D32)","v":0},0,{"$f":"SUM(F27:F32)","v":0},0,0]
[null,"Derechos por el uso, goce, aprovechamiento o explotación de bienes de dominio público",{"$f":"Balanza!G816","v":0},{"$f":"Balanza!G1004","v":0},0,{"$f":"Balanza!F1098","v":0},{"$f":"Balanza!H1192","v":0},0]
[null,"Derecho a los hidrocarburos (derogado)",{"$f":"Balanza!G817","v":0},{"$f":"Balanza!G1005","v":0},0,{"$f":"Balanza!F1099","v":0},{"$f":"Balanza!H1193","v":0},0]
[null,"Derechos por prestación de servicios",{"$f":"Balanza!G818","v":0},{"$f":"Balanza!G1006","v":0},0,{"$f":"Balanza!F1100","v":0},{"$f":"Balanza!H1194","v":0},0]
[null,"Otros derechos",{"$f":"Balanza!G819","v":0},{"$f":"Balanza!G1007","v":0},0,{"$f":"Balanza!F1101","v":0},{"$f":"Balanza!H1195","v":0},0]
[null,"Accesorios",{"$f":"Balanza!G820","v":0},{"$f":"Balanza!G1008","v":0},0,{"$f":"Balanza!F1102","v":0},{"$f":"Balanza!H1196","v":0},0]
[null,"Derechos no comprendidos en la ley de ingresos vigente, causados en ejercicios fiscales anteriores pendientes de liquidación o pago",{"$f":"Balanza!G821","v":0},{"$f":"Balanza!G1009","v":0},0,{"$f":"Balanza!F1103","v":0},{"$f":"Balanza!H1197","v":0},0]
["Productos",null,{"$f":"SUM(C34:C36)","v":0},{"$f":"SUM(D34:D36)","v":0},0,{"$f":"SUM(F34:F36)","v":0},0,0]
[null,"Productos",{"$f":"Balanza!G823","v":0},{"$f":"Balanza!G1011","v":0},0,{"$f":"Balanza!F1105","v":0},{"$f":"Balanza!H1199","v":0},0]
[null,"Productos de capital (derogado)",{"$f":"Balanza!G824","v":0},{"$f":"Balanza!G1012","v":0},0,{"$f":"Balanza!F1106","v":0},{"$f":"Balanza!H1200","v":0},0]
[null,"Productos no comprendidos en la ley de ingresos vigente, causados en ejercicios fiscales anteriores pendientes de liquidación o pago",{"$f":"Balanza!G825","v":0},{"$f":"Balanza!G1013","v":0},0,{"$f":"Balanza!F1107","v":0},{"$f":"Balanza!H1201","v":0},0]
["Aprovechamientos",null,{"$f":"SUM(C38:C41)","v":0},{"$f":"SUM(D38:D41)","v":0},0,{"$f":"SUM(F38:F41)","v":0},0,0]
[null,"Aprovechamientos",{"$f":"Balanza!G827","v":0},{"$f":"Balanza!G1015","v":0},0,{"$f":"Balanza!F1109","v":0},{"$f":"Balanza!H1203","v":0},0]
[null,"Aprovechamientos patrimoniales",{"$f":"Balanza!G828","v":0},{"$f":"Balanza!G1016","v":0},0,{"$f":"Balanza!F1110","v":0},{"$f":"Balanza!H1204","v":0},0]
[null,"Accesorios de aprovechamientos",{"$f":"Balanza!G829","v":0},{"$f":"Balanza!G1017","v":0},0,{"$f":"Balanza!F1111","v":0},{"$f":"Balanza!H1205","v":0},0]
[null,"Aprovechamientos no comprendidos en la ley de ingresos vigente, causados en ejercicios fiscales anteriores pendientes de liquidación o pago",{"$f":"Balanza!G830","v":0},{"$f":"Balanza!G1018","v":0},0,{"$f":"Balanza!F1112","v":0},{"$f":"Balanza!H1206","v":0},0]
["Ingresos por venta de bienes, prestación de servicios y otros ingresos",null,{"$f":"SUM(C43:C51)","v":0},{"$f":"SUM(D43:D51)","v":0},0,{"$f":"SUM(F43:F51)","v":0},0,0]
[null,"Ingresos por venta de bienes y prestación de servicios de instituciones públicas de seguridad social",{"$f":"Balanza!G832","v":0},{"$f":"Balanza!G1020","v":0},0,{"$f":"Balanza!F1114","v":0},{"$f":"Balanza!H1208","v":0},0]
[null,"Ingresos por venta de bienes y prestación de servicios de empresas productivas del estado",{"$f":"Balanza!G833","v":0},{"$f":"Balanza!G1021","v":0},0,{"$f":"Balanza!F1115","v":0},{"$f":"Balanza!H1209","v":0},0]
[null,"Ingresos por venta de bienes y prestación de servicios de entidades paraestatales y fideicomisos no empresariales y no financieros",{"$f":"Balanza!G834","v":0},{"$f":"Balanza!G1022","v":0},0,{"$f":"Balanza!F1116","v":0},{"$f":"Balanza!H1210","v":0},0]
[null,"Ingresos por venta de bienes y prestación de servicios de entidades paraestatales empresariales y no financieros con participación estatal mayoritaria",{"$f":"Balanza!G835","v":0},{"$f":"Balanza!G1023","v":0},0,{"$f":"Balanza!F1117","v":0},{"$f":"Balanza!H1211","v":0},0]
[null,"Ingresos por venta de bienes y prestación de servicios de entidades paraestatales empresariales financieras monetarias con participación estatal mayoritaria",{"$f":"Balanza!G836","v":0},{"$f":"Balanza!G1024","v":0},0,{"$f":"Balanza!F1118","v":0},{"$f":"Balanza!H1212","v":0},0]
[null,"Ingresos por venta de bienes y prestación de servicios de entidades paraestatales empresariales financieras no monetarias con participación estatal mayoritaria",{"$f":"Balanza!G837","v":0},{"$f":"Balanza!G1025","v":0},0,{"$f":"Balanza!F1119","v":0},{"$f":"Balanza!H1213","v":0},0]
[null,"Ingresos por venta de bienes y prestación de servicios de fideicomisos financieros públicos con participación estatal mayoritaria",{"$f":"Balanza!G838","v":0},{"$f":"Balanza!G1026","v":0},0,{"$f":"Balanza!F1120","v":0},{"$f":"Balanza!H1214","v":0},0]
[null,"Ingresos por venta de bienes y prestación de servicios de los poderes legislativo y judicial, y de los órganos autónomos",{"$f":"Balanza!G839","v":0},{"$f":"Balanza!G1027","v":0},0,{"$f":"Balanza!F1121","v":0},{"$f":"Balanza!H1215","v":0},0]
[null,"Otros ingresos",{"$f":"Balanza!G840","v":0},{"$f":"Balanza!G1028","v":0},0,{"$f":"Balanza!F1122","v":0},{"$f":"Balanza!H1216","v":0},0]
["Participaciones, aportaciones, convenios, incentivos derivados de la colaboración fiscal y fondos distintos de aportaciones",null,{"$f":"SUM(C53:C57)","v":0},{"$f":"SUM(D53:D57)","v":0},0,{"$f":"SUM(F53:F57)","v":0},0,0]
[null,"Participaciones",{"$f":"Balanza!G842","v":0},{"$f":"Balanza!G1030","v":0},0,{"$f":"Balanza!F1124","v":0},{"$f":"Balanza!H1218","v":0},0]
[null,"Aportaciones",{"$f":"Balanza!G855","v":0},{"$f":"Balanza!G1043","v":0},0,{"$f":"Balanza!F1137","v":0},{"$f":"Balanza!H1231","v":0},0]
[null,"Convenios",{"$f":"SUM(Balanza!G858:G859)","v":0},{"$f":"SUM(Balanza!G1046:G1047)","v":0},0,{"$f":"SUM(Balanza!F1140:F1141)","v":0},{"$f":"SUM(Balanza!H1234:H1235)","v":0},0]
[null,"Incentivos derivados de la colaboración fiscal",{"$f":"Balanza!G864","v":0},{"$f":"Balanza!G1052","v":0},0,{"$f":"Balanza!F1146","v":0},{"$f":"Balanza!H1240","v":0},0]
[null,"Fondos distintos de aportaciones",{"$f":"Balanza!G870","v":0},{"$f":"Balanza!G1058","v":0},0,{"$f":"Balanza!F1152","v":0},{"$f":"Balanza!H1246","v":0},0]
["Transferencias, asignaciones, subsidios y subvenciones, y pensiones y jubilaciones",null,{"$f":"SUM(C59:C65)","v":0},{"$f":"SUM(D59:D65)","v":0},0,{"$f":"SUM(F59:F65)","v":0},{"$f":"SUM(G59:G65)","v":0},0]
[null,"Transferencias y asignaciones",{"$f":"SUM(Balanza!G874:G875)","v":0},{"$f":"SUM(Balanza!G1062:G1063)","v":0},0,{"$f":"SUM(Balanza!F1156:F1157)","v":0},{"$f":"SUM(Balanza!H1250:H1251)","v":0},0]
[null,"Transferencias al resto del sector público (derogado)",{"$f":"Balanza!G876","v":0},{"$f":"Balanza!G1064","v":0},0,{"$f":"Balanza!F1158","v":0},{"$f":"Balanza!H1252","v":0},0]
[null,"Subsidios y subvenciones",{"$f":"SUM(Balanza!G877:G878)","v":0},{"$f":"SUM(Balanza!G1065:G1066)","v":0},0,{"$f":"SUM(Balanza!F1159:F1160)","v":0},{"$f":"SUM(Balanza!H1253:H1254)","v":0},0]
[null,"Ayudas sociales (derogado)",{"$f":"Balanza!G879","v":0},{"$f":"Balanza!G1067","v":0},0,{"$f":"Balanza!F1161","v":0},{"$f":"Balanza!H1255","v":0},0]
[null,"Pensiones y jubilaciones",{"$f":"Balanza!G880","v":0},{"$f":"Balanza!G1068","v":0},0,{"$f":"Balanza!F1162","v":0},{"$f":"Balanza!H1256","v":0},0]
[null,"Transferencias a fideicomisos, mandatos y análogos (derogado)",{"$f":"Balanza!G881","v":0},{"$f":"Balanza!G1069","v":0},0,{"$f":"Balanza!F1163","v":0},{"$f":"Balanza!H1257","v":0},0]
[null,"Transferencias del fondo mexicano del petróleo para la estabilización y el desarrollo",{"$f":"Balanza!G882","v":0},{"$f":"Balanza!G1070","v":0},0,{"$f":"Balanza!F1164","v":0},{"$f":"Balanza!H1258","v":0},0]
["Ingresos derivados de financiamiento",null,{"$f":"SUM(C67:C69)","v":0},{"$f":"SUM(D67:D69)","v":0},0,{"$f":"SUM(F67:F69)","v":0},0,0]
[null,"Endeudamiento interno",{"$f":"Balanza!G884","v":0},{"$f":"Balanza!G1072","v":0},0,{"$f":"Balanza!F1166","v":0},{"$f":"Balanza!H1260","v":0},{"$f":"G67-C67","v":0}]
[null,"Endeudamiento externo",{"$f":"Balanza!G885","v":0},{"$f":"Balanza!G1073","v":0},0,{"$f":"Balanza!F1167","v":0},{"$f":"Balanza!H1261","v":0},0]
[null,"Financiamiento interno",{"$f":"Balanza!G886","v":0},{"$f":"Balanza!G1074","v":0},0,{"$f":"Balanza!F1168","v":0},{"$f":"Balanza!H1262","v":0},0]
[null,"TOTAL",{"$f":"SUM(C7+C17+C23+C26+C33+C37+C52+C58+C66+C42)","v":0},{"$f":"SUM(D7+D17+D23+D26+D33+D37+D52+D58+D66+D42)","v":0},0,{"$f":"SUM(F7+F17+F23+F26+F33+F37+F52+F58+F66+F42)","v":0},0,{"$f":"IF(C70>G70,0,(G70-C70))","v":0}]
[null,null,null,null,null,null,"Ingresos Excedentes"]
[]
["Bajo protesta de decir verdad declaramos que los estados financieros y sus notas, son razonablemente correctos y son responsabilidad del emisor."]
[]
[]
[null,{"$f":"Validacion!A7","v":"C. José Ángel Prudencio Vargas"},null,{"$f":"Validacion!A9","v":"L.C.P. Regina Itzel Bedoya Cruz"}]
[]
[null,"Presidente Municipal o titular del ente público",null,"Encargado de la Hacienda Municipal\no Responsable de las finanzas del ente público"]

{"sheet":"F7A","index":26,"n_rows":33,"n_cols":9,"rows_kept":33,"cut":false,"hidden":true,"merged":[[0,0,0,8],[1,0,1,8],[2,0,2,8],[4,0,5,2],[4,3,4,7],[4,8,5,8],[18,1,18,2],[7,1,7,2],[8,1,8,2],[9,1,9,2],[10,1,10,2],[11,1,11,2],[12,1,12,2],[13,1,13,2],[14,1,14,2],[15,0,15,2],[16,1,16,2],[17,1,17,2],[19,1,19,2],[21,1,21,2],[22,8,23,8],[23,6,23,7],[32,2,33,2],[32,4,33,6],[30,2,31,2],[30,4,31,6]]}
[{"$f":"Validacion!A2","v":"Ayutla"}]
["ESTADO ANALÍTICO DE INGRESOS POR FUENTE DE FINANCIAMIENTO"]
[{"$f":"'F6'!A3","v":"Del 1° de Enero al 30 de Septiembre de 2023"}]
[]
["RUBRO DE INGRESOS",null,null,"INGRESOS",null,null,null,null,"DIFERENCIA"]
[null,null,null,"ESTIMADO","AMPLACIONES Y REDUCCIONES","MODIFICADO","DEVENGADO","RECAUDADO"]
["Ingresos del municipio",null,null,{"$f":"SUM(D8:D15)","v":0},{"$f":"SUM(E8:E15)","v":0},{"$f":"D7+E7","v":0},{"$f":"SUM(G8:G15)","v":0},{"$f":"SUM(H8:H15)","v":0},{"$f":"H7-D7","v":0}]
[null,"Impuestos",null,{"$f":"Balanza!G796","v":0},{"$f":"Balanza!G984","v":0},{"$f":"D8+E8","v":0},{"$f":"Balanza!F1078","v":0},{"$f":"Balanza!H1172","v":0},{"$f":"H8-D8","v":0}]
[null,"Cuotas y aportaciones de seguridad social",null,{"$f":"Balanza!G806","v":0},{"$f":"Balanza!G994","v":0},0,{"$f":"Balanza!F1088","v":0},{"$f":"Balanza!H1182","v":0},0]
[null,"Contribuciones de mejoras",null,{"$f":"Balanza!G812","v":0},{"$f":"Balanza!G1000","v":0},0,{"$f":"Balanza!F1094","v":0},{"$f":"Balanza!H1188","v":0},0]
[null,"Derechos",null,{"$f":"Balanza!G815","v":0},{"$f":"Balanza!G1003","v":0},0,{"$f":"Balanza!F1097","v":0},{"$f":"Balanza!H1191","v":0},0]
[null,"Productos",null,{"$f":"Balanza!G822","v":0},{"$f":"Balanza!G1010","v":0},0,{"$f":"Balanza!F1104","v":0},{"$f":"Balanza!H1198","v":0},0]
[null,"Aprovechamientos",null,{"$f":"Balanza!G826","v":0},{"$f":"Balanza!G1014","v":0},0,{"$f":"Balanza!F1108","v":0},{"$f":"Balanza!H1202","v":0},0]
[null,"Participaciones, aportaciones, convenios, incentivos derivados de la colaboración fiscal y fondos distintos de aportaciones",null,{"$f":"Balanza!G841","v":0},{"$f":"Balanza!G1029","v":0},0,{"$f":"Balanza!F1123","v":0},{"$f":"Balanza!H1217","v":0},0]
[null,"Transferencias, asignaciones, subsidios y subvenciones, y pensiones y jubilaciones",null,{"$f":"Balanza!G873","v":0},{"$f":"Balanza!G1061","v":0},0,{"$f":"Balanza!F1155","v":0},{"$f":"Balanza!H1249","v":0},0]
["Ingresos de los entes públicos del sector paramunicipal, así como de las empresas productivas del municipio",null,null,{"$f":"SUM(D17:D20)","v":0},{"$f":"SUM(E17:E20)","v":0},0,{"$f":"SUM(G17:G20)","v":0},{"$f":"SUM(H17:H20)","v":0},0]
[null,"Cuotas y aportaciones de seguridad social",null,0,0,0,0,0,0]
[null,"Productos",null,0,0,0,0,0,0]
[null,"Ingresos por ventas de bienes, prestación de  servicios y otros ingresos",null,{"$f":"Balanza!G831","v":0},{"$f":"Balanza!G1019","v":0},0,{"$f":"Balanza!F1113","v":0},{"$f":"Balanza!H1207","v":0},0]
[null,"Transferencias, asignaciones, subsidios y subvenciones, y pensiones y jubilaciones",null,0,0,0,0,0,0]
["Ingresos derivados de financiamiento",null,null,{"$f":"D22","v":0},{"$f":"E22","v":0},0,{"$f":"G22","v":0},{"$f":"H22","v":0},0]
[null,"Ingresos derivados de financiamientos",null,{"$f":"Balanza!G883","v":0},{"$f":"Balanza!G1071","v":0},0,{"$f":"Balanza!F1165","v":0},{"$f":"Balanza!H1259","v":0},0]
[null,null,"TOTAL",{"$f":"D7+D16+D21","v":0},{"$f":"E7+E16+E21","v":0},0,{"$f":"G7+G16+G21","v":0},0,{"$f":"IF(D23>H23,0,(H23-D23))","v":0}]
[null,null,null,null,null,null,"Ingresos excedentes"]
[]
["Bajo protesta de decir verdad declaramos que los estados financieros y sus notas, son razonablemente correctos y son responsabilidad del emisor."]
[]
[]
[]
[]
[null,null,{"$f":"Validacion!A7","v":"C. José Ángel Prudencio Vargas"},null,{"$f":"Validacion!A9","v":"L.C.P. Regina Itzel Bedoya Cruz"}]
[]
[null,null,"Presidente Municipal o titular del ente público",null,"Encargado de la Hacienda Municipal\n o Responsable de las finanzas del ente público"]

{"sheet":"F7B","index":27,"n_rows":76,"n_cols":8,"rows_kept":76,"cut":false,"hidden":true,"merged":[[0,0,0,7],[1,0,1,7],[2,0,2,7],[4,2,4,6],[4,7,5,7],[4,0,5,1],[38,7,39,7],[39,4,39,6],[69,0,70,7],[75,1,76,2],[75,4,76,7],[73,4,74,7],[73,1,74,2]]}
[{"$f":"Validacion!A2","v":"Ayutla"}]
["ESTADO ANALÍTICO DE INGRESOS DETALLADO - LDF"]
[{"$f":"'F6'!A3","v":"Del 1° de Enero al 30 de Septiembre de 2023"}]
[]
["RUBRO DE INGRESOS",null,"INGRESO",null,null,null,null,"DIFERENCIA"]
[null,null,"ESTIMADO","AMPLIACIÓN Y REDUCCIÓN","MODIFICADO","DEVENGADO","RECAUDADO"]
["INGRESOS DE LIBRE DISPOSICIÓN"]
["Impuestos",null,{"$f":"Balanza!G796","v":0},{"$f":"Balanza!G984","v":0},{"$f":"C8+D8","v":0},{"$f":"Balanza!F1078","v":0},{"$f":"Balanza!H1172","v":0},{"$f":"G8-C8","v":0}]
["Cuotas y aportaciones de seguridad social ",null,{"$f":"Balanza!G806","v":0},{"$f":"Balanza!G994","v":0},{"$f":"C9+D9","v":0},{"$f":"Balanza!F1088","v":0},{"$f":"Balanza!H1182","v":0},{"$f":"G9-C9","v":0}]
["Contribuciones de mejoras ",null,{"$f":"Balanza!G812","v":0},{"$f":"Balanza!G1000","v":0},0,{"$f":"Balanza!F1094","v":0},{"$f":"Balanza!H1188","v":0},0]
["Derechos",null,{"$f":"Balanza!G815","v":0},{"$f":"Balanza!G1003","v":0},0,{"$f":"Balanza!F1097","v":0},{"$f":"Balanza!H1191","v":0},0]
["Productos",null,{"$f":"Balanza!G822","v":0},{"$f":"Balanza!G1010","v":0},0,{"$f":"Balanza!F1104","v":0},{"$f":"Balanza!H1198","v":0},0]
["Aprovechamientos",null,{"$f":"Balanza!G826","v":0},{"$f":"Balanza!G1014","v":0},0,{"$f":"Balanza!F1108","v":0},{"$f":"Balanza!H1202","v":0},0]
["Ingresos por ventas de bienes y servicios ",null,{"$f":"Balanza!G831","v":0},{"$f":"Balanza!G1019","v":0},0,{"$f":"Balanza!F1113","v":0},{"$f":"Balanza!H1207","v":0},0]
["Participaciones",null,{"$f":"SUM(C16:C26)","v":0},0,0,0,0,0]
[null,"Fondo general de participaciones",{"$f":"Balanza!G843","v":0},{"$f":"Balanza!G1031","v":0},0,{"$f":"Balanza!F1125","v":0},{"$f":"Balanza!H1219","v":0},{"$f":"G16-C16","v":0}]
[null,"Fondo de fomento municipal",{"$f":"Balanza!G844","v":0},{"$f":"Balanza!G1032","v":0},0,{"$f":"Balanza!F1126","v":0},{"$f":"Balanza!H1220","v":0},0]
[null,"Fondo de fiscalización y recaudación",{"$f":"Balanza!G845","v":0},{"$f":"Balanza!G1033","v":0},0,{"$f":"Balanza!F1127","v":0},{"$f":"Balanza!H1221","v":0},0]
[null,"Fondo de compensación",{"$f":"Balanza!G846","v":0},{"$f":"Balanza!G1034","v":0},0,{"$f":"Balanza!F1128","v":0},{"$f":"Balanza!H1222","v":0},0]
[null,"Fondo de extracción de hidrocarburos",{"$f":"Balanza!G847","v":0},{"$f":"Balanza!G1035","v":0},0,{"$f":"Balanza!F1129","v":0},{"$f":"Balanza!H1223","v":0},0]
[null,"Impuesto especial sobre producción y servicios",{"$f":"Balanza!G848","v":0},{"$f":"Balanza!G1036","v":0},0,{"$f":"Balanza!F1130","v":0},{"$f":"Balanza!H1224","v":0},0]
[null,"0.136% de la recaudación federal participable",{"$f":"Balanza!G849","v":0},{"$f":"Balanza!G1037","v":0},0,{"$f":"Balanza!F1131","v":0},{"$f":"Balanza!H1225","v":0},0]
[null,"3.17% sobre extracción del petróleo",{"$f":"Balanza!G850","v":0},{"$f":"Balanza!G1038","v":0},0,{"$f":"Balanza!F1132","v":0},{"$f":"Balanza!H1226","v":0},0]
[null,"Gasolinas y diésel",{"$f":"Balanza!G851","v":0},{"$f":"Balanza!G1039","v":0},0,{"$f":"Balanza!F1133","v":0},{"$f":"Balanza!H1227","v":0},0]
[null,"Fondo de impuesto sobre la renta",{"$f":"Balanza!G852","v":0},{"$f":"Balanza!G1040","v":0},0,{"$f":"Balanza!F1134","v":0},{"$f":"Balanza!H1228","v":0},0]
[null,"Fondo de estabilización de los ingresos de las entidades federativas",{"$f":"Balanza!G853","v":0},{"$f":"Balanza!G1041","v":0},0,{"$f":"Balanza!F1135","v":0},{"$f":"Balanza!H1229","v":0},0]
["Incentivos derivados de la colaboración fiscal",null,{"$f":"SUM(C28:C32)","v":0},0,0,0,0,0]
[null,"Tenencia o uso de vehículos",{"$f":"Balanza!G865","v":0},{"$f":"Balanza!G1053","v":0},0,{"$f":"Balanza!F1147","v":0},{"$f":"Balanza!H1241","v":0},{"$f":"G28-C28","v":0}]
[null,"Fondo de compensación ISAN",{"$f":"Balanza!G866","v":0},{"$f":"Balanza!G1054","v":0},0,{"$f":"Balanza!F1148","v":0},{"$f":"Balanza!H1242","v":0},0]
[null,"Impuesto sobre automóviles nuevos",{"$f":"Balanza!G867","v":0},{"$f":"Balanza!G1055","v":0},0,{"$f":"Balanza!F1149","v":0},{"$f":"Balanza!H1243","v":0},0]
[null,"Fondo de compensación de repecos-intermedios",{"$f":"Balanza!G868","v":0},{"$f":"Balanza!G1056","v":0},0,{"$f":"Balanza!F1150","v":0},{"$f":"Balanza!H1244","v":0},0]
[null,"Otros incentivos económicos",{"$f":"Balanza!G869","v":0},{"$f":"Balanza!G1057","v":0},0,{"$f":"Balanza!F1151","v":0},{"$f":"Balanza!H1245","v":0},0]
["Transferencias",null,{"$f":"Balanza!G874+Balanza!G882","v":0},{"$f":"Balanza!G1062+Balanza!G1070","v":0},0,{"$f":"Balanza!F1156+Balanza!F1164","v":0},{"$f":"Balanza!H1250+Balanza!H1258","v":0},{"$f":"C33-G33","v":0}]
["Convenios",null,{"$f":"C35","v":0},{"$f":"D35","v":0},{"$f":"E35","v":0},{"$f":"F35","v":0},{"$f":"G35","v":0},{"$f":"G34-C34","v":0}]
[null,"Otros convenios y subsidios",{"$f":"Balanza!G858+Balanza!G877","v":0},{"$f":"Balanza!G1046+Balanza!G1065","v":0},0,{"$f":"Balanza!F1140+Balanza!F1159","v":0},{"$f":"Balanza!H1234+Balanza!H1253","v":0},{"$f":"G35-C35","v":0}]
["Otros ingresos de libre disposición",null,{"$f":"SUM(C37:C38)","v":0},0,0,0,0,0]
[null,"Participaciones en ingresos locales",{"$f":"Balanza!G854","v":0},{"$f":"Balanza!G1042","v":0},0,{"$f":"Balanza!F1136","v":0},{"$f":"Balanza!H1230","v":0},{"$f":"G37-C37","v":0}]
[null,"Otros ingresos de libre disposición",{"$f":"Balanza!G880","v":0},{"$f":"Balanza!G1068","v":0},0,{"$f":"Balanza!F1162","v":0},{"$f":"Balanza!H1256","v":0},0]
[null,"Total de ingresos de libre disposición",{"$f":"C8+C9+C10+C11+C12+C13+C14+C15+C27+C33+C34+C36","v":0},0,0,0,0,0]
[null,null,null,null,"Ingresos excedentes de ingresos de libre disposición"]
["TRANSFERENCIAS FEDERALES ETIQUETADAS"]
["Aportaciones",null,{"$f":"SUM(C43:C50)","v":0},0,0,0,0,0]
[null,"Fondo de aportaciones para la nómina educativa y gasto operativo",0,0,{"$f":"C43+D43","v":0},0,0,{"$f":"G43-C43","v":0}]
[null,"Fondo de aportaciones para los servicios de salud",0,0,0,0,0,0]
[null,"Fondo de aportaciones para la infraestructura social",{"$f":"Balanza!G856","v":0},{"$f":"Balanza!G1044","v":0},0,{"$f":"Balanza!F1138","v":0},{"$f":"Balanza!H1232","v":0},0]
[null,"Fondo de aportaciones para el fortalecimiento de los municipios y de las demarcaciones territoriales del distrito federal",{"$f":"Balanza!G857","v":0},{"$f":"Balanza!G1045","v":0},0,{"$f":"Balanza!F1139","v":0},{"$f":"Balanza!H1233","v":0},0]
[null,"Fondo de aportaciones múltiples",0,0,0,0,0,0]
[null,"Fondo de aportaciones para la educación tecnológica y de adultos",0,0,0,0,0,0]
[null,"Fondo de aportaciones para la seguridad pública de los estados y del distrito federal",0,0,0,0,0,0]
[null,"Fondo de aportaciones para el fortalecimiento de las entidades federativas",0,0,0,0,0,0]
["Convenios",null,{"$f":"SUM(C52:C55)","v":0},{"$f":"SUM(D52:D55)","v":0},0,0,0,0]
[null,"Convenios de protección social en salud",{"$f":"Balanza!G860","v":0},{"$f":"Balanza!G1048","v":0},0,{"$f":"Balanza!F1142","v":0},{"$f":"Balanza!H1236","v":0},0]
[null,"Convenios de descentralización",{"$f":"Balanza!G861","v":0},{"$f":"Balanza!G1049","v":0},0,{"$f":"Balanza!F1143","v":0},{"$f":"Balanza!H1237","v":0},0]
[null,"Convenios de reasignación",{"$f":"Balanza!G862","v":0},{"$f":"Balanza!G1050","v":0},0,{"$f":"Balanza!F1144","v":0},{"$f":"Balanza!H1238","v":0},0]
[null,"Otros convenios y subsidios",{"$f":"Balanza!G863","v":0},{"$f":"Balanza!G1051","v":0},0,{"$f":"Balanza!F1145","v":0},{"$f":"Balanza!H1239","v":0},0]
["Fondos distintos de aportaciones",null,{"$f":"C57+C58","v":0},{"$f":"D57+D58","v":0},0,0,0,0]
[null,"Fondo para entidades federativas y municipios productores de hidrocarburos",{"$f":"Balanza!G871","v":0},{"$f":"Balanza!G1059","v":0},0,{"$f":"Balanza!F1153","v":0},{"$f":"Balanza!H1247","v":0},0]
[null,"Fondo minero",{"$f":"Balanza!G872","v":0},{"$f":"Balanza!G1060","v":0},0,{"$f":"Balanza!F1154","v":0},{"$f":"Balanza!H1248","v":0},0]
["Transferencias, subsidios y subvenciones, y pensiones y jubilaciones",null,{"$f":"Balanza!G875+Balanza!G878","v":0},{"$f":"Balanza!G1063+Balanza!G1066","v":0},0,{"$f":"Balanza!F1157+Balanza!F1160","v":0},{"$f":"Balanza!H1251+Balanza!H1254","v":0},0]
["Otras transferencias federales etiquetadas",null,0,0,0,0,0,0]
[null,"Total de transferencias federales etiquetadas",{"$f":"C42+C51+C56+C59+C60","v":0},{"$f":"D42+D51+D56+D59+D60","v":0},0,0,0,0]
["INGRESOS DERIVADOS DE FINANCIAMIENTO"]
[null,"Ingresos derivados de financiamiento",{"$f":"C68","v":0},{"$f":"D68","v":0},0,{"$f":"F68","v":0},{"$f":"G68","v":0},0]
[null,"Total de ingresos ",{"$f":"C39+C61+C63","v":0},{"$f":"D39+D61+D63","v":0},0,0,0,{"$f":"H39+H61+H63","v":0}]
["DATOS INFORMATIVOS"]
[null,"Ingresos derivados de financiamientos con fuente de pago de ingresos de libre disposición",{"$f":"Balanza!G887","v":0},{"$f":"Balanza!G1075","v":0},0,{"$f":"Balanza!F1169","v":0},{"$f":"Balanza!H1263","v":0},0]
[null,"Ingresos derivados de financiamientos con fuente de pago de transferencias federales etiquetadas",{"$f":"Balanza!G888","v":0},{"$f":"Balanza!G1076","v":0},0,{"$f":"Balanza!F1170","v":0},{"$f":"Balanza!H1264","v":0},0]
[null,"Ingresos derivados de financiamiento",{"$f":"SUM(C66:C67)","v":0},0,0,0,0,0]
[]
["Bajo protesta de decir verdad declaramos que los estados financieros y sus notas, son razonablemente correctos y son responsabilidad del emisor."]
[]
[]
[]
[null,{"$f":"Validacion!A7","v":"C. José Ángel Prudencio Vargas"},null,null,{"$f":"Validacion!A9","v":"L.C.P. Regina Itzel Bedoya Cruz"}]
[]
[null,"Presidente Municipal o Titular del ente público",null,null,"Encargado de la Hacienda Municipal\n o Responsable de las finanzas del ente público"]

{"sheet":"F8","index":28,"n_rows":86,"n_cols":8,"rows_kept":86,"cut":false,"hidden":true,"merged":[[85,1,86,1],[83,3,84,6],[85,3,86,6],[2,0,2,8],[0,0,0,7],[1,0,1,7],[3,0,3,7],[4,0,4,7],[5,0,6,1],[5,2,5,6],[5,7,6,7],[83,1,84,1]]}
[{"$f":"Validacion!A2","v":"Ayutla"}]
["ESTADO ANALÍTICO DEL EJERCICIO DEL PRESPUESTO DE EGRESOS"]
["CLASIFICACIÓN POR OBJETO DEL GASTO (CAPÍTULO Y CONCEPTO)"]
[{"$f":"'F6'!A3","v":"Del 1° de Enero al 30 de Septiembre de 2023"}]
[]
["CONCEPTO",null,"EGRESOS",null,null,null,null,"SUBEJERCICIO"]
[null,null,"APROBADO","AMPLIACIONES/\n(REDUCCIONES)","MODIFICADO","DEVENGADO","PAGADO"]
["Servicios personales",null,{"$f":"SUM(C9:C15)","v":0},{"$f":"SUM(D9:D15)","v":0},{"$f":"C8+D8","v":0},{"$f":"SUM(F9:F15)","v":0},{"$f":"SUM(G9:G15)","v":0},{"$f":"E8-F8","v":0}]
[null,"Remuneraciones al personal de carácter permanente",{"$f":"SUM(Balanza!H1268:H1269)","v":0},{"$f":"SUM(Balanza!H1540:H1541)","v":0},{"$f":"C9+D9","v":0},{"$f":"SUM(Balanza!E1812:E1813)","v":0},{"$f":"SUM(Balanza!G2084:G2085)","v":0},{"$f":"E9-F9","v":0}]
[null,"Remuneraciones al personal de carácter transitorio",{"$f":"SUM(Balanza!H1270:H1271)","v":0},{"$f":"SUM(Balanza!H1542:H1543)","v":0},0,{"$f":"SUM(Balanza!E1814:E1815)","v":0},{"$f":"SUM(Balanza!G2086:G2087)","v":0},0]
[null,"Remuneraciones adicionales especiales",{"$f":"SUM(Balanza!H1272:H1273)","v":0},{"$f":"SUM(Balanza!H1544:H1545)","v":0},0,{"$f":"SUM(Balanza!E1816:E1817)","v":0},{"$f":"SUM(Balanza!G2088:G2089)","v":0},0]
[null,"Seguridad social",{"$f":"SUM(Balanza!H1274:H1275)","v":0},{"$f":"SUM(Balanza!H1546:H1547)","v":0},0,{"$f":"SUM(Balanza!E1818:E1819)","v":0},{"$f":"SUM(Balanza!G2090:G2091)","v":0},0]
[null,"Otras prestaciones sociales y económicas",{"$f":"SUM(Balanza!H1276:H1277)","v":0},{"$f":"SUM(Balanza!H1548:H1549)","v":0},0,{"$f":"SUM(Balanza!E1820:E1821)","v":0},{"$f":"SUM(Balanza!G2092:G2093)","v":0},0]
[null,"Previsiones",{"$f":"SUM(Balanza!H1278:H1279)","v":0},{"$f":"SUM(Balanza!H1550:H1551)","v":0},0,{"$f":"SUM(Balanza!E1822:E1823)","v":0},{"$f":"SUM(Balanza!G2094:G2095)","v":0},0]
[null,"Pago de estímulos a servidores públicos",{"$f":"SUM(Balanza!H1280:H1281)","v":0},{"$f":"SUM(Balanza!H1552:H1553)","v":0},0,{"$f":"SUM(Balanza!E1824:E1825)","v":0},{"$f":"SUM(Balanza!G2096:G2097)","v":0},0]
["Materiales y suministros",null,{"$f":"SUM(C17:C25)","v":0},{"$f":"SUM(D17:D25)","v":0},0,{"$f":"SUM(F17:F25)","v":0},{"$f":"SUM(G17:G25)","v":0},0]
[null,"Materiales de administración, emisión de documentos y artículos oficiales",{"$f":"SUM(Balanza!H1283:H1284)","v":0},{"$f":"SUM(Balanza!H1555:H1556)","v":0},0,{"$f":"SUM(Balanza!E1827:E1828)","v":0},{"$f":"SUM(Balanza!G2099:G2100)","v":0},0]
[null,"Alimentos y utensilios",{"$f":"SUM(Balanza!H1285:H1286)","v":0},{"$f":"SUM(Balanza!H1557:H1558)","v":0},0,{"$f":"SUM(Balanza!E1829:E1830)","v":0},{"$f":"SUM(Balanza!G2101:G2102)","v":0},0]
[null,"Materias primas y materiales de producción y comercialización",{"$f":"SUM(Balanza!H1287:H1288)","v":0},{"$f":"SUM(Balanza!H1559:H1560)","v":0},0,{"$f":"SUM(Balanza!E1831:E1832)","v":0},{"$f":"SUM(Balanza!G2103:G2104)","v":0},0]
[null,"Materiales y artículos de construcción y de reparación",{"$f":"SUM(Balanza!H1289:H1290)","v":0},{"$f":"SUM(Balanza!H1561:H1562)","v":0},0,{"$f":"SUM(Balanza!E1833:E1834)","v":0},{"$f":"SUM(Balanza!G2105:G2106)","v":0},0]
[null,"Productos químicos, farmacéuticos y de laboratorio",{"$f":"SUM(Balanza!H1291:H1292)","v":0},{"$f":"SUM(Balanza!H1563:H1564)","v":0},0,{"$f":"SUM(Balanza!E1835:E1836)","v":0},{"$f":"SUM(Balanza!G2107:G2108)","v":0},0]
[null,"Combustibles, lubricantes y aditivos",{"$f":"SUM(Balanza!H1293:H1294)","v":0},{"$f":"SUM(Balanza!H1565:H1566)","v":0},0,{"$f":"SUM(Balanza!E1837:E1838)","v":0},{"$f":"SUM(Balanza!G2109:G2110)","v":0},0]
[null,"Vestuario, blancos, prendas de protección y artículos deportivos",{"$f":"SUM(Balanza!H1295:H1296)","v":0},{"$f":"SUM(Balanza!H1567:H1568)","v":0},0,{"$f":"SUM(Balanza!E1839:E1840)","v":0},{"$f":"SUM(Balanza!G2111:G2112)","v":0},0]
[null,"Materiales y suministros de seguridad",{"$f":"SUM(Balanza!H1297:H1298)","v":0},{"$f":"SUM(Balanza!H1569:H1570)","v":0},0,{"$f":"SUM(Balanza!E1841:E1842)","v":0},{"$f":"SUM(Balanza!G2113:G2114)","v":0},0]
[null,"Herramientas, refacciones y accesorios menores",{"$f":"SUM(Balanza!H1299:H1300)","v":0},{"$f":"SUM(Balanza!H1571:H1572)","v":0},0,{"$f":"SUM(Balanza!E1843:E1844)","v":0},{"$f":"SUM(Balanza!G2115:G2116)","v":0},0]
["Servicios generales",null,{"$f":"SUM(C27:C35)","v":0},{"$f":"SUM(D27:D35)","v":0},0,{"$f":"SUM(F27:F35)","v":0},{"$f":"SUM(G27:G35)","v":0},0]
[null,"Servicios básicos",{"$f":"SUM(Balanza!H1302:H1303)","v":0},{"$f":"SUM(Balanza!H1574:H1575)","v":0},0,{"$f":"SUM(Balanza!E1846:E1847)","v":0},{"$f":"SUM(Balanza!G2118:G2119)","v":0},0]
[null,"Servicios de arrendamiento",{"$f":"SUM(Balanza!H1304:H1305)","v":0},{"$f":"SUM(Balanza!H1576:H1577)","v":0},0,{"$f":"SUM(Balanza!E1848:E1849)","v":0},{"$f":"SUM(Balanza!G2120:G2121)","v":0},0]
[null,"Servicios profesionales, científicos, técnicos y otros servicios",{"$f":"SUM(Balanza!H1306:H1307)","v":0},{"$f":"SUM(Balanza!H1578:H1579)","v":0},0,{"$f":"SUM(Balanza!E1850:E1851)","v":0},{"$f":"SUM(Balanza!G2122:G2123)","v":0},0]
[null,"Servicios financieros, bancarios y comerciales",{"$f":"SUM(Balanza!H1308:H1309)","v":0},{"$f":"SUM(Balanza!H1580:H1581)","v":0},0,{"$f":"SUM(Balanza!E1852:E1853)","v":0},{"$f":"SUM(Balanza!G2124:G2125)","v":0},0]
[null,"Servicios de instalación, reparación, mantenimiento y conservación",{"$f":"SUM(Balanza!H1310:H1311)","v":0},{"$f":"SUM(Balanza!H1582:H1583)","v":0},0,{"$f":"SUM(Balanza!E1854:E1855)","v":0},{"$f":"SUM(Balanza!G2126:G2127)","v":0},0]
[null,"Servicios de comunicación social y publicidad",{"$f":"SUM(Balanza!H1312:H1313)","v":0},{"$f":"SUM(Balanza!H1584:H1585)","v":0},0,{"$f":"SUM(Balanza!E1856:E1857)","v":0},{"$f":"SUM(Balanza!G2128:G2129)","v":0},0]
[null,"Servicios de traslado y viáticos",{"$f":"SUM(Balanza!H1314:H1315)","v":0},{"$f":"SUM(Balanza!H1586:H1587)","v":0},0,{"$f":"SUM(Balanza!E1858:E1859)","v":0},{"$f":"SUM(Balanza!G2130:G2131)","v":0},0]
[null,"Servicios oficiales",{"$f":"SUM(Balanza!H1316:H1317)","v":0},{"$f":"SUM(Balanza!H1588:H1589)","v":0},0,{"$f":"SUM(Balanza!E1860:E1861)","v":0},{"$f":"SUM(Balanza!G2132:G2133)","v":0},0]
[null,"Otros servicios generales",{"$f":"SUM(Balanza!H1318:H1319)","v":0},{"$f":"SUM(Balanza!H1590:H1591)","v":0},0,{"$f":"SUM(Balanza!E1862:E1863)","v":0},{"$f":"SUM(Balanza!G2134:G2135)","v":0},0]
["Transferencias, asignaciones, subsidios y otras ayudas",null,{"$f":"SUM(C37:C45)","v":0},{"$f":"SUM(D37:D45)","v":0},0,{"$f":"SUM(F37:F45)","v":0},{"$f":"SUM(G37:G45)","v":0},0]
[null,"Transferencias internas y asignaciones al sector público",{"$f":"SUM(Balanza!H1321:H1322)","v":0},{"$f":"SUM(Balanza!H1593:H1594)","v":0},0,{"$f":"SUM(Balanza!E1865:E1866)","v":0},{"$f":"SUM(Balanza!G2137:G2138)","v":0},0]
[null,"Transferencias al resto del sector público",{"$f":"SUM(Balanza!H1323:H1324)","v":0},{"$f":"SUM(Balanza!H1595:H1596)","v":0},0,{"$f":"SUM(Balanza!E1867:E1868)","v":0},{"$f":"SUM(Balanza!G2139:G2140)","v":0},0]
[null,"Subsidios y subvenciones",{"$f":"SUM(Balanza!H1325:H1326)","v":0},{"$f":"SUM(Balanza!H1597:H1598)","v":0},0,{"$f":"SUM(Balanza!E1869:E1870)","v":0},{"$f":"SUM(Balanza!G2141:G2142)","v":0},0]
[null,"Ayudas sociales",{"$f":"SUM(Balanza!H1327:H1328)","v":0},{"$f":"SUM(Balanza!H1599:H1600)","v":0},0,{"$f":"SUM(Balanza!E1871:E1872)","v":0},{"$f":"SUM(Balanza!G2143:G2144)","v":0},0]
[null,"Pensiones y jubilaciones",{"$f":"SUM(Balanza!H1329:H1330)","v":0},{"$f":"SUM(Balanza!H1601:H1602)","v":0},0,{"$f":"SUM(Balanza!E1873:E1874)","v":0},{"$f":"SUM(Balanza!G2145:G2146)","v":0},0]
[null,"Transferencias a fideicomisos, mandatos y otros análogos",{"$f":"SUM(Balanza!H1331:H1332)","v":0},{"$f":"SUM(Balanza!H1603:H1604)","v":0},0,{"$f":"SUM(Balanza!E1875:E1876)","v":0},{"$f":"SUM(Balanza!G2147:G2148)","v":0},0]
[null,"Transferencias a la seguridad social",{"$f":"SUM(Balanza!H1333:H1334)","v":0},{"$f":"SUM(Balanza!H1605:H1606)","v":0},0,{"$f":"SUM(Balanza!E1877:E1878)","v":0},{"$f":"SUM(Balanza!G2149:G2150)","v":0},0]
[null,"Donativos",{"$f":"SUM(Balanza!H1335:H1336)","v":0},{"$f":"SUM(Balanza!H1607:H1608)","v":0},0,{"$f":"SUM(Balanza!E1879:E1880)","v":0},{"$f":"SUM(Balanza!G2151:G2152)","v":0},0]
[null,"Transferencias al exterior",{"$f":"SUM(Balanza!H1337:H1338)","v":0},{"$f":"SUM(Balanza!H1609:H1610)","v":0},0,{"$f":"SUM(Balanza!E1881:E1882)","v":0},{"$f":"SUM(Balanza!G2153:G2154)","v":0},0]
["Bienes muebles, inmuebles e intangibles",null,{"$f":"SUM(C47:C55)","v":0},{"$f":"SUM(D47:D55)","v":0},0,{"$f":"SUM(F47:F55)","v":0},{"$f":"SUM(G47:G55)","v":0},0]
[null,"Mobiliario y equipo de administración",{"$f":"SUM(Balanza!H1340:H1341)","v":0},{"$f":"SUM(Balanza!H1612:H1613)","v":0},0,{"$f":"SUM(Balanza!E1884:E1885)","v":0},{"$f":"SUM(Balanza!G2156:G2157)","v":0},0]
[null,"Mobiliario y equipo educacional y recreativo",{"$f":"SUM(Balanza!H1342:H1343)","v":0},{"$f":"SUM(Balanza!H1614:H1615)","v":0},0,{"$f":"SUM(Balanza!E1886:E1887)","v":0},{"$f":"SUM(Balanza!G2158:G2159)","v":0},0]
[null,"Equipo instrumental médico y de laboratorio",{"$f":"SUM(Balanza!H1344:H1345)","v":0},{"$f":"SUM(Balanza!H1616:H1617)","v":0},0,{"$f":"SUM(Balanza!E1888:E1889)","v":0},{"$f":"SUM(Balanza!G2160:G2161)","v":0},0]
[null,"Vehículos y equipo de transporte",{"$f":"SUM(Balanza!H1346:H1347)","v":0},{"$f":"SUM(Balanza!H1618:H1619)","v":0},0,{"$f":"SUM(Balanza!E1890:E1891)","v":0},{"$f":"SUM(Balanza!G2162:G2163)","v":0},0]
[null,"Equipo de defensa y seguridad",{"$f":"SUM(Balanza!H1348:H1349)","v":0},{"$f":"SUM(Balanza!H1620:H1621)","v":0},0,{"$f":"SUM(Balanza!E1892:E1893)","v":0},{"$f":"SUM(Balanza!G2164:G2165)","v":0},0]
[null,"Maquinaria, otros equipos y herramientas",{"$f":"SUM(Balanza!H1350:H1351)","v":0},{"$f":"SUM(Balanza!H1622:H1623)","v":0},0,{"$f":"SUM(Balanza!E1894:E1895)","v":0},{"$f":"SUM(Balanza!G2166:G2167)","v":0},0]
[null,"Activos biológicos",{"$f":"SUM(Balanza!H1352:H1353)","v":0},{"$f":"SUM(Balanza!H1624:H1625)","v":0},0,{"$f":"SUM(Balanza!E1896:E1897)","v":0},{"$f":"SUM(Balanza!G2168:G2169)","v":0},0]
[null,"Bienes inmuebles",{"$f":"SUM(Balanza!H1354:H1355)","v":0},{"$f":"SUM(Balanza!H1626:H1627)","v":0},0,{"$f":"SUM(Balanza!E1898:E1899)","v":0},{"$f":"SUM(Balanza!G2170:G2171)","v":0},0]
[null,"Activos intangibles",{"$f":"SUM(Balanza!H1356:H1357)","v":0},{"$f":"SUM(Balanza!H1628:H1629)","v":0},0,{"$f":"SUM(Balanza!E1900:E1901)","v":0},{"$f":"SUM(Balanza!G2172:G2173)","v":0},0]
["Inversión pública",null,{"$f":"SUM(C57:C59)","v":0},{"$f":"SUM(D57:D59)","v":0},0,{"$f":"SUM(F57:F59)","v":0},{"$f":"SUM(G57:G59)","v":0},0]
[null,"Obra pública en bienes de dominio público",{"$f":"SUM(Balanza!H1359:H1360)","v":0},{"$f":"SUM(Balanza!H1631:H1632)","v":0},0,{"$f":"SUM(Balanza!E1903:E1904)","v":0},{"$f":"SUM(Balanza!G2175:G2176)","v":0},0]
[null,"Obra pública en bienes de dominio propios",{"$f":"SUM(Balanza!H1361:H1362)","v":0},{"$f":"SUM(Balanza!H1633:H1634)","v":0},0,{"$f":"SUM(Balanza!E1905:E1906)","v":0},{"$f":"SUM(Balanza!G2177:G2178)","v":0},0]
[null,"Proyectos productivos y acciones de fomento",{"$f":"SUM(Balanza!H1363:H1364)","v":0},{"$f":"SUM(Balanza!H1635:H1636)","v":0},0,{"$f":"SUM(Balanza!E1907:E1908)","v":0},{"$f":"SUM(Balanza!G2179:G2180)","v":0},0]
["Inversiones financieras y otras provisiones",null,{"$f":"SUM(C61:C67)","v":0},{"$f":"SUM(D61:D67)","v":0},0,{"$f":"SUM(F61:F67)","v":0},{"$f":"SUM(G61:G67)","v":0},0]
[null,"Inversiones para el fomento de actividades productivas",{"$f":"SUM(Balanza!H1366:H1367)","v":0},{"$f":"SUM(Balanza!H1638:H1639)","v":0},0,{"$f":"SUM(Balanza!E1910:E1911)","v":0},{"$f":"SUM(Balanza!G2182:G2183)","v":0},0]
[null,"Acciones y participaciones de capital",{"$f":"SUM(Balanza!H1368:H1369)","v":0},{"$f":"SUM(Balanza!H1640:H1641)","v":0},0,{"$f":"SUM(Balanza!E1912:E1913)","v":0},{"$f":"SUM(Balanza!G2184:G2185)","v":0},0]
[null,"Compra de títulos y valores",{"$f":"SUM(Balanza!H1370:H1371)","v":0},{"$f":"SUM(Balanza!H1642:H1643)","v":0},0,{"$f":"SUM(Balanza!E1914:E1915)","v":0},{"$f":"SUM(Balanza!G2186:G2187)","v":0},0]
[null,"Concesión de préstamos",{"$f":"SUM(Balanza!H1372:H1373)","v":0},{"$f":"SUM(Balanza!H1644:H1645)","v":0},0,{"$f":"SUM(Balanza!E1916:E1917)","v":0},{"$f":"SUM(Balanza!G2188:G2189)","v":0},0]
[null,"Inversiones en fideicomisos, mandatos y otros análogos",{"$f":"SUM(Balanza!H1374:H1375)","v":0},{"$f":"SUM(Balanza!H1646:H1647)","v":0},0,{"$f":"SUM(Balanza!E1918:E1919)","v":0},{"$f":"SUM(Balanza!G2190:G2191)","v":0},0]
[null,"Otras inversiones financieras",{"$f":"SUM(Balanza!H1376:H1377)","v":0},{"$f":"SUM(Balanza!H1648:H1649)","v":0},0,{"$f":"SUM(Balanza!E1920:E1921)","v":0},{"$f":"SUM(Balanza!G2192:G2193)","v":0},0]
[null,"Provisiones para contingencias y otras erogaciones especiales",{"$f":"SUM(Balanza!H1378:H1379)","v":0},{"$f":"SUM(Balanza!H1650:H1651)","v":0},0,{"$f":"SUM(Balanza!E1922:E1923)","v":0},{"$f":"SUM(Balanza!G2194:G2195)","v":0},0]
["Participaciones y aportaciones",null,{"$f":"SUM(C69:C71)","v":0},{"$f":"SUM(D69:D71)","v":0},0,{"$f":"SUM(F69:F71)","v":0},{"$f":"SUM(G69:G71)","v":0},0]
[null,"Participaciones",{"$f":"SUM(Balanza!H1381:H1382)","v":0},{"$f":"SUM(Balanza!H1653:H1654)","v":0},0,{"$f":"SUM(Balanza!E1925:E1926)","v":0},{"$f":"SUM(Balanza!G2197:G2198)","v":0},0]
[null,"Aportaciones",{"$f":"SUM(Balanza!H1383:H1384)","v":0},{"$f":"SUM(Balanza!H1655:H1656)","v":0},0,{"$f":"SUM(Balanza!E1927:E1928)","v":0},{"$f":"SUM(Balanza!G2199:G2200)","v":0},0]
[null,"Convenios",{"$f":"SUM(Balanza!H1385:H1386)","v":0},{"$f":"SUM(Balanza!H1657:H1658)","v":0},0,{"$f":"SUM(Balanza!E1929:E1930)","v":0},{"$f":"SUM(Balanza!G2201:G2202)","v":0},0]
["Deuda pública",null,{"$f":"SUM(C73:C79)","v":0},{"$f":"SUM(D73:D79)","v":0},0,{"$f":"SUM(F73:F79)","v":0},{"$f":"SUM(G73:G79)","v":0},0]
[null,"Amortización de la deuda pública",{"$f":"SUM(Balanza!H1388:H1389)","v":0},{"$f":"SUM(Balanza!H1660:H1661)","v":0},{"$f":"C73+D73","v":0},{"$f":"SUM(Balanza!E1932:E1933)","v":0},{"$f":"SUM(Balanza!G2204:G2205)","v":0},{"$f":"E73-F73","v":0}]
[null,"Intereses de la deuda pública",{"$f":"SUM(Balanza!H1390:H1391)","v":0},{"$f":"SUM(Balanza!H1662:H1663)","v":0},0,{"$f":"SUM(Balanza!E1934:E1935)","v":0},{"$f":"SUM(Balanza!G2206:G2207)","v":0},0]
[null,"Comisiones de la deuda pública",{"$f":"SUM(Balanza!H1392:H1393)","v":0},{"$f":"SUM(Balanza!H1664:H1665)","v":0},0,{"$f":"SUM(Balanza!E1936:E1937)","v":0},{"$f":"SUM(Balanza!G2208:G2209)","v":0},0]
[null,"Gastos de la deuda pública",{"$f":"SUM(Balanza!H1394:H1395)","v":0},{"$f":"SUM(Balanza!H1666:H1667)","v":0},0,{"$f":"SUM(Balanza!E1938:E1939)","v":0},{"$f":"SUM(Balanza!G2210:G2211)","v":0},0]
[null,"Costo por coberturas",{"$f":"SUM(Balanza!H1396:H1397)","v":0},{"$f":"SUM(Balanza!H1668:H1669)","v":0},0,{"$f":"SUM(Balanza!E1940:E1941)","v":0},{"$f":"SUM(Balanza!G2212:G2213)","v":0},0]
[null,"Apoyos financieros",{"$f":"SUM(Balanza!H1398:H1399)","v":0},{"$f":"SUM(Balanza!H1670:H1671)","v":0},0,{"$f":"SUM(Balanza!E1942:E1943)","v":0},{"$f":"SUM(Balanza!G2214:G2215)","v":0},0]
[null,"Adeudos de ejercicios anteriores (adefas)",{"$f":"SUM(Balanza!H1400:H1401)","v":0},{"$f":"SUM(Balanza!H1672:H1673)","v":0},0,{"$f":"SUM(Balanza!E1944:E1945)","v":0},{"$f":"SUM(Balanza!G2216:G2217)","v":0},0]
[null,"TOTAL DEL GASTO",{"$f":"C8+C16+C26+C36+C46+C56+C60+C68+C72","v":0},0,0,0,0,0]
[]
[null,"Bajo protesta de decir verdad declaramos que los estados financieros y sus notas, son razonablemente correctos y son responsabilidad del emisor."]
[]
[null,{"$f":"Validacion!A7","v":"C. José Ángel Prudencio Vargas"},null,{"$f":"Validacion!A9","v":"L.C.P. Regina Itzel Bedoya Cruz"}]
[]
[null,"Presidente Municipal o titular del ente público",null,"Encargado de la Hacienda Municipal\n o Responsable de las finanzas del ente público"]

{"sheet":"F8B","index":29,"n_rows":163,"n_cols":9,"rows_kept":163,"cut":false,"hidden":true,"merged":[[0,1,0,8],[162,2,163,2],[160,2,161,2],[1,1,1,8],[2,1,2,8],[3,1,3,8],[4,1,5,2],[4,3,4,7],[4,8,5,8],[162,5,163,7],[160,5,161,7],[68,1,70,1],[80,1,80,8],[142,1,144,1]]}
[null,{"$f":"Validacion!B2","v":0}]
[null,"ESTADO ANALÍTICO DEL EJERCICIO DEL PRESPUESTO DE EGRESOS DETALLADO - LDF\nCLASIFICACIÓN POR OBJETO DEL GASTO (CAPÍTULO Y CONCEPTO)"]
[null,{"$f":"'F6'!A3","v":"Del 1° de Enero al 30 de Septiembre de 2023"}]
[]
[null,"CONCEPTO",null,"EGRESOS",null,null,null,null,"SUBEJERCICIO"]
[null,null,null,"APROBADO","AMPLACIONES/\n(REDUCCIONES)","MODFICADO","DEVENGADO","PAGADO"]
["I","GASTO NO ETIQUETADO"]
[null,"A","Servicios personales",{"$f":"SUM(D9:D15)","v":0},{"$f":"SUM(E9:E15)","v":0},{"$f":"D8+E8","v":0},{"$f":"SUM(G9:G15)","v":0},{"$f":"SUM(H9:H15)","v":0},{"$f":"F8-G8","v":0}]
[null,null,"Remuneraciones al personal de carácter permanente",{"$f":"Balanza!H1268","v":0},{"$f":"Balanza!H1540","v":0},{"$f":"D9+E9","v":0},{"$f":"Balanza!E1812","v":0},{"$f":"Balanza!G2084","v":0},{"$f":"F9-G9","v":0}]
[null,null,"Remuneraciones al personal de carácter transitorio",{"$f":"Balanza!H1270","v":0},{"$f":"Balanza!H1542","v":0},0,{"$f":"Balanza!E1814","v":0},{"$f":"Balanza!G2086","v":0},0]
[null,null,"Remuneraciones adicionales especiales",{"$f":"Balanza!H1272","v":0},{"$f":"Balanza!H1544","v":0},0,{"$f":"Balanza!E1816","v":0},{"$f":"Balanza!G2088","v":0},0]
[null,null,"Seguridad social",{"$f":"Balanza!H1274","v":0},{"$f":"Balanza!H1546","v":0},0,{"$f":"Balanza!E1818","v":0},{"$f":"Balanza!G2090","v":0},0]
[null,null,"Otras prestaciones sociales y económicas",{"$f":"Balanza!H1276","v":0},{"$f":"Balanza!H1548","v":0},0,{"$f":"Balanza!E1820","v":0},{"$f":"Balanza!G2092","v":0},0]
[null,null,"Previsiones",{"$f":"Balanza!H1278","v":0},{"$f":"Balanza!H1550","v":0},0,{"$f":"Balanza!E1822","v":0},{"$f":"Balanza!G2094","v":0},0]
[null,null,"Pago de estímulos a servidores públicos",{"$f":"Balanza!H1280","v":0},{"$f":"Balanza!H1552","v":0},0,{"$f":"Balanza!E1824","v":0},{"$f":"Balanza!G2096","v":0},0]
[null,"B","Materiales y suministros",{"$f":"SUM(D17:D25)","v":0},{"$f":"SUM(E17:E25)","v":0},0,{"$f":"SUM(G17:G25)","v":0},{"$f":"SUM(H17:H25)","v":0},0]
[null,null,"Materiales de administración, emisión de documentos y artículos oficiales",{"$f":"Balanza!H1283","v":0},{"$f":"Balanza!H1555","v":0},0,{"$f":"Balanza!E1827","v":0},{"$f":"Balanza!G2099","v":0},0]
[null,null,"Alimentos y utensilios",{"$f":"Balanza!H1285","v":0},{"$f":"Balanza!H1557","v":0},0,{"$f":"Balanza!E1829","v":0},{"$f":"Balanza!G2101","v":0},0]
[null,null,"Materias primas y materiales de producción y comercialización",{"$f":"Balanza!H1287","v":0},{"$f":"Balanza!H1559","v":0},0,{"$f":"Balanza!E1831","v":0},{"$f":"Balanza!G2103","v":0},0]
[null,null,"Materiales y artículos de construcción y de reparación",{"$f":"Balanza!H1289","v":0},{"$f":"Balanza!H1561","v":0},0,{"$f":"Balanza!E1833","v":0},{"$f":"Balanza!G2105","v":0},0]
[null,null,"Productos químicos, farmacéuticos y de laboratorio",{"$f":"Balanza!H1291","v":0},{"$f":"Balanza!H1563","v":0},0,{"$f":"Balanza!E1835","v":0},{"$f":"Balanza!G2107","v":0},0]
[null,null,"Combustibles, lubricantes y aditivos",{"$f":"Balanza!H1293","v":0},{"$f":"Balanza!H1565","v":0},0,{"$f":"Balanza!E1837","v":0},{"$f":"Balanza!G2109","v":0},0]
[null,null,"Vestuario, blancos, prendas de protección y artículos deportivos",{"$f":"Balanza!H1295","v":0},{"$f":"Balanza!H1567","v":0},0,{"$f":"Balanza!E1839","v":0},{"$f":"Balanza!G2111","v":0},0]
[null,null,"Materiales y suministros de seguridad",{"$f":"Balanza!H1297","v":0},{"$f":"Balanza!H1569","v":0},0,{"$f":"Balanza!E1841","v":0},{"$f":"Balanza!G2113","v":0},0]
[null,null,"Herramientas, refacciones y accesorios menores",{"$f":"Balanza!H1299","v":0},{"$f":"Balanza!H1571","v":0},0,{"$f":"Balanza!E1843","v":0},{"$f":"Balanza!G2115","v":0},0]
[null,"C","Servicios generales",{"$f":"SUM(D27:D35)","v":0},{"$f":"SUM(E27:E35)","v":0},0,{"$f":"SUM(G27:G35)","v":0},{"$f":"SUM(H27:H35)","v":0},0]
[null,null,"Servicios básicos",{"$f":"Balanza!H1302","v":0},{"$f":"Balanza!H1574","v":0},0,{"$f":"Balanza!E1846","v":0},{"$f":"Balanza!G2118","v":0},0]
[null,null,"Servicios de arrendamiento",{"$f":"Balanza!H1304","v":0},{"$f":"Balanza!H1576","v":0},0,{"$f":"Balanza!E1848","v":0},{"$f":"Balanza!G2120","v":0},0]
[null,null,"Servicios profesionales, científicos, técnicos y otros servicios",{"$f":"Balanza!H1306","v":0},{"$f":"Balanza!H1578","v":0},0,{"$f":"Balanza!E1850","v":0},{"$f":"Balanza!G2122","v":0},0]
[null,null,"Servicios financieros, bancarios y comerciales",{"$f":"Balanza!H1308","v":0},{"$f":"Balanza!H1580","v":0},0,{"$f":"Balanza!E1852","v":0},{"$f":"Balanza!G2124","v":0},0]
[null,null,"Servicios de instalación, reparación, mantenimiento y conservación",{"$f":"Balanza!H1310","v":0},{"$f":"Balanza!H1582","v":0},0,{"$f":"Balanza!E1854","v":0},{"$f":"Balanza!G2126","v":0},0]
[null,null,"Servicios de comunicación social y publicidad",{"$f":"Balanza!H1312","v":0},{"$f":"Balanza!H1584","v":0},0,{"$f":"Balanza!E1856","v":0},{"$f":"Balanza!G2128","v":0},0]
[null,null,"Servicios de traslado y viáticos",{"$f":"Balanza!H1314","v":0},{"$f":"Balanza!H1586","v":0},0,{"$f":"Balanza!E1858","v":0},{"$f":"Balanza!G2130","v":0},0]
[null,null,"Servicios oficiales",{"$f":"Balanza!H1316","v":0},{"$f":"Balanza!H1588","v":0},0,{"$f":"Balanza!E1860","v":0},{"$f":"Balanza!G2132","v":0},0]
[null,null,"Otros servicios generales",{"$f":"Balanza!H1318","v":0},{"$f":"Balanza!H1590","v":0},0,{"$f":"Balanza!E1862","v":0},{"$f":"Balanza!G2134","v":0},0]
[null,"D","Transferencias, asignaciones, subsidios y otras ayudas",{"$f":"SUM(D37:D45)","v":0},{"$f":"SUM(E37:E45)","v":0},0,{"$f":"SUM(G37:G45)","v":0},{"$f":"SUM(H37:H45)","v":0},0]
[null,null,"Transferencias internas y asignaciones al sector público",{"$f":"Balanza!H1321","v":0},{"$f":"Balanza!H1593","v":0},0,{"$f":"Balanza!E1865","v":0},{"$f":"Balanza!G2137","v":0},0]
[null,null,"Transferencias al resto del sector público",{"$f":"Balanza!H1323","v":0},{"$f":"Balanza!H1595","v":0},0,{"$f":"Balanza!E1867","v":0},{"$f":"Balanza!G2139","v":0},0]
[null,null,"Subsidios y subvenciones",{"$f":"Balanza!H1325","v":0},{"$f":"Balanza!H1597","v":0},0,{"$f":"Balanza!E1869","v":0},{"$f":"Balanza!G2141","v":0},0]
[null,null,"Ayudas sociales",{"$f":"Balanza!H1327","v":0},{"$f":"Balanza!H1599","v":0},0,{"$f":"Balanza!E1871","v":0},{"$f":"Balanza!G2143","v":0},0]
[null,null,"Pensiones y jubilaciones",{"$f":"Balanza!H1329","v":0},{"$f":"Balanza!H1601","v":0},0,{"$f":"Balanza!E1873","v":0},{"$f":"Balanza!G2145","v":0},0]
[null,null,"Transferencias a fideicomisos, mandatos y análogos",{"$f":"Balanza!H1331","v":0},{"$f":"Balanza!H1603","v":0},0,{"$f":"Balanza!E1875","v":0},{"$f":"Balanza!G2147","v":0},0]
[null,null,"Transferencias a la seguridad social",{"$f":"Balanza!H1333","v":0},{"$f":"Balanza!H1605","v":0},0,{"$f":"Balanza!E1877","v":0},{"$f":"Balanza!G2149","v":0},0]
[null,null,"Donativos",{"$f":"Balanza!H1335","v":0},{"$f":"Balanza!H1607","v":0},0,{"$f":"Balanza!E1879","v":0},{"$f":"Balanza!G2151","v":0},0]
[null,null,"Transferencias al exterior",{"$f":"Balanza!H1337","v":0},{"$f":"Balanza!H1609","v":0},0,{"$f":"Balanza!E1881","v":0},{"$f":"Balanza!G2153","v":0},0]
[null,"E","Bienes muebles, inmuebles e intangibles",{"$f":"SUM(D47:D55)","v":0},{"$f":"SUM(E47:E55)","v":0},0,{"$f":"SUM(G47:G55)","v":0},{"$f":"SUM(H47:H55)","v":0},0]
[null,null,"Mobiliario y equipo de administración",{"$f":"Balanza!H1340","v":0},{"$f":"Balanza!H1612","v":0},0,{"$f":"Balanza!E1884","v":0},{"$f":"Balanza!G2156","v":0},0]
[null,null,"Mobiliario y equipo educacional y recreativo",{"$f":"Balanza!H1342","v":0},{"$f":"Balanza!H1614","v":0},0,{"$f":"Balanza!E1886","v":0},{"$f":"Balanza!G2158","v":0},0]
[null,null,"Equipo instrumental médico y de laboratorio",{"$f":"Balanza!H1344","v":0},{"$f":"Balanza!H1616","v":0},0,{"$f":"Balanza!E1888","v":0},{"$f":"Balanza!G2160","v":0},0]
[null,null,"Vehículos y equipo de transporte",{"$f":"Balanza!H1346","v":0},{"$f":"Balanza!H1618","v":0},0,{"$f":"Balanza!E1890","v":0},{"$f":"Balanza!G2162","v":0},0]
[null,null,"Equipo de defensa y seguridad",{"$f":"Balanza!H1348","v":0},{"$f":"Balanza!H1620","v":0},0,{"$f":"Balanza!E1892","v":0},{"$f":"Balanza!G2164","v":0},0]
[null,null,"Maquinaria, otros equipos y herramientas",{"$f":"Balanza!H1350","v":0},{"$f":"Balanza!H1622","v":0},0,{"$f":"Balanza!E1894","v":0},{"$f":"Balanza!G2166","v":0},0]
[null,null,"Activos biológicos",{"$f":"Balanza!H1352","v":0},{"$f":"Balanza!H1624","v":0},0,{"$f":"Balanza!E1896","v":0},{"$f":"Balanza!G2168","v":0},0]
[null,null,"Bienes inmuebles",{"$f":"Balanza!H1354","v":0},{"$f":"Balanza!H1626","v":0},0,{"$f":"Balanza!E1898","v":0},{"$f":"Balanza!G2170","v":0},0]
[null,null,"Activos intangibles",{"$f":"Balanza!H1356","v":0},{"$f":"Balanza!H1628","v":0},0,{"$f":"Balanza!E1900","v":0},{"$f":"Balanza!G2172","v":0},0]
[null,"F","Inversión pública",{"$f":"SUM(D57:D59)","v":0},{"$f":"SUM(E57:E59)","v":0},0,{"$f":"SUM(G57:G59)","v":0},{"$f":"SUM(H57:H59)","v":0},0]
[null,null,"Obra pública en bienes de dominio público",{"$f":"Balanza!H1359","v":0},{"$f":"Balanza!H1631","v":0},0,{"$f":"Balanza!E1903","v":0},{"$f":"Balanza!G2175","v":0},0]
[null,null,"Obra pública en bienes de dominio propios",{"$f":"Balanza!H1361","v":0},{"$f":"Balanza!H1633","v":0},0,{"$f":"Balanza!E1905","v":0},{"$f":"Balanza!G2177","v":0},0]
[null,null,"Proyectos productivos y acciones de fomento",{"$f":"Balanza!H1363","v":0},{"$f":"Balanza!H1635","v":0},0,{"$f":"Balanza!E1907","v":0},{"$f":"Balanza!G2179","v":0},0]
[null,"G","Inversiones financieras y otras provisiones",{"$f":"SUM(D61:D67)","v":0},{"$f":"SUM(E61:E67)","v":0},0,{"$f":"SUM(G61:G67)","v":0},{"$f":"SUM(H61:H67)","v":0},0]
[null,null,"Inversiones para el fomento de actividades productivas",{"$f":"Balanza!H1366","v":0},{"$f":"Balanza!H1638","v":0},0,{"$f":"Balanza!E1910","v":0},{"$f":"Balanza!G2182","v":0},0]
[null,null,"Acciones y participaciones de capital",{"$f":"Balanza!H1368","v":0},{"$f":"Balanza!H1640","v":0},0,{"$f":"Balanza!E1912","v":0},{"$f":"Balanza!G2184","v":0},0]
[null,null,"Compra de títulos y valores",{"$f":"Balanza!H1370","v":0},{"$f":"Balanza!H1642","v":0},0,{"$f":"Balanza!E1914","v":0},{"$f":"Balanza!G2186","v":0},0]
[null,null,"Concesión de préstamos",{"$f":"Balanza!H1372","v":0},{"$f":"Balanza!H1644","v":0},0,{"$f":"Balanza!E1916","v":0},{"$f":"Balanza!G2188","v":0},0]
[null,null,"Inversiones en fideicomisos, mandatos y otros análogos",{"$f":"Balanza!H1374","v":0},{"$f":"Balanza!H1646","v":0},0,{"$f":"Balanza!E1918","v":0},{"$f":"Balanza!G2190","v":0},0]
[null,null,"Otras inversiones financieras",{"$f":"Balanza!H1376","v":0},{"$f":"Balanza!H1648","v":0},0,{"$f":"Balanza!E1920","v":0},{"$f":"Balanza!G2192","v":0},0]
[null,null,"Provisiones para contingencias y otras erogaciones especiales",{"$f":"Balanza!H1378","v":0},{"$f":"Balanza!H1650","v":0},0,{"$f":"Balanza!E1922","v":0},{"$f":"Balanza!G2194","v":0},0]
[null,"H","Participaciones y aportaciones",{"$f":"SUM(D69:D71)","v":0},{"$f":"SUM(E69:E71)","v":0},0,{"$f":"SUM(G69:G71)","v":0},{"$f":"SUM(H69:H71)","v":0},0]
[null,null,"Participaciones",{"$f":"Balanza!H1381","v":0},{"$f":"Balanza!H1653","v":0},0,{"$f":"Balanza!E1925","v":0},{"$f":"Balanza!G2197","v":0},0]
[null,null,"Aportaciones",{"$f":"Balanza!H1383","v":0},{"$f":"Balanza!H1655","v":0},0,{"$f":"Balanza!E1927","v":0},{"$f":"Balanza!G2199","v":0},0]
[null,null,"Convenios",{"$f":"Balanza!H1385","v":0},{"$f":"Balanza!H1657","v":0},0,{"$f":"Balanza!E1929","v":0},{"$f":"Balanza!G2201","v":0},0]
[null,"I","Deuda pública",{"$f":"SUM(D73:D79)","v":0},{"$f":"SUM(E73:E79)","v":0},0,{"$f":"SUM(G73:G79)","v":0},{"$f":"SUM(H73:H79)","v":0},0]
[null,null,"Amortización de la deuda pública",{"$f":"Balanza!H1388","v":0},{"$f":"Balanza!H1660","v":0},{"$f":"D73+E73","v":0},{"$f":"Balanza!E1932","v":0},{"$f":"Balanza!G2204","v":0},{"$f":"F73-G73","v":0}]
[null,null,"Intereses de la deuda pública",{"$f":"Balanza!H1390","v":0},{"$f":"Balanza!H1662","v":0},0,{"$f":"Balanza!E1934","v":0},{"$f":"Balanza!G2206","v":0},0]
[null,null,"Comisiones de la deuda pública",{"$f":"Balanza!H1392","v":0},{"$f":"Balanza!H1664","v":0},0,{"$f":"Balanza!E1936","v":0},{"$f":"Balanza!G2208","v":0},0]
[null,null,"Gastos de la deuda pública",{"$f":"Balanza!H1394","v":0},{"$f":"Balanza!H1666","v":0},0,{"$f":"Balanza!E1938","v":0},{"$f":"Balanza!G2210","v":0},0]
[null,null,"Costo por coberturas",{"$f":"Balanza!H1396","v":0},{"$f":"Balanza!H1668","v":0},0,{"$f":"Balanza!E1940","v":0},{"$f":"Balanza!G2212","v":0},0]
[null,null,"Apoyos financieros",{"$f":"Balanza!H1398","v":0},{"$f":"Balanza!H1670","v":0},0,{"$f":"Balanza!E1942","v":0},{"$f":"Balanza!G2214","v":0},0]
[null,null,"Adeudos de ejercicios fiscales anteriores (ADEFAS)",{"$f":"Balanza!H1400","v":0},{"$f":"Balanza!H1672","v":0},0,{"$f":"Balanza!E1944","v":0},{"$f":"Balanza!G2216","v":0},0]
[null,null,"TOTAL DEL GASTO NO ETIQUETADO",{"$f":"D8+D16+D26+D36+D46+D56+D60+D68+D72","v":0},{"$f":"E8+E16+E26+E36+E46+E56+E60+E68+E72","v":0},{"$f":"D80+E80","v":0},{"$f":"G8+G16+G26+G36+G46+G56+G60+G68+G72","v":0},{"$f":"H8+H16+H26+H36+H46+H56+H60+H68+H72","v":0},0]
["II","GASTO ETIQUETADO"]
[null,"A","Servicios personales",{"$f":"SUM(D83:D89)","v":0},{"$f":"SUM(E83:E89)","v":0},{"$f":"D82+E82","v":0},{"$f":"SUM(G83:G89)","v":0},0,{"$f":"F82-G82","v":0}]
[null,null,"Remuneraciones al personal de carácter permanente",{"$f":"Balanza!H1269","v":0},{"$f":"Balanza!H1541","v":0},0,{"$f":"Balanza!E1813","v":0},{"$f":"Balanza!G2085","v":0},{"$f":"F83-G83","v":0}]
[null,null,"Remuneraciones al personal de carácter transitorio",{"$f":"Balanza!H1271","v":0},{"$f":"Balanza!H1543","v":0},0,{"$f":"Balanza!E1815","v":0},{"$f":"Balanza!G2087","v":0},0]
[null,null,"Remuneraciones adicionales especiales",{"$f":"Balanza!H1273","v":0},{"$f":"Balanza!H1545","v":0},0,{"$f":"Balanza!E1817","v":0},{"$f":"Balanza!G2089","v":0},0]
[null,null,"Seguridad social",{"$f":"Balanza!H1275","v":0},{"$f":"Balanza!H1547","v":0},0,{"$f":"Balanza!E1819","v":0},{"$f":"Balanza!G2091","v":0},0]
[null,null,"Otras prestaciones sociales y económicas",{"$f":"Balanza!H1277","v":0},{"$f":"Balanza!H1549","v":0},0,{"$f":"Balanza!E1821","v":0},{"$f":"Balanza!G2093","v":0},0]
[null,null,"Previsiones",{"$f":"Balanza!H1279","v":0},{"$f":"Balanza!H1551","v":0},0,{"$f":"Balanza!E1823","v":0},{"$f":"Balanza!G2095","v":0},0]
[null,null,"Pago de estímulos a servidores públicos",{"$f":"Balanza!H1281","v":0},{"$f":"Balanza!H1553","v":0},0,{"$f":"Balanza!E1825","v":0},{"$f":"Balanza!G2097","v":0},0]
[null,"B","Materiales y suministros",{"$f":"SUM(D91:D99)","v":0},{"$f":"SUM(E91:E99)","v":0},0,{"$f":"SUM(G91:G99)","v":0},{"$f":"SUM(H91:H99)","v":0},0]
[null,null,"Materiales de administración, emisión de documentos y artículos oficiales",{"$f":"Balanza!H1284","v":0},{"$f":"Balanza!H1556","v":0},0,{"$f":"Balanza!E1828","v":0},{"$f":"Balanza!G2100","v":0},0]
[null,null,"Alimentos y utencilios",{"$f":"Balanza!H1286","v":0},{"$f":"Balanza!H1558","v":0},0,{"$f":"Balanza!E1830","v":0},{"$f":"Balanza!G2102","v":0},0]
[null,null,"Materias primas y materiales de producción y comercialización",{"$f":"Balanza!H1288","v":0},{"$f":"Balanza!H1560","v":0},0,{"$f":"Balanza!E1832","v":0},{"$f":"Balanza!G2104","v":0},0]
[null,null,"Materiales y artículos de construcción y de reparación",{"$f":"Balanza!H1290","v":0},{"$f":"Balanza!H1562","v":0},0,{"$f":"Balanza!E1834","v":0},{"$f":"Balanza!G2106","v":0},0]
[null,null,"Productos químicos, farmacéuticos y de laboratorio",{"$f":"Balanza!H1292","v":0},{"$f":"Balanza!H1564","v":0},0,{"$f":"Balanza!E1836","v":0},{"$f":"Balanza!G2108","v":0},0]
[null,null,"Combustibles, lubricantes y aditivos",{"$f":"Balanza!H1294","v":0},{"$f":"Balanza!H1566","v":0},0,{"$f":"Balanza!E1838","v":0},{"$f":"Balanza!G2110","v":0},0]
[null,null,"Vestuario, blancos, prendas de protección y artículos deportivos",{"$f":"Balanza!H1296","v":0},{"$f":"Balanza!H1568","v":0},0,{"$f":"Balanza!E1840","v":0},{"$f":"Balanza!G2112","v":0},0]
[null,null,"Materiales y suministros de seguridad",{"$f":"Balanza!H1298","v":0},{"$f":"Balanza!H1570","v":0},0,{"$f":"Balanza!E1842","v":0},{"$f":"Balanza!G2114","v":0},0]
[null,null,"Herramientas, refacciones y accesorios menores",{"$f":"Balanza!H1300","v":0},{"$f":"Balanza!H1572","v":0},0,{"$f":"Balanza!E1844","v":0},{"$f":"Balanza!G2116","v":0},0]
[null,"C","Servicios generales",{"$f":"SUM(D101:D109)","v":0},{"$f":"SUM(E101:E109)","v":0},0,{"$f":"SUM(G101:G109)","v":0},0,0]
[null,null,"Servicios básicos",{"$f":"Balanza!H1303","v":0},{"$f":"Balanza!H1575","v":0},0,{"$f":"Balanza!E1847","v":0},{"$f":"Balanza!G2119","v":0},0]
[null,null,"Servicios de arrendamiento",{"$f":"Balanza!H1305","v":0},{"$f":"Balanza!H1577","v":0},0,{"$f":"Balanza!E1849","v":0},{"$f":"Balanza!G2121","v":0},0]
[null,null,"Servicios profesionales, científicos, técnicos y otros servicios",{"$f":"Balanza!H1307","v":0},{"$f":"Balanza!H1579","v":0},0,{"$f":"Balanza!E1851","v":0},{"$f":"Balanza!G2123","v":0},0]
[null,null,"Servicios financieros, bancarios y comerciales",{"$f":"Balanza!H1309","v":0},{"$f":"Balanza!H1581","v":0},0,{"$f":"Balanza!E1853","v":0},{"$f":"Balanza!G2125","v":0},0]
[null,null,"Servicios de instalación, reparación, mantenimiento y conservación",{"$f":"Balanza!H1311","v":0},{"$f":"Balanza!H1583","v":0},0,{"$f":"Balanza!E1855","v":0},{"$f":"Balanza!G2127","v":0},0]
[null,null,"Servicios de comunicación social y publicidad",{"$f":"Balanza!H1313","v":0},{"$f":"Balanza!H1585","v":0},0,{"$f":"Balanza!E1857","v":0},{"$f":"Balanza!G2129","v":0},0]
[null,null,"Servicios de traslado y viáticos",{"$f":"Balanza!H1315","v":0},{"$f":"Balanza!H1587","v":0},0,{"$f":"Balanza!E1859","v":0},{"$f":"Balanza!G2131","v":0},0]
[null,null,"Servicios oficiales",{"$f":"Balanza!H1317","v":0},{"$f":"Balanza!H1589","v":0},0,{"$f":"Balanza!E1861","v":0},{"$f":"Balanza!G2133","v":0},0]
[null,null,"Otros servicios generales",{"$f":"Balanza!H1319","v":0},{"$f":"Balanza!H1591","v":0},0,{"$f":"Balanza!E1863","v":0},{"$f":"Balanza!G2135","v":0},0]
[null,"D","Transferencias, asignaciones, subsidios y otras ayudas",{"$f":"SUM(D111:D119)","v":0},{"$f":"SUM(E111:E119)","v":0},0,{"$f":"SUM(G111:G119)","v":0},{"$f":"SUM(H111:H119)","v":0},0]
[null,null,"Transferencias internas y asignaciones al sector público",{"$f":"Balanza!H1322","v":0},{"$f":"Balanza!H1594","v":0},0,{"$f":"Balanza!E1866","v":0},{"$f":"Balanza!G2138","v":0},0]
[null,null,"Transferencias al resto del sector público",{"$f":"Balanza!H1324","v":0},{"$f":"Balanza!H1596","v":0},0,{"$f":"Balanza!E1868","v":0},{"$f":"Balanza!G2140","v":0},0]
[null,null,"Subsidios y subvenciones",{"$f":"Balanza!H1326","v":0},{"$f":"Balanza!H1598","v":0},0,{"$f":"Balanza!E1870","v":0},{"$f":"Balanza!G2142","v":0},0]
[null,null,"Ayudas sociales",{"$f":"Balanza!H1328","v":0},{"$f":"Balanza!H1600","v":0},0,{"$f":"Balanza!E1872","v":0},{"$f":"Balanza!G2144","v":0},0]
[null,null,"Pensiones y jubilaciones",{"$f":"Balanza!H1330","v":0},{"$f":"Balanza!H1602","v":0},0,{"$f":"Balanza!E1874","v":0},{"$f":"Balanza!G2146","v":0},0]
[null,null,"Transferencias a fideicomisos, mandatos y análogos",{"$f":"Balanza!H1332","v":0},{"$f":"Balanza!H1604","v":0},0,{"$f":"Balanza!E1876","v":0},{"$f":"Balanza!G2148","v":0},0]
[null,null,"Transferencias a la seguridad social",{"$f":"Balanza!H1334","v":0},{"$f":"Balanza!H1606","v":0},0,{"$f":"Balanza!E1878","v":0},{"$f":"Balanza!G2150","v":0},0]
[null,null,"Donativos",{"$f":"Balanza!H1336","v":0},{"$f":"Balanza!H1608","v":0},0,{"$f":"Balanza!E1880","v":0},{"$f":"Balanza!G2152","v":0},0]
[null,null,"Transferencias al exterior",{"$f":"Balanza!H1338","v":0},{"$f":"Balanza!H1610","v":0},0,{"$f":"Balanza!E1882","v":0},{"$f":"Balanza!G2154","v":0},0]
[null,"E","Bienes muebles, inmuebles e intangibles",{"$f":"SUM(D121:D129)","v":0},{"$f":"SUM(E121:E129)","v":0},0,{"$f":"SUM(G121:G129)","v":0},0,0]
[null,null,"Mobiliario y equipo de administración",{"$f":"Balanza!H1341","v":0},{"$f":"Balanza!H1613","v":0},0,{"$f":"Balanza!E1885","v":0},{"$f":"Balanza!G2157","v":0},0]
[null,null,"Mobiliario y equipo educacional y recreativo",{"$f":"Balanza!H1343","v":0},{"$f":"Balanza!H1615","v":0},0,{"$f":"Balanza!E1887","v":0},{"$f":"Balanza!G2159","v":0},0]
[null,null,"Equipo instrumental médico y de laboratorio",{"$f":"Balanza!H1345","v":0},{"$f":"Balanza!H1617","v":0},0,{"$f":"Balanza!E1889","v":0},{"$f":"Balanza!G2161","v":0},0]
[null,null,"Vehículos y equipo de transporte",{"$f":"Balanza!H1347","v":0},{"$f":"Balanza!H1619","v":0},0,{"$f":"Balanza!E1891","v":0},{"$f":"Balanza!G2163","v":0},0]
[null,null,"Equipo de defensa y seguridad",{"$f":"Balanza!H1349","v":0},{"$f":"Balanza!H1621","v":0},0,{"$f":"Balanza!E1893","v":0},{"$f":"Balanza!G2165","v":0},0]
[null,null,"Maquinaria, otros equipos y herramientas",{"$f":"Balanza!H1351","v":0},{"$f":"Balanza!H1623","v":0},0,{"$f":"Balanza!E1895","v":0},{"$f":"Balanza!G2167","v":0},0]
[null,null,"Activos biológicos",{"$f":"Balanza!H1353","v":0},{"$f":"Balanza!H1625","v":0},0,{"$f":"Balanza!E1897","v":0},{"$f":"Balanza!G2169","v":0},0]
[null,null,"Bienes inmuebles",{"$f":"Balanza!H1355","v":0},{"$f":"Balanza!H1627","v":0},0,{"$f":"Balanza!E1899","v":0},{"$f":"Balanza!G2171","v":0},0]
[null,null,"Activos intangibles",{"$f":"Balanza!H1357","v":0},{"$f":"Balanza!H1629","v":0},0,{"$f":"Balanza!E1901","v":0},{"$f":"Balanza!G2173","v":0},0]
[null,"F","Inversión pública",{"$f":"SUM(D131:D133)","v":0},{"$f":"SUM(E131:E133)","v":0},0,{"$f":"SUM(G131:G133)","v":0},0,0]
[null,null,"Obra pública en bienes de dominio público",{"$f":"Balanza!H1360","v":0},{"$f":"Balanza!H1632","v":0},0,{"$f":"Balanza!E1904","v":0},{"$f":"Balanza!G2176","v":0},0]
[null,null,"Obra pública en bienes de dominio propios",{"$f":"Balanza!H1362","v":0},{"$f":"Balanza!H1634","v":0},0,{"$f":"Balanza!E1906","v":0},{"$f":"Balanza!G2178","v":0},0]
[null,null,"Proyectos productivos y acciones de fomento",{"$f":"Balanza!H1364","v":0},{"$f":"Balanza!H1636","v":0},0,{"$f":"Balanza!E1908","v":0},{"$f":"Balanza!G2180","v":0},0]
[null,"G","Inversiones financieras y otras provisiones",{"$f":"SUM(D135:D141)","v":0},{"$f":"SUM(E135:E141)","v":0},0,{"$f":"SUM(G135:G141)","v":0},{"$f":"SUM(H135:H141)","v":0},0]
[null,null,"Inversiones para el fomento de actividades productivas",{"$f":"Balanza!H1367","v":0},{"$f":"Balanza!H1639","v":0},0,{"$f":"Balanza!E1911","v":0},{"$f":"Balanza!G2183","v":0},0]
[null,null,"Acciones y participaciones de capital",{"$f":"Balanza!H1369","v":0},{"$f":"Balanza!H1641","v":0},0,{"$f":"Balanza!E1913","v":0},{"$f":"Balanza!G2185","v":0},0]
[null,null,"Compra de títulos y valores",{"$f":"Balanza!H1371","v":0},{"$f":"Balanza!H1643","v":0},0,{"$f":"Balanza!E1915","v":0},{"$f":"Balanza!G2187","v":0},0]
[null,null,"Concesión de préstamos",{"$f":"Balanza!H1373","v":0},{"$f":"Balanza!H1645","v":0},0,{"$f":"Balanza!E1917","v":0},{"$f":"Balanza!G2189","v":0},0]
[null,null,"Inversiones en fideicomisos, mandatos y otros análogos",{"$f":"Balanza!H1375","v":0},{"$f":"Balanza!H1646","v":0},0,{"$f":"Balanza!E1919","v":0},{"$f":"Balanza!G2191","v":0},0]
[null,null,"Otras inversiones financieras",{"$f":"Balanza!H1377","v":0},{"$f":"Balanza!H1649","v":0},0,{"$f":"Balanza!E1921","v":0},{"$f":"Balanza!G2193","v":0},0]
[null,null,"Provisiones para contingencias y otras erogaciones especiales",{"$f":"Balanza!H1379","v":0},{"$f":"Balanza!H1651","v":0},0,{"$f":"Balanza!E1923","v":0},{"$f":"Balanza!G2195","v":0},0]
[null,"H","Participaciones y aportaciones",{"$f":"SUM(D143:D145)","v":0},{"$f":"SUM(E143:E145)","v":0},0,{"$f":"SUM(G143:G145)","v":0},0,0]
[null,null,"Participaciones",{"$f":"Balanza!H1382","v":0},{"$f":"Balanza!H1654","v":0},0,{"$f":"Balanza!E1926","v":0},{"$f":"Balanza!G2198","v":0},0]
[null,null,"Aportaciones",{"$f":"Balanza!H1384","v":0},{"$f":"Balanza!H1656","v":0},0,{"$f":"Balanza!E1928","v":0},{"$f":"Balanza!G2200","v":0},0]
[null,null,"Convenios",{"$f":"Balanza!H1386","v":0},{"$f":"Balanza!H1658","v":0},0,{"$f":"Balanza!E1930","v":0},{"$f":"Balanza!G2202","v":0},0]
[null,"I","Deuda pública",{"$f":"SUM(D147:D153)","v":0},{"$f":"SUM(E147:E153)","v":0},{"$f":"D146+E146","v":0},{"$f":"SUM(G147:G153)","v":0},0,0]
[null,null,"Amortización de la deuda pública",{"$f":"Balanza!H1389","v":0},{"$f":"Balanza!H1661","v":0},0,{"$f":"Balanza!E1933","v":0},{"$f":"Balanza!G2205","v":0},{"$f":"F147-G147","v":0}]
[null,null,"Intereses de la deuda pública",{"$f":"Balanza!H1391","v":0},{"$f":"Balanza!H1663","v":0},0,{"$f":"Balanza!E1935","v":0},{"$f":"Balanza!G2207","v":0},0]
[null,null,"Comisiones de la deuda pública",{"$f":"Balanza!H1393","v":0},{"$f":"Balanza!H1665","v":0},0,{"$f":"Balanza!E1937","v":0},{"$f":"Balanza!G2209","v":0},0]
[null,null,"Gastos de la deuda pública",{"$f":"Balanza!H1395","v":0},{"$f":"Balanza!H1667","v":0},0,{"$f":"Balanza!E1939","v":0},{"$f":"Balanza!G2211","v":0},0]
[null,null,"Costo por coberturas",{"$f":"Balanza!H1397","v":0},{"$f":"Balanza!H1669","v":0},0,{"$f":"Balanza!E1941","v":0},{"$f":"Balanza!G2213","v":0},0]
[null,null,"Apoyos financieros",{"$f":"Balanza!H1399","v":0},{"$f":"Balanza!H1671","v":0},0,{"$f":"Balanza!E1943","v":0},{"$f":"Balanza!G2215","v":0},0]
[null,null,"Adeudos de ejercicios fiscales anteriores (ADEFAS)",{"$f":"Balanza!H1401","v":0},{"$f":"Balanza!H1673","v":0},0,{"$f":"Balanza!E1945","v":0},{"$f":"Balanza!G2217","v":0},0]
[null,null,"TOTAL DEL GASTO ETIQUETADO",{"$f":"D82+D90+D100+D110+D120+D130+D134+D142+D146","v":0},{"$f":"E82+E90+E100+E110+E120+E130+E134+E142+E146","v":0},0,{"$f":"G82+G90+G100+G110+G120+G130+G134+G142+G146","v":0},0,0]
[null,null,"TOTAL DE EGRESOS",{"$f":"D80+D154","v":0},{"$f":"E80+E154","v":0},0,{"$f":"G80+G154","v":0},0,0]
[]
[null,null,"Bajo protesta de decir verdad declaramos que los estados financieros y sus notas, son razonablemente correctos y son responsabilidad del emisor."]
[]
[]
[]
[null,null,{"$f":"Validacion!A7","v":"C. José Ángel Prudencio Vargas"},null,null,{"$f":"Validacion!A9","v":"L.C.P. Regina Itzel Bedoya Cruz"}]
[]
[null,null,"Presidente Municipal o titular del ente público",null,null,"Encargado de la Hacienda Municipal o\nResponsable de las finanzas del ente público"]

{"sheet":"F12","index":30,"n_rows":37,"n_cols":8,"rows_kept":37,"cut":false,"hidden":true,"merged":[[13,0,13,1],[34,1,35,1],[34,3,35,5],[36,1,37,1],[36,3,37,5],[18,0,19,1],[18,2,18,7],[0,0,0,7],[1,0,1,7],[2,0,2,7],[4,0,5,1],[4,2,4,7]]}
[{"$f":"Validacion!A2","v":"Ayutla"}]
["FLUJO CONTABLE DE INGRESOS Y EGRESOS"]
[{"$f":"'F6'!A3","v":"Del 1° de Enero al 30 de Septiembre de 2023"}]
[]
["TÍTULO",null,"INGRESO"]
[null,null,"ESTIMADO","AMPLIACIÓN Y REDUCCIÓN","MODIFICADO","DEVENGADO","AVANCE FINANCIERO","PENDIENTE DE INGRESAR"]
["Impuestos",null,{"$f":"Balanza!G796","v":0},{"$f":"Balanza!G984","v":0},{"$f":"C7+D7","v":0},{"$f":"Balanza!F1078","v":0},{"$f":"IF(E7=0,0,F7/E7)","v":0},{"$f":"1-G7","v":1}]
["Cuotas y aportaciones de seguridad social",null,{"$f":"Balanza!G806","v":0},{"$f":"Balanza!G994","v":0},{"$f":"C8+D8","v":0},{"$f":"Balanza!F1088","v":0},{"$f":"IF(E8=0,0,F8/E8)","v":0},{"$f":"1-G8","v":1}]
["Contribuciones de mejora",null,{"$f":"Balanza!G812","v":0},{"$f":"Balanza!G1000","v":0},0,{"$f":"Balanza!F1094","v":0},0,1]
["Derechos",null,{"$f":"Balanza!G815","v":0},{"$f":"Balanza!G1003","v":0},0,{"$f":"Balanza!F1097","v":0},0,1]
["Productos",null,{"$f":"Balanza!G822","v":0},{"$f":"Balanza!G1010","v":0},0,{"$f":"Balanza!F1104","v":0},0,1]
["Aprovechamientos",null,{"$f":"Balanza!G826","v":0},{"$f":"Balanza!G1014","v":0},0,{"$f":"Balanza!F1108","v":0},0,1]
["Ingresos por venta de bienes, prestación de servicios y otros ingresos",null,{"$f":"Balanza!G831","v":0},{"$f":"Balanza!G1019","v":0},0,{"$f":"Balanza!F1113","v":0},0,1]
["Participaciones, aportaciones, convenios, incentivos derivados de la colaboración fiscal y fondos distintos de aportaciones",null,{"$f":"Balanza!G841","v":0},{"$f":"Balanza!G1029","v":0},0,{"$f":"Balanza!F1123","v":0},0,1]
["Transferencias, asignaciones, subsidios y subvenciones, y pensiones y jubilaciones",null,{"$f":"Balanza!G873","v":0},{"$f":"Balanza!G1061","v":0},0,{"$f":"Balanza!F1155","v":0},0,1]
["Ingresos derivados de financiamiento",null,{"$f":"Balanza!G883","v":0},{"$f":"Balanza!G1071","v":0},0,{"$f":"Balanza!F1165","v":0},0,1]
[null,"TOTAL",{"$f":"SUM(C7:C16)","v":0},{"$f":"SUM(D7:D16)","v":0},{"$f":"SUM(E7:E16)","v":0},{"$f":"SUM(F7:F16)","v":0},{"$f":"IF(E17=0,0,F17/E17)","v":0},1]
[]
["CAPÍTULO",null,"EGRESOS"]
[null,null,"APROBADO","AMPLIACIONES/ (REDUCCIONES)","MODIFICADO","DEVENGADO","AVANCE FINANCIERO","PENDIENTE POR EJERCER"]
["Servicios personales",null,{"$f":"Balanza!H1267","v":0},{"$f":"Balanza!H1539","v":0},{"$f":"C21+D21","v":0},{"$f":"Balanza!E1811","v":0},{"$f":"IF(E21=0,0,F21/E21)","v":0},{"$f":"1-G21","v":1}]
["Materiales y suministros",null,{"$f":"Balanza!H1282","v":0},{"$f":"Balanza!H1554","v":0},{"$f":"C22+D22","v":0},{"$f":"Balanza!E1826","v":0},{"$f":"IF(E22=0,0,F22/E22)","v":0},{"$f":"1-G22","v":1}]
["Servicios generales",null,{"$f":"Balanza!H1301","v":0},{"$f":"Balanza!H1573","v":0},0,{"$f":"Balanza!E1845","v":0},0,1]
["Transferencias, asignaciones, subsidios y otras ayudas",null,{"$f":"Balanza!H1320","v":0},{"$f":"Balanza!H1592","v":0},0,{"$f":"Balanza!E1864","v":0},0,1]
["Bienes muebles, inmuebles e intangibles",null,{"$f":"Balanza!H1339","v":0},{"$f":"Balanza!H1611","v":0},0,{"$f":"Balanza!E1883","v":0},0,1]
["Inversión pública",null,{"$f":"Balanza!H1358","v":0},{"$f":"Balanza!H1630","v":0},0,{"$f":"Balanza!E1902","v":0},0,1]
["Inversiones financieras y otras provisiones",null,{"$f":"Balanza!H1365","v":0},{"$f":"Balanza!H1637","v":0},0,{"$f":"Balanza!E1909","v":0},0,1]
["Participaciones y aportaciones",null,{"$f":"Balanza!H1380","v":0},{"$f":"Balanza!H1652","v":0},0,{"$f":"Balanza!E1924","v":0},0,1]
["Deuda pública",null,{"$f":"Balanza!H1387","v":0},{"$f":"Balanza!H1659","v":0},0,{"$f":"Balanza!E1931","v":0},0,1]
[null,"TOTAL",{"$f":"SUM(C21:C29)","v":0},{"$f":"SUM(D21:D29)","v":0},{"$f":"SUM(E21:E29)","v":0},{"$f":"SUM(F21:F29)","v":0},{"$f":"IF(E30=0,0,F30/E30)","v":0},1]
[]
["Bajo protesta de decir verdad declaramos que los estados financieros y sus notas, son razonablemente correctos y son responsabilidad del emisor."]
[]
[]
[null,{"$f":"Validacion!A7","v":"C. José Ángel Prudencio Vargas"},null,{"$f":"Validacion!A9","v":"L.C.P. Regina Itzel Bedoya Cruz"}]
[]
[null,"Presidente Municipal o titular del ente público",null,"Encargado de la Hacienda Municipal\no Responsable de las finanzas del ente público"]

{"sheet":"F16","index":31,"n_rows":70,"n_cols":6,"rows_kept":70,"cut":false,"hidden":true,"merged":[[23,2,23,3],[24,0,24,3],[18,2,18,3],[19,2,19,3],[20,2,20,3],[21,2,21,3],[22,2,22,3],[12,2,12,3],[13,2,13,3],[15,2,15,3],[16,2,16,3],[17,2,17,3],[7,2,7,3],[8,2,8,3],[9,2,9,3],[10,2,10,3],[11,2,11,3],[0,0,0,5],[1,0,1,5],[2,0,2,5],[4,0,4,3],[5,0,5,3],[63,4,63,5],[63,3,64,3],[67,3,68,3],[69,3,70,3],[26,2,26,3],[27,2,27,3],[51,2,51,3],[53,2,53,3],[54,2,54,3],[56,0,58,5],[61,3,62,3],[45,2,45,3],[47,2,47,3],[48,2,48,3],[49,2,49,3],[50,2,50,3],[39,2,39,3],[40,2,40,3],[41,0,41,3],[43,2,43,3],[44,2,44,3],[33,2,33,3],[35,2,35,3],[36,2,36,3],[37,2,37,3],[38,2,38,3],[28,2,28,3],[29,2,29,3],[30,2,30,3],[31,2,31,3],[32,2,32,3]]}
[{"$f":"Validacion!A2","v":"Ayutla"}]
["ESTADO DE CAMBIOS EN LA SITUACIÓN FINANCIERA"]
[{"$f":"'F6'!A3","v":"Del 1° de Enero al 30 de Septiembre de 2023"}]
[null,null,null,null,{"$f":"E6+E25+E42","v":22631177},{"$f":"F6+F25+F42","v":22631177.000000007}]
["CONCEPTO",null,null,null,"ORIGEN","APLICACIÓN"]
["Activo",null,null,null,{"$f":"ROUND(E7+E15,2)","v":0},{"$f":"ROUND(F7+F15,2)","v":13605333.5}]
[null,"Activo circulante",null,null,{"$f":"SUM(E8:E14)","v":0},{"$f":"SUM(F8:F14)","v":2807650.8400000003}]
[null,null,"Efectivo y equivalentes",null,{"$f":"IF('F1'!AG8>'F1'!AF8,'F1'!AG8-'F1'!AF8,0)","v":0},{"$f":"IF('F1'!AF8>'F1'!AG8,'F1'!AF8-'F1'!AG8,0)","v":638955.04}]
[null,null,"Derechos a recibir efectivo o equivalentes",null,{"$f":"IF('F1'!AG16>'F1'!AF16,'F1'!AG16-'F1'!AF16,0)","v":0},{"$f":"IF('F1'!AF16>'F1'!AG16,'F1'!AF16-'F1'!AG16,0)","v":2168695.8000000003}]
[null,null,"Derechos a recibir bienes o servicios",null,{"$f":"IF('F1'!AG24>'F1'!AF24,'F1'!AG24-'F1'!AF24,0)","v":0},{"$f":"IF('F1'!AF24>'F1'!AG24,'F1'!AF24-'F1'!AG24,0)","v":0}]
[null,null,"Inventarios ",null,{"$f":"IF('F1'!AG30>'F1'!AF30,'F1'!AG30-'F1'!AF30,0)","v":0},{"$f":"IF('F1'!AF30>'F1'!AG30,'F1'!AF30-'F1'!AG30,0)","v":0}]
[null,null,"Almacenes",null,{"$f":"IF('F1'!AG36>'F1'!AF36,'F1'!AG36-'F1'!AF36,0)","v":0},{"$f":"IF('F1'!AF36>'F1'!AG36,'F1'!AF36-'F1'!AG36,0)","v":0}]
[null,null,"Estimación por pérdida o deterioro de activos circulantes",null,{"$f":"IF('F1'!AG38>'F1'!AF38,'F1'!AG38-'F1'!AF38,0)","v":0},{"$f":"IF('F1'!AF38>'F1'!AG38,'F1'!AF38-'F1'!AG38,0)","v":0}]
[null,null,"Otros activos  circulantes",null,{"$f":"IF('F1'!AG41>'F1'!AF41,'F1'!AG41-'F1'!AF41,0)","v":0},{"$f":"IF('F1'!AF41>'F1'!AG41,'F1'!AF41-'F1'!AG41,0)","v":0}]
[null,"Activo no circulante",null,null,{"$f":"SUM(E16:E24)","v":0},{"$f":"SUM(F16:F24)","v":10797682.659999957}]
[null,null,"Inversiones financieras a largo plazo",null,{"$f":"IF('F1'!AG48>'F1'!AF48,'F1'!AG48-'F1'!AF48,0)","v":0},{"$f":"IF('F1'!AF48>'F1'!AG48,'F1'!AF48-'F1'!AG48,0)","v":0}]
[null,null,"Derechos a recibir efectivo o equivalentes a largo plazo",null,{"$f":"IF('F1'!AG53>'F1'!AF53,'F1'!AG53-'F1'!AF53,0)","v":0},{"$f":"IF('F1'!AF53>'F1'!AG53,'F1'!AF53-'F1'!AG53,0)","v":0}]
[null,null,"Bienes inmuebles, infraestructura y construcciones en proceso",null,{"$f":"IF('F1'!AG59>'F1'!AF59,'F1'!AG59-'F1'!AF59,0)","v":0},{"$f":"IF('F1'!AF59>'F1'!AG59,'F1'!AF59-'F1'!AG59,0)","v":10450933.919999957}]
[null,null,"Bienes muebles",null,{"$f":"IF('F1'!AG67>'F1'!AF67,'F1'!AG67-'F1'!AF67,0)","v":0},{"$f":"IF('F1'!AF67>'F1'!AG67,'F1'!AF67-'F1'!AG67,0)","v":346748.74000000022}]
[null,null,"Activos intangibles",null,{"$f":"IF('F1'!AG76>'F1'!AF76,'F1'!AG76-'F1'!AF76,0)","v":0},{"$f":"IF('F1'!AF76>'F1'!AG76,'F1'!AF76-'F1'!AG76,0)","v":0}]
[null,null,"Depreciación, deterioro y amortización acumulada de bienes",null,{"$f":"IF('F1'!AG82>'F1'!AF82,'F1'!AG82-'F1'!AF82,0)","v":0},{"$f":"IF('F1'!AF82>'F1'!AG82,'F1'!AF82-'F1'!AG82,0)","v":0}]
[null,null,"Activos diferidos",null,{"$f":"IF('F1'!AG88>'F1'!AF88,'F1'!AG88-'F1'!AF88,0)","v":0},{"$f":"IF('F1'!AF88>'F1'!AG88,'F1'!AF88-'F1'!AG88,0)","v":0}]
[null,null,"Estimación por pérdida o deterioro de activos no circulantes",null,{"$f":"IF('F1'!AG95>'F1'!AF95,'F1'!AG95-'F1'!AF95,0)","v":0},{"$f":"IF('F1'!AF95>'F1'!AG95,'F1'!AF95-'F1'!AG95,0)","v":0}]
[null,null,"Otros activos no circulantes",null,{"$f":"IF('F1'!AG101>'F1'!AF101,'F1'!AG101-'F1'!AF101,0)","v":0},{"$f":"IF('F1'!AF101>'F1'!AG101,'F1'!AF101-'F1'!AG101,0)","v":0}]
["Pasivo",null,null,null,{"$f":"E26+E35","v":0},{"$f":"F26+F35","v":1972498.5499999998}]
[null,"Pasivo circulante",null,null,{"$f":"SUM(E27:E34)","v":0},{"$f":"SUM(F27:F34)","v":628354.91999999993}]
[null,null,"Cuentas por pagar a corto plazo",null,{"$f":"IF('F1'!BM8>'F1'!BN8,'F1'!BM8-'F1'!BN8,0)","v":0},{"$f":"IF('F1'!BN8>'F1'!BM8,'F1'!BN8-'F1'!BM8,0)","v":628354.91999999993}]
[null,null,"Documentos por pagar a corto plazo",null,{"$f":"IF('F1'!BM18>'F1'!BN18,'F1'!BM18-'F1'!BN18,0)","v":0},{"$f":"IF('F1'!BN18>'F1'!BM18,'F1'!BN18-'F1'!BM18,0)","v":0}]
[null,null,"Porción a corto plazo de la deuda pública a largo plazo",null,{"$f":"IF('F1'!BM22>'F1'!BN22,'F1'!BM22-'F1'!BN22,0)","v":0},{"$f":"IF('F1'!BN22>'F1'!BM22,'F1'!BN22-'F1'!BM22,0)","v":0}]
[null,null,"Títulos y valores a corto plazo",null,{"$f":"IF('F1'!BM26>'F1'!BN26,'F1'!BM26-'F1'!BN26,0)","v":0},{"$f":"IF('F1'!BN26>'F1'!BM26,'F1'!BN26-'F1'!BM26,0)","v":0}]
[null,null,"Pasivos diferidos a corto plazo",null,{"$f":"IF('F1'!BM29>'F1'!BN29,'F1'!BM29-'F1'!BN29,0)","v":0},{"$f":"IF('F1'!BN29>'F1'!BM29,'F1'!BN29-'F1'!BM29,0)","v":0}]
[null,null,"Fondos y bienes de terceros en garantía y/o administración a corto plazo",null,{"$f":"IF('F1'!BM33>'F1'!BN33,'F1'!BM33-'F1'!BN33,0)","v":0},{"$f":"IF('F1'!BN33>'F1'!BM33,'F1'!BN33-'F1'!BM33,0)","v":0}]
[null,null,"Provisiones a corto plazo",null,{"$f":"IF('F1'!BM40>'F1'!BN40,'F1'!BM40-'F1'!BN40,0)","v":0},{"$f":"IF('F1'!BN40>'F1'!BM40,'F1'!BN40-'F1'!BM40,0)","v":0}]
[null,null,"Otros pasivos a corto plazo",null,{"$f":"IF('F1'!BM44>'F1'!BN44,'F1'!BM44-'F1'!BN44,0)","v":0},{"$f":"IF('F1'!BN44>'F1'!BM44,'F1'!BN44-'F1'!BM44,0)","v":0}]
[null,"Pasivo no circulante",null,null,{"$f":"SUM(E36:E41)","v":0},{"$f":"SUM(F36:F41)","v":1344143.63}]
[null,null,"Cuentas por pagar a largo plazo",null,{"$f":"IF('F1'!BM50>'F1'!BN50,'F1'!BM50-'F1'!BN50,0)","v":0},{"$f":"IF('F1'!BN50>'F1'!BM50,'F1'!BN50-'F1'!BM50,0)","v":1344143.63}]
[null,null,"Documentos por pagar a largo plazo",null,{"$f":"IF('F1'!BM53>'F1'!BN53,'F1'!BM53-'F1'!BN53,0)","v":0},{"$f":"IF('F1'!BN53>'F1'!BM53,'F1'!BN53-'F1'!BM53,0)","v":0}]
[null,null,"Deuda pública a largo plazo",null,{"$f":"IF('F1'!BM57>'F1'!BN57,'F1'!BM57-'F1'!BN57,0)","v":0},{"$f":"IF('F1'!BN57>'F1'!BM57,'F1'!BN57-'F1'!BM57,0)","v":0}]
[null,null,"Pasivos diferidos a largo plazo",null,{"$f":"IF('F1'!BM63>'F1'!BN63,'F1'!BM63-'F1'!BN63,0)","v":0},{"$f":"IF('F1'!BN63>'F1'!BM63,'F1'!BN63-'F1'!BM63,0)","v":0}]
[null,null,"Fondos y bienes de terceros en garantía y/o en administración a largo plazo",null,{"$f":"IF('F1'!BM67>'F1'!BN67,'F1'!BM67-'F1'!BN67,0)","v":0},{"$f":"IF('F1'!BN67>'F1'!BM67,'F1'!BN67-'F1'!BM67,0)","v":0}]
[null,null,"Provisiones a largo plazo",null,{"$f":"IF('F1'!BM74>'F1'!BN74,'F1'!BM74-'F1'!BN74,0)","v":0},{"$f":"IF('F1'!BN74>'F1'!BM74,'F1'!BN74-'F1'!BM74,0)","v":0}]
["Hacienda pública/patrimonio",null,null,null,{"$f":"E43+E47+E53","v":22631177},{"$f":"F43+F47+F53","v":7053344.9500000067}]
[null,"Hacienda pública/patrimonio contribuido",null,null,{"$f":"SUM(E44:E46)","v":0},{"$f":"SUM(F44:F46)","v":0}]
[null,null,"Aportaciones",null,{"$f":"IF('F1'!BM83>'F1'!BN83,'F1'!BM83-'F1'!BN83,0)","v":0},{"$f":"IF('F1'!BN83>'F1'!BM83,'F1'!BN83-'F1'!BM83,0)","v":0}]
[null,null,"Donaciones de capital",null,{"$f":"IF('F1'!BM84>'F1'!BN84,'F1'!BM84-'F1'!BN84,0)","v":0},{"$f":"IF('F1'!BN84>'F1'!BM84,'F1'!BN84-'F1'!BM84,0)","v":0}]
[null,null,"Actualización de la hacienda pública / patrimonio",null,{"$f":"IF('F1'!BM85>'F1'!BN85,'F1'!BM85-'F1'!BN85,0)","v":0},{"$f":"IF('F1'!BN85>'F1'!BM85,'F1'!BN85-'F1'!BM85,0)","v":0}]
[null,"Hacienda pública/patrimonio generado",null,null,{"$f":"SUM(E48:E52)","v":22631177},{"$f":"SUM(F48:F52)","v":7053344.9500000067}]
[null,null,"Resultados del ejercicio (ahorro / desahorro)",null,{"$f":"IF('F1'!BM87>'F1'!BN87,'F1'!BM87-'F1'!BN87,0)","v":0},{"$f":"IF('F1'!BN87>'F1'!BM87,'F1'!BN87-'F1'!BM87,0)","v":7053344.9500000067}]
[null,null,"Resultados de ejercicios anteriores",null,{"$f":"IF('F1'!BM88>'F1'!BN88,'F1'!BM88-'F1'!BN88,0)","v":22631177},{"$f":"IF('F1'!BN88>'F1'!BM88,'F1'!BN88-'F1'!BM88,0)","v":0}]
[null,null,"Revalúos",null,{"$f":"IF('F1'!BM89>'F1'!BN89,'F1'!BM89-'F1'!BN89,0)","v":0},{"$f":"IF('F1'!BN89>'F1'!BM89,'F1'!BN89-'F1'!BM89,0)","v":0}]
[null,null,"Reservas",null,{"$f":"IF('F1'!BM94>'F1'!BN94,'F1'!BM94-'F1'!BN94,0)","v":0},{"$f":"IF('F1'!BN94>'F1'!BM94,'F1'!BN94-'F1'!BM94,0)","v":0}]
[null,null,"Rectificaciones de resultados de ejercicios anteriores",null,{"$f":"IF('F1'!BM98>'F1'!BN98,'F1'!BM98-'F1'!BN98,0)","v":0},{"$f":"IF('F1'!BN98>'F1'!BM98,'F1'!BN98-'F1'!BM98,0)","v":0}]
[null,"Exceso o insuficiencia en la actualización de la hacienda pública/patrimonio",null,null,{"$f":"SUM(E54:E55)","v":0},{"$f":"SUM(F54:F55)","v":0}]
[null,null,"Resultado por posición monetaria",null,{"$f":"IF('F1'!BM102>'F1'!BN102,'F1'!BM102-'F1'!BN102,0)","v":0},{"$f":"IF('F1'!BN102>'F1'!BM102,'F1'!BN102-'F1'!BM102,0)","v":0}]
[null,null,"Resultado por tenencia de activos no monetarios",null,{"$f":"IF('F1'!BM103>'F1'!BN103,'F1'!BM103-'F1'!BN103,0)","v":0},{"$f":"IF('F1'!BN103>'F1'!BM103,'F1'!BN103-'F1'!BM103,0)","v":0}]
[]
["Bajo protesta de decir verdad declaramos que los estados financieros y sus notas, son razonablemente correctos y son responsabilidad del emisor."]
[]
[]
[]
[]
[null,null,null,{"$f":"Validacion!A7","v":"C. José Ángel Prudencio Vargas"}]
[]
[null,null,null,"Presidente Municipal o titular del ente público"]
[]
[]
[]
[null,null,null,{"$f":"Validacion!A9","v":"L.C.P. Regina Itzel Bedoya Cruz"}]
[]
[null,null,null,"Encargado de la Hacienda Municipal o Responsable\nde las finanzas del ente público"]

{"sheet":"F17","index":32,"n_rows":22,"n_cols":8,"rows_kept":22,"cut":false,"hidden":true,"merged":[[0,0,0,7],[1,0,1,7],[2,0,2,7],[5,2,5,6],[5,7,6,7],[21,1,22,3],[21,5,22,7],[12,0,12,1],[3,0,3,7],[5,0,6,1],[14,0,15,7],[19,1,20,3],[19,5,20,7],[7,0,7,1],[8,0,8,1],[9,0,9,1],[10,0,10,1],[11,0,11,1]]}
[{"$f":"Validacion!A2","v":"Ayutla"}]
["ESTADO ANALÍTICO DEL EJERCICIO DEL PRESUPUESTO DE EGRESOS"]
["CLASIFICACIÓN ECONÓMICA (POR TIPO DE GASTO)"]
[{"$f":"'F6'!A3","v":"Del 1° de Enero al 30 de Septiembre de 2023"}]
[]
["CONCEPTO",null,"EGRESOS",null,null,null,null,"SUBEJERCICIO"]
[null,null,"APROBADO","AMPLIACIONES/\n(REDUCCIONES)","MODIFICADO","DEVENGADO","PAGADO"]
["Gasto corriente",null,{"$f":"'F8'!C8+'F8'!C16+'F8'!C26+'F8'!C36-'F8'!C41+'F8'!C70+'F8'!C71+SUM('F8'!C74:'F8'!C78)+'F8'!C67","v":0},{"$f":"'F8'!D8+'F8'!D16+'F8'!D26+'F8'!D36-'F8'!D41+'F8'!D70+'F8'!D71+SUM('F8'!D74:'F8'!D78)+'F8'!D67","v":0},{"$f":"C8+D8","v":0},{"$f":"'F8'!F8+'F8'!F16+'F8'!F26+'F8'!F36-'F8'!F41+'F8'!F70+'F8'!F71+SUM('F8'!F74:'F8'!F78)+'F8'!F67","v":0},{"$f":"'F8'!G8+'F8'!G16+'F8'!G26+'F8'!G36-'F8'!G41+'F8'!G70+'F8'!G71+SUM('F8'!G74:'F8'!G78)+'F8'!G67","v":0},{"$f":"E8-F8","v":0}]
["Gasto de capital",null,{"$f":"'F8'!C46+'F8'!C56+'F8'!C60-'F8'!C67","v":0},{"$f":"'F8'!D46+'F8'!D56+'F8'!D60-'F8'!D67","v":0},{"$f":"C9+D9","v":0},{"$f":"'F8'!F46+'F8'!F56+'F8'!F60-'F8'!F67","v":0},{"$f":"'F8'!G46+'F8'!G56+'F8'!G60-'F8'!G67","v":0},{"$f":"E9-F9","v":0}]
["Amortización de la deuda y disminución de pasivos",null,{"$f":"'F8'!C73+'F8'!C79","v":0},{"$f":"'F8'!D73+'F8'!D79","v":0},0,{"$f":"'F8'!F73+'F8'!F79","v":0},{"$f":"'F8'!F73+'F8'!G79","v":0},0]
["Pensiones y jubilaciones",null,{"$f":"'F8'!C41","v":0},{"$f":"'F8'!D41","v":0},0,{"$f":"'F8'!F41","v":0},{"$f":"'F8'!G41","v":0},0]
["Participaciones",null,{"$f":"'F8'!C69","v":0},{"$f":"'F8'!D69","v":0},0,{"$f":"'F8'!F69","v":0},{"$f":"'F8'!G69","v":0},0]
["TOTAL DEL GASTO",null,{"$f":"SUM(C8:C12)","v":0},{"$f":"SUM(D8:D12)","v":0},0,{"$f":"SUM(F8:F12)","v":0},{"$f":"SUM(G8:G12)","v":0},{"$f":"SUM(H8:H12)","v":0}]
[]
["Bajo protesta de decir verdad declaramos que los estados financieros y sus notas, son razonablemente correctos y son responsabilidad del emisor."]
[]
[]
[]
[]
[null,{"$f":"Validacion!A7","v":"C. José Ángel Prudencio Vargas"},null,null,null,{"$f":"Validacion!A9","v":"L.C.P. Regina Itzel Bedoya Cruz"}]
[]
[null,"Presidente Municipal o titular del ente público",null,null,null,"Encargado de la Hacienda Municipal\n o Responsable de las finanzas del ente público"]

{"sheet":"F18","index":33,"n_rows":66,"n_cols":44,"rows_kept":66,"cut":false,"hidden":true,"merged":[[65,0,66,1],[65,3,66,5],[0,0,0,6],[1,0,1,6],[2,0,2,6],[5,1,5,5],[5,6,6,6],[63,3,64,5],[63,0,64,1],[3,0,3,6],[5,0,6,0],[59,0,60,6]]}
[{"$f":"Validacion!A2","v":"Ayutla"}]
["ESTADO ANALÍTICO DEL EJERCICIO DEL PRESUPUESTO DE EGRESOS"]
["CLASIFICACIÓN ADMINISTRATIVA"]
[{"$f":"'F6'!A3","v":"Del 1° de Enero al 30 de Septiembre de 2023"}]
[]
["CONCEPTO","EGRESOS",null,null,null,null,"SUBEJERCICIO"]
[null,"APROBADO","AMPLIACIONES/\n(REDUCCIONES)","MODIFICADO","DEVENGADO","PAGADO",null,null,null,null,null,null,{"$f":"IF(AND(F18A!$A9=0),\"\",F18A!$A9)","v":""},{"$f":"IF(AND(F18A!$A10=0),\"\",F18A!$A10)","v":""},{"$f":"IF(AND(F18A!$A11=0),\"\",F18A!$A11)","v":""},{"$f":"IF(AND(F18A!$A12=0),\"\",F18A!$A12)","v":""},{"$f":"IF(AND(F18A!$A13=0),\"\",F18A!$A13)","v":""},{"$f":"IF(AND(F18A!$A14=0),\"\",F18A!$A14)","v":""},{"$f":"IF(AND(F18A!$A15=0),\"\",F18A!$A15)","v":""},{"$f":"IF(AND(F18A!$A16=0),\"\",F18A!$A16)","v":""},{"$f":"IF(AND(F18A!$A17=0),\"\",F18A!$A17)","v":""},{"$f":"IF(AND(F18A!$A18=0),\"\",F18A!$A18)","v":""},{"$f":"IF(AND(F18A!$A19=0),\"\",F18A!$A19)","v":""},{"$f":"IF(AND(F18A!$A20=0),\"\",F18A!$A20)","v":""},{"$f":"IF(AND(F18A!$A21=0),\"\",F18A!$A21)","v":""},{"$f":"IF(AND(F18A!$A22=0),\"\",F18A!$A22)","v":""},{"$f":"IF(AND(F18A!$A23=0),\"\",F18A!$A23)","v":""},{"$f":"IF(AND(F18A!$A24=0),\"\",F18A!$A24)","v":""},{"$f":"IF(AND(F18A!$A25=0),\"\",F18A!$A25)","v":""},{"$f":"IF(AND(F18A!$A26=0),\"\",F18A!$A26)","v":""},{"$f":"IF(AND(F18A!$A27=0),\"\",F18A!$A27)","v":""},{"$f":"IF(AND(F18A!$A28=0),\"\",F18A!$A28)","v":""},{"$f":"IF(AND(F18A!$A29=0),\"\",F18A!$A29)","v":""},{"$f":"IF(AND(F18A!$A30=0),\"\",F18A!$A30)","v":""},{"$f":"IF(AND(F18A!$A31=0),\"\",F18A!$A31)","v":""},{"$f":"IF(AND(F18A!$A32=0),\"\",F18A!$A32)","v":""},{"$f":"IF(AND(F18A!$A33=0),\"\",F18A!$A33)","v":""}]
[{"$f":"IFERROR(AR8,\"\")","v":""},{"$f":"SUMIF(F18A!$A$9:$A$60,'F18'!A8,F18A!$B$9:$B$60)","v":0},{"$f":"SUMIF(F18A!$A$9:$A$60,'F18'!A8,F18A!$C$9:$C$60)","v":0},{"$f":"B8+C8","v":0},{"$f":"SUMIF(F18A!$A$9:$A$60,'F18'!A8,F18A!$E$9:$E$60)","v":0},{"$f":"SUMIF(F18A!$A$9:$A$60,'F18'!A8,F18A!$F$9:$F$60)","v":0},{"$f":"D8-E8","v":0},null,null,null,{"$f":"IF(SUM(M8:AK8)=25,L8,\"\")","v":""},{"$f":"IF(AND(F18A!A36=0),\"\",F18A!A36)","v":""},{"$f":"IF(AND(M7<>L8),1,\"\")","v":""},{"$f":"IF(AND(N7<>L8),1,\"\")","v":""},{"$f":"IF(AND(O7<>L8),1,\"\")","v":""},{"$f":"IF(AND(P7<>L8),1,\"\")","v":""},{"$f":"IF(AND(Q7<>L8),1,\"\")","v":""},{"$f":"IF(AND(R7<>L8),1,\"\")","v":""},{"$f":"IF(AND(S7<>L8),1,\"\")","v":""},{"$f":"IF(AND(T7<>L8),1,\"\")","v":""},{"$f":"IF(AND(U7<>L8),1,\"\")","v":""},{"$f":"IF(AND(V7<>L8),1,\"\")","v":""},{"$f":"IF(AND(W7<>L8),1,\"\")","v":""},{"$f":"IF(AND(X7<>L8),1,\"\")","v":""},{"$f":"IF(AND(Y7<>L8),1,\"\")","v":""},{"$f":"IF(AND(Z7<>L8),1,\"\")","v":""},{"$f":"IF(AND(AA7<>L8),1,\"\")","v":""},{"$f":"IF(AND(AB7<>L8),1,\"\")","v":""},{"$f":"IF(AND(AC7<>L8),1,\"\")","v":""},{"$f":"IF(AND(AD7<>L8),1,\"\")","v":""},{"$f":"IF(AND(AE7<>L8),1,\"\")","v":""},{"$f":"IF(AND(AF7<>L8),1,\"\")","v":""},{"$f":"IF(AND(AG7<>L8),1,\"\")","v":""},{"$f":"IF(AND(AH7<>L8),1,\"\")","v":""},{"$f":"IF(AND(AI7<>L8),1,\"\")","v":""},{"$f":"IF(AND(AJ7<>L8),1,\"\")","v":""},{"$f":"IF(AND(AK7<>L8),1,\"\")","v":""},null,null,{"$f":"M$7","v":""},{"$f":"IF(AN$8:AN$57<>\"\",ROW(AN8:AN57))","v":false},1,{"$f":"SMALL(AO$8:AO$57,AP8)","v":{"$error":"#NUM!"}},{"$f":"INDEX(AN:AN,AQ$8:AQ$57)","v":{"$error":"#NUM!"}}]
["",{"$f":"SUMIF(F18A!$A$9:$A$60,'F18'!A9,F18A!$B$9:$B$60)","v":0},{"$f":"SUMIF(F18A!$A$9:$A$60,'F18'!A9,F18A!$C$9:$C$60)","v":0},{"$f":"B9+C9","v":0},{"$f":"SUMIF(F18A!$A$9:$A$60,'F18'!A9,F18A!$E$9:$E$60)","v":0},{"$f":"SUMIF(F18A!$A$9:$A$60,'F18'!A9,F18A!$F$9:$F$60)","v":0},{"$f":"D9-E9","v":0},null,null,null,{"$f":"IF(SUM(M9:AK9)=25,L9,\"\")","v":""},{"$f":"IF(AND(F18A!A37=0),\"\",F18A!A37)","v":""},{"$f":"IF(AND(M7<>L9),1,\"\")","v":""},{"$f":"IF(AND(N7<>L9),1,\"\")","v":""},{"$f":"IF(AND(O7<>L9),1,\"\")","v":""},{"$f":"IF(AND(P7<>L9),1,\"\")","v":""},{"$f":"IF(AND(Q7<>L9),1,\"\")","v":""},{"$f":"IF(AND(R7<>L9),1,\"\")","v":""},{"$f":"IF(AND(S7<>L9),1,\"\")","v":""},{"$f":"IF(AND(T7<>L9),1,\"\")","v":""},{"$f":"IF(AND(U7<>L9),1,\"\")","v":""},{"$f":"IF(AND(V7<>L9),1,\"\")","v":""},{"$f":"IF(AND(W7<>L9),1,\"\")","v":""},{"$f":"IF(AND(X7<>L9),1,\"\")","v":""},{"$f":"IF(AND(Y7<>L9),1,\"\")","v":""},{"$f":"IF(AND(Z7<>L9),1,\"\")","v":""},{"$f":"IF(AND(AA7<>L9),1,\"\")","v":""},{"$f":"IF(AND(AB7<>L9),1,\"\")","v":""},{"$f":"IF(AND(AC7<>L9),1,\"\")","v":""},{"$f":"IF(AND(AD7<>L9),1,\"\")","v":""},{"$f":"IF(AND(AE7<>L9),1,\"\")","v":""},{"$f":"IF(AND(AF7<>L9),1,\"\")","v":""},{"$f":"IF(AND(AG7<>L9),1,\"\")","v":""},{"$f":"IF(AND(AH7<>L9),1,\"\")","v":""},{"$f":"IF(AND(AI7<>L9),1,\"\")","v":""},{"$f":"IF(AND(AJ7<>L9),1,\"\")","v":""},{"$f":"IF(AND(AK7<>L9),1,\"\")","v":""},null,null,{"$f":"N$7","v":""},{"$f":"IF(AN$8:AN$57<>\"\",ROW(AN9:AN58))","v":false},2,{"$f":"SMALL(AO$8:AO$57,AP9)","v":{"$error":"#NUM!"}},{"$f":"INDEX(AN:AN,AQ$8:AQ$57)","v":{"$error":"#NUM!"}}]
["",{"$f":"SUMIF(F18A!$A$9:$A$60,'F18'!A10,F18A!$B$9:$B$60)","v":0},{"$f":"SUMIF(F18A!$A$9:$A$60,'F18'!A10,F18A!$C$9:$C$60)","v":0},0,{"$f":"SUMIF(F18A!$A$9:$A$60,'F18'!A10,F18A!$E$9:$E$60)","v":0},{"$f":"SUMIF(F18A!$A$9:$A$60,'F18'!A10,F18A!$F$9:$F$60)","v":0},0,null,null,null,"",{"$f":"IF(AND(F18A!A38=0),\"\",F18A!A38)","v":""},{"$f":"IF(AND(M7<>L10),1,\"\")","v":""},{"$f":"IF(AND(N7<>L10),1,\"\")","v":""},{"$f":"IF(AND(O7<>L10),1,\"\")","v":""},{"$f":"IF(AND(P7<>L10),1,\"\")","v":""},{"$f":"IF(AND(Q7<>L10),1,\"\")","v":""},{"$f":"IF(AND(R7<>L10),1,\"\")","v":""},{"$f":"IF(AND(S7<>L10),1,\"\")","v":""},{"$f":"IF(AND(T7<>L10),1,\"\")","v":""},{"$f":"IF(AND(U7<>L10),1,\"\")","v":""},{"$f":"IF(AND(V7<>L10),1,\"\")","v":""},{"$f":"IF(AND(W7<>L10),1,\"\")","v":""},{"$f":"IF(AND(X7<>L10),1,\"\")","v":""},{"$f":"IF(AND(Y7<>L10),1,\"\")","v":""},{"$f":"IF(AND(Z7<>L10),1,\"\")","v":""},{"$f":"IF(AND(AA7<>L10),1,\"\")","v":""},{"$f":"IF(AND(AB7<>L10),1,\"\")","v":""},{"$f":"IF(AND(AC7<>L10),1,\"\")","v":""},{"$f":"IF(AND(AD7<>L10),1,\"\")","v":""},{"$f":"IF(AND(AE7<>L10),1,\"\")","v":""},{"$f":"IF(AND(AF7<>L10),1,\"\")","v":""},{"$f":"IF(AND(AG7<>L10),1,\"\")","v":""},{"$f":"IF(AND(AH7<>L10),1,\"\")","v":""},{"$f":"IF(AND(AI7<>L10),1,\"\")","v":""},{"$f":"IF(AND(AJ7<>L10),1,\"\")","v":""},{"$f":"IF(AND(AK7<>L10),1,\"\")","v":""},null,null,{"$f":"O$7","v":""},false,3,{"$error":"#NUM!"},{"$error":"#NUM!"}]
["",{"$f":"SUMIF(F18A!$A$9:$A$60,'F18'!A11,F18A!$B$9:$B$60)","v":0},{"$f":"SUMIF(F18A!$A$9:$A$60,'F18'!A11,F18A!$C$9:$C$60)","v":0},0,{"$f":"SUMIF(F18A!$A$9:$A$60,'F18'!A11,F18A!$E$9:$E$60)","v":0},{"$f":"SUMIF(F18A!$A$9:$A$60,'F18'!A11,F18A!$F$9:$F$60)","v":0},0,null,null,null,"",{"$f":"IF(AND(F18A!A39=0),\"\",F18A!A39)","v":""},{"$f":"IF(AND(M7<>L11),1,\"\")","v":""},{"$f":"IF(AND(N7<>L11),1,\"\")","v":""},{"$f":"IF(AND(O7<>L11),1,\"\")","v":""},{"$f":"IF(AND(P7<>L11),1,\"\")","v":""},{"$f":"IF(AND(Q7<>L11),1,\"\")","v":""},{"$f":"IF(AND(R7<>L11),1,\"\")","v":""},{"$f":"IF(AND(S7<>L11),1,\"\")","v":""},{"$f":"IF(AND(T7<>L11),1,\"\")","v":""},{"$f":"IF(AND(U7<>L11),1,\"\")","v":""},{"$f":"IF(AND(V7<>L11),1,\"\")","v":""},{"$f":"IF(AND(W7<>L11),1,\"\")","v":""},{"$f":"IF(AND(X7<>L11),1,\"\")","v":""},{"$f":"IF(AND(Y7<>L11),1,\"\")","v":""},{"$f":"IF(AND(Z7<>L11),1,\"\")","v":""},{"$f":"IF(AND(AA7<>L11),1,\"\")","v":""},{"$f":"IF(AND(AB7<>L11),1,\"\")","v":""},{"$f":"IF(AND(AC7<>L11),1,\"\")","v":""},{"$f":"IF(AND(AD7<>L11),1,\"\")","v":""},{"$f":"IF(AND(AE7<>L11),1,\"\")","v":""},{"$f":"IF(AND(AF7<>L11),1,\"\")","v":""},{"$f":"IF(AND(AG7<>L11),1,\"\")","v":""},{"$f":"IF(AND(AH7<>L11),1,\"\")","v":""},{"$f":"IF(AND(AI7<>L11),1,\"\")","v":""},{"$f":"IF(AND(AJ7<>L11),1,\"\")","v":""},{"$f":"IF(AND(AK7<>L11),1,\"\")","v":""},null,null,{"$f":"P$7","v":""},false,4,{"$error":"#NUM!"},{"$error":"#NUM!"}]
["",{"$f":"SUMIF(F18A!$A$9:$A$60,'F18'!A12,F18A!$B$9:$B$60)","v":0},{"$f":"SUMIF(F18A!$A$9:$A$60,'F18'!A12,F18A!$C$9:$C$60)","v":0},0,{"$f":"SUMIF(F18A!$A$9:$A$60,'F18'!A12,F18A!$E$9:$E$60)","v":0},{"$f":"SUMIF(F18A!$A$9:$A$60,'F18'!A12,F18A!$F$9:$F$60)","v":0},0,null,null,null,"",{"$f":"IF(AND(F18A!A40=0),\"\",F18A!A40)","v":""},{"$f":"IF(AND(M7<>L12),1,\"\")","v":""},{"$f":"IF(AND(N7<>L12),1,\"\")","v":""},{"$f":"IF(AND(O7<>L12),1,\"\")","v":""},{"$f":"IF(AND(P7<>L12),1,\"\")","v":""},{"$f":"IF(AND(Q7<>L12),1,\"\")","v":""},{"$f":"IF(AND(R7<>L12),1,\"\")","v":""},{"$f":"IF(AND(S7<>L12),1,\"\")","v":""},{"$f":"IF(AND(T7<>L12),1,\"\")","v":""},{"$f":"IF(AND(U7<>L12),1,\"\")","v":""},{"$f":"IF(AND(V7<>L12),1,\"\")","v":""},{"$f":"IF(AND(W7<>L12),1,\"\")","v":""},{"$f":"IF(AND(X7<>L12),1,\"\")","v":""},{"$f":"IF(AND(Y7<>L12),1,\"\")","v":""},{"$f":"IF(AND(Z7<>L12),1,\"\")","v":""},{"$f":"IF(AND(AA7<>L12),1,\"\")","v":""},{"$f":"IF(AND(AB7<>L12),1,\"\")","v":""},{"$f":"IF(AND(AC7<>L12),1,\"\")","v":""},{"$f":"IF(AND(AD7<>L12),1,\"\")","v":""},{"$f":"IF(AND(AE7<>L12),1,\"\")","v":""},{"$f":"IF(AND(AF7<>L12),1,\"\")","v":""},{"$f":"IF(AND(AG7<>L12),1,\"\")","v":""},{"$f":"IF(AND(AH7<>L12),1,\"\")","v":""},{"$f":"IF(AND(AI7<>L12),1,\"\")","v":""},{"$f":"IF(AND(AJ7<>L12),1,\"\")","v":""},{"$f":"IF(AND(AK7<>L12),1,\"\")","v":""},null,null,{"$f":"Q$7","v":""},false,5,{"$error":"#NUM!"},{"$error":"#NUM!"}]
["",{"$f":"SUMIF(F18A!$A$9:$A$60,'F18'!A13,F18A!$B$9:$B$60)","v":0},{"$f":"SUMIF(F18A!$A$9:$A$60,'F18'!A13,F18A!$C$9:$C$60)","v":0},0,{"$f":"SUMIF(F18A!$A$9:$A$60,'F18'!A13,F18A!$E$9:$E$60)","v":0},{"$f":"SUMIF(F18A!$A$9:$A$60,'F18'!A13,F18A!$F$9:$F$60)","v":0},0,null,null,null,"",{"$f":"IF(AND(F18A!A41=0),\"\",F18A!A41)","v":""},{"$f":"IF(AND(M7<>L13),1,\"\")","v":""},{"$f":"IF(AND(N7<>L13),1,\"\")","v":""},{"$f":"IF(AND(O7<>L13),1,\"\")","v":""},{"$f":"IF(AND(P7<>L13),1,\"\")","v":""},{"$f":"IF(AND(Q7<>L13),1,\"\")","v":""},{"$f":"IF(AND(R7<>L13),1,\"\")","v":""},{"$f":"IF(AND(S7<>L13),1,\"\")","v":""},{"$f":"IF(AND(T7<>L13),1,\"\")","v":""},{"$f":"IF(AND(U7<>L13),1,\"\")","v":""},{"$f":"IF(AND(V7<>L13),1,\"\")","v":""},{"$f":"IF(AND(W7<>L13),1,\"\")","v":""},{"$f":"IF(AND(X7<>L13),1,\"\")","v":""},{"$f":"IF(AND(Y7<>L13),1,\"\")","v":""},{"$f":"IF(AND(Z7<>L13),1,\"\")","v":""},{"$f":"IF(AND(AA7<>L13),1,\"\")","v":""},{"$f":"IF(AND(AB7<>L13),1,\"\")","v":""},{"$f":"IF(AND(AC7<>L13),1,\"\")","v":""},{"$f":"IF(AND(AD7<>L13),1,\"\")","v":""},{"$f":"IF(AND(AE7<>L13),1,\"\")","v":""},{"$f":"IF(AND(AF7<>L13),1,\"\")","v":""},{"$f":"IF(AND(AG7<>L13),1,\"\")","v":""},{"$f":"IF(AND(AH7<>L13),1,\"\")","v":""},{"$f":"IF(AND(AI7<>L13),1,\"\")","v":""},{"$f":"IF(AND(AJ7<>L13),1,\"\")","v":""},{"$f":"IF(AND(AK7<>L13),1,\"\")","v":""},null,null,{"$f":"R$7","v":""},false,6,{"$error":"#NUM!"},{"$error":"#NUM!"}]
["",{"$f":"SUMIF(F18A!$A$9:$A$60,'F18'!A14,F18A!$B$9:$B$60)","v":0},{"$f":"SUMIF(F18A!$A$9:$A$60,'F18'!A14,F18A!$C$9:$C$60)","v":0},0,{"$f":"SUMIF(F18A!$A$9:$A$60,'F18'!A14,F18A!$E$9:$E$60)","v":0},{"$f":"SUMIF(F18A!$A$9:$A$60,'F18'!A14,F18A!$F$9:$F$60)","v":0},0,null,null,null,"",{"$f":"IF(AND(F18A!A42=0),\"\",F18A!A42)","v":""},{"$f":"IF(AND(M7<>L14),1,\"\")","v":""},{"$f":"IF(AND(N7<>L14),1,\"\")","v":""},{"$f":"IF(AND(O7<>L14),1,\"\")","v":""},{"$f":"IF(AND(P7<>L14),1,\"\")","v":""},{"$f":"IF(AND(Q7<>L14),1,\"\")","v":""},{"$f":"IF(AND(R7<>L14),1,\"\")","v":""},{"$f":"IF(AND(S7<>L14),1,\"\")","v":""},{"$f":"IF(AND(T7<>L14),1,\"\")","v":""},{"$f":"IF(AND(U7<>L14),1,\"\")","v":""},{"$f":"IF(AND(V7<>L14),1,\"\")","v":""},{"$f":"IF(AND(W7<>L14),1,\"\")","v":""},{"$f":"IF(AND(X7<>L14),1,\"\")","v":""},{"$f":"IF(AND(Y7<>L14),1,\"\")","v":""},{"$f":"IF(AND(Z7<>L14),1,\"\")","v":""},{"$f":"IF(AND(AA7<>L14),1,\"\")","v":""},{"$f":"IF(AND(AB7<>L14),1,\"\")","v":""},{"$f":"IF(AND(AC7<>L14),1,\"\")","v":""},{"$f":"IF(AND(AD7<>L14),1,\"\")","v":""},{"$f":"IF(AND(AE7<>L14),1,\"\")","v":""},{"$f":"IF(AND(AF7<>L14),1,\"\")","v":""},{"$f":"IF(AND(AG7<>L14),1,\"\")","v":""},{"$f":"IF(AND(AH7<>L14),1,\"\")","v":""},{"$f":"IF(AND(AI7<>L14),1,\"\")","v":""},{"$f":"IF(AND(AJ7<>L14),1,\"\")","v":""},{"$f":"IF(AND(AK7<>L14),1,\"\")","v":""},null,null,{"$f":"S$7","v":""},false,7,{"$error":"#NUM!"},{"$error":"#NUM!"}]
["",{"$f":"SUMIF(F18A!$A$9:$A$60,'F18'!A15,F18A!$B$9:$B$60)","v":0},{"$f":"SUMIF(F18A!$A$9:$A$60,'F18'!A15,F18A!$C$9:$C$60)","v":0},0,{"$f":"SUMIF(F18A!$A$9:$A$60,'F18'!A15,F18A!$E$9:$E$60)","v":0},{"$f":"SUMIF(F18A!$A$9:$A$60,'F18'!A15,F18A!$F$9:$F$60)","v":0},0,null,null,null,"",{"$f":"IF(AND(F18A!A43=0),\"\",F18A!A43)","v":""},{"$f":"IF(AND(M7<>L15),1,\"\")","v":""},{"$f":"IF(AND(N7<>L15),1,\"\")","v":""},{"$f":"IF(AND(O7<>L15),1,\"\")","v":""},{"$f":"IF(AND(P7<>L15),1,\"\")","v":""},{"$f":"IF(AND(Q7<>L15),1,\"\")","v":""},{"$f":"IF(AND(R7<>L15),1,\"\")","v":""},{"$f":"IF(AND(S7<>L15),1,\"\")","v":""},{"$f":"IF(AND(T7<>L15),1,\"\")","v":""},{"$f":"IF(AND(U7<>L15),1,\"\")","v":""},{"$f":"IF(AND(V7<>L15),1,\"\")","v":""},{"$f":"IF(AND(W7<>L15),1,\"\")","v":""},{"$f":"IF(AND(X7<>L15),1,\"\")","v":""},{"$f":"IF(AND(Y7<>L15),1,\"\")","v":""},{"$f":"IF(AND(Z7<>L15),1,\"\")","v":""},{"$f":"IF(AND(AA7<>L15),1,\"\")","v":""},{"$f":"IF(AND(AB7<>L15),1,\"\")","v":""},{"$f":"IF(AND(AC7<>L15),1,\"\")","v":""},{"$f":"IF(AND(AD7<>L15),1,\"\")","v":""},{"$f":"IF(AND(AE7<>L15),1,\"\")","v":""},{"$f":"IF(AND(AF7<>L15),1,\"\")","v":""},{"$f":"IF(AND(AG7<>L15),1,\"\")","v":""},{"$f":"IF(AND(AH7<>L15),1,\"\")","v":""},{"$f":"IF(AND(AI7<>L15),1,\"\")","v":""},{"$f":"IF(AND(AJ7<>L15),1,\"\")","v":""},{"$f":"IF(AND(AK7<>L15),1,\"\")","v":""},null,null,{"$f":"T$7","v":""},false,8,{"$error":"#NUM!"},{"$error":"#NUM!"}]
["",{"$f":"SUMIF(F18A!$A$9:$A$60,'F18'!A16,F18A!$B$9:$B$60)","v":0},{"$f":"SUMIF(F18A!$A$9:$A$60,'F18'!A16,F18A!$C$9:$C$60)","v":0},0,{"$f":"SUMIF(F18A!$A$9:$A$60,'F18'!A16,F18A!$E$9:$E$60)","v":0},{"$f":"SUMIF(F18A!$A$9:$A$60,'F18'!A16,F18A!$F$9:$F$60)","v":0},0,null,null,null,"",{"$f":"IF(AND(F18A!A44=0),\"\",F18A!A44)","v":""},{"$f":"IF(AND(M7<>L16),1,\"\")","v":""},{"$f":"IF(AND(N7<>L16),1,\"\")","v":""},{"$f":"IF(AND(O7<>L16),1,\"\")","v":""},{"$f":"IF(AND(P7<>L16),1,\"\")","v":""},{"$f":"IF(AND(Q7<>L16),1,\"\")","v":""},{"$f":"IF(AND(R7<>L16),1,\"\")","v":""},{"$f":"IF(AND(S7<>L16),1,\"\")","v":""},{"$f":"IF(AND(T7<>L16),1,\"\")","v":""},{"$f":"IF(AND(U7<>L16),1,\"\")","v":""},{"$f":"IF(AND(V7<>L16),1,\"\")","v":""},{"$f":"IF(AND(W7<>L16),1,\"\")","v":""},{"$f":"IF(AND(X7<>L16),1,\"\")","v":""},{"$f":"IF(AND(Y7<>L16),1,\"\")","v":""},{"$f":"IF(AND(Z7<>L16),1,\"\")","v":""},{"$f":"IF(AND(AA7<>L16),1,\"\")","v":""},{"$f":"IF(AND(AB7<>L16),1,\"\")","v":""},{"$f":"IF(AND(AC7<>L16),1,\"\")","v":""},{"$f":"IF(AND(AD7<>L16),1,\"\")","v":""},{"$f":"IF(AND(AE7<>L16),1,\"\")","v":""},{"$f":"IF(AND(AF7<>L16),1,\"\")","v":""},{"$f":"IF(AND(AG7<>L16),1,\"\")","v":""},{"$f":"IF(AND(AH7<>L16),1,\"\")","v":""},{"$f":"IF(AND(AI7<>L16),1,\"\")","v":""},{"$f":"IF(AND(AJ7<>L16),1,\"\")","v":""},{"$f":"IF(AND(AK7<>L16),1,\"\")","v":""},null,null,{"$f":"U$7","v":""},false,9,{"$error":"#NUM!"},{"$error":"#NUM!"}]
["",{"$f":"SUMIF(F18A!$A$9:$A$60,'F18'!A17,F18A!$B$9:$B$60)","v":0},{"$f":"SUMIF(F18A!$A$9:$A$60,'F18'!A17,F18A!$C$9:$C$60)","v":0},0,{"$f":"SUMIF(F18A!$A$9:$A$60,'F18'!A17,F18A!$E$9:$E$60)","v":0},{"$f":"SUMIF(F18A!$A$9:$A$60,'F18'!A17,F18A!$F$9:$F$60)","v":0},0,null,null,null,"",{"$f":"IF(AND(F18A!A45=0),\"\",F18A!A45)","v":""},{"$f":"IF(AND(M7<>L17),1,\"\")","v":""},{"$f":"IF(AND(N7<>L17),1,\"\")","v":""},{"$f":"IF(AND(O7<>L17),1,\"\")","v":""},{"$f":"IF(AND(P7<>L17),1,\"\")","v":""},{"$f":"IF(AND(Q7<>L17),1,\"\")","v":""},{"$f":"IF(AND(R7<>L17),1,\"\")","v":""},{"$f":"IF(AND(S7<>L17),1,\"\")","v":""},{"$f":"IF(AND(T7<>L17),1,\"\")","v":""},{"$f":"IF(AND(U7<>L17),1,\"\")","v":""},{"$f":"IF(AND(V7<>L17),1,\"\")","v":""},{"$f":"IF(AND(W7<>L17),1,\"\")","v":""},{"$f":"IF(AND(X7<>L17),1,\"\")","v":""},{"$f":"IF(AND(Y7<>L17),1,\"\")","v":""},{"$f":"IF(AND(Z7<>L17),1,\"\")","v":""},{"$f":"IF(AND(AA7<>L17),1,\"\")","v":""},{"$f":"IF(AND(AB7<>L17),1,\"\")","v":""},{"$f":"IF(AND(AC7<>L17),1,\"\")","v":""},{"$f":"IF(AND(AD7<>L17),1,\"\")","v":""},{"$f":"IF(AND(AE7<>L17),1,\"\")","v":""},{"$f":"IF(AND(AF7<>L17),1,\"\")","v":""},{"$f":"IF(AND(AG7<>L17),1,\"\")","v":""},{"$f":"IF(AND(AH7<>L17),1,\"\")","v":""},{"$f":"IF(AND(AI7<>L17),1,\"\")","v":""},{"$f":"IF(AND(AJ7<>L17),1,\"\")","v":""},{"$f":"IF(AND(AK7<>L17),1,\"\")","v":""},null,null,{"$f":"V$7","v":""},false,10,{"$error":"#NUM!"},{"$error":"#NUM!"}]
["",{"$f":"SUMIF(F18A!$A$9:$A$60,'F18'!A18,F18A!$B$9:$B$60)","v":0},{"$f":"SUMIF(F18A!$A$9:$A$60,'F18'!A18,F18A!$C$9:$C$60)","v":0},0,{"$f":"SUMIF(F18A!$A$9:$A$60,'F18'!A18,F18A!$E$9:$E$60)","v":0},{"$f":"SUMIF(F18A!$A$9:$A$60,'F18'!A18,F18A!$F$9:$F$60)","v":0},0,null,null,null,"",{"$f":"IF(AND(F18A!A46=0),\"\",F18A!A46)","v":""},{"$f":"IF(AND(M7<>L18),1,\"\")","v":""},{"$f":"IF(AND(N7<>L18),1,\"\")","v":""},{"$f":"IF(AND(O7<>L18),1,\"\")","v":""},{"$f":"IF(AND(P7<>L18),1,\"\")","v":""},{"$f":"IF(AND(Q7<>L18),1,\"\")","v":""},{"$f":"IF(AND(R7<>L18),1,\"\")","v":""},{"$f":"IF(AND(S7<>L18),1,\"\")","v":""},{"$f":"IF(AND(T7<>L18),1,\"\")","v":""},{"$f":"IF(AND(U7<>L18),1,\"\")","v":""},{"$f":"IF(AND(V7<>L18),1,\"\")","v":""},{"$f":"IF(AND(W7<>L18),1,\"\")","v":""},{"$f":"IF(AND(X7<>L18),1,\"\")","v":""},{"$f":"IF(AND(Y7<>L18),1,\"\")","v":""},{"$f":"IF(AND(Z7<>L18),1,\"\")","v":""},{"$f":"IF(AND(AA7<>L18),1,\"\")","v":""},{"$f":"IF(AND(AB7<>L18),1,\"\")","v":""},{"$f":"IF(AND(AC7<>L18),1,\"\")","v":""},{"$f":"IF(AND(AD7<>L18),1,\"\")","v":""},{"$f":"IF(AND(AE7<>L18),1,\"\")","v":""},{"$f":"IF(AND(AF7<>L18),1,\"\")","v":""},{"$f":"IF(AND(AG7<>L18),1,\"\")","v":""},{"$f":"IF(AND(AH7<>L18),1,\"\")","v":""},{"$f":"IF(AND(AI7<>L18),1,\"\")","v":""},{"$f":"IF(AND(AJ7<>L18),1,\"\")","v":""},{"$f":"IF(AND(AK7<>L18),1,\"\")","v":""},null,null,{"$f":"W$7","v":""},false,11,{"$error":"#NUM!"},{"$error":"#NUM!"}]
["",{"$f":"SUMIF(F18A!$A$9:$A$60,'F18'!A19,F18A!$B$9:$B$60)","v":0},{"$f":"SUMIF(F18A!$A$9:$A$60,'F18'!A19,F18A!$C$9:$C$60)","v":0},0,{"$f":"SUMIF(F18A!$A$9:$A$60,'F18'!A19,F18A!$E$9:$E$60)","v":0},{"$f":"SUMIF(F18A!$A$9:$A$60,'F18'!A19,F18A!$F$9:$F$60)","v":0},0,null,null,null,"",{"$f":"IF(AND(F18A!A47=0),\"\",F18A!A47)","v":""},{"$f":"IF(AND(M7<>L19),1,\"\")","v":""},{"$f":"IF(AND(N7<>L19),1,\"\")","v":""},{"$f":"IF(AND(O7<>L19),1,\"\")","v":""},{"$f":"IF(AND(P7<>L19),1,\"\")","v":""},{"$f":"IF(AND(Q7<>L19),1,\"\")","v":""},{"$f":"IF(AND(R7<>L19),1,\"\")","v":""},{"$f":"IF(AND(S7<>L19),1,\"\")","v":""},{"$f":"IF(AND(T7<>L19),1,\"\")","v":""},{"$f":"IF(AND(U7<>L19),1,\"\")","v":""},{"$f":"IF(AND(V7<>L19),1,\"\")","v":""},{"$f":"IF(AND(W7<>L19),1,\"\")","v":""},{"$f":"IF(AND(X7<>L19),1,\"\")","v":""},{"$f":"IF(AND(Y7<>L19),1,\"\")","v":""},{"$f":"IF(AND(Z7<>L19),1,\"\")","v":""},{"$f":"IF(AND(AA7<>L19),1,\"\")","v":""},{"$f":"IF(AND(AB7<>L19),1,\"\")","v":""},{"$f":"IF(AND(AC7<>L19),1,\"\")","v":""},{"$f":"IF(AND(AD7<>L19),1,\"\")","v":""},{"$f":"IF(AND(AE7<>L19),1,\"\")","v":""},{"$f":"IF(AND(AF7<>L19),1,\"\")","v":""},{"$f":"IF(AND(AG7<>L19),1,\"\")","v":""},{"$f":"IF(AND(AH7<>L19),1,\"\")","v":""},{"$f":"IF(AND(AI7<>L19),1,\"\")","v":""},{"$f":"IF(AND(AJ7<>L19),1,\"\")","v":""},{"$f":"IF(AND(AK7<>L19),1,\"\")","v":""},null,null,{"$f":"X$7","v":""},false,12,{"$error":"#NUM!"},{"$error":"#NUM!"}]
["",{"$f":"SUMIF(F18A!$A$9:$A$60,'F18'!A20,F18A!$B$9:$B$60)","v":0},{"$f":"SUMIF(F18A!$A$9:$A$60,'F18'!A20,F18A!$C$9:$C$60)","v":0},0,{"$f":"SUMIF(F18A!$A$9:$A$60,'F18'!A20,F18A!$E$9:$E$60)","v":0},{"$f":"SUMIF(F18A!$A$9:$A$60,'F18'!A20,F18A!$F$9:$F$60)","v":0},0,null,null,null,"",{"$f":"IF(AND(F18A!A48=0),\"\",F18A!A48)","v":""},{"$f":"IF(AND(M7<>L20),1,\"\")","v":""},{"$f":"IF(AND(N7<>L20),1,\"\")","v":""},{"$f":"IF(AND(O7<>L20),1,\"\")","v":""},{"$f":"IF(AND(P7<>L20),1,\"\")","v":""},{"$f":"IF(AND(Q7<>L20),1,\"\")","v":""},{"$f":"IF(AND(R7<>L20),1,\"\")","v":""},{"$f":"IF(AND(S7<>L20),1,\"\")","v":""},{"$f":"IF(AND(T7<>L20),1,\"\")","v":""},{"$f":"IF(AND(U7<>L20),1,\"\")","v":""},{"$f":"IF(AND(V7<>L20),1,\"\")","v":""},{"$f":"IF(AND(W7<>L20),1,\"\")","v":""},{"$f":"IF(AND(X7<>L20),1,\"\")","v":""},{"$f":"IF(AND(Y7<>L20),1,\"\")","v":""},{"$f":"IF(AND(Z7<>L20),1,\"\")","v":""},{"$f":"IF(AND(AA7<>L20),1,\"\")","v":""},{"$f":"IF(AND(AB7<>L20),1,\"\")","v":""},{"$f":"IF(AND(AC7<>L20),1,\"\")","v":""},{"$f":"IF(AND(AD7<>L20),1,\"\")","v":""},{"$f":"IF(AND(AE7<>L20),1,\"\")","v":""},{"$f":"IF(AND(AF7<>L20),1,\"\")","v":""},{"$f":"IF(AND(AG7<>L20),1,\"\")","v":""},{"$f":"IF(AND(AH7<>L20),1,\"\")","v":""},{"$f":"IF(AND(AI7<>L20),1,\"\")","v":""},{"$f":"IF(AND(AJ7<>L20),1,\"\")","v":""},{"$f":"IF(AND(AK7<>L20),1,\"\")","v":""},null,null,{"$f":"Y$7","v":""},false,13,{"$error":"#NUM!"},{"$error":"#NUM!"}]
["",{"$f":"SUMIF(F18A!$A$9:$A$60,'F18'!A21,F18A!$B$9:$B$60)","v":0},{"$f":"SUMIF(F18A!$A$9:$A$60,'F18'!A21,F18A!$C$9:$C$60)","v":0},0,{"$f":"SUMIF(F18A!$A$9:$A$60,'F18'!A21,F18A!$E$9:$E$60)","v":0},{"$f":"SUMIF(F18A!$A$9:$A$60,'F18'!A21,F18A!$F$9:$F$60)","v":0},0,null,null,null,"",{"$f":"IF(AND(F18A!A49=0),\"\",F18A!A49)","v":""},{"$f":"IF(AND(M7<>L21),1,\"\")","v":""},{"$f":"IF(AND(N7<>L21),1,\"\")","v":""},{"$f":"IF(AND(O7<>L21),1,\"\")","v":""},{"$f":"IF(AND(P7<>L21),1,\"\")","v":""},{"$f":"IF(AND(Q7<>L21),1,\"\")","v":""},{"$f":"IF(AND(R7<>L21),1,\"\")","v":""},{"$f":"IF(AND(S7<>L21),1,\"\")","v":""},{"$f":"IF(AND(T7<>L21),1,\"\")","v":""},{"$f":"IF(AND(U7<>L21),1,\"\")","v":""},{"$f":"IF(AND(V7<>L21),1,\"\")","v":""},{"$f":"IF(AND(W7<>L21),1,\"\")","v":""},{"$f":"IF(AND(X7<>L21),1,\"\")","v":""},{"$f":"IF(AND(Y7<>L21),1,\"\")","v":""},{"$f":"IF(AND(Z7<>L21),1,\"\")","v":""},{"$f":"IF(AND(AA7<>L21),1,\"\")","v":""},{"$f":"IF(AND(AB7<>L21),1,\"\")","v":""},{"$f":"IF(AND(AC7<>L21),1,\"\")","v":""},{"$f":"IF(AND(AD7<>L21),1,\"\")","v":""},{"$f":"IF(AND(AE7<>L21),1,\"\")","v":""},{"$f":"IF(AND(AF7<>L21),1,\"\")","v":""},{"$f":"IF(AND(AG7<>L21),1,\"\")","v":""},{"$f":"IF(AND(AH7<>L21),1,\"\")","v":""},{"$f":"IF(AND(AI7<>L21),1,\"\")","v":""},{"$f":"IF(AND(AJ7<>L21),1,\"\")","v":""},{"$f":"IF(AND(AK7<>L21),1,\"\")","v":""},null,null,{"$f":"Z$7","v":""},false,14,{"$error":"#NUM!"},{"$error":"#NUM!"}]
["",{"$f":"SUMIF(F18A!$A$9:$A$60,'F18'!A22,F18A!$B$9:$B$60)","v":0},{"$f":"SUMIF(F18A!$A$9:$A$60,'F18'!A22,F18A!$C$9:$C$60)","v":0},0,{"$f":"SUMIF(F18A!$A$9:$A$60,'F18'!A22,F18A!$E$9:$E$60)","v":0},{"$f":"SUMIF(F18A!$A$9:$A$60,'F18'!A22,F18A!$F$9:$F$60)","v":0},0,null,null,null,"",{"$f":"IF(AND(F18A!A50=0),\"\",F18A!A50)","v":""},{"$f":"IF(AND(M7<>L22),1,\"\")","v":""},{"$f":"IF(AND(N7<>L22),1,\"\")","v":""},{"$f":"IF(AND(O7<>L22),1,\"\")","v":""},{"$f":"IF(AND(P7<>L22),1,\"\")","v":""},{"$f":"IF(AND(Q7<>L22),1,\"\")","v":""},{"$f":"IF(AND(R7<>L22),1,\"\")","v":""},{"$f":"IF(AND(S7<>L22),1,\"\")","v":""},{"$f":"IF(AND(T7<>L22),1,\"\")","v":""},{"$f":"IF(AND(U7<>L22),1,\"\")","v":""},{"$f":"IF(AND(V7<>L22),1,\"\")","v":""},{"$f":"IF(AND(W7<>L22),1,\"\")","v":""},{"$f":"IF(AND(X7<>L22),1,\"\")","v":""},{"$f":"IF(AND(Y7<>L22),1,\"\")","v":""},{"$f":"IF(AND(Z7<>L22),1,\"\")","v":""},{"$f":"IF(AND(AA7<>L22),1,\"\")","v":""},{"$f":"IF(AND(AB7<>L22),1,\"\")","v":""},{"$f":"IF(AND(AC7<>L22),1,\"\")","v":""},{"$f":"IF(AND(AD7<>L22),1,\"\")","v":""},{"$f":"IF(AND(AE7<>L22),1,\"\")","v":""},{"$f":"IF(AND(AF7<>L22),1,\"\")","v":""},{"$f":"IF(AND(AG7<>L22),1,\"\")","v":""},{"$f":"IF(AND(AH7<>L22),1,\"\")","v":""},{"$f":"IF(AND(AI7<>L22),1,\"\")","v":""},{"$f":"IF(AND(AJ7<>L22),1,\"\")","v":""},{"$f":"IF(AND(AK7<>L22),1,\"\")","v":""},null,null,{"$f":"AA$7","v":""},false,15,{"$error":"#NUM!"},{"$error":"#NUM!"}]
["",{"$f":"SUMIF(F18A!$A$9:$A$60,'F18'!A23,F18A!$B$9:$B$60)","v":0},{"$f":"SUMIF(F18A!$A$9:$A$60,'F18'!A23,F18A!$C$9:$C$60)","v":0},0,{"$f":"SUMIF(F18A!$A$9:$A$60,'F18'!A23,F18A!$E$9:$E$60)","v":0},{"$f":"SUMIF(F18A!$A$9:$A$60,'F18'!A23,F18A!$F$9:$F$60)","v":0},0,null,null,null,"",{"$f":"IF(AND(F18A!A51=0),\"\",F18A!A51)","v":""},{"$f":"IF(AND(M7<>L23),1,\"\")","v":""},{"$f":"IF(AND(N7<>L23),1,\"\")","v":""},{"$f":"IF(AND(O7<>L23),1,\"\")","v":""},{"$f":"IF(AND(P7<>L23),1,\"\")","v":""},{"$f":"IF(AND(Q7<>L23),1,\"\")","v":""},{"$f":"IF(AND(R7<>L23),1,\"\")","v":""},{"$f":"IF(AND(S7<>L23),1,\"\")","v":""},{"$f":"IF(AND(T7<>L23),1,\"\")","v":""},{"$f":"IF(AND(U7<>L23),1,\"\")","v":""},{"$f":"IF(AND(V7<>L23),1,\"\")","v":""},{"$f":"IF(AND(W7<>L23),1,\"\")","v":""},{"$f":"IF(AND(X7<>L23),1,\"\")","v":""},{"$f":"IF(AND(Y7<>L23),1,\"\")","v":""},{"$f":"IF(AND(Z7<>L23),1,\"\")","v":""},{"$f":"IF(AND(AA7<>L23),1,\"\")","v":""},{"$f":"IF(AND(AB7<>L23),1,\"\")","v":""},{"$f":"IF(AND(AC7<>L23),1,\"\")","v":""},{"$f":"IF(AND(AD7<>L23),1,\"\")","v":""},{"$f":"IF(AND(AE7<>L23),1,\"\")","v":""},{"$f":"IF(AND(AF7<>L23),1,\"\")","v":""},{"$f":"IF(AND(AG7<>L23),1,\"\")","v":""},{"$f":"IF(AND(AH7<>L23),1,\"\")","v":""},{"$f":"IF(AND(AI7<>L23),1,\"\")","v":""},{"$f":"IF(AND(AJ7<>L23),1,\"\")","v":""},{"$f":"IF(AND(AK7<>L23),1,\"\")","v":""},null,null,{"$f":"AB$7","v":""},false,16,{"$error":"#NUM!"},{"$error":"#NUM!"}]
["",{"$f":"SUMIF(F18A!$A$9:$A$60,'F18'!A24,F18A!$B$9:$B$60)","v":0},{"$f":"SUMIF(F18A!$A$9:$A$60,'F18'!A24,F18A!$C$9:$C$60)","v":0},0,{"$f":"SUMIF(F18A!$A$9:$A$60,'F18'!A24,F18A!$E$9:$E$60)","v":0},{"$f":"SUMIF(F18A!$A$9:$A$60,'F18'!A24,F18A!$F$9:$F$60)","v":0},0,null,null,null,"",{"$f":"IF(AND(F18A!A52=0),\"\",F18A!A52)","v":""},{"$f":"IF(AND(M7<>L24),1,\"\")","v":""},{"$f":"IF(AND(N7<>L24),1,\"\")","v":""},{"$f":"IF(AND(O7<>L24),1,\"\")","v":""},{"$f":"IF(AND(P7<>L24),1,\"\")","v":""},{"$f":"IF(AND(Q7<>L24),1,\"\")","v":""},{"$f":"IF(AND(R7<>L24),1,\"\")","v":""},{"$f":"IF(AND(S7<>L24),1,\"\")","v":""},{"$f":"IF(AND(T7<>L24),1,\"\")","v":""},{"$f":"IF(AND(U7<>L24),1,\"\")","v":""},{"$f":"IF(AND(V7<>L24),1,\"\")","v":""},{"$f":"IF(AND(W7<>L24),1,\"\")","v":""},{"$f":"IF(AND(X7<>L24),1,\"\")","v":""},{"$f":"IF(AND(Y7<>L24),1,\"\")","v":""},{"$f":"IF(AND(Z7<>L24),1,\"\")","v":""},{"$f":"IF(AND(AA7<>L24),1,\"\")","v":""},{"$f":"IF(AND(AB7<>L24),1,\"\")","v":""},{"$f":"IF(AND(AC7<>L24),1,\"\")","v":""},{"$f":"IF(AND(AD7<>L24),1,\"\")","v":""},{"$f":"IF(AND(AE7<>L24),1,\"\")","v":""},{"$f":"IF(AND(AF7<>L24),1,\"\")","v":""},{"$f":"IF(AND(AG7<>L24),1,\"\")","v":""},{"$f":"IF(AND(AH7<>L24),1,\"\")","v":""},{"$f":"IF(AND(AI7<>L24),1,\"\")","v":""},{"$f":"IF(AND(AJ7<>L24),1,\"\")","v":""},{"$f":"IF(AND(AK7<>L24),1,\"\")","v":""},null,null,{"$f":"AC$7","v":""},false,17,{"$error":"#NUM!"},{"$error":"#NUM!"}]
["",{"$f":"SUMIF(F18A!$A$9:$A$60,'F18'!A25,F18A!$B$9:$B$60)","v":0},{"$f":"SUMIF(F18A!$A$9:$A$60,'F18'!A25,F18A!$C$9:$C$60)","v":0},0,{"$f":"SUMIF(F18A!$A$9:$A$60,'F18'!A25,F18A!$E$9:$E$60)","v":0},{"$f":"SUMIF(F18A!$A$9:$A$60,'F18'!A25,F18A!$F$9:$F$60)","v":0},0,null,null,null,"",{"$f":"IF(AND(F18A!A53=0),\"\",F18A!A53)","v":""},{"$f":"IF(AND(M7<>L25),1,\"\")","v":""},{"$f":"IF(AND(N7<>L25),1,\"\")","v":""},{"$f":"IF(AND(O7<>L25),1,\"\")","v":""},{"$f":"IF(AND(P7<>L25),1,\"\")","v":""},{"$f":"IF(AND(Q7<>L25),1,\"\")","v":""},{"$f":"IF(AND(R7<>L25),1,\"\")","v":""},{"$f":"IF(AND(S7<>L25),1,\"\")","v":""},{"$f":"IF(AND(T7<>L25),1,\"\")","v":""},{"$f":"IF(AND(U7<>L25),1,\"\")","v":""},{"$f":"IF(AND(V7<>L25),1,\"\")","v":""},{"$f":"IF(AND(W7<>L25),1,\"\")","v":""},{"$f":"IF(AND(X7<>L25),1,\"\")","v":""},{"$f":"IF(AND(Y7<>L25),1,\"\")","v":""},{"$f":"IF(AND(Z7<>L25),1,\"\")","v":""},{"$f":"IF(AND(AA7<>L25),1,\"\")","v":""},{"$f":"IF(AND(AB7<>L25),1,\"\")","v":""},{"$f":"IF(AND(AC7<>L25),1,\"\")","v":""},{"$f":"IF(AND(AD7<>L25),1,\"\")","v":""},{"$f":"IF(AND(AE7<>L25),1,\"\")","v":""},{"$f":"IF(AND(AF7<>L25),1,\"\")","v":""},{"$f":"IF(AND(AG7<>L25),1,\"\")","v":""},{"$f":"IF(AND(AH7<>L25),1,\"\")","v":""},{"$f":"IF(AND(AI7<>L25),1,\"\")","v":""},{"$f":"IF(AND(AJ7<>L25),1,\"\")","v":""},{"$f":"IF(AND(AK7<>L25),1,\"\")","v":""},null,null,{"$f":"AD$7","v":""},false,18,{"$error":"#NUM!"},{"$error":"#NUM!"}]
["",{"$f":"SUMIF(F18A!$A$9:$A$60,'F18'!A26,F18A!$B$9:$B$60)","v":0},{"$f":"SUMIF(F18A!$A$9:$A$60,'F18'!A26,F18A!$C$9:$C$60)","v":0},0,{"$f":"SUMIF(F18A!$A$9:$A$60,'F18'!A26,F18A!$E$9:$E$60)","v":0},{"$f":"SUMIF(F18A!$A$9:$A$60,'F18'!A26,F18A!$F$9:$F$60)","v":0},0,null,null,null,"",{"$f":"IF(AND(F18A!A54=0),\"\",F18A!A54)","v":""},{"$f":"IF(AND(M7<>L26),1,\"\")","v":""},{"$f":"IF(AND(N7<>L26),1,\"\")","v":""},{"$f":"IF(AND(O7<>L26),1,\"\")","v":""},{"$f":"IF(AND(P7<>L26),1,\"\")","v":""},{"$f":"IF(AND(Q7<>L26),1,\"\")","v":""},{"$f":"IF(AND(R7<>L26),1,\"\")","v":""},{"$f":"IF(AND(S7<>L26),1,\"\")","v":""},{"$f":"IF(AND(T7<>L26),1,\"\")","v":""},{"$f":"IF(AND(U7<>L26),1,\"\")","v":""},{"$f":"IF(AND(V7<>L26),1,\"\")","v":""},{"$f":"IF(AND(W7<>L26),1,\"\")","v":""},{"$f":"IF(AND(X7<>L26),1,\"\")","v":""},{"$f":"IF(AND(Y7<>L26),1,\"\")","v":""},{"$f":"IF(AND(Z7<>L26),1,\"\")","v":""},{"$f":"IF(AND(AA7<>L26),1,\"\")","v":""},{"$f":"IF(AND(AB7<>L26),1,\"\")","v":""},{"$f":"IF(AND(AC7<>L26),1,\"\")","v":""},{"$f":"IF(AND(AD7<>L26),1,\"\")","v":""},{"$f":"IF(AND(AE7<>L26),1,\"\")","v":""},{"$f":"IF(AND(AF7<>L26),1,\"\")","v":""},{"$f":"IF(AND(AG7<>L26),1,\"\")","v":""},{"$f":"IF(AND(AH7<>L26),1,\"\")","v":""},{"$f":"IF(AND(AI7<>L26),1,\"\")","v":""},{"$f":"IF(AND(AJ7<>L26),1,\"\")","v":""},{"$f":"IF(AND(AK7<>L26),1,\"\")","v":""},null,null,{"$f":"AE$7","v":""},false,19,{"$error":"#NUM!"},{"$error":"#NUM!"}]
["",{"$f":"SUMIF(F18A!$A$9:$A$60,'F18'!A27,F18A!$B$9:$B$60)","v":0},{"$f":"SUMIF(F18A!$A$9:$A$60,'F18'!A27,F18A!$C$9:$C$60)","v":0},0,{"$f":"SUMIF(F18A!$A$9:$A$60,'F18'!A27,F18A!$E$9:$E$60)","v":0},{"$f":"SUMIF(F18A!$A$9:$A$60,'F18'!A27,F18A!$F$9:$F$60)","v":0},0,null,null,null,"",{"$f":"IF(AND(F18A!A55=0),\"\",F18A!A55)","v":""},{"$f":"IF(AND(M7<>L27),1,\"\")","v":""},{"$f":"IF(AND(N7<>L27),1,\"\")","v":""},{"$f":"IF(AND(O7<>L27),1,\"\")","v":""},{"$f":"IF(AND(P7<>L27),1,\"\")","v":""},{"$f":"IF(AND(Q7<>L27),1,\"\")","v":""},{"$f":"IF(AND(R7<>L27),1,\"\")","v":""},{"$f":"IF(AND(S7<>L27),1,\"\")","v":""},{"$f":"IF(AND(T7<>L27),1,\"\")","v":""},{"$f":"IF(AND(U7<>L27),1,\"\")","v":""},{"$f":"IF(AND(V7<>L27),1,\"\")","v":""},{"$f":"IF(AND(W7<>L27),1,\"\")","v":""},{"$f":"IF(AND(X7<>L27),1,\"\")","v":""},{"$f":"IF(AND(Y7<>L27),1,\"\")","v":""},{"$f":"IF(AND(Z7<>L27),1,\"\")","v":""},{"$f":"IF(AND(AA7<>L27),1,\"\")","v":""},{"$f":"IF(AND(AB7<>L27),1,\"\")","v":""},{"$f":"IF(AND(AC7<>L27),1,\"\")","v":""},{"$f":"IF(AND(AD7<>L27),1,\"\")","v":""},{"$f":"IF(AND(AE7<>L27),1,\"\")","v":""},{"$f":"IF(AND(AF7<>L27),1,\"\")","v":""},{"$f":"IF(AND(AG7<>L27),1,\"\")","v":""},{"$f":"IF(AND(AH7<>L27),1,\"\")","v":""},{"$f":"IF(AND(AI7<>L27),1,\"\")","v":""},{"$f":"IF(AND(AJ7<>L27),1,\"\")","v":""},{"$f":"IF(AND(AK7<>L27),1,\"\")","v":""},null,null,{"$f":"AF$7","v":""},false,20,{"$error":"#NUM!"},{"$error":"#NUM!"}]
["",{"$f":"SUMIF(F18A!$A$9:$A$60,'F18'!A28,F18A!$B$9:$B$60)","v":0},{"$f":"SUMIF(F18A!$A$9:$A$60,'F18'!A28,F18A!$C$9:$C$60)","v":0},0,{"$f":"SUMIF(F18A!$A$9:$A$60,'F18'!A28,F18A!$E$9:$E$60)","v":0},{"$f":"SUMIF(F18A!$A$9:$A$60,'F18'!A28,F18A!$F$9:$F$60)","v":0},0,null,null,null,"",{"$f":"IF(AND(F18A!A56=0),\"\",F18A!A56)","v":""},{"$f":"IF(AND(M7<>L28),1,\"\")","v":""},{"$f":"IF(AND(N7<>L28),1,\"\")","v":""},{"$f":"IF(AND(O7<>L28),1,\"\")","v":""},{"$f":"IF(AND(P7<>L28),1,\"\")","v":""},{"$f":"IF(AND(Q7<>L28),1,\"\")","v":""},{"$f":"IF(AND(R7<>L28),1,\"\")","v":""},{"$f":"IF(AND(S7<>L28),1,\"\")","v":""},{"$f":"IF(AND(T7<>L28),1,\"\")","v":""},{"$f":"IF(AND(U7<>L28),1,\"\")","v":""},{"$f":"IF(AND(V7<>L28),1,\"\")","v":""},{"$f":"IF(AND(W7<>L28),1,\"\")","v":""},{"$f":"IF(AND(X7<>L28),1,\"\")","v":""},{"$f":"IF(AND(Y7<>L28),1,\"\")","v":""},{"$f":"IF(AND(Z7<>L28),1,\"\")","v":""},{"$f":"IF(AND(AA7<>L28),1,\"\")","v":""},{"$f":"IF(AND(AB7<>L28),1,\"\")","v":""},{"$f":"IF(AND(AC7<>L28),1,\"\")","v":""},{"$f":"IF(AND(AD7<>L28),1,\"\")","v":""},{"$f":"IF(AND(AE7<>L28),1,\"\")","v":""},{"$f":"IF(AND(AF7<>L28),1,\"\")","v":""},{"$f":"IF(AND(AG7<>L28),1,\"\")","v":""},{"$f":"IF(AND(AH7<>L28),1,\"\")","v":""},{"$f":"IF(AND(AI7<>L28),1,\"\")","v":""},{"$f":"IF(AND(AJ7<>L28),1,\"\")","v":""},{"$f":"IF(AND(AK7<>L28),1,\"\")","v":""},null,null,{"$f":"AG$7","v":""},false,21,{"$error":"#NUM!"},{"$error":"#NUM!"}]
["",{"$f":"SUMIF(F18A!$A$9:$A$60,'F18'!A29,F18A!$B$9:$B$60)","v":0},{"$f":"SUMIF(F18A!$A$9:$A$60,'F18'!A29,F18A!$C$9:$C$60)","v":0},0,{"$f":"SUMIF(F18A!$A$9:$A$60,'F18'!A29,F18A!$E$9:$E$60)","v":0},{"$f":"SUMIF(F18A!$A$9:$A$60,'F18'!A29,F18A!$F$9:$F$60)","v":0},0,null,null,null,"",{"$f":"IF(AND(F18A!A57=0),\"\",F18A!A57)","v":""},{"$f":"IF(AND(M7<>L29),1,\"\")","v":""},{"$f":"IF(AND(N7<>L29),1,\"\")","v":""},{"$f":"IF(AND(O7<>L29),1,\"\")","v":""},{"$f":"IF(AND(P7<>L29),1,\"\")","v":""},{"$f":"IF(AND(Q7<>L29),1,\"\")","v":""},{"$f":"IF(AND(R7<>L29),1,\"\")","v":""},{"$f":"IF(AND(S7<>L29),1,\"\")","v":""},{"$f":"IF(AND(T7<>L29),1,\"\")","v":""},{"$f":"IF(AND(U7<>L29),1,\"\")","v":""},{"$f":"IF(AND(V7<>L29),1,\"\")","v":""},{"$f":"IF(AND(W7<>L29),1,\"\")","v":""},{"$f":"IF(AND(X7<>L29),1,\"\")","v":""},{"$f":"IF(AND(Y7<>L29),1,\"\")","v":""},{"$f":"IF(AND(Z7<>L29),1,\"\")","v":""},{"$f":"IF(AND(AA7<>L29),1,\"\")","v":""},{"$f":"IF(AND(AB7<>L29),1,\"\")","v":""},{"$f":"IF(AND(AC7<>L29),1,\"\")","v":""},{"$f":"IF(AND(AD7<>L29),1,\"\")","v":""},{"$f":"IF(AND(AE7<>L29),1,\"\")","v":""},{"$f":"IF(AND(AF7<>L29),1,\"\")","v":""},{"$f":"IF(AND(AG7<>L29),1,\"\")","v":""},{"$f":"IF(AND(AH7<>L29),1,\"\")","v":""},{"$f":"IF(AND(AI7<>L29),1,\"\")","v":""},{"$f":"IF(AND(AJ7<>L29),1,\"\")","v":""},{"$f":"IF(AND(AK7<>L29),1,\"\")","v":""},null,null,{"$f":"AH$7","v":""},false,22,{"$error":"#NUM!"},{"$error":"#NUM!"}]
["",{"$f":"SUMIF(F18A!$A$9:$A$60,'F18'!A30,F18A!$B$9:$B$60)","v":0},{"$f":"SUMIF(F18A!$A$9:$A$60,'F18'!A30,F18A!$C$9:$C$60)","v":0},0,{"$f":"SUMIF(F18A!$A$9:$A$60,'F18'!A30,F18A!$E$9:$E$60)","v":0},{"$f":"SUMIF(F18A!$A$9:$A$60,'F18'!A30,F18A!$F$9:$F$60)","v":0},0,null,null,null,"",{"$f":"IF(AND(F18A!A58=0),\"\",F18A!A58)","v":""},{"$f":"IF(AND(M7<>L30),1,\"\")","v":""},{"$f":"IF(AND(N7<>L30),1,\"\")","v":""},{"$f":"IF(AND(O7<>L30),1,\"\")","v":""},{"$f":"IF(AND(P7<>L30),1,\"\")","v":""},{"$f":"IF(AND(Q7<>L30),1,\"\")","v":""},{"$f":"IF(AND(R7<>L30),1,\"\")","v":""},{"$f":"IF(AND(S7<>L30),1,\"\")","v":""},{"$f":"IF(AND(T7<>L30),1,\"\")","v":""},{"$f":"IF(AND(U7<>L30),1,\"\")","v":""},{"$f":"IF(AND(V7<>L30),1,\"\")","v":""},{"$f":"IF(AND(W7<>L30),1,\"\")","v":""},{"$f":"IF(AND(X7<>L30),1,\"\")","v":""},{"$f":"IF(AND(Y7<>L30),1,\"\")","v":""},{"$f":"IF(AND(Z7<>L30),1,\"\")","v":""},{"$f":"IF(AND(AA7<>L30),1,\"\")","v":""},{"$f":"IF(AND(AB7<>L30),1,\"\")","v":""},{"$f":"IF(AND(AC7<>L30),1,\"\")","v":""},{"$f":"IF(AND(AD7<>L30),1,\"\")","v":""},{"$f":"IF(AND(AE7<>L30),1,\"\")","v":""},{"$f":"IF(AND(AF7<>L30),1,\"\")","v":""},{"$f":"IF(AND(AG7<>L30),1,\"\")","v":""},{"$f":"IF(AND(AH7<>L30),1,\"\")","v":""},{"$f":"IF(AND(AI7<>L30),1,\"\")","v":""},{"$f":"IF(AND(AJ7<>L30),1,\"\")","v":""},{"$f":"IF(AND(AK7<>L30),1,\"\")","v":""},null,null,{"$f":"AI$7","v":""},false,23,{"$error":"#NUM!"},{"$error":"#NUM!"}]
["",{"$f":"SUMIF(F18A!$A$9:$A$60,'F18'!A31,F18A!$B$9:$B$60)","v":0},{"$f":"SUMIF(F18A!$A$9:$A$60,'F18'!A31,F18A!$C$9:$C$60)","v":0},0,{"$f":"SUMIF(F18A!$A$9:$A$60,'F18'!A31,F18A!$E$9:$E$60)","v":0},{"$f":"SUMIF(F18A!$A$9:$A$60,'F18'!A31,F18A!$F$9:$F$60)","v":0},0,null,null,null,"",{"$f":"IF(AND(F18A!A59=0),\"\",F18A!A59)","v":""},{"$f":"IF(AND(M7<>L31),1,\"\")","v":""},{"$f":"IF(AND(N7<>L31),1,\"\")","v":""},{"$f":"IF(AND(O7<>L31),1,\"\")","v":""},{"$f":"IF(AND(P7<>L31),1,\"\")","v":""},{"$f":"IF(AND(Q7<>L31),1,\"\")","v":""},{"$f":"IF(AND(R7<>L31),1,\"\")","v":""},{"$f":"IF(AND(S7<>L31),1,\"\")","v":""},{"$f":"IF(AND(T7<>L31),1,\"\")","v":""},{"$f":"IF(AND(U7<>L31),1,\"\")","v":""},{"$f":"IF(AND(V7<>L31),1,\"\")","v":""},{"$f":"IF(AND(W7<>L31),1,\"\")","v":""},{"$f":"IF(AND(X7<>L31),1,\"\")","v":""},{"$f":"IF(AND(Y7<>L31),1,\"\")","v":""},{"$f":"IF(AND(Z7<>L31),1,\"\")","v":""},{"$f":"IF(AND(AA7<>L31),1,\"\")","v":""},{"$f":"IF(AND(AB7<>L31),1,\"\")","v":""},{"$f":"IF(AND(AC7<>L31),1,\"\")","v":""},{"$f":"IF(AND(AD7<>L31),1,\"\")","v":""},{"$f":"IF(AND(AE7<>L31),1,\"\")","v":""},{"$f":"IF(AND(AF7<>L31),1,\"\")","v":""},{"$f":"IF(AND(AG7<>L31),1,\"\")","v":""},{"$f":"IF(AND(AH7<>L31),1,\"\")","v":""},{"$f":"IF(AND(AI7<>L31),1,\"\")","v":""},{"$f":"IF(AND(AJ7<>L31),1,\"\")","v":""},{"$f":"IF(AND(AK7<>L31),1,\"\")","v":""},null,null,{"$f":"AJ$7","v":""},false,24,{"$error":"#NUM!"},{"$error":"#NUM!"}]
["",{"$f":"SUMIF(F18A!$A$9:$A$60,'F18'!A32,F18A!$B$9:$B$60)","v":0},{"$f":"SUMIF(F18A!$A$9:$A$60,'F18'!A32,F18A!$C$9:$C$60)","v":0},0,{"$f":"SUMIF(F18A!$A$9:$A$60,'F18'!A32,F18A!$E$9:$E$60)","v":0},{"$f":"SUMIF(F18A!$A$9:$A$60,'F18'!A32,F18A!$F$9:$F$60)","v":0},0,null,null,null,"",{"$f":"IF(AND(F18A!A60=0),\"\",F18A!A60)","v":""},{"$f":"IF(AND(M7<>L32),1,\"\")","v":""},{"$f":"IF(AND(N7<>L32),1,\"\")","v":""},{"$f":"IF(AND(O7<>L32),1,\"\")","v":""},{"$f":"IF(AND(P7<>L32),1,\"\")","v":""},{"$f":"IF(AND(Q7<>L32),1,\"\")","v":""},{"$f":"IF(AND(R7<>L32),1,\"\")","v":""},{"$f":"IF(AND(S7<>L32),1,\"\")","v":""},{"$f":"IF(AND(T7<>L32),1,\"\")","v":""},{"$f":"IF(AND(U7<>L32),1,\"\")","v":""},{"$f":"IF(AND(V7<>L32),1,\"\")","v":""},{"$f":"IF(AND(W7<>L32),1,\"\")","v":""},{"$f":"IF(AND(X7<>L32),1,\"\")","v":""},{"$f":"IF(AND(Y7<>L32),1,\"\")","v":""},{"$f":"IF(AND(Z7<>L32),1,\"\")","v":""},{"$f":"IF(AND(AA7<>L32),1,\"\")","v":""},{"$f":"IF(AND(AB7<>L32),1,\"\")","v":""},{"$f":"IF(AND(AC7<>L32),1,\"\")","v":""},{"$f":"IF(AND(AD7<>L32),1,\"\")","v":""},{"$f":"IF(AND(AE7<>L32),1,\"\")","v":""},{"$f":"IF(AND(AF7<>L32),1,\"\")","v":""},{"$f":"IF(AND(AG7<>L32),1,\"\")","v":""},{"$f":"IF(AND(AH7<>L32),1,\"\")","v":""},{"$f":"IF(AND(AI7<>L32),1,\"\")","v":""},{"$f":"IF(AND(AJ7<>L32),1,\"\")","v":""},{"$f":"IF(AND(AK7<>L32),1,\"\")","v":""},null,null,{"$f":"AK$7","v":""},false,25,{"$error":"#NUM!"},{"$error":"#NUM!"}]
["",{"$f":"SUMIF(F18A!$A$9:$A$60,'F18'!A33,F18A!$B$9:$B$60)","v":0},{"$f":"SUMIF(F18A!$A$9:$A$60,'F18'!A33,F18A!$C$9:$C$60)","v":0},0,{"$f":"SUMIF(F18A!$A$9:$A$60,'F18'!A33,F18A!$E$9:$E$60)","v":0},{"$f":"SUMIF(F18A!$A$9:$A$60,'F18'!A33,F18A!$F$9:$F$60)","v":0},0,null,null,null,null,null,null,null,null,null,null,null,null,null,null,null,null,null,null,null,null,null,null,null,null,null,null,null,null,null,null,null,null,{"$f":"K8","v":""},false,26,{"$error":"#NUM!"},{"$error":"#NUM!"}]
["",{"$f":"SUMIF(F18A!$A$9:$A$60,'F18'!A34,F18A!$B$9:$B$60)","v":0},{"$f":"SUMIF(F18A!$A$9:$A$60,'F18'!A34,F18A!$C$9:$C$60)","v":0},0,{"$f":"SUMIF(F18A!$A$9:$A$60,'F18'!A34,F18A!$E$9:$E$60)","v":0},{"$f":"SUMIF(F18A!$A$9:$A$60,'F18'!A34,F18A!$F$9:$F$60)","v":0},0,null,null,null,null,null,null,null,null,null,null,null,null,null,null,null,null,null,null,null,null,null,null,null,null,null,null,null,null,null,null,null,null,{"$f":"K9","v":""},false,27,{"$error":"#NUM!"},{"$error":"#NUM!"}]
["",{"$f":"SUMIF(F18A!$A$9:$A$60,'F18'!A35,F18A!$B$9:$B$60)","v":0},{"$f":"SUMIF(F18A!$A$9:$A$60,'F18'!A35,F18A!$C$9:$C$60)","v":0},0,{"$f":"SUMIF(F18A!$A$9:$A$60,'F18'!A35,F18A!$E$9:$E$60)","v":0},{"$f":"SUMIF(F18A!$A$9:$A$60,'F18'!A35,F18A!$F$9:$F$60)","v":0},0,null,null,null,null,null,null,null,null,null,null,null,null,null,null,null,null,null,null,null,null,null,null,null,null,null,null,null,null,null,null,null,null,"",false,28,{"$error":"#NUM!"},{"$error":"#NUM!"}]
["",{"$f":"SUMIF(F18A!$A$9:$A$60,'F18'!A36,F18A!$B$9:$B$60)","v":0},{"$f":"SUMIF(F18A!$A$9:$A$60,'F18'!A36,F18A!$C$9:$C$60)","v":0},0,{"$f":"SUMIF(F18A!$A$9:$A$60,'F18'!A36,F18A!$E$9:$E$60)","v":0},{"$f":"SUMIF(F18A!$A$9:$A$60,'F18'!A36,F18A!$F$9:$F$60)","v":0},0,null,null,null,null,null,null,null,null,null,null,null,null,null,null,null,null,null,null,null,null,null,null,null,null,null,null,null,null,null,null,null,null,"",false,29,{"$error":"#NUM!"},{"$error":"#NUM!"}]
["",{"$f":"SUMIF(F18A!$A$9:$A$60,'F18'!A37,F18A!$B$9:$B$60)","v":0},{"$f":"SUMIF(F18A!$A$9:$A$60,'F18'!A37,F18A!$C$9:$C$60)","v":0},0,{"$f":"SUMIF(F18A!$A$9:$A$60,'F18'!A37,F18A!$E$9:$E$60)","v":0},{"$f":"SUMIF(F18A!$A$9:$A$60,'F18'!A37,F18A!$F$9:$F$60)","v":0},0,null,null,null,null,null,null,null,null,null,null,null,null,null,null,null,null,null,null,null,null,null,null,null,null,null,null,null,null,null,null,null,null,"",false,30,{"$error":"#NUM!"},{"$error":"#NUM!"}]
["",{"$f":"SUMIF(F18A!$A$9:$A$60,'F18'!A38,F18A!$B$9:$B$60)","v":0},{"$f":"SUMIF(F18A!$A$9:$A$60,'F18'!A38,F18A!$C$9:$C$60)","v":0},0,{"$f":"SUMIF(F18A!$A$9:$A$60,'F18'!A38,F18A!$E$9:$E$60)","v":0},{"$f":"SUMIF(F18A!$A$9:$A$60,'F18'!A38,F18A!$F$9:$F$60)","v":0},0,null,null,null,null,null,null,null,null,null,null,null,null,null,null,null,null,null,null,null,null,null,null,null,null,null,null,null,null,null,null,null,null,"",false,31,{"$error":"#NUM!"},{"$error":"#NUM!"}]
["",{"$f":"SUMIF(F18A!$A$9:$A$60,'F18'!A39,F18A!$B$9:$B$60)","v":0},{"$f":"SUMIF(F18A!$A$9:$A$60,'F18'!A39,F18A!$C$9:$C$60)","v":0},0,{"$f":"SUMIF(F18A!$A$9:$A$60,'F18'!A39,F18A!$E$9:$E$60)","v":0},{"$f":"SUMIF(F18A!$A$9:$A$60,'F18'!A39,F18A!$F$9:$F$60)","v":0},0,null,null,null,null,null,null,null,null,null,null,null,null,null,null,null,null,null,null,null,null,null,null,null,null,null,null,null,null,null,null,null,null,"",false,32,{"$error":"#NUM!"},{"$error":"#NUM!"}]
["",{"$f":"SUMIF(F18A!$A$9:$A$60,'F18'!A40,F18A!$B$9:$B$60)","v":0},{"$f":"SUMIF(F18A!$A$9:$A$60,'F18'!A40,F18A!$C$9:$C$60)","v":0},0,{"$f":"SUMIF(F18A!$A$9:$A$60,'F18'!A40,F18A!$E$9:$E$60)","v":0},{"$f":"SUMIF(F18A!$A$9:$A$60,'F18'!A40,F18A!$F$9:$F$60)","v":0},0,null,null,null,null,null,null,null,null,null,null,null,null,null,null,null,null,null,null,null,null,null,null,null,null,null,null,null,null,null,null,null,null,"",false,33,{"$error":"#NUM!"},{"$error":"#NUM!"}]
["",{"$f":"SUMIF(F18A!$A$9:$A$60,'F18'!A41,F18A!$B$9:$B$60)","v":0},{"$f":"SUMIF(F18A!$A$9:$A$60,'F18'!A41,F18A!$C$9:$C$60)","v":0},0,{"$f":"SUMIF(F18A!$A$9:$A$60,'F18'!A41,F18A!$E$9:$E$60)","v":0},{"$f":"SUMIF(F18A!$A$9:$A$60,'F18'!A41,F18A!$F$9:$F$60)","v":0},0,null,null,null,null,null,null,null,null,null,null,null,null,null,null,null,null,null,null,null,null,null,null,null,null,null,null,null,null,null,null,null,null,"",false,34,{"$error":"#NUM!"},{"$error":"#NUM!"}]
["",{"$f":"SUMIF(F18A!$A$9:$A$60,'F18'!A42,F18A!$B$9:$B$60)","v":0},{"$f":"SUMIF(F18A!$A$9:$A$60,'F18'!A42,F18A!$C$9:$C$60)","v":0},0,{"$f":"SUMIF(F18A!$A$9:$A$60,'F18'!A42,F18A!$E$9:$E$60)","v":0},{"$f":"SUMIF(F18A!$A$9:$A$60,'F18'!A42,F18A!$F$9:$F$60)","v":0},0,null,null,null,null,null,null,null,null,null,null,null,null,null,null,null,null,null,null,null,null,null,null,null,null,null,null,null,null,null,null,null,null,"",false,35,{"$error":"#NUM!"},{"$error":"#NUM!"}]
["",{"$f":"SUMIF(F18A!$A$9:$A$60,'F18'!A43,F18A!$B$9:$B$60)","v":0},{"$f":"SUMIF(F18A!$A$9:$A$60,'F18'!A43,F18A!$C$9:$C$60)","v":0},0,{"$f":"SUMIF(F18A!$A$9:$A$60,'F18'!A43,F18A!$E$9:$E$60)","v":0},{"$f":"SUMIF(F18A!$A$9:$A$60,'F18'!A43,F18A!$F$9:$F$60)","v":0},0,null,null,null,null,null,null,null,null,null,null,null,null,null,null,null,null,null,null,null,null,null,null,null,null,null,null,null,null,null,null,null,null,"",false,36,{"$error":"#NUM!"},{"$error":"#NUM!"}]
["",{"$f":"SUMIF(F18A!$A$9:$A$60,'F18'!A44,F18A!$B$9:$B$60)","v":0},{"$f":"SUMIF(F18A!$A$9:$A$60,'F18'!A44,F18A!$C$9:$C$60)","v":0},0,{"$f":"SUMIF(F18A!$A$9:$A$60,'F18'!A44,F18A!$E$9:$E$60)","v":0},{"$f":"SUMIF(F18A!$A$9:$A$60,'F18'!A44,F18A!$F$9:$F$60)","v":0},0,null,null,null,null,null,null,null,null,null,null,null,null,null,null,null,null,null,null,null,null,null,null,null,null,null,null,null,null,null,null,null,null,"",false,37,{"$error":"#NUM!"},{"$error":"#NUM!"}]
["",{"$f":"SUMIF(F18A!$A$9:$A$60,'F18'!A45,F18A!$B$9:$B$60)","v":0},{"$f":"SUMIF(F18A!$A$9:$A$60,'F18'!A45,F18A!$C$9:$C$60)","v":0},0,{"$f":"SUMIF(F18A!$A$9:$A$60,'F18'!A45,F18A!$E$9:$E$60)","v":0},{"$f":"SUMIF(F18A!$A$9:$A$60,'F18'!A45,F18A!$F$9:$F$60)","v":0},0,null,null,null,null,null,null,null,null,null,null,null,null,null,null,null,null,null,null,null,null,null,null,null,null,null,null,null,null,null,null,null,null,"",false,38,{"$error":"#NUM!"},{"$error":"#NUM!"}]
["",{"$f":"SUMIF(F18A!$A$9:$A$60,'F18'!A46,F18A!$B$9:$B$60)","v":0},{"$f":"SUMIF(F18A!$A$9:$A$60,'F18'!A46,F18A!$C$9:$C$60)","v":0},0,{"$f":"SUMIF(F18A!$A$9:$A$60,'F18'!A46,F18A!$E$9:$E$60)","v":0},{"$f":"SUMIF(F18A!$A$9:$A$60,'F18'!A46,F18A!$F$9:$F$60)","v":0},0,null,null,null,null,null,null,null,null,null,null,null,null,null,null,null,null,null,null,null,null,null,null,null,null,null,null,null,null,null,null,null,null,"",false,39,{"$error":"#NUM!"},{"$error":"#NUM!"}]
["",{"$f":"SUMIF(F18A!$A$9:$A$60,'F18'!A47,F18A!$B$9:$B$60)","v":0},{"$f":"SUMIF(F18A!$A$9:$A$60,'F18'!A47,F18A!$C$9:$C$60)","v":0},0,{"$f":"SUMIF(F18A!$A$9:$A$60,'F18'!A47,F18A!$E$9:$E$60)","v":0},{"$f":"SUMIF(F18A!$A$9:$A$60,'F18'!A47,F18A!$F$9:$F$60)","v":0},0,null,null,null,null,null,null,null,null,null,null,null,null,null,null,null,null,null,null,null,null,null,null,null,null,null,null,null,null,null,null,null,null,"",false,40,{"$error":"#NUM!"},{"$error":"#NUM!"}]
["",{"$f":"SUMIF(F18A!$A$9:$A$60,'F18'!A48,F18A!$B$9:$B$60)","v":0},{"$f":"SUMIF(F18A!$A$9:$A$60,'F18'!A48,F18A!$C$9:$C$60)","v":0},0,{"$f":"SUMIF(F18A!$A$9:$A$60,'F18'!A48,F18A!$E$9:$E$60)","v":0},{"$f":"SUMIF(F18A!$A$9:$A$60,'F18'!A48,F18A!$F$9:$F$60)","v":0},0,null,null,null,null,null,null,null,null,null,null,null,null,null,null,null,null,null,null,null,null,null,null,null,null,null,null,null,null,null,null,null,null,"",false,41,{"$error":"#NUM!"},{"$error":"#NUM!"}]
["",{"$f":"SUMIF(F18A!$A$9:$A$60,'F18'!A49,F18A!$B$9:$B$60)","v":0},{"$f":"SUMIF(F18A!$A$9:$A$60,'F18'!A49,F18A!$C$9:$C$60)","v":0},0,{"$f":"SUMIF(F18A!$A$9:$A$60,'F18'!A49,F18A!$E$9:$E$60)","v":0},{"$f":"SUMIF(F18A!$A$9:$A$60,'F18'!A49,F18A!$F$9:$F$60)","v":0},0,null,null,null,null,null,null,null,null,null,null,null,null,null,null,null,null,null,null,null,null,null,null,null,null,null,null,null,null,null,null,null,null,"",false,42,{"$error":"#NUM!"},{"$error":"#NUM!"}]
["",{"$f":"SUMIF(F18A!$A$9:$A$60,'F18'!A50,F18A!$B$9:$B$60)","v":0},{"$f":"SUMIF(F18A!$A$9:$A$60,'F18'!A50,F18A!$C$9:$C$60)","v":0},0,{"$f":"SUMIF(F18A!$A$9:$A$60,'F18'!A50,F18A!$E$9:$E$60)","v":0},{"$f":"SUMIF(F18A!$A$9:$A$60,'F18'!A50,F18A!$F$9:$F$60)","v":0},0,null,null,null,null,null,null,null,null,null,null,null,null,null,null,null,null,null,null,null,null,null,null,null,null,null,null,null,null,null,null,null,null,"",false,43,{"$error":"#NUM!"},{"$error":"#NUM!"}]
["",{"$f":"SUMIF(F18A!$A$9:$A$60,'F18'!A51,F18A!$B$9:$B$60)","v":0},{"$f":"SUMIF(F18A!$A$9:$A$60,'F18'!A51,F18A!$C$9:$C$60)","v":0},0,{"$f":"SUMIF(F18A!$A$9:$A$60,'F18'!A51,F18A!$E$9:$E$60)","v":0},{"$f":"SUMIF(F18A!$A$9:$A$60,'F18'!A51,F18A!$F$9:$F$60)","v":0},0,null,null,null,null,null,null,null,null,null,null,null,null,null,null,null,null,null,null,null,null,null,null,null,null,null,null,null,null,null,null,null,null,"",false,44,{"$error":"#NUM!"},{"$error":"#NUM!"}]
["",{"$f":"SUMIF(F18A!$A$9:$A$60,'F18'!A52,F18A!$B$9:$B$60)","v":0},{"$f":"SUMIF(F18A!$A$9:$A$60,'F18'!A52,F18A!$C$9:$C$60)","v":0},0,{"$f":"SUMIF(F18A!$A$9:$A$60,'F18'!A52,F18A!$E$9:$E$60)","v":0},{"$f":"SUMIF(F18A!$A$9:$A$60,'F18'!A52,F18A!$F$9:$F$60)","v":0},0,null,null,null,null,null,null,null,null,null,null,null,null,null,null,null,null,null,null,null,null,null,null,null,null,null,null,null,null,null,null,null,null,"",false,45,{"$error":"#NUM!"},{"$error":"#NUM!"}]
["",{"$f":"SUMIF(F18A!$A$9:$A$60,'F18'!A53,F18A!$B$9:$B$60)","v":0},{"$f":"SUMIF(F18A!$A$9:$A$60,'F18'!A53,F18A!$C$9:$C$60)","v":0},0,{"$f":"SUMIF(F18A!$A$9:$A$60,'F18'!A53,F18A!$E$9:$E$60)","v":0},{"$f":"SUMIF(F18A!$A$9:$A$60,'F18'!A53,F18A!$F$9:$F$60)","v":0},0,null,null,null,null,null,null,null,null,null,null,null,null,null,null,null,null,null,null,null,null,null,null,null,null,null,null,null,null,null,null,null,null,"",false,46,{"$error":"#NUM!"},{"$error":"#NUM!"}]
["",{"$f":"SUMIF(F18A!$A$9:$A$60,'F18'!A54,F18A!$B$9:$B$60)","v":0},{"$f":"SUMIF(F18A!$A$9:$A$60,'F18'!A54,F18A!$C$9:$C$60)","v":0},0,{"$f":"SUMIF(F18A!$A$9:$A$60,'F18'!A54,F18A!$E$9:$E$60)","v":0},{"$f":"SUMIF(F18A!$A$9:$A$60,'F18'!A54,F18A!$F$9:$F$60)","v":0},0,null,null,null,null,null,null,null,null,null,null,null,null,null,null,null,null,null,null,null,null,null,null,null,null,null,null,null,null,null,null,null,null,"",false,47,{"$error":"#NUM!"},{"$error":"#NUM!"}]
["",{"$f":"SUMIF(F18A!$A$9:$A$60,'F18'!A55,F18A!$B$9:$B$60)","v":0},{"$f":"SUMIF(F18A!$A$9:$A$60,'F18'!A55,F18A!$C$9:$C$60)","v":0},0,{"$f":"SUMIF(F18A!$A$9:$A$60,'F18'!A55,F18A!$E$9:$E$60)","v":0},{"$f":"SUMIF(F18A!$A$9:$A$60,'F18'!A55,F18A!$F$9:$F$60)","v":0},0,null,null,null,null,null,null,null,null,null,null,null,null,null,null,null,null,null,null,null,null,null,null,null,null,null,null,null,null,null,null,null,null,"",false,48,{"$error":"#NUM!"},{"$error":"#NUM!"}]
["",{"$f":"SUMIF(F18A!$A$9:$A$60,'F18'!A56,F18A!$B$9:$B$60)","v":0},{"$f":"SUMIF(F18A!$A$9:$A$60,'F18'!A56,F18A!$C$9:$C$60)","v":0},0,{"$f":"SUMIF(F18A!$A$9:$A$60,'F18'!A56,F18A!$E$9:$E$60)","v":0},{"$f":"SUMIF(F18A!$A$9:$A$60,'F18'!A56,F18A!$F$9:$F$60)","v":0},0,null,null,null,null,null,null,null,null,null,null,null,null,null,null,null,null,null,null,null,null,null,null,null,null,null,null,null,null,null,null,null,null,"",false,49,{"$error":"#NUM!"},{"$error":"#NUM!"}]
["",{"$f":"SUMIF(F18A!$A$9:$A$60,'F18'!A57,F18A!$B$9:$B$60)","v":0},{"$f":"SUMIF(F18A!$A$9:$A$60,'F18'!A57,F18A!$C$9:$C$60)","v":0},0,{"$f":"SUMIF(F18A!$A$9:$A$60,'F18'!A57,F18A!$E$9:$E$60)","v":0},{"$f":"SUMIF(F18A!$A$9:$A$60,'F18'!A57,F18A!$F$9:$F$60)","v":0},0,null,null,null,null,null,null,null,null,null,null,null,null,null,null,null,null,null,null,null,null,null,null,null,null,null,null,null,null,null,null,null,null,"",false,50,{"$error":"#NUM!"},{"$error":"#NUM!"}]
["TOTAL DEL GASTO",{"$f":"SUM(B8:B57)","v":0},0,0,0,0,0]
[]
["Bajo protesta de decir verdad declaramos que los estados financieros y sus notas, son razonablemente correctos y son responsabilidad del emisor."]
[]
[]
[]
[{"$f":"Validacion!A7","v":"C. José Ángel Prudencio Vargas"},null,null,{"$f":"Validacion!A9","v":"L.C.P. Regina Itzel Bedoya Cruz"}]
[]
["Presidente Municipal o Titular del ente público",null,null,"Encargado de la Hacienda Municipal\n o Responsable de las finanzas del ente público"]

{"sheet":"F19","index":34,"n_rows":47,"n_cols":8,"rows_kept":47,"cut":false,"hidden":true,"merged":[[39,0,39,1],[44,1,45,1],[46,1,47,1],[44,3,45,6],[46,3,47,6],[7,0,7,1],[16,0,16,1],[24,0,24,1],[34,0,34,1],[3,1,3,8],[5,0,6,1],[0,0,0,8],[1,0,1,7],[2,0,2,7],[5,2,5,6],[5,7,6,7]]}
[{"$f":"Validacion!A2","v":"Ayutla"}]
["ESTADO ANALÍTICO DEL EJERCICIO DEL PRESUPUESTO DE EGRESOS"]
["CLASIFICACIÓN FUNCIONAL (FINALIDAD Y FUNCIÓN)"]
[null,{"$f":"'F6'!A3","v":"Del 1° de Enero al 30 de Septiembre de 2023"}]
[]
["CONCEPTO",null,"EGRESOS",null,null,null,null,"SUBEJERCICIO"]
[null,null,"APROBADO","AMPLIACIONES/\n(REDUCCIONES)","MODIFICADO","DEVENGADO","PAGADO"]
["Gobierno",null,{"$f":"SUM(C9:C16)","v":0},{"$f":"SUM(D9:D16)","v":0},{"$f":"C8+D8","v":0},{"$f":"SUM(F9:F16)","v":0},0,{"$f":"E8-F8","v":0}]
[null,"Legislación",{"$f":"F19A!D10+F19A!D44","v":0},{"$f":"F19A!E10+F19A!E44","v":0},{"$f":"C9+D9","v":0},{"$f":"F19A!G10+F19A!G44","v":0},{"$f":"F19A!H10+F19A!H44","v":0},{"$f":"E9-F9","v":0}]
[null,"Justicia",{"$f":"F19A!D11+F19A!D45","v":0},{"$f":"F19A!E11+F19A!E45","v":0},0,{"$f":"F19A!G11+F19A!G45","v":0},{"$f":"F19A!H11+F19A!H45","v":0},0]
[null,"Coordinación de la política de gobierno",{"$f":"F19A!D12+F19A!D46","v":0},{"$f":"F19A!E12+F19A!E46","v":0},0,{"$f":"F19A!G12+F19A!G46","v":0},{"$f":"F19A!H12+F19A!H46","v":0},0]
[null,"Relaciones exteriores",{"$f":"F19A!D13+F19A!D47","v":0},{"$f":"F19A!E13+F19A!E47","v":0},0,{"$f":"F19A!G13+F19A!G47","v":0},{"$f":"F19A!H13+F19A!H47","v":0},0]
[null,"Asuntos financieros y hacendarios",{"$f":"F19A!D14+F19A!D48","v":0},{"$f":"F19A!E14+F19A!E48","v":0},0,{"$f":"F19A!G14+F19A!G48","v":0},{"$f":"F19A!H14+F19A!H48","v":0},0]
[null,"Seguridad nacional",{"$f":"F19A!D15+F19A!D49","v":0},{"$f":"F19A!E15+F19A!E49","v":0},0,{"$f":"F19A!G15+F19A!G49","v":0},{"$f":"F19A!H15+F19A!H49","v":0},0]
[null,"Asuntos de orden público y de seguridad interior",{"$f":"F19A!D16+F19A!D50","v":0},{"$f":"F19A!E16+F19A!E50","v":0},0,{"$f":"F19A!G16+F19A!G50","v":0},{"$f":"F19A!H16+F19A!H50","v":0},0]
[null,"Otros servicios generales",{"$f":"F19A!D17+F19A!D51","v":0},{"$f":"F19A!E17+F19A!E51","v":0},0,{"$f":"F19A!G17+F19A!G51","v":0},{"$f":"F19A!H17+F19A!H51","v":0},0]
["Desarrollo social",null,{"$f":"SUM(C18:C24)","v":0},{"$f":"SUM(D18:D24)","v":0},0,{"$f":"SUM(F18:F24)","v":0},0,0]
[null,"Protección ambiental",{"$f":"F19A!D19+F19A!D53","v":0},{"$f":"F19A!E19+F19A!E53","v":0},{"$f":"C18+D18","v":0},{"$f":"F19A!G19+F19A!G53","v":0},{"$f":"F19A!H19+F19A!H53","v":0},0]
[null,"Vivienda y servicios a la comunidad",{"$f":"F19A!D20+F19A!D54","v":0},{"$f":"F19A!E20+F19A!E54","v":0},0,{"$f":"F19A!G20+F19A!G54","v":0},{"$f":"F19A!H20+F19A!H54","v":0},0]
[null,"Salud",{"$f":"F19A!D21+F19A!D55","v":0},{"$f":"F19A!E21+F19A!E55","v":0},0,{"$f":"F19A!G21+F19A!G55","v":0},{"$f":"F19A!H21+F19A!H55","v":0},0]
[null,"Recreación, cultura y otras manifestaciones sociales",{"$f":"F19A!D22+F19A!D56","v":0},{"$f":"F19A!E22+F19A!E56","v":0},0,{"$f":"F19A!G22+F19A!G56","v":0},{"$f":"F19A!H22+F19A!H56","v":0},0]
[null,"Educación",{"$f":"F19A!D23+F19A!D57","v":0},{"$f":"F19A!E23+F19A!E57","v":0},0,{"$f":"F19A!G23+F19A!G57","v":0},{"$f":"F19A!H23+F19A!H57","v":0},0]
[null,"Protección social",{"$f":"F19A!D24+F19A!D58","v":0},{"$f":"F19A!E24+F19A!E58","v":0},0,{"$f":"F19A!G24+F19A!G58","v":0},{"$f":"F19A!H24+F19A!H58","v":0},0]
[null,"Otros asuntos sociales",{"$f":"F19A!D25+F19A!D59","v":0},{"$f":"F19A!E25+F19A!E59","v":0},0,{"$f":"F19A!G25+F19A!G59","v":0},{"$f":"F19A!H25+F19A!H59","v":0},0]
["Desarrollo económico",null,{"$f":"SUM(C26:C34)","v":0},{"$f":"SUM(D26:D34)","v":0},0,{"$f":"SUM(F26:F34)","v":0},0,0]
[null,"Asuntos económicos, comerciales y laborales en general",{"$f":"F19A!D27+F19A!D61","v":0},{"$f":"F19A!E27+F19A!E61","v":0},{"$f":"C26+D26","v":0},{"$f":"F19A!G27+F19A!G61","v":0},{"$f":"F19A!H27+F19A!H61","v":0},0]
[null,"Agropecuaria, silvicultura, pesca y caza",{"$f":"F19A!D28+F19A!D62","v":0},{"$f":"F19A!E28+F19A!E62","v":0},0,{"$f":"F19A!G28+F19A!G62","v":0},{"$f":"F19A!H28+F19A!H62","v":0},0]
[null,"Combustibles y energía",{"$f":"F19A!D29+F19A!D63","v":0},{"$f":"F19A!E29+F19A!E63","v":0},0,{"$f":"F19A!G29+F19A!G63","v":0},{"$f":"F19A!H29+F19A!H63","v":0},0]
[null,"Minería, manufacturas y construcción",{"$f":"F19A!D30+F19A!D64","v":0},{"$f":"F19A!E30+F19A!E64","v":0},0,{"$f":"F19A!G30+F19A!G64","v":0},{"$f":"F19A!H30+F19A!H64","v":0},0]
[null,"Transporte",{"$f":"F19A!D31+F19A!D65","v":0},{"$f":"F19A!E31+F19A!E65","v":0},0,{"$f":"F19A!G31+F19A!G65","v":0},{"$f":"F19A!H31+F19A!H65","v":0},0]
[null,"Comunicaciones",{"$f":"F19A!D32+F19A!D66","v":0},{"$f":"F19A!E32+F19A!E66","v":0},0,{"$f":"F19A!G32+F19A!G66","v":0},{"$f":"F19A!H32+F19A!H66","v":0},0]
[null,"Turismo",{"$f":"F19A!D33+F19A!D67","v":0},{"$f":"F19A!E33+F19A!E67","v":0},0,{"$f":"F19A!G33+F19A!G67","v":0},{"$f":"F19A!H33+F19A!H67","v":0},0]
[null,"Ciencia, tecnología e innovación",{"$f":"F19A!D34+F19A!D68","v":0},{"$f":"F19A!E34+F19A!E68","v":0},0,{"$f":"F19A!G34+F19A!G68","v":0},{"$f":"F19A!H34+F19A!H68","v":0},0]
[null,"Otras industrias y otros asuntos económicos",{"$f":"F19A!D35+F19A!D69","v":0},{"$f":"F19A!E35+F19A!E69","v":0},0,{"$f":"F19A!G35+F19A!G69","v":0},{"$f":"F19A!H35+F19A!H69","v":0},0]
["Otras no clasificadas en fdunciones anteriores",null,{"$f":"SUM(C36:C39)","v":0},{"$f":"SUM(D36:D39)","v":0},0,{"$f":"SUM(F36:F39)","v":0},{"$f":"SUM(G36:G39)","v":0},0]
[null,"Transacciones de la deuda publica / costo financiero de la deuda",{"$f":"F19A!D37+F19A!D71","v":0},{"$f":"F19A!E37+F19A!E71","v":0},{"$f":"C36+D36","v":0},{"$f":"F19A!G37+F19A!G71","v":0},{"$f":"F19A!H37+F19A!H71","v":0},0]
[null,"Transferencias, participaciones y aportaciones entre diferentes niveles y órdenes de gobierno",{"$f":"F19A!D38+F19A!D72","v":0},{"$f":"F19A!E38+F19A!E72","v":0},0,{"$f":"F19A!G38+F19A!G72","v":0},{"$f":"F19A!H38+F19A!H72","v":0},0]
[null,"Saneamiento del sistema financiero",{"$f":"F19A!D39+F19A!D73","v":0},{"$f":"F19A!E39+F19A!E73","v":0},0,{"$f":"F19A!G39+F19A!G73","v":0},{"$f":"F19A!H39+F19A!H73","v":0},0]
[null,"Adeudos de ejercicios fiscales anteriores",{"$f":"F19A!D40+F19A!D74","v":0},{"$f":"F19A!E40+F19A!E74","v":0},0,{"$f":"F19A!G40+F19A!G74","v":0},{"$f":"F19A!H40+F19A!H74","v":0},0]
["TOTAL DEL GASTO",null,{"$f":"C8+C17+C25+C35","v":0},{"$f":"D8+D17+D25+D35","v":0},0,{"$f":"F8+F17+F25+F35","v":0},{"$f":"G8+G17+G25+G35","v":0},0]
[]
["Bajo protesta de decir verdad declaramos que los estados financieros y sus notas, son razonablemente correctos y son responsabilidad del emisor."]
[]
[]
[null,{"$f":"Validacion!A7","v":"C. José Ángel Prudencio Vargas"},null,{"$f":"Validacion!A9","v":"L.C.P. Regina Itzel Bedoya Cruz"}]
[]
[null,"Presidente Municipal o titular del ente público",null,"Encargado de la Hacienda Municipal\n o Responsable de las finanzas del ente público"]